{"text_format":"1","workbook":"xlsx","n_sheets":2,"sheets":["Zgłoszenie Pacjenta","Walidacja"],"not_rendered":{"charts":0,"images":0,"macros":1,"external_links":0,"defined_names":0,"comments":0,"pivot_tables":0},"unopened":[],"bounds":{"document_bytes":16777216,"sheet_cells":100000,"rows_first":2000,"rows_last":500,"rows_between":2000,"halvings":0,"cell_chars":16384,"cell_head_chars":4096},"cells_cut":0,"cells_raw":0,"read":"whole","date_system":"1900"}

{"sheet":"Zgłoszenie Pacjenta","index":0,"n_rows":3025,"n_cols":3,"rows_kept":3025,"cut":false,"hidden":false,"merged":[[13,1,13,2],[14,1,14,2],[2,0,3,0],[2,1,3,2],[4,0,5,0],[4,1,5,2],[6,0,7,0],[6,1,7,2],[8,1,8,2],[9,1,9,2],[10,1,10,2]]}
[]
["PODMIOT ZGŁASZAJĄCY:"]
["typ (szpital, ZOL, ZPO):"]
[]
["REGON 14-znakowy:"]
[]
["imię i nazwisko oraz nr tel. do osoby kontaktowej:"]
[]
["przepustowość (liczba szczepień możiwych do wykonania dziennie):"]
["szczepienie również w sobotę (tak/nie):"]
["sczepienie również w niedzielę (tak/nie):"]
[]
["OSOBY PODLEGAJĄCE SZCZEPIENIU NIE POSIADAJĄCE NUMERU PESEL:"]
["pracownicy medyczni (liczba):"]
["pracownicy niemedyczni (liczba): "]
[]
[]
["PESEL","Czy pracownik medyczny?","Sprawdzenie numeru PESEL"]
[null,null,{"$f":"IF(Walidacja!A1=\"\",\"\",(IF(Walidacja!A1,\"Poprawny\",\"Niepoprawny\")))","v":""}]
[null,null,{"$f":"IF(Walidacja!A2=\"\",\"\",(IF(Walidacja!A2,\"Poprawny\",\"Niepoprawny\")))","v":""}]
[null,null,{"$f":"IF(Walidacja!A3=\"\",\"\",(IF(Walidacja!A3,\"Poprawny\",\"Niepoprawny\")))","v":""}]
[null,null,{"$f":"IF(Walidacja!A4=\"\",\"\",(IF(Walidacja!A4,\"Poprawny\",\"Niepoprawny\")))","v":""}]
[null,null,{"$f":"IF(Walidacja!A5=\"\",\"\",(IF(Walidacja!A5,\"Poprawny\",\"Niepoprawny\")))","v":""}]
[null,null,{"$f":"IF(Walidacja!A6=\"\",\"\",(IF(Walidacja!A6,\"Poprawny\",\"Niepoprawny\")))","v":""}]
[null,null,{"$f":"IF(Walidacja!A7=\"\",\"\",(IF(Walidacja!A7,\"Poprawny\",\"Niepoprawny\")))","v":""}]
[null,null,{"$f":"IF(Walidacja!A8=\"\",\"\",(IF(Walidacja!A8,\"Poprawny\",\"Niepoprawny\")))","v":""}]
[null,null,{"$f":"IF(Walidacja!A9=\"\",\"\",(IF(Walidacja!A9,\"Poprawny\",\"Niepoprawny\")))","v":""}]
[null,null,{"$f":"IF(Walidacja!A10=\"\",\"\",(IF(Walidacja!A10,\"Poprawny\",\"Niepoprawny\")))","v":""}]
[null,null,{"$f":"IF(Walidacja!A11=\"\",\"\",(IF(Walidacja!A11,\"Poprawny\",\"Niepoprawny\")))","v":""}]
[null,null,{"$f":"IF(Walidacja!A12=\"\",\"\",(IF(Walidacja!A12,\"Poprawny\",\"Niepoprawny\")))","v":""}]
[null,null,{"$f":"IF(Walidacja!A13=\"\",\"\",(IF(Walidacja!A13,\"Poprawny\",\"Niepoprawny\")))","v":""}]
[null,null,{"$f":"IF(Walidacja!A14=\"\",\"\",(IF(Walidacja!A14,\"Poprawny\",\"Niepoprawny\")))","v":""}]
[null,null,{"$f":"IF(Walidacja!A15=\"\",\"\",(IF(Walidacja!A15,\"Poprawny\",\"Niepoprawny\")))","v":""}]
[null,null,{"$f":"IF(Walidacja!A16=\"\",\"\",(IF(Walidacja!A16,\"Poprawny\",\"Niepoprawny\")))","v":""}]
[null,null,{"$f":"IF(Walidacja!A17=\"\",\"\",(IF(Walidacja!A17,\"Poprawny\",\"Niepoprawny\")))","v":""}]
[null,null,{"$f":"IF(Walidacja!A18=\"\",\"\",(IF(Walidacja!A18,\"Poprawny\",\"Niepoprawny\")))","v":""}]
[null,null,{"$f":"IF(Walidacja!A19=\"\",\"\",(IF(Walidacja!A19,\"Poprawny\",\"Niepoprawny\")))","v":""}]
[null,null,{"$f":"IF(Walidacja!A20=\"\",\"\",(IF(Walidacja!A20,\"Poprawny\",\"Niepoprawny\")))","v":""}]
[null,null,{"$f":"IF(Walidacja!A21=\"\",\"\",(IF(Walidacja!A21,\"Poprawny\",\"Niepoprawny\")))","v":""}]
[null,null,{"$f":"IF(Walidacja!A22=\"\",\"\",(IF(Walidacja!A22,\"Poprawny\",\"Niepoprawny\")))","v":""}]
[null,null,{"$f":"IF(Walidacja!A23=\"\",\"\",(IF(Walidacja!A23,\"Poprawny\",\"Niepoprawny\")))","v":""}]
[null,null,{"$f":"IF(Walidacja!A24=\"\",\"\",(IF(Walidacja!A24,\"Poprawny\",\"Niepoprawny\")))","v":""}]
[null,null,{"$f":"IF(Walidacja!A25=\"\",\"\",(IF(Walidacja!A25,\"Poprawny\",\"Niepoprawny\")))","v":""}]
[null,null,{"$f":"IF(Walidacja!A26=\"\",\"\",(IF(Walidacja!A26,\"Poprawny\",\"Niepoprawny\")))","v":""}]
[null,null,{"$f":"IF(Walidacja!A27=\"\",\"\",(IF(Walidacja!A27,\"Poprawny\",\"Niepoprawny\")))","v":""}]
[null,null,{"$f":"IF(Walidacja!A28=\"\",\"\",(IF(Walidacja!A28,\"Poprawny\",\"Niepoprawny\")))","v":""}]
[null,null,{"$f":"IF(Walidacja!A29=\"\",\"\",(IF(Walidacja!A29,\"Poprawny\",\"Niepoprawny\")))","v":""}]
[null,null,{"$f":"IF(Walidacja!A30=\"\",\"\",(IF(Walidacja!A30,\"Poprawny\",\"Niepoprawny\")))","v":""}]
[null,null,{"$f":"IF(Walidacja!A31=\"\",\"\",(IF(Walidacja!A31,\"Poprawny\",\"Niepoprawny\")))","v":""}]
[null,null,{"$f":"IF(Walidacja!A32=\"\",\"\",(IF(Walidacja!A32,\"Poprawny\",\"Niepoprawny\")))","v":""}]
[null,null,{"$f":"IF(Walidacja!A33=\"\",\"\",(IF(Walidacja!A33,\"Poprawny\",\"Niepoprawny\")))","v":""}]
[null,null,{"$f":"IF(Walidacja!A34=\"\",\"\",(IF(Walidacja!A34,\"Poprawny\",\"Niepoprawny\")))","v":""}]
[null,null,{"$f":"IF(Walidacja!A35=\"\",\"\",(IF(Walidacja!A35,\"Poprawny\",\"Niepoprawny\")))","v":""}]
[null,null,{"$f":"IF(Walidacja!A36=\"\",\"\",(IF(Walidacja!A36,\"Poprawny\",\"Niepoprawny\")))","v":""}]
[null,null,{"$f":"IF(Walidacja!A37=\"\",\"\",(IF(Walidacja!A37,\"Poprawny\",\"Niepoprawny\")))","v":""}]
[null,null,{"$f":"IF(Walidacja!A38=\"\",\"\",(IF(Walidacja!A38,\"Poprawny\",\"Niepoprawny\")))","v":""}]
[null,null,{"$f":"IF(Walidacja!A39=\"\",\"\",(IF(Walidacja!A39,\"Poprawny\",\"Niepoprawny\")))","v":""}]
[null,null,{"$f":"IF(Walidacja!A40=\"\",\"\",(IF(Walidacja!A40,\"Poprawny\",\"Niepoprawny\")))","v":""}]
[null,null,{"$f":"IF(Walidacja!A41=\"\",\"\",(IF(Walidacja!A41,\"Poprawny\",\"Niepoprawny\")))","v":""}]
[null,null,{"$f":"IF(Walidacja!A42=\"\",\"\",(IF(Walidacja!A42,\"Poprawny\",\"Niepoprawny\")))","v":""}]
[null,null,{"$f":"IF(Walidacja!A43=\"\",\"\",(IF(Walidacja!A43,\"Poprawny\",\"Niepoprawny\")))","v":""}]
[null,null,{"$f":"IF(Walidacja!A44=\"\",\"\",(IF(Walidacja!A44,\"Poprawny\",\"Niepoprawny\")))","v":""}]
[null,null,{"$f":"IF(Walidacja!A45=\"\",\"\",(IF(Walidacja!A45,\"Poprawny\",\"Niepoprawny\")))","v":""}]
[null,null,{"$f":"IF(Walidacja!A46=\"\",\"\",(IF(Walidacja!A46,\"Poprawny\",\"Niepoprawny\")))","v":""}]
[null,null,{"$f":"IF(Walidacja!A47=\"\",\"\",(IF(Walidacja!A47,\"Poprawny\",\"Niepoprawny\")))","v":""}]
[null,null,{"$f":"IF(Walidacja!A48=\"\",\"\",(IF(Walidacja!A48,\"Poprawny\",\"Niepoprawny\")))","v":""}]
[null,null,{"$f":"IF(Walidacja!A49=\"\",\"\",(IF(Walidacja!A49,\"Poprawny\",\"Niepoprawny\")))","v":""}]
[null,null,{"$f":"IF(Walidacja!A50=\"\",\"\",(IF(Walidacja!A50,\"Poprawny\",\"Niepoprawny\")))","v":""}]
[null,null,{"$f":"IF(Walidacja!A51=\"\",\"\",(IF(Walidacja!A51,\"Poprawny\",\"Niepoprawny\")))","v":""}]
[null,null,{"$f":"IF(Walidacja!A52=\"\",\"\",(IF(Walidacja!A52,\"Poprawny\",\"Niepoprawny\")))","v":""}]
[null,null,{"$f":"IF(Walidacja!A53=\"\",\"\",(IF(Walidacja!A53,\"Poprawny\",\"Niepoprawny\")))","v":""}]
[null,null,{"$f":"IF(Walidacja!A54=\"\",\"\",(IF(Walidacja!A54,\"Poprawny\",\"Niepoprawny\")))","v":""}]
[null,null,{"$f":"IF(Walidacja!A55=\"\",\"\",(IF(Walidacja!A55,\"Poprawny\",\"Niepoprawny\")))","v":""}]
[null,null,{"$f":"IF(Walidacja!A56=\"\",\"\",(IF(Walidacja!A56,\"Poprawny\",\"Niepoprawny\")))","v":""}]
[null,null,{"$f":"IF(Walidacja!A57=\"\",\"\",(IF(Walidacja!A57,\"Poprawny\",\"Niepoprawny\")))","v":""}]
[null,null,{"$f":"IF(Walidacja!A58=\"\",\"\",(IF(Walidacja!A58,\"Poprawny\",\"Niepoprawny\")))","v":""}]
[null,null,{"$f":"IF(Walidacja!A59=\"\",\"\",(IF(Walidacja!A59,\"Poprawny\",\"Niepoprawny\")))","v":""}]
[null,null,{"$f":"IF(Walidacja!A60=\"\",\"\",(IF(Walidacja!A60,\"Poprawny\",\"Niepoprawny\")))","v":""}]
[null,null,{"$f":"IF(Walidacja!A61=\"\",\"\",(IF(Walidacja!A61,\"Poprawny\",\"Niepoprawny\")))","v":""}]
[null,null,{"$f":"IF(Walidacja!A62=\"\",\"\",(IF(Walidacja!A62,\"Poprawny\",\"Niepoprawny\")))","v":""}]
[null,null,{"$f":"IF(Walidacja!A63=\"\",\"\",(IF(Walidacja!A63,\"Poprawny\",\"Niepoprawny\")))","v":""}]
[null,null,{"$f":"IF(Walidacja!A64=\"\",\"\",(IF(Walidacja!A64,\"Poprawny\",\"Niepoprawny\")))","v":""}]
[null,null,{"$f":"IF(Walidacja!A65=\"\",\"\",(IF(Walidacja!A65,\"Poprawny\",\"Niepoprawny\")))","v":""}]
[null,null,{"$f":"IF(Walidacja!A66=\"\",\"\",(IF(Walidacja!A66,\"Poprawny\",\"Niepoprawny\")))","v":""}]
[null,null,{"$f":"IF(Walidacja!A67=\"\",\"\",(IF(Walidacja!A67,\"Poprawny\",\"Niepoprawny\")))","v":""}]
[null,null,{"$f":"IF(Walidacja!A68=\"\",\"\",(IF(Walidacja!A68,\"Poprawny\",\"Niepoprawny\")))","v":""}]
[null,null,{"$f":"IF(Walidacja!A69=\"\",\"\",(IF(Walidacja!A69,\"Poprawny\",\"Niepoprawny\")))","v":""}]
[null,null,{"$f":"IF(Walidacja!A70=\"\",\"\",(IF(Walidacja!A70,\"Poprawny\",\"Niepoprawny\")))","v":""}]
[null,null,{"$f":"IF(Walidacja!A71=\"\",\"\",(IF(Walidacja!A71,\"Poprawny\",\"Niepoprawny\")))","v":""}]
[null,null,{"$f":"IF(Walidacja!A72=\"\",\"\",(IF(Walidacja!A72,\"Poprawny\",\"Niepoprawny\")))","v":""}]
[null,null,{"$f":"IF(Walidacja!A73=\"\",\"\",(IF(Walidacja!A73,\"Poprawny\",\"Niepoprawny\")))","v":""}]
[null,null,{"$f":"IF(Walidacja!A74=\"\",\"\",(IF(Walidacja!A74,\"Poprawny\",\"Niepoprawny\")))","v":""}]
[null,null,{"$f":"IF(Walidacja!A75=\"\",\"\",(IF(Walidacja!A75,\"Poprawny\",\"Niepoprawny\")))","v":""}]
[null,null,{"$f":"IF(Walidacja!A76=\"\",\"\",(IF(Walidacja!A76,\"Poprawny\",\"Niepoprawny\")))","v":""}]
[null,null,{"$f":"IF(Walidacja!A77=\"\",\"\",(IF(Walidacja!A77,\"Poprawny\",\"Niepoprawny\")))","v":""}]
[null,null,{"$f":"IF(Walidacja!A78=\"\",\"\",(IF(Walidacja!A78,\"Poprawny\",\"Niepoprawny\")))","v":""}]
[null,null,{"$f":"IF(Walidacja!A79=\"\",\"\",(IF(Walidacja!A79,\"Poprawny\",\"Niepoprawny\")))","v":""}]
[null,null,{"$f":"IF(Walidacja!A80=\"\",\"\",(IF(Walidacja!A80,\"Poprawny\",\"Niepoprawny\")))","v":""}]
[null,null,{"$f":"IF(Walidacja!A81=\"\",\"\",(IF(Walidacja!A81,\"Poprawny\",\"Niepoprawny\")))","v":""}]
[null,null,{"$f":"IF(Walidacja!A82=\"\",\"\",(IF(Walidacja!A82,\"Poprawny\",\"Niepoprawny\")))","v":""}]
[null,null,{"$f":"IF(Walidacja!A83=\"\",\"\",(IF(Walidacja!A83,\"Poprawny\",\"Niepoprawny\")))","v":""}]
[null,null,{"$f":"IF(Walidacja!A84=\"\",\"\",(IF(Walidacja!A84,\"Poprawny\",\"Niepoprawny\")))","v":""}]
[null,null,{"$f":"IF(Walidacja!A85=\"\",\"\",(IF(Walidacja!A85,\"Poprawny\",\"Niepoprawny\")))","v":""}]
[null,null,{"$f":"IF(Walidacja!A86=\"\",\"\",(IF(Walidacja!A86,\"Poprawny\",\"Niepoprawny\")))","v":""}]
[null,null,{"$f":"IF(Walidacja!A87=\"\",\"\",(IF(Walidacja!A87,\"Poprawny\",\"Niepoprawny\")))","v":""}]
[null,null,{"$f":"IF(Walidacja!A88=\"\",\"\",(IF(Walidacja!A88,\"Poprawny\",\"Niepoprawny\")))","v":""}]
[null,null,{"$f":"IF(Walidacja!A89=\"\",\"\",(IF(Walidacja!A89,\"Poprawny\",\"Niepoprawny\")))","v":""}]
[null,null,{"$f":"IF(Walidacja!A90=\"\",\"\",(IF(Walidacja!A90,\"Poprawny\",\"Niepoprawny\")))","v":""}]
[null,null,{"$f":"IF(Walidacja!A91=\"\",\"\",(IF(Walidacja!A91,\"Poprawny\",\"Niepoprawny\")))","v":""}]
[null,null,{"$f":"IF(Walidacja!A92=\"\",\"\",(IF(Walidacja!A92,\"Poprawny\",\"Niepoprawny\")))","v":""}]
[null,null,{"$f":"IF(Walidacja!A93=\"\",\"\",(IF(Walidacja!A93,\"Poprawny\",\"Niepoprawny\")))","v":""}]
[null,null,{"$f":"IF(Walidacja!A94=\"\",\"\",(IF(Walidacja!A94,\"Poprawny\",\"Niepoprawny\")))","v":""}]
[null,null,{"$f":"IF(Walidacja!A95=\"\",\"\",(IF(Walidacja!A95,\"Poprawny\",\"Niepoprawny\")))","v":""}]
[null,null,{"$f":"IF(Walidacja!A96=\"\",\"\",(IF(Walidacja!A96,\"Poprawny\",\"Niepoprawny\")))","v":""}]
[null,null,{"$f":"IF(Walidacja!A97=\"\",\"\",(IF(Walidacja!A97,\"Poprawny\",\"Niepoprawny\")))","v":""}]
[null,null,{"$f":"IF(Walidacja!A98=\"\",\"\",(IF(Walidacja!A98,\"Poprawny\",\"Niepoprawny\")))","v":""}]
[null,null,{"$f":"IF(Walidacja!A99=\"\",\"\",(IF(Walidacja!A99,\"Poprawny\",\"Niepoprawny\")))","v":""}]
[null,null,{"$f":"IF(Walidacja!A100=\"\",\"\",(IF(Walidacja!A100,\"Poprawny\",\"Niepoprawny\")))","v":""}]
[null,null,{"$f":"IF(Walidacja!A101=\"\",\"\",(IF(Walidacja!A101,\"Poprawny\",\"Niepoprawny\")))","v":""}]
[null,null,{"$f":"IF(Walidacja!A102=\"\",\"\",(IF(Walidacja!A102,\"Poprawny\",\"Niepoprawny\")))","v":""}]
[null,null,{"$f":"IF(Walidacja!A103=\"\",\"\",(IF(Walidacja!A103,\"Poprawny\",\"Niepoprawny\")))","v":""}]
[null,null,{"$f":"IF(Walidacja!A104=\"\",\"\",(IF(Walidacja!A104,\"Poprawny\",\"Niepoprawny\")))","v":""}]
[null,null,{"$f":"IF(Walidacja!A105=\"\",\"\",(IF(Walidacja!A105,\"Poprawny\",\"Niepoprawny\")))","v":""}]
[null,null,{"$f":"IF(Walidacja!A106=\"\",\"\",(IF(Walidacja!A106,\"Poprawny\",\"Niepoprawny\")))","v":""}]
[null,null,{"$f":"IF(Walidacja!A107=\"\",\"\",(IF(Walidacja!A107,\"Poprawny\",\"Niepoprawny\")))","v":""}]
[null,null,{"$f":"IF(Walidacja!A108=\"\",\"\",(IF(Walidacja!A108,\"Poprawny\",\"Niepoprawny\")))","v":""}]
[null,null,{"$f":"IF(Walidacja!A109=\"\",\"\",(IF(Walidacja!A109,\"Poprawny\",\"Niepoprawny\")))","v":""}]
[null,null,{"$f":"IF(Walidacja!A110=\"\",\"\",(IF(Walidacja!A110,\"Poprawny\",\"Niepoprawny\")))","v":""}]
[null,null,{"$f":"IF(Walidacja!A111=\"\",\"\",(IF(Walidacja!A111,\"Poprawny\",\"Niepoprawny\")))","v":""}]
[null,null,{"$f":"IF(Walidacja!A112=\"\",\"\",(IF(Walidacja!A112,\"Poprawny\",\"Niepoprawny\")))","v":""}]
[null,null,{"$f":"IF(Walidacja!A113=\"\",\"\",(IF(Walidacja!A113,\"Poprawny\",\"Niepoprawny\")))","v":""}]
[null,null,{"$f":"IF(Walidacja!A114=\"\",\"\",(IF(Walidacja!A114,\"Poprawny\",\"Niepoprawny\")))","v":""}]
[null,null,{"$f":"IF(Walidacja!A115=\"\",\"\",(IF(Walidacja!A115,\"Poprawny\",\"Niepoprawny\")))","v":""}]
[null,null,{"$f":"IF(Walidacja!A116=\"\",\"\",(IF(Walidacja!A116,\"Poprawny\",\"Niepoprawny\")))","v":""}]
[null,null,{"$f":"IF(Walidacja!A117=\"\",\"\",(IF(Walidacja!A117,\"Poprawny\",\"Niepoprawny\")))","v":""}]
[null,null,{"$f":"IF(Walidacja!A118=\"\",\"\",(IF(Walidacja!A118,\"Poprawny\",\"Niepoprawny\")))","v":""}]
[null,null,{"$f":"IF(Walidacja!A119=\"\",\"\",(IF(Walidacja!A119,\"Poprawny\",\"Niepoprawny\")))","v":""}]
[null,null,{"$f":"IF(Walidacja!A120=\"\",\"\",(IF(Walidacja!A120,\"Poprawny\",\"Niepoprawny\")))","v":""}]
[null,null,{"$f":"IF(Walidacja!A121=\"\",\"\",(IF(Walidacja!A121,\"Poprawny\",\"Niepoprawny\")))","v":""}]
[null,null,{"$f":"IF(Walidacja!A122=\"\",\"\",(IF(Walidacja!A122,\"Poprawny\",\"Niepoprawny\")))","v":""}]
[null,null,{"$f":"IF(Walidacja!A123=\"\",\"\",(IF(Walidacja!A123,\"Poprawny\",\"Niepoprawny\")))","v":""}]
[null,null,{"$f":"IF(Walidacja!A124=\"\",\"\",(IF(Walidacja!A124,\"Poprawny\",\"Niepoprawny\")))","v":""}]
[null,null,{"$f":"IF(Walidacja!A125=\"\",\"\",(IF(Walidacja!A125,\"Poprawny\",\"Niepoprawny\")))","v":""}]
[null,null,{"$f":"IF(Walidacja!A126=\"\",\"\",(IF(Walidacja!A126,\"Poprawny\",\"Niepoprawny\")))","v":""}]
[null,null,{"$f":"IF(Walidacja!A127=\"\",\"\",(IF(Walidacja!A127,\"Poprawny\",\"Niepoprawny\")))","v":""}]
[null,null,{"$f":"IF(Walidacja!A128=\"\",\"\",(IF(Walidacja!A128,\"Poprawny\",\"Niepoprawny\")))","v":""}]
[null,null,{"$f":"IF(Walidacja!A129=\"\",\"\",(IF(Walidacja!A129,\"Poprawny\",\"Niepoprawny\")))","v":""}]
[null,null,{"$f":"IF(Walidacja!A130=\"\",\"\",(IF(Walidacja!A130,\"Poprawny\",\"Niepoprawny\")))","v":""}]
[null,null,{"$f":"IF(Walidacja!A131=\"\",\"\",(IF(Walidacja!A131,\"Poprawny\",\"Niepoprawny\")))","v":""}]
[null,null,{"$f":"IF(Walidacja!A132=\"\",\"\",(IF(Walidacja!A132,\"Poprawny\",\"Niepoprawny\")))","v":""}]
[null,null,{"$f":"IF(Walidacja!A133=\"\",\"\",(IF(Walidacja!A133,\"Poprawny\",\"Niepoprawny\")))","v":""}]
[null,null,{"$f":"IF(Walidacja!A134=\"\",\"\",(IF(Walidacja!A134,\"Poprawny\",\"Niepoprawny\")))","v":""}]
[null,null,{"$f":"IF(Walidacja!A135=\"\",\"\",(IF(Walidacja!A135,\"Poprawny\",\"Niepoprawny\")))","v":""}]
[null,null,{"$f":"IF(Walidacja!A136=\"\",\"\",(IF(Walidacja!A136,\"Poprawny\",\"Niepoprawny\")))","v":""}]
[null,null,{"$f":"IF(Walidacja!A137=\"\",\"\",(IF(Walidacja!A137,\"Poprawny\",\"Niepoprawny\")))","v":""}]
[null,null,{"$f":"IF(Walidacja!A138=\"\",\"\",(IF(Walidacja!A138,\"Poprawny\",\"Niepoprawny\")))","v":""}]
[null,null,{"$f":"IF(Walidacja!A139=\"\",\"\",(IF(Walidacja!A139,\"Poprawny\",\"Niepoprawny\")))","v":""}]
[null,null,{"$f":"IF(Walidacja!A140=\"\",\"\",(IF(Walidacja!A140,\"Poprawny\",\"Niepoprawny\")))","v":""}]
[null,null,{"$f":"IF(Walidacja!A141=\"\",\"\",(IF(Walidacja!A141,\"Poprawny\",\"Niepoprawny\")))","v":""}]
[null,null,{"$f":"IF(Walidacja!A142=\"\",\"\",(IF(Walidacja!A142,\"Poprawny\",\"Niepoprawny\")))","v":""}]
[null,null,{"$f":"IF(Walidacja!A143=\"\",\"\",(IF(Walidacja!A143,\"Poprawny\",\"Niepoprawny\")))","v":""}]
[null,null,{"$f":"IF(Walidacja!A144=\"\",\"\",(IF(Walidacja!A144,\"Poprawny\",\"Niepoprawny\")))","v":""}]
[null,null,{"$f":"IF(Walidacja!A145=\"\",\"\",(IF(Walidacja!A145,\"Poprawny\",\"Niepoprawny\")))","v":""}]
[null,null,{"$f":"IF(Walidacja!A146=\"\",\"\",(IF(Walidacja!A146,\"Poprawny\",\"Niepoprawny\")))","v":""}]
[null,null,{"$f":"IF(Walidacja!A147=\"\",\"\",(IF(Walidacja!A147,\"Poprawny\",\"Niepoprawny\")))","v":""}]
[null,null,{"$f":"IF(Walidacja!A148=\"\",\"\",(IF(Walidacja!A148,\"Poprawny\",\"Niepoprawny\")))","v":""}]
[null,null,{"$f":"IF(Walidacja!A149=\"\",\"\",(IF(Walidacja!A149,\"Poprawny\",\"Niepoprawny\")))","v":""}]
[null,null,{"$f":"IF(Walidacja!A150=\"\",\"\",(IF(Walidacja!A150,\"Poprawny\",\"Niepoprawny\")))","v":""}]
[null,null,{"$f":"IF(Walidacja!A151=\"\",\"\",(IF(Walidacja!A151,\"Poprawny\",\"Niepoprawny\")))","v":""}]
[null,null,{"$f":"IF(Walidacja!A152=\"\",\"\",(IF(Walidacja!A152,\"Poprawny\",\"Niepoprawny\")))","v":""}]
[null,null,{"$f":"IF(Walidacja!A153=\"\",\"\",(IF(Walidacja!A153,\"Poprawny\",\"Niepoprawny\")))","v":""}]
[null,null,{"$f":"IF(Walidacja!A154=\"\",\"\",(IF(Walidacja!A154,\"Poprawny\",\"Niepoprawny\")))","v":""}]
[null,null,{"$f":"IF(Walidacja!A155=\"\",\"\",(IF(Walidacja!A155,\"Poprawny\",\"Niepoprawny\")))","v":""}]
[null,null,{"$f":"IF(Walidacja!A156=\"\",\"\",(IF(Walidacja!A156,\"Poprawny\",\"Niepoprawny\")))","v":""}]
[null,null,{"$f":"IF(Walidacja!A157=\"\",\"\",(IF(Walidacja!A157,\"Poprawny\",\"Niepoprawny\")))","v":""}]
[null,null,{"$f":"IF(Walidacja!A158=\"\",\"\",(IF(Walidacja!A158,\"Poprawny\",\"Niepoprawny\")))","v":""}]
[null,null,{"$f":"IF(Walidacja!A159=\"\",\"\",(IF(Walidacja!A159,\"Poprawny\",\"Niepoprawny\")))","v":""}]
[null,null,{"$f":"IF(Walidacja!A160=\"\",\"\",(IF(Walidacja!A160,\"Poprawny\",\"Niepoprawny\")))","v":""}]
[null,null,{"$f":"IF(Walidacja!A161=\"\",\"\",(IF(Walidacja!A161,\"Poprawny\",\"Niepoprawny\")))","v":""}]
[null,null,{"$f":"IF(Walidacja!A162=\"\",\"\",(IF(Walidacja!A162,\"Poprawny\",\"Niepoprawny\")))","v":""}]
[null,null,{"$f":"IF(Walidacja!A163=\"\",\"\",(IF(Walidacja!A163,\"Poprawny\",\"Niepoprawny\")))","v":""}]
[null,null,{"$f":"IF(Walidacja!A164=\"\",\"\",(IF(Walidacja!A164,\"Poprawny\",\"Niepoprawny\")))","v":""}]
[null,null,{"$f":"IF(Walidacja!A165=\"\",\"\",(IF(Walidacja!A165,\"Poprawny\",\"Niepoprawny\")))","v":""}]
[null,null,{"$f":"IF(Walidacja!A166=\"\",\"\",(IF(Walidacja!A166,\"Poprawny\",\"Niepoprawny\")))","v":""}]
[null,null,{"$f":"IF(Walidacja!A167=\"\",\"\",(IF(Walidacja!A167,\"Poprawny\",\"Niepoprawny\")))","v":""}]
[null,null,{"$f":"IF(Walidacja!A168=\"\",\"\",(IF(Walidacja!A168,\"Poprawny\",\"Niepoprawny\")))","v":""}]
[null,null,{"$f":"IF(Walidacja!A169=\"\",\"\",(IF(Walidacja!A169,\"Poprawny\",\"Niepoprawny\")))","v":""}]
[null,null,{"$f":"IF(Walidacja!A170=\"\",\"\",(IF(Walidacja!A170,\"Poprawny\",\"Niepoprawny\")))","v":""}]
[null,null,{"$f":"IF(Walidacja!A171=\"\",\"\",(IF(Walidacja!A171,\"Poprawny\",\"Niepoprawny\")))","v":""}]
[null,null,{"$f":"IF(Walidacja!A172=\"\",\"\",(IF(Walidacja!A172,\"Poprawny\",\"Niepoprawny\")))","v":""}]
[null,null,{"$f":"IF(Walidacja!A173=\"\",\"\",(IF(Walidacja!A173,\"Poprawny\",\"Niepoprawny\")))","v":""}]
[null,null,{"$f":"IF(Walidacja!A174=\"\",\"\",(IF(Walidacja!A174,\"Poprawny\",\"Niepoprawny\")))","v":""}]
[null,null,{"$f":"IF(Walidacja!A175=\"\",\"\",(IF(Walidacja!A175,\"Poprawny\",\"Niepoprawny\")))","v":""}]
[null,null,{"$f":"IF(Walidacja!A176=\"\",\"\",(IF(Walidacja!A176,\"Poprawny\",\"Niepoprawny\")))","v":""}]
[null,null,{"$f":"IF(Walidacja!A177=\"\",\"\",(IF(Walidacja!A177,\"Poprawny\",\"Niepoprawny\")))","v":""}]
[null,null,{"$f":"IF(Walidacja!A178=\"\",\"\",(IF(Walidacja!A178,\"Poprawny\",\"Niepoprawny\")))","v":""}]
[null,null,{"$f":"IF(Walidacja!A179=\"\",\"\",(IF(Walidacja!A179,\"Poprawny\",\"Niepoprawny\")))","v":""}]
[null,null,{"$f":"IF(Walidacja!A180=\"\",\"\",(IF(Walidacja!A180,\"Poprawny\",\"Niepoprawny\")))","v":""}]
[null,null,{"$f":"IF(Walidacja!A181=\"\",\"\",(IF(Walidacja!A181,\"Poprawny\",\"Niepoprawny\")))","v":""}]
[null,null,{"$f":"IF(Walidacja!A182=\"\",\"\",(IF(Walidacja!A182,\"Poprawny\",\"Niepoprawny\")))","v":""}]
[null,null,{"$f":"IF(Walidacja!A183=\"\",\"\",(IF(Walidacja!A183,\"Poprawny\",\"Niepoprawny\")))","v":""}]
[null,null,{"$f":"IF(Walidacja!A184=\"\",\"\",(IF(Walidacja!A184,\"Poprawny\",\"Niepoprawny\")))","v":""}]
[null,null,{"$f":"IF(Walidacja!A185=\"\",\"\",(IF(Walidacja!A185,\"Poprawny\",\"Niepoprawny\")))","v":""}]
[null,null,{"$f":"IF(Walidacja!A186=\"\",\"\",(IF(Walidacja!A186,\"Poprawny\",\"Niepoprawny\")))","v":""}]
[null,null,{"$f":"IF(Walidacja!A187=\"\",\"\",(IF(Walidacja!A187,\"Poprawny\",\"Niepoprawny\")))","v":""}]
[null,null,{"$f":"IF(Walidacja!A188=\"\",\"\",(IF(Walidacja!A188,\"Poprawny\",\"Niepoprawny\")))","v":""}]
[null,null,{"$f":"IF(Walidacja!A189=\"\",\"\",(IF(Walidacja!A189,\"Poprawny\",\"Niepoprawny\")))","v":""}]
[null,null,{"$f":"IF(Walidacja!A190=\"\",\"\",(IF(Walidacja!A190,\"Poprawny\",\"Niepoprawny\")))","v":""}]
[null,null,{"$f":"IF(Walidacja!A191=\"\",\"\",(IF(Walidacja!A191,\"Poprawny\",\"Niepoprawny\")))","v":""}]
[null,null,{"$f":"IF(Walidacja!A192=\"\",\"\",(IF(Walidacja!A192,\"Poprawny\",\"Niepoprawny\")))","v":""}]
[null,null,{"$f":"IF(Walidacja!A193=\"\",\"\",(IF(Walidacja!A193,\"Poprawny\",\"Niepoprawny\")))","v":""}]
[null,null,{"$f":"IF(Walidacja!A194=\"\",\"\",(IF(Walidacja!A194,\"Poprawny\",\"Niepoprawny\")))","v":""}]
[null,null,{"$f":"IF(Walidacja!A195=\"\",\"\",(IF(Walidacja!A195,\"Poprawny\",\"Niepoprawny\")))","v":""}]
[null,null,{"$f":"IF(Walidacja!A196=\"\",\"\",(IF(Walidacja!A196,\"Poprawny\",\"Niepoprawny\")))","v":""}]
[null,null,{"$f":"IF(Walidacja!A197=\"\",\"\",(IF(Walidacja!A197,\"Poprawny\",\"Niepoprawny\")))","v":""}]
[null,null,{"$f":"IF(Walidacja!A198=\"\",\"\",(IF(Walidacja!A198,\"Poprawny\",\"Niepoprawny\")))","v":""}]
[null,null,{"$f":"IF(Walidacja!A199=\"\",\"\",(IF(Walidacja!A199,\"Poprawny\",\"Niepoprawny\")))","v":""}]
[null,null,{"$f":"IF(Walidacja!A200=\"\",\"\",(IF(Walidacja!A200,\"Poprawny\",\"Niepoprawny\")))","v":""}]
[null,null,{"$f":"IF(Walidacja!A201=\"\",\"\",(IF(Walidacja!A201,\"Poprawny\",\"Niepoprawny\")))","v":""}]
[null,null,{"$f":"IF(Walidacja!A202=\"\",\"\",(IF(Walidacja!A202,\"Poprawny\",\"Niepoprawny\")))","v":""}]
[null,null,{"$f":"IF(Walidacja!A203=\"\",\"\",(IF(Walidacja!A203,\"Poprawny\",\"Niepoprawny\")))","v":""}]
[null,null,{"$f":"IF(Walidacja!A204=\"\",\"\",(IF(Walidacja!A204,\"Poprawny\",\"Niepoprawny\")))","v":""}]
[null,null,{"$f":"IF(Walidacja!A205=\"\",\"\",(IF(Walidacja!A205,\"Poprawny\",\"Niepoprawny\")))","v":""}]
[null,null,{"$f":"IF(Walidacja!A206=\"\",\"\",(IF(Walidacja!A206,\"Poprawny\",\"Niepoprawny\")))","v":""}]
[null,null,{"$f":"IF(Walidacja!A207=\"\",\"\",(IF(Walidacja!A207,\"Poprawny\",\"Niepoprawny\")))","v":""}]
[null,null,{"$f":"IF(Walidacja!A208=\"\",\"\",(IF(Walidacja!A208,\"Poprawny\",\"Niepoprawny\")))","v":""}]
[null,null,{"$f":"IF(Walidacja!A209=\"\",\"\",(IF(Walidacja!A209,\"Poprawny\",\"Niepoprawny\")))","v":""}]
[null,null,{"$f":"IF(Walidacja!A210=\"\",\"\",(IF(Walidacja!A210,\"Poprawny\",\"Niepoprawny\")))","v":""}]
[null,null,{"$f":"IF(Walidacja!A211=\"\",\"\",(IF(Walidacja!A211,\"Poprawny\",\"Niepoprawny\")))","v":""}]
[null,null,{"$f":"IF(Walidacja!A212=\"\",\"\",(IF(Walidacja!A212,\"Poprawny\",\"Niepoprawny\")))","v":""}]
[null,null,{"$f":"IF(Walidacja!A213=\"\",\"\",(IF(Walidacja!A213,\"Poprawny\",\"Niepoprawny\")))","v":""}]
[null,null,{"$f":"IF(Walidacja!A214=\"\",\"\",(IF(Walidacja!A214,\"Poprawny\",\"Niepoprawny\")))","v":""}]
[null,null,{"$f":"IF(Walidacja!A215=\"\",\"\",(IF(Walidacja!A215,\"Poprawny\",\"Niepoprawny\")))","v":""}]
[null,null,{"$f":"IF(Walidacja!A216=\"\",\"\",(IF(Walidacja!A216,\"Poprawny\",\"Niepoprawny\")))","v":""}]
[null,null,{"$f":"IF(Walidacja!A217=\"\",\"\",(IF(Walidacja!A217,\"Poprawny\",\"Niepoprawny\")))","v":""}]
[null,null,{"$f":"IF(Walidacja!A218=\"\",\"\",(IF(Walidacja!A218,\"Poprawny\",\"Niepoprawny\")))","v":""}]
[null,null,{"$f":"IF(Walidacja!A219=\"\",\"\",(IF(Walidacja!A219,\"Poprawny\",\"Niepoprawny\")))","v":""}]
[null,null,{"$f":"IF(Walidacja!A220=\"\",\"\",(IF(Walidacja!A220,\"Poprawny\",\"Niepoprawny\")))","v":""}]
[null,null,{"$f":"IF(Walidacja!A221=\"\",\"\",(IF(Walidacja!A221,\"Poprawny\",\"Niepoprawny\")))","v":""}]
[null,null,{"$f":"IF(Walidacja!A222=\"\",\"\",(IF(Walidacja!A222,\"Poprawny\",\"Niepoprawny\")))","v":""}]
[null,null,{"$f":"IF(Walidacja!A223=\"\",\"\",(IF(Walidacja!A223,\"Poprawny\",\"Niepoprawny\")))","v":""}]
[null,null,{"$f":"IF(Walidacja!A224=\"\",\"\",(IF(Walidacja!A224,\"Poprawny\",\"Niepoprawny\")))","v":""}]
[null,null,{"$f":"IF(Walidacja!A225=\"\",\"\",(IF(Walidacja!A225,\"Poprawny\",\"Niepoprawny\")))","v":""}]
[null,null,{"$f":"IF(Walidacja!A226=\"\",\"\",(IF(Walidacja!A226,\"Poprawny\",\"Niepoprawny\")))","v":""}]
[null,null,{"$f":"IF(Walidacja!A227=\"\",\"\",(IF(Walidacja!A227,\"Poprawny\",\"Niepoprawny\")))","v":""}]
[null,null,{"$f":"IF(Walidacja!A228=\"\",\"\",(IF(Walidacja!A228,\"Poprawny\",\"Niepoprawny\")))","v":""}]
[null,null,{"$f":"IF(Walidacja!A229=\"\",\"\",(IF(Walidacja!A229,\"Poprawny\",\"Niepoprawny\")))","v":""}]
[null,null,{"$f":"IF(Walidacja!A230=\"\",\"\",(IF(Walidacja!A230,\"Poprawny\",\"Niepoprawny\")))","v":""}]
[null,null,{"$f":"IF(Walidacja!A231=\"\",\"\",(IF(Walidacja!A231,\"Poprawny\",\"Niepoprawny\")))","v":""}]
[null,null,{"$f":"IF(Walidacja!A232=\"\",\"\",(IF(Walidacja!A232,\"Poprawny\",\"Niepoprawny\")))","v":""}]
[null,null,{"$f":"IF(Walidacja!A233=\"\",\"\",(IF(Walidacja!A233,\"Poprawny\",\"Niepoprawny\")))","v":""}]
[null,null,{"$f":"IF(Walidacja!A234=\"\",\"\",(IF(Walidacja!A234,\"Poprawny\",\"Niepoprawny\")))","v":""}]
[null,null,{"$f":"IF(Walidacja!A235=\"\",\"\",(IF(Walidacja!A235,\"Poprawny\",\"Niepoprawny\")))","v":""}]
[null,null,{"$f":"IF(Walidacja!A236=\"\",\"\",(IF(Walidacja!A236,\"Poprawny\",\"Niepoprawny\")))","v":""}]
[null,null,{"$f":"IF(Walidacja!A237=\"\",\"\",(IF(Walidacja!A237,\"Poprawny\",\"Niepoprawny\")))","v":""}]
[null,null,{"$f":"IF(Walidacja!A238=\"\",\"\",(IF(Walidacja!A238,\"Poprawny\",\"Niepoprawny\")))","v":""}]
[null,null,{"$f":"IF(Walidacja!A239=\"\",\"\",(IF(Walidacja!A239,\"Poprawny\",\"Niepoprawny\")))","v":""}]
[null,null,{"$f":"IF(Walidacja!A240=\"\",\"\",(IF(Walidacja!A240,\"Poprawny\",\"Niepoprawny\")))","v":""}]
[null,null,{"$f":"IF(Walidacja!A241=\"\",\"\",(IF(Walidacja!A241,\"Poprawny\",\"Niepoprawny\")))","v":""}]
[null,null,{"$f":"IF(Walidacja!A242=\"\",\"\",(IF(Walidacja!A242,\"Poprawny\",\"Niepoprawny\")))","v":""}]
[null,null,{"$f":"IF(Walidacja!A243=\"\",\"\",(IF(Walidacja!A243,\"Poprawny\",\"Niepoprawny\")))","v":""}]
[null,null,{"$f":"IF(Walidacja!A244=\"\",\"\",(IF(Walidacja!A244,\"Poprawny\",\"Niepoprawny\")))","v":""}]
[null,null,{"$f":"IF(Walidacja!A245=\"\",\"\",(IF(Walidacja!A245,\"Poprawny\",\"Niepoprawny\")))","v":""}]
[null,null,{"$f":"IF(Walidacja!A246=\"\",\"\",(IF(Walidacja!A246,\"Poprawny\",\"Niepoprawny\")))","v":""}]
[null,null,{"$f":"IF(Walidacja!A247=\"\",\"\",(IF(Walidacja!A247,\"Poprawny\",\"Niepoprawny\")))","v":""}]
[null,null,{"$f":"IF(Walidacja!A248=\"\",\"\",(IF(Walidacja!A248,\"Poprawny\",\"Niepoprawny\")))","v":""}]
[null,null,{"$f":"IF(Walidacja!A249=\"\",\"\",(IF(Walidacja!A249,\"Poprawny\",\"Niepoprawny\")))","v":""}]
[null,null,{"$f":"IF(Walidacja!A250=\"\",\"\",(IF(Walidacja!A250,\"Poprawny\",\"Niepoprawny\")))","v":""}]
[null,null,{"$f":"IF(Walidacja!A251=\"\",\"\",(IF(Walidacja!A251,\"Poprawny\",\"Niepoprawny\")))","v":""}]
[null,null,{"$f":"IF(Walidacja!A252=\"\",\"\",(IF(Walidacja!A252,\"Poprawny\",\"Niepoprawny\")))","v":""}]
[null,null,{"$f":"IF(Walidacja!A253=\"\",\"\",(IF(Walidacja!A253,\"Poprawny\",\"Niepoprawny\")))","v":""}]
[null,null,{"$f":"IF(Walidacja!A254=\"\",\"\",(IF(Walidacja!A254,\"Poprawny\",\"Niepoprawny\")))","v":""}]
[null,null,{"$f":"IF(Walidacja!A255=\"\",\"\",(IF(Walidacja!A255,\"Poprawny\",\"Niepoprawny\")))","v":""}]
[null,null,{"$f":"IF(Walidacja!A256=\"\",\"\",(IF(Walidacja!A256,\"Poprawny\",\"Niepoprawny\")))","v":""}]
[null,null,{"$f":"IF(Walidacja!A257=\"\",\"\",(IF(Walidacja!A257,\"Poprawny\",\"Niepoprawny\")))","v":""}]
[null,null,{"$f":"IF(Walidacja!A258=\"\",\"\",(IF(Walidacja!A258,\"Poprawny\",\"Niepoprawny\")))","v":""}]
[null,null,{"$f":"IF(Walidacja!A259=\"\",\"\",(IF(Walidacja!A259,\"Poprawny\",\"Niepoprawny\")))","v":""}]
[null,null,{"$f":"IF(Walidacja!A260=\"\",\"\",(IF(Walidacja!A260,\"Poprawny\",\"Niepoprawny\")))","v":""}]
[null,null,{"$f":"IF(Walidacja!A261=\"\",\"\",(IF(Walidacja!A261,\"Poprawny\",\"Niepoprawny\")))","v":""}]
[null,null,{"$f":"IF(Walidacja!A262=\"\",\"\",(IF(Walidacja!A262,\"Poprawny\",\"Niepoprawny\")))","v":""}]
[null,null,{"$f":"IF(Walidacja!A263=\"\",\"\",(IF(Walidacja!A263,\"Poprawny\",\"Niepoprawny\")))","v":""}]
[null,null,{"$f":"IF(Walidacja!A264=\"\",\"\",(IF(Walidacja!A264,\"Poprawny\",\"Niepoprawny\")))","v":""}]
[null,null,{"$f":"IF(Walidacja!A265=\"\",\"\",(IF(Walidacja!A265,\"Poprawny\",\"Niepoprawny\")))","v":""}]
[null,null,{"$f":"IF(Walidacja!A266=\"\",\"\",(IF(Walidacja!A266,\"Poprawny\",\"Niepoprawny\")))","v":""}]
[null,null,{"$f":"IF(Walidacja!A267=\"\",\"\",(IF(Walidacja!A267,\"Poprawny\",\"Niepoprawny\")))","v":""}]
[null,null,{"$f":"IF(Walidacja!A268=\"\",\"\",(IF(Walidacja!A268,\"Poprawny\",\"Niepoprawny\")))","v":""}]
[null,null,{"$f":"IF(Walidacja!A269=\"\",\"\",(IF(Walidacja!A269,\"Poprawny\",\"Niepoprawny\")))","v":""}]
[null,null,{"$f":"IF(Walidacja!A270=\"\",\"\",(IF(Walidacja!A270,\"Poprawny\",\"Niepoprawny\")))","v":""}]
[null,null,{"$f":"IF(Walidacja!A271=\"\",\"\",(IF(Walidacja!A271,\"Poprawny\",\"Niepoprawny\")))","v":""}]
[null,null,{"$f":"IF(Walidacja!A272=\"\",\"\",(IF(Walidacja!A272,\"Poprawny\",\"Niepoprawny\")))","v":""}]
[null,null,{"$f":"IF(Walidacja!A273=\"\",\"\",(IF(Walidacja!A273,\"Poprawny\",\"Niepoprawny\")))","v":""}]
[null,null,{"$f":"IF(Walidacja!A274=\"\",\"\",(IF(Walidacja!A274,\"Poprawny\",\"Niepoprawny\")))","v":""}]
[null,null,{"$f":"IF(Walidacja!A275=\"\",\"\",(IF(Walidacja!A275,\"Poprawny\",\"Niepoprawny\")))","v":""}]
[null,null,{"$f":"IF(Walidacja!A276=\"\",\"\",(IF(Walidacja!A276,\"Poprawny\",\"Niepoprawny\")))","v":""}]
[null,null,{"$f":"IF(Walidacja!A277=\"\",\"\",(IF(Walidacja!A277,\"Poprawny\",\"Niepoprawny\")))","v":""}]
[null,null,{"$f":"IF(Walidacja!A278=\"\",\"\",(IF(Walidacja!A278,\"Poprawny\",\"Niepoprawny\")))","v":""}]
[null,null,{"$f":"IF(Walidacja!A279=\"\",\"\",(IF(Walidacja!A279,\"Poprawny\",\"Niepoprawny\")))","v":""}]
[null,null,{"$f":"IF(Walidacja!A280=\"\",\"\",(IF(Walidacja!A280,\"Poprawny\",\"Niepoprawny\")))","v":""}]
[null,null,{"$f":"IF(Walidacja!A281=\"\",\"\",(IF(Walidacja!A281,\"Poprawny\",\"Niepoprawny\")))","v":""}]
[null,null,{"$f":"IF(Walidacja!A282=\"\",\"\",(IF(Walidacja!A282,\"Poprawny\",\"Niepoprawny\")))","v":""}]
[null,null,{"$f":"IF(Walidacja!A283=\"\",\"\",(IF(Walidacja!A283,\"Poprawny\",\"Niepoprawny\")))","v":""}]
[null,null,{"$f":"IF(Walidacja!A284=\"\",\"\",(IF(Walidacja!A284,\"Poprawny\",\"Niepoprawny\")))","v":""}]
[null,null,{"$f":"IF(Walidacja!A285=\"\",\"\",(IF(Walidacja!A285,\"Poprawny\",\"Niepoprawny\")))","v":""}]
[null,null,{"$f":"IF(Walidacja!A286=\"\",\"\",(IF(Walidacja!A286,\"Poprawny\",\"Niepoprawny\")))","v":""}]
[null,null,{"$f":"IF(Walidacja!A287=\"\",\"\",(IF(Walidacja!A287,\"Poprawny\",\"Niepoprawny\")))","v":""}]
[null,null,{"$f":"IF(Walidacja!A288=\"\",\"\",(IF(Walidacja!A288,\"Poprawny\",\"Niepoprawny\")))","v":""}]
[null,null,{"$f":"IF(Walidacja!A289=\"\",\"\",(IF(Walidacja!A289,\"Poprawny\",\"Niepoprawny\")))","v":""}]
[null,null,{"$f":"IF(Walidacja!A290=\"\",\"\",(IF(Walidacja!A290,\"Poprawny\",\"Niepoprawny\")))","v":""}]
[null,null,{"$f":"IF(Walidacja!A291=\"\",\"\",(IF(Walidacja!A291,\"Poprawny\",\"Niepoprawny\")))","v":""}]
[null,null,{"$f":"IF(Walidacja!A292=\"\",\"\",(IF(Walidacja!A292,\"Poprawny\",\"Niepoprawny\")))","v":""}]
[null,null,{"$f":"IF(Walidacja!A293=\"\",\"\",(IF(Walidacja!A293,\"Poprawny\",\"Niepoprawny\")))","v":""}]
[null,null,{"$f":"IF(Walidacja!A294=\"\",\"\",(IF(Walidacja!A294,\"Poprawny\",\"Niepoprawny\")))","v":""}]
[null,null,{"$f":"IF(Walidacja!A295=\"\",\"\",(IF(Walidacja!A295,\"Poprawny\",\"Niepoprawny\")))","v":""}]
[null,null,{"$f":"IF(Walidacja!A296=\"\",\"\",(IF(Walidacja!A296,\"Poprawny\",\"Niepoprawny\")))","v":""}]
[null,null,{"$f":"IF(Walidacja!A297=\"\",\"\",(IF(Walidacja!A297,\"Poprawny\",\"Niepoprawny\")))","v":""}]
[null,null,{"$f":"IF(Walidacja!A298=\"\",\"\",(IF(Walidacja!A298,\"Poprawny\",\"Niepoprawny\")))","v":""}]
[null,null,{"$f":"IF(Walidacja!A299=\"\",\"\",(IF(Walidacja!A299,\"Poprawny\",\"Niepoprawny\")))","v":""}]
[null,null,{"$f":"IF(Walidacja!A300=\"\",\"\",(IF(Walidacja!A300,\"Poprawny\",\"Niepoprawny\")))","v":""}]
[null,null,{"$f":"IF(Walidacja!A301=\"\",\"\",(IF(Walidacja!A301,\"Poprawny\",\"Niepoprawny\")))","v":""}]
[null,null,{"$f":"IF(Walidacja!A302=\"\",\"\",(IF(Walidacja!A302,\"Poprawny\",\"Niepoprawny\")))","v":""}]
[null,null,{"$f":"IF(Walidacja!A303=\"\",\"\",(IF(Walidacja!A303,\"Poprawny\",\"Niepoprawny\")))","v":""}]
[null,null,{"$f":"IF(Walidacja!A304=\"\",\"\",(IF(Walidacja!A304,\"Poprawny\",\"Niepoprawny\")))","v":""}]
[null,null,{"$f":"IF(Walidacja!A305=\"\",\"\",(IF(Walidacja!A305,\"Poprawny\",\"Niepoprawny\")))","v":""}]
[null,null,{"$f":"IF(Walidacja!A306=\"\",\"\",(IF(Walidacja!A306,\"Poprawny\",\"Niepoprawny\")))","v":""}]
[null,null,{"$f":"IF(Walidacja!A307=\"\",\"\",(IF(Walidacja!A307,\"Poprawny\",\"Niepoprawny\")))","v":""}]
[null,null,{"$f":"IF(Walidacja!A308=\"\",\"\",(IF(Walidacja!A308,\"Poprawny\",\"Niepoprawny\")))","v":""}]
[null,null,{"$f":"IF(Walidacja!A309=\"\",\"\",(IF(Walidacja!A309,\"Poprawny\",\"Niepoprawny\")))","v":""}]
[null,null,{"$f":"IF(Walidacja!A310=\"\",\"\",(IF(Walidacja!A310,\"Poprawny\",\"Niepoprawny\")))","v":""}]
[null,null,{"$f":"IF(Walidacja!A311=\"\",\"\",(IF(Walidacja!A311,\"Poprawny\",\"Niepoprawny\")))","v":""}]
[null,null,{"$f":"IF(Walidacja!A312=\"\",\"\",(IF(Walidacja!A312,\"Poprawny\",\"Niepoprawny\")))","v":""}]
[null,null,{"$f":"IF(Walidacja!A313=\"\",\"\",(IF(Walidacja!A313,\"Poprawny\",\"Niepoprawny\")))","v":""}]
[null,null,{"$f":"IF(Walidacja!A314=\"\",\"\",(IF(Walidacja!A314,\"Poprawny\",\"Niepoprawny\")))","v":""}]
[null,null,{"$f":"IF(Walidacja!A315=\"\",\"\",(IF(Walidacja!A315,\"Poprawny\",\"Niepoprawny\")))","v":""}]
[null,null,{"$f":"IF(Walidacja!A316=\"\",\"\",(IF(Walidacja!A316,\"Poprawny\",\"Niepoprawny\")))","v":""}]
[null,null,{"$f":"IF(Walidacja!A317=\"\",\"\",(IF(Walidacja!A317,\"Poprawny\",\"Niepoprawny\")))","v":""}]
[null,null,{"$f":"IF(Walidacja!A318=\"\",\"\",(IF(Walidacja!A318,\"Poprawny\",\"Niepoprawny\")))","v":""}]
[null,null,{"$f":"IF(Walidacja!A319=\"\",\"\",(IF(Walidacja!A319,\"Poprawny\",\"Niepoprawny\")))","v":""}]
[null,null,{"$f":"IF(Walidacja!A320=\"\",\"\",(IF(Walidacja!A320,\"Poprawny\",\"Niepoprawny\")))","v":""}]
[null,null,{"$f":"IF(Walidacja!A321=\"\",\"\",(IF(Walidacja!A321,\"Poprawny\",\"Niepoprawny\")))","v":""}]
[null,null,{"$f":"IF(Walidacja!A322=\"\",\"\",(IF(Walidacja!A322,\"Poprawny\",\"Niepoprawny\")))","v":""}]
[null,null,{"$f":"IF(Walidacja!A323=\"\",\"\",(IF(Walidacja!A323,\"Poprawny\",\"Niepoprawny\")))","v":""}]
[null,null,{"$f":"IF(Walidacja!A324=\"\",\"\",(IF(Walidacja!A324,\"Poprawny\",\"Niepoprawny\")))","v":""}]
[null,null,{"$f":"IF(Walidacja!A325=\"\",\"\",(IF(Walidacja!A325,\"Poprawny\",\"Niepoprawny\")))","v":""}]
[null,null,{"$f":"IF(Walidacja!A326=\"\",\"\",(IF(Walidacja!A326,\"Poprawny\",\"Niepoprawny\")))","v":""}]
[null,null,{"$f":"IF(Walidacja!A327=\"\",\"\",(IF(Walidacja!A327,\"Poprawny\",\"Niepoprawny\")))","v":""}]
[null,null,{"$f":"IF(Walidacja!A328=\"\",\"\",(IF(Walidacja!A328,\"Poprawny\",\"Niepoprawny\")))","v":""}]
[null,null,{"$f":"IF(Walidacja!A329=\"\",\"\",(IF(Walidacja!A329,\"Poprawny\",\"Niepoprawny\")))","v":""}]
[null,null,{"$f":"IF(Walidacja!A330=\"\",\"\",(IF(Walidacja!A330,\"Poprawny\",\"Niepoprawny\")))","v":""}]
[null,null,{"$f":"IF(Walidacja!A331=\"\",\"\",(IF(Walidacja!A331,\"Poprawny\",\"Niepoprawny\")))","v":""}]
[null,null,{"$f":"IF(Walidacja!A332=\"\",\"\",(IF(Walidacja!A332,\"Poprawny\",\"Niepoprawny\")))","v":""}]
[null,null,{"$f":"IF(Walidacja!A333=\"\",\"\",(IF(Walidacja!A333,\"Poprawny\",\"Niepoprawny\")))","v":""}]
[null,null,{"$f":"IF(Walidacja!A334=\"\",\"\",(IF(Walidacja!A334,\"Poprawny\",\"Niepoprawny\")))","v":""}]
[null,null,{"$f":"IF(Walidacja!A335=\"\",\"\",(IF(Walidacja!A335,\"Poprawny\",\"Niepoprawny\")))","v":""}]
[null,null,{"$f":"IF(Walidacja!A336=\"\",\"\",(IF(Walidacja!A336,\"Poprawny\",\"Niepoprawny\")))","v":""}]
[null,null,{"$f":"IF(Walidacja!A337=\"\",\"\",(IF(Walidacja!A337,\"Poprawny\",\"Niepoprawny\")))","v":""}]
[null,null,{"$f":"IF(Walidacja!A338=\"\",\"\",(IF(Walidacja!A338,\"Poprawny\",\"Niepoprawny\")))","v":""}]
[null,null,{"$f":"IF(Walidacja!A339=\"\",\"\",(IF(Walidacja!A339,\"Poprawny\",\"Niepoprawny\")))","v":""}]
[null,null,{"$f":"IF(Walidacja!A340=\"\",\"\",(IF(Walidacja!A340,\"Poprawny\",\"Niepoprawny\")))","v":""}]
[null,null,{"$f":"IF(Walidacja!A341=\"\",\"\",(IF(Walidacja!A341,\"Poprawny\",\"Niepoprawny\")))","v":""}]
[null,null,{"$f":"IF(Walidacja!A342=\"\",\"\",(IF(Walidacja!A342,\"Poprawny\",\"Niepoprawny\")))","v":""}]
[null,null,{"$f":"IF(Walidacja!A343=\"\",\"\",(IF(Walidacja!A343,\"Poprawny\",\"Niepoprawny\")))","v":""}]
[null,null,{"$f":"IF(Walidacja!A344=\"\",\"\",(IF(Walidacja!A344,\"Poprawny\",\"Niepoprawny\")))","v":""}]
[null,null,{"$f":"IF(Walidacja!A345=\"\",\"\",(IF(Walidacja!A345,\"Poprawny\",\"Niepoprawny\")))","v":""}]
[null,null,{"$f":"IF(Walidacja!A346=\"\",\"\",(IF(Walidacja!A346,\"Poprawny\",\"Niepoprawny\")))","v":""}]
[null,null,{"$f":"IF(Walidacja!A347=\"\",\"\",(IF(Walidacja!A347,\"Poprawny\",\"Niepoprawny\")))","v":""}]
[null,null,{"$f":"IF(Walidacja!A348=\"\",\"\",(IF(Walidacja!A348,\"Poprawny\",\"Niepoprawny\")))","v":""}]
[null,null,{"$f":"IF(Walidacja!A349=\"\",\"\",(IF(Walidacja!A349,\"Poprawny\",\"Niepoprawny\")))","v":""}]
[null,null,{"$f":"IF(Walidacja!A350=\"\",\"\",(IF(Walidacja!A350,\"Poprawny\",\"Niepoprawny\")))","v":""}]
[null,null,{"$f":"IF(Walidacja!A351=\"\",\"\",(IF(Walidacja!A351,\"Poprawny\",\"Niepoprawny\")))","v":""}]
[null,null,{"$f":"IF(Walidacja!A352=\"\",\"\",(IF(Walidacja!A352,\"Poprawny\",\"Niepoprawny\")))","v":""}]
[null,null,{"$f":"IF(Walidacja!A353=\"\",\"\",(IF(Walidacja!A353,\"Poprawny\",\"Niepoprawny\")))","v":""}]
[null,null,{"$f":"IF(Walidacja!A354=\"\",\"\",(IF(Walidacja!A354,\"Poprawny\",\"Niepoprawny\")))","v":""}]
[null,null,{"$f":"IF(Walidacja!A355=\"\",\"\",(IF(Walidacja!A355,\"Poprawny\",\"Niepoprawny\")))","v":""}]
[null,null,{"$f":"IF(Walidacja!A356=\"\",\"\",(IF(Walidacja!A356,\"Poprawny\",\"Niepoprawny\")))","v":""}]
[null,null,{"$f":"IF(Walidacja!A357=\"\",\"\",(IF(Walidacja!A357,\"Poprawny\",\"Niepoprawny\")))","v":""}]
[null,null,{"$f":"IF(Walidacja!A358=\"\",\"\",(IF(Walidacja!A358,\"Poprawny\",\"Niepoprawny\")))","v":""}]
[null,null,{"$f":"IF(Walidacja!A359=\"\",\"\",(IF(Walidacja!A359,\"Poprawny\",\"Niepoprawny\")))","v":""}]
[null,null,{"$f":"IF(Walidacja!A360=\"\",\"\",(IF(Walidacja!A360,\"Poprawny\",\"Niepoprawny\")))","v":""}]
[null,null,{"$f":"IF(Walidacja!A361=\"\",\"\",(IF(Walidacja!A361,\"Poprawny\",\"Niepoprawny\")))","v":""}]
[null,null,{"$f":"IF(Walidacja!A362=\"\",\"\",(IF(Walidacja!A362,\"Poprawny\",\"Niepoprawny\")))","v":""}]
[null,null,{"$f":"IF(Walidacja!A363=\"\",\"\",(IF(Walidacja!A363,\"Poprawny\",\"Niepoprawny\")))","v":""}]
[null,null,{"$f":"IF(Walidacja!A364=\"\",\"\",(IF(Walidacja!A364,\"Poprawny\",\"Niepoprawny\")))","v":""}]
[null,null,{"$f":"IF(Walidacja!A365=\"\",\"\",(IF(Walidacja!A365,\"Poprawny\",\"Niepoprawny\")))","v":""}]
[null,null,{"$f":"IF(Walidacja!A366=\"\",\"\",(IF(Walidacja!A366,\"Poprawny\",\"Niepoprawny\")))","v":""}]
[null,null,{"$f":"IF(Walidacja!A367=\"\",\"\",(IF(Walidacja!A367,\"Poprawny\",\"Niepoprawny\")))","v":""}]
[null,null,{"$f":"IF(Walidacja!A368=\"\",\"\",(IF(Walidacja!A368,\"Poprawny\",\"Niepoprawny\")))","v":""}]
[null,null,{"$f":"IF(Walidacja!A369=\"\",\"\",(IF(Walidacja!A369,\"Poprawny\",\"Niepoprawny\")))","v":""}]
[null,null,{"$f":"IF(Walidacja!A370=\"\",\"\",(IF(Walidacja!A370,\"Poprawny\",\"Niepoprawny\")))","v":""}]
[null,null,{"$f":"IF(Walidacja!A371=\"\",\"\",(IF(Walidacja!A371,\"Poprawny\",\"Niepoprawny\")))","v":""}]
[null,null,{"$f":"IF(Walidacja!A372=\"\",\"\",(IF(Walidacja!A372,\"Poprawny\",\"Niepoprawny\")))","v":""}]
[null,null,{"$f":"IF(Walidacja!A373=\"\",\"\",(IF(Walidacja!A373,\"Poprawny\",\"Niepoprawny\")))","v":""}]
[null,null,{"$f":"IF(Walidacja!A374=\"\",\"\",(IF(Walidacja!A374,\"Poprawny\",\"Niepoprawny\")))","v":""}]
[null,null,{"$f":"IF(Walidacja!A375=\"\",\"\",(IF(Walidacja!A375,\"Poprawny\",\"Niepoprawny\")))","v":""}]
[null,null,{"$f":"IF(Walidacja!A376=\"\",\"\",(IF(Walidacja!A376,\"Poprawny\",\"Niepoprawny\")))","v":""}]
[null,null,{"$f":"IF(Walidacja!A377=\"\",\"\",(IF(Walidacja!A377,\"Poprawny\",\"Niepoprawny\")))","v":""}]
[null,null,{"$f":"IF(Walidacja!A378=\"\",\"\",(IF(Walidacja!A378,\"Poprawny\",\"Niepoprawny\")))","v":""}]
[null,null,{"$f":"IF(Walidacja!A379=\"\",\"\",(IF(Walidacja!A379,\"Poprawny\",\"Niepoprawny\")))","v":""}]
[null,null,{"$f":"IF(Walidacja!A380=\"\",\"\",(IF(Walidacja!A380,\"Poprawny\",\"Niepoprawny\")))","v":""}]
[null,null,{"$f":"IF(Walidacja!A381=\"\",\"\",(IF(Walidacja!A381,\"Poprawny\",\"Niepoprawny\")))","v":""}]
[null,null,{"$f":"IF(Walidacja!A382=\"\",\"\",(IF(Walidacja!A382,\"Poprawny\",\"Niepoprawny\")))","v":""}]
[null,null,{"$f":"IF(Walidacja!A383=\"\",\"\",(IF(Walidacja!A383,\"Poprawny\",\"Niepoprawny\")))","v":""}]
[null,null,{"$f":"IF(Walidacja!A384=\"\",\"\",(IF(Walidacja!A384,\"Poprawny\",\"Niepoprawny\")))","v":""}]
[null,null,{"$f":"IF(Walidacja!A385=\"\",\"\",(IF(Walidacja!A385,\"Poprawny\",\"Niepoprawny\")))","v":""}]
[null,null,{"$f":"IF(Walidacja!A386=\"\",\"\",(IF(Walidacja!A386,\"Poprawny\",\"Niepoprawny\")))","v":""}]
[null,null,{"$f":"IF(Walidacja!A387=\"\",\"\",(IF(Walidacja!A387,\"Poprawny\",\"Niepoprawny\")))","v":""}]
[null,null,{"$f":"IF(Walidacja!A388=\"\",\"\",(IF(Walidacja!A388,\"Poprawny\",\"Niepoprawny\")))","v":""}]
[null,null,{"$f":"IF(Walidacja!A389=\"\",\"\",(IF(Walidacja!A389,\"Poprawny\",\"Niepoprawny\")))","v":""}]
[null,null,{"$f":"IF(Walidacja!A390=\"\",\"\",(IF(Walidacja!A390,\"Poprawny\",\"Niepoprawny\")))","v":""}]
[null,null,{"$f":"IF(Walidacja!A391=\"\",\"\",(IF(Walidacja!A391,\"Poprawny\",\"Niepoprawny\")))","v":""}]
[null,null,{"$f":"IF(Walidacja!A392=\"\",\"\",(IF(Walidacja!A392,\"Poprawny\",\"Niepoprawny\")))","v":""}]
[null,null,{"$f":"IF(Walidacja!A393=\"\",\"\",(IF(Walidacja!A393,\"Poprawny\",\"Niepoprawny\")))","v":""}]
[null,null,{"$f":"IF(Walidacja!A394=\"\",\"\",(IF(Walidacja!A394,\"Poprawny\",\"Niepoprawny\")))","v":""}]
[null,null,{"$f":"IF(Walidacja!A395=\"\",\"\",(IF(Walidacja!A395,\"Poprawny\",\"Niepoprawny\")))","v":""}]
[null,null,{"$f":"IF(Walidacja!A396=\"\",\"\",(IF(Walidacja!A396,\"Poprawny\",\"Niepoprawny\")))","v":""}]
[null,null,{"$f":"IF(Walidacja!A397=\"\",\"\",(IF(Walidacja!A397,\"Poprawny\",\"Niepoprawny\")))","v":""}]
[null,null,{"$f":"IF(Walidacja!A398=\"\",\"\",(IF(Walidacja!A398,\"Poprawny\",\"Niepoprawny\")))","v":""}]
[null,null,{"$f":"IF(Walidacja!A399=\"\",\"\",(IF(Walidacja!A399,\"Poprawny\",\"Niepoprawny\")))","v":""}]
[null,null,{"$f":"IF(Walidacja!A400=\"\",\"\",(IF(Walidacja!A400,\"Poprawny\",\"Niepoprawny\")))","v":""}]
[null,null,{"$f":"IF(Walidacja!A401=\"\",\"\",(IF(Walidacja!A401,\"Poprawny\",\"Niepoprawny\")))","v":""}]
[null,null,{"$f":"IF(Walidacja!A402=\"\",\"\",(IF(Walidacja!A402,\"Poprawny\",\"Niepoprawny\")))","v":""}]
[null,null,{"$f":"IF(Walidacja!A403=\"\",\"\",(IF(Walidacja!A403,\"Poprawny\",\"Niepoprawny\")))","v":""}]
[null,null,{"$f":"IF(Walidacja!A404=\"\",\"\",(IF(Walidacja!A404,\"Poprawny\",\"Niepoprawny\")))","v":""}]
[null,null,{"$f":"IF(Walidacja!A405=\"\",\"\",(IF(Walidacja!A405,\"Poprawny\",\"Niepoprawny\")))","v":""}]
[null,null,{"$f":"IF(Walidacja!A406=\"\",\"\",(IF(Walidacja!A406,\"Poprawny\",\"Niepoprawny\")))","v":""}]
[null,null,{"$f":"IF(Walidacja!A407=\"\",\"\",(IF(Walidacja!A407,\"Poprawny\",\"Niepoprawny\")))","v":""}]
[null,null,{"$f":"IF(Walidacja!A408=\"\",\"\",(IF(Walidacja!A408,\"Poprawny\",\"Niepoprawny\")))","v":""}]
[null,null,{"$f":"IF(Walidacja!A409=\"\",\"\",(IF(Walidacja!A409,\"Poprawny\",\"Niepoprawny\")))","v":""}]
[null,null,{"$f":"IF(Walidacja!A410=\"\",\"\",(IF(Walidacja!A410,\"Poprawny\",\"Niepoprawny\")))","v":""}]
[null,null,{"$f":"IF(Walidacja!A411=\"\",\"\",(IF(Walidacja!A411,\"Poprawny\",\"Niepoprawny\")))","v":""}]
[null,null,{"$f":"IF(Walidacja!A412=\"\",\"\",(IF(Walidacja!A412,\"Poprawny\",\"Niepoprawny\")))","v":""}]
[null,null,{"$f":"IF(Walidacja!A413=\"\",\"\",(IF(Walidacja!A413,\"Poprawny\",\"Niepoprawny\")))","v":""}]
[null,null,{"$f":"IF(Walidacja!A414=\"\",\"\",(IF(Walidacja!A414,\"Poprawny\",\"Niepoprawny\")))","v":""}]
[null,null,{"$f":"IF(Walidacja!A415=\"\",\"\",(IF(Walidacja!A415,\"Poprawny\",\"Niepoprawny\")))","v":""}]
[null,null,{"$f":"IF(Walidacja!A416=\"\",\"\",(IF(Walidacja!A416,\"Poprawny\",\"Niepoprawny\")))","v":""}]
[null,null,{"$f":"IF(Walidacja!A417=\"\",\"\",(IF(Walidacja!A417,\"Poprawny\",\"Niepoprawny\")))","v":""}]
[null,null,{"$f":"IF(Walidacja!A418=\"\",\"\",(IF(Walidacja!A418,\"Poprawny\",\"Niepoprawny\")))","v":""}]
[null,null,{"$f":"IF(Walidacja!A419=\"\",\"\",(IF(Walidacja!A419,\"Poprawny\",\"Niepoprawny\")))","v":""}]
[null,null,{"$f":"IF(Walidacja!A420=\"\",\"\",(IF(Walidacja!A420,\"Poprawny\",\"Niepoprawny\")))","v":""}]
[null,null,{"$f":"IF(Walidacja!A421=\"\",\"\",(IF(Walidacja!A421,\"Poprawny\",\"Niepoprawny\")))","v":""}]
[null,null,{"$f":"IF(Walidacja!A422=\"\",\"\",(IF(Walidacja!A422,\"Poprawny\",\"Niepoprawny\")))","v":""}]
[null,null,{"$f":"IF(Walidacja!A423=\"\",\"\",(IF(Walidacja!A423,\"Poprawny\",\"Niepoprawny\")))","v":""}]
[null,null,{"$f":"IF(Walidacja!A424=\"\",\"\",(IF(Walidacja!A424,\"Poprawny\",\"Niepoprawny\")))","v":""}]
[null,null,{"$f":"IF(Walidacja!A425=\"\",\"\",(IF(Walidacja!A425,\"Poprawny\",\"Niepoprawny\")))","v":""}]
[null,null,{"$f":"IF(Walidacja!A426=\"\",\"\",(IF(Walidacja!A426,\"Poprawny\",\"Niepoprawny\")))","v":""}]
[null,null,{"$f":"IF(Walidacja!A427=\"\",\"\",(IF(Walidacja!A427,\"Poprawny\",\"Niepoprawny\")))","v":""}]
[null,null,{"$f":"IF(Walidacja!A428=\"\",\"\",(IF(Walidacja!A428,\"Poprawny\",\"Niepoprawny\")))","v":""}]
[null,null,{"$f":"IF(Walidacja!A429=\"\",\"\",(IF(Walidacja!A429,\"Poprawny\",\"Niepoprawny\")))","v":""}]
[null,null,{"$f":"IF(Walidacja!A430=\"\",\"\",(IF(Walidacja!A430,\"Poprawny\",\"Niepoprawny\")))","v":""}]
[null,null,{"$f":"IF(Walidacja!A431=\"\",\"\",(IF(Walidacja!A431,\"Poprawny\",\"Niepoprawny\")))","v":""}]
[null,null,{"$f":"IF(Walidacja!A432=\"\",\"\",(IF(Walidacja!A432,\"Poprawny\",\"Niepoprawny\")))","v":""}]
[null,null,{"$f":"IF(Walidacja!A433=\"\",\"\",(IF(Walidacja!A433,\"Poprawny\",\"Niepoprawny\")))","v":""}]
[null,null,{"$f":"IF(Walidacja!A434=\"\",\"\",(IF(Walidacja!A434,\"Poprawny\",\"Niepoprawny\")))","v":""}]
[null,null,{"$f":"IF(Walidacja!A435=\"\",\"\",(IF(Walidacja!A435,\"Poprawny\",\"Niepoprawny\")))","v":""}]
[null,null,{"$f":"IF(Walidacja!A436=\"\",\"\",(IF(Walidacja!A436,\"Poprawny\",\"Niepoprawny\")))","v":""}]
[null,null,{"$f":"IF(Walidacja!A437=\"\",\"\",(IF(Walidacja!A437,\"Poprawny\",\"Niepoprawny\")))","v":""}]
[null,null,{"$f":"IF(Walidacja!A438=\"\",\"\",(IF(Walidacja!A438,\"Poprawny\",\"Niepoprawny\")))","v":""}]
[null,null,{"$f":"IF(Walidacja!A439=\"\",\"\",(IF(Walidacja!A439,\"Poprawny\",\"Niepoprawny\")))","v":""}]
[null,null,{"$f":"IF(Walidacja!A440=\"\",\"\",(IF(Walidacja!A440,\"Poprawny\",\"Niepoprawny\")))","v":""}]
[null,null,{"$f":"IF(Walidacja!A441=\"\",\"\",(IF(Walidacja!A441,\"Poprawny\",\"Niepoprawny\")))","v":""}]
[null,null,{"$f":"IF(Walidacja!A442=\"\",\"\",(IF(Walidacja!A442,\"Poprawny\",\"Niepoprawny\")))","v":""}]
[null,null,{"$f":"IF(Walidacja!A443=\"\",\"\",(IF(Walidacja!A443,\"Poprawny\",\"Niepoprawny\")))","v":""}]
[null,null,{"$f":"IF(Walidacja!A444=\"\",\"\",(IF(Walidacja!A444,\"Poprawny\",\"Niepoprawny\")))","v":""}]
[null,null,{"$f":"IF(Walidacja!A445=\"\",\"\",(IF(Walidacja!A445,\"Poprawny\",\"Niepoprawny\")))","v":""}]
[null,null,{"$f":"IF(Walidacja!A446=\"\",\"\",(IF(Walidacja!A446,\"Poprawny\",\"Niepoprawny\")))","v":""}]
[null,null,{"$f":"IF(Walidacja!A447=\"\",\"\",(IF(Walidacja!A447,\"Poprawny\",\"Niepoprawny\")))","v":""}]
[null,null,{"$f":"IF(Walidacja!A448=\"\",\"\",(IF(Walidacja!A448,\"Poprawny\",\"Niepoprawny\")))","v":""}]
[null,null,{"$f":"IF(Walidacja!A449=\"\",\"\",(IF(Walidacja!A449,\"Poprawny\",\"Niepoprawny\")))","v":""}]
[null,null,{"$f":"IF(Walidacja!A450=\"\",\"\",(IF(Walidacja!A450,\"Poprawny\",\"Niepoprawny\")))","v":""}]
[null,null,{"$f":"IF(Walidacja!A451=\"\",\"\",(IF(Walidacja!A451,\"Poprawny\",\"Niepoprawny\")))","v":""}]
[null,null,{"$f":"IF(Walidacja!A452=\"\",\"\",(IF(Walidacja!A452,\"Poprawny\",\"Niepoprawny\")))","v":""}]
[null,null,{"$f":"IF(Walidacja!A453=\"\",\"\",(IF(Walidacja!A453,\"Poprawny\",\"Niepoprawny\")))","v":""}]
[null,null,{"$f":"IF(Walidacja!A454=\"\",\"\",(IF(Walidacja!A454,\"Poprawny\",\"Niepoprawny\")))","v":""}]
[null,null,{"$f":"IF(Walidacja!A455=\"\",\"\",(IF(Walidacja!A455,\"Poprawny\",\"Niepoprawny\")))","v":""}]
[null,null,{"$f":"IF(Walidacja!A456=\"\",\"\",(IF(Walidacja!A456,\"Poprawny\",\"Niepoprawny\")))","v":""}]
[null,null,{"$f":"IF(Walidacja!A457=\"\",\"\",(IF(Walidacja!A457,\"Poprawny\",\"Niepoprawny\")))","v":""}]
[null,null,{"$f":"IF(Walidacja!A458=\"\",\"\",(IF(Walidacja!A458,\"Poprawny\",\"Niepoprawny\")))","v":""}]
[null,null,{"$f":"IF(Walidacja!A459=\"\",\"\",(IF(Walidacja!A459,\"Poprawny\",\"Niepoprawny\")))","v":""}]
[null,null,{"$f":"IF(Walidacja!A460=\"\",\"\",(IF(Walidacja!A460,\"Poprawny\",\"Niepoprawny\")))","v":""}]
[null,null,{"$f":"IF(Walidacja!A461=\"\",\"\",(IF(Walidacja!A461,\"Poprawny\",\"Niepoprawny\")))","v":""}]
[null,null,{"$f":"IF(Walidacja!A462=\"\",\"\",(IF(Walidacja!A462,\"Poprawny\",\"Niepoprawny\")))","v":""}]
[null,null,{"$f":"IF(Walidacja!A463=\"\",\"\",(IF(Walidacja!A463,\"Poprawny\",\"Niepoprawny\")))","v":""}]
[null,null,{"$f":"IF(Walidacja!A464=\"\",\"\",(IF(Walidacja!A464,\"Poprawny\",\"Niepoprawny\")))","v":""}]
[null,null,{"$f":"IF(Walidacja!A465=\"\",\"\",(IF(Walidacja!A465,\"Poprawny\",\"Niepoprawny\")))","v":""}]
[null,null,{"$f":"IF(Walidacja!A466=\"\",\"\",(IF(Walidacja!A466,\"Poprawny\",\"Niepoprawny\")))","v":""}]
[null,null,{"$f":"IF(Walidacja!A467=\"\",\"\",(IF(Walidacja!A467,\"Poprawny\",\"Niepoprawny\")))","v":""}]
[null,null,{"$f":"IF(Walidacja!A468=\"\",\"\",(IF(Walidacja!A468,\"Poprawny\",\"Niepoprawny\")))","v":""}]
[null,null,{"$f":"IF(Walidacja!A469=\"\",\"\",(IF(Walidacja!A469,\"Poprawny\",\"Niepoprawny\")))","v":""}]
[null,null,{"$f":"IF(Walidacja!A470=\"\",\"\",(IF(Walidacja!A470,\"Poprawny\",\"Niepoprawny\")))","v":""}]
[null,null,{"$f":"IF(Walidacja!A471=\"\",\"\",(IF(Walidacja!A471,\"Poprawny\",\"Niepoprawny\")))","v":""}]
[null,null,{"$f":"IF(Walidacja!A472=\"\",\"\",(IF(Walidacja!A472,\"Poprawny\",\"Niepoprawny\")))","v":""}]
[null,null,{"$f":"IF(Walidacja!A473=\"\",\"\",(IF(Walidacja!A473,\"Poprawny\",\"Niepoprawny\")))","v":""}]
[null,null,{"$f":"IF(Walidacja!A474=\"\",\"\",(IF(Walidacja!A474,\"Poprawny\",\"Niepoprawny\")))","v":""}]
[null,null,{"$f":"IF(Walidacja!A475=\"\",\"\",(IF(Walidacja!A475,\"Poprawny\",\"Niepoprawny\")))","v":""}]
[null,null,{"$f":"IF(Walidacja!A476=\"\",\"\",(IF(Walidacja!A476,\"Poprawny\",\"Niepoprawny\")))","v":""}]
[null,null,{"$f":"IF(Walidacja!A477=\"\",\"\",(IF(Walidacja!A477,\"Poprawny\",\"Niepoprawny\")))","v":""}]
[null,null,{"$f":"IF(Walidacja!A478=\"\",\"\",(IF(Walidacja!A478,\"Poprawny\",\"Niepoprawny\")))","v":""}]
[null,null,{"$f":"IF(Walidacja!A479=\"\",\"\",(IF(Walidacja!A479,\"Poprawny\",\"Niepoprawny\")))","v":""}]
[null,null,{"$f":"IF(Walidacja!A480=\"\",\"\",(IF(Walidacja!A480,\"Poprawny\",\"Niepoprawny\")))","v":""}]
[null,null,{"$f":"IF(Walidacja!A481=\"\",\"\",(IF(Walidacja!A481,\"Poprawny\",\"Niepoprawny\")))","v":""}]
[null,null,{"$f":"IF(Walidacja!A482=\"\",\"\",(IF(Walidacja!A482,\"Poprawny\",\"Niepoprawny\")))","v":""}]
[null,null,{"$f":"IF(Walidacja!A483=\"\",\"\",(IF(Walidacja!A483,\"Poprawny\",\"Niepoprawny\")))","v":""}]
[null,null,{"$f":"IF(Walidacja!A484=\"\",\"\",(IF(Walidacja!A484,\"Poprawny\",\"Niepoprawny\")))","v":""}]
[null,null,{"$f":"IF(Walidacja!A485=\"\",\"\",(IF(Walidacja!A485,\"Poprawny\",\"Niepoprawny\")))","v":""}]
[null,null,{"$f":"IF(Walidacja!A486=\"\",\"\",(IF(Walidacja!A486,\"Poprawny\",\"Niepoprawny\")))","v":""}]
[null,null,{"$f":"IF(Walidacja!A487=\"\",\"\",(IF(Walidacja!A487,\"Poprawny\",\"Niepoprawny\")))","v":""}]
[null,null,{"$f":"IF(Walidacja!A488=\"\",\"\",(IF(Walidacja!A488,\"Poprawny\",\"Niepoprawny\")))","v":""}]
[null,null,{"$f":"IF(Walidacja!A489=\"\",\"\",(IF(Walidacja!A489,\"Poprawny\",\"Niepoprawny\")))","v":""}]
[null,null,{"$f":"IF(Walidacja!A490=\"\",\"\",(IF(Walidacja!A490,\"Poprawny\",\"Niepoprawny\")))","v":""}]
[null,null,{"$f":"IF(Walidacja!A491=\"\",\"\",(IF(Walidacja!A491,\"Poprawny\",\"Niepoprawny\")))","v":""}]
[null,null,{"$f":"IF(Walidacja!A492=\"\",\"\",(IF(Walidacja!A492,\"Poprawny\",\"Niepoprawny\")))","v":""}]
[null,null,{"$f":"IF(Walidacja!A493=\"\",\"\",(IF(Walidacja!A493,\"Poprawny\",\"Niepoprawny\")))","v":""}]
[null,null,{"$f":"IF(Walidacja!A494=\"\",\"\",(IF(Walidacja!A494,\"Poprawny\",\"Niepoprawny\")))","v":""}]
[null,null,{"$f":"IF(Walidacja!A495=\"\",\"\",(IF(Walidacja!A495,\"Poprawny\",\"Niepoprawny\")))","v":""}]
[null,null,{"$f":"IF(Walidacja!A496=\"\",\"\",(IF(Walidacja!A496,\"Poprawny\",\"Niepoprawny\")))","v":""}]
[null,null,{"$f":"IF(Walidacja!A497=\"\",\"\",(IF(Walidacja!A497,\"Poprawny\",\"Niepoprawny\")))","v":""}]
[null,null,{"$f":"IF(Walidacja!A498=\"\",\"\",(IF(Walidacja!A498,\"Poprawny\",\"Niepoprawny\")))","v":""}]
[null,null,{"$f":"IF(Walidacja!A499=\"\",\"\",(IF(Walidacja!A499,\"Poprawny\",\"Niepoprawny\")))","v":""}]
[null,null,{"$f":"IF(Walidacja!A500=\"\",\"\",(IF(Walidacja!A500,\"Poprawny\",\"Niepoprawny\")))","v":""}]
[null,null,{"$f":"IF(Walidacja!A501=\"\",\"\",(IF(Walidacja!A501,\"Poprawny\",\"Niepoprawny\")))","v":""}]
[null,null,{"$f":"IF(Walidacja!A502=\"\",\"\",(IF(Walidacja!A502,\"Poprawny\",\"Niepoprawny\")))","v":""}]
[null,null,{"$f":"IF(Walidacja!A503=\"\",\"\",(IF(Walidacja!A503,\"Poprawny\",\"Niepoprawny\")))","v":""}]
[null,null,{"$f":"IF(Walidacja!A504=\"\",\"\",(IF(Walidacja!A504,\"Poprawny\",\"Niepoprawny\")))","v":""}]
[null,null,{"$f":"IF(Walidacja!A505=\"\",\"\",(IF(Walidacja!A505,\"Poprawny\",\"Niepoprawny\")))","v":""}]
[null,null,{"$f":"IF(Walidacja!A506=\"\",\"\",(IF(Walidacja!A506,\"Poprawny\",\"Niepoprawny\")))","v":""}]
[null,null,{"$f":"IF(Walidacja!A507=\"\",\"\",(IF(Walidacja!A507,\"Poprawny\",\"Niepoprawny\")))","v":""}]
[null,null,{"$f":"IF(Walidacja!A508=\"\",\"\",(IF(Walidacja!A508,\"Poprawny\",\"Niepoprawny\")))","v":""}]
[null,null,{"$f":"IF(Walidacja!A509=\"\",\"\",(IF(Walidacja!A509,\"Poprawny\",\"Niepoprawny\")))","v":""}]
[null,null,{"$f":"IF(Walidacja!A510=\"\",\"\",(IF(Walidacja!A510,\"Poprawny\",\"Niepoprawny\")))","v":""}]
[null,null,{"$f":"IF(Walidacja!A511=\"\",\"\",(IF(Walidacja!A511,\"Poprawny\",\"Niepoprawny\")))","v":""}]
[null,null,{"$f":"IF(Walidacja!A512=\"\",\"\",(IF(Walidacja!A512,\"Poprawny\",\"Niepoprawny\")))","v":""}]
[null,null,{"$f":"IF(Walidacja!A513=\"\",\"\",(IF(Walidacja!A513,\"Poprawny\",\"Niepoprawny\")))","v":""}]
[null,null,{"$f":"IF(Walidacja!A514=\"\",\"\",(IF(Walidacja!A514,\"Poprawny\",\"Niepoprawny\")))","v":""}]
[null,null,{"$f":"IF(Walidacja!A515=\"\",\"\",(IF(Walidacja!A515,\"Poprawny\",\"Niepoprawny\")))","v":""}]
[null,null,{"$f":"IF(Walidacja!A516=\"\",\"\",(IF(Walidacja!A516,\"Poprawny\",\"Niepoprawny\")))","v":""}]
[null,null,{"$f":"IF(Walidacja!A517=\"\",\"\",(IF(Walidacja!A517,\"Poprawny\",\"Niepoprawny\")))","v":""}]
[null,null,{"$f":"IF(Walidacja!A518=\"\",\"\",(IF(Walidacja!A518,\"Poprawny\",\"Niepoprawny\")))","v":""}]
[null,null,{"$f":"IF(Walidacja!A519=\"\",\"\",(IF(Walidacja!A519,\"Poprawny\",\"Niepoprawny\")))","v":""}]
[null,null,{"$f":"IF(Walidacja!A520=\"\",\"\",(IF(Walidacja!A520,\"Poprawny\",\"Niepoprawny\")))","v":""}]
[null,null,{"$f":"IF(Walidacja!A521=\"\",\"\",(IF(Walidacja!A521,\"Poprawny\",\"Niepoprawny\")))","v":""}]
[null,null,{"$f":"IF(Walidacja!A522=\"\",\"\",(IF(Walidacja!A522,\"Poprawny\",\"Niepoprawny\")))","v":""}]
[null,null,{"$f":"IF(Walidacja!A523=\"\",\"\",(IF(Walidacja!A523,\"Poprawny\",\"Niepoprawny\")))","v":""}]
[null,null,{"$f":"IF(Walidacja!A524=\"\",\"\",(IF(Walidacja!A524,\"Poprawny\",\"Niepoprawny\")))","v":""}]
[null,null,{"$f":"IF(Walidacja!A525=\"\",\"\",(IF(Walidacja!A525,\"Poprawny\",\"Niepoprawny\")))","v":""}]
[null,null,{"$f":"IF(Walidacja!A526=\"\",\"\",(IF(Walidacja!A526,\"Poprawny\",\"Niepoprawny\")))","v":""}]
[null,null,{"$f":"IF(Walidacja!A527=\"\",\"\",(IF(Walidacja!A527,\"Poprawny\",\"Niepoprawny\")))","v":""}]
[null,null,{"$f":"IF(Walidacja!A528=\"\",\"\",(IF(Walidacja!A528,\"Poprawny\",\"Niepoprawny\")))","v":""}]
[null,null,{"$f":"IF(Walidacja!A529=\"\",\"\",(IF(Walidacja!A529,\"Poprawny\",\"Niepoprawny\")))","v":""}]
[null,null,{"$f":"IF(Walidacja!A530=\"\",\"\",(IF(Walidacja!A530,\"Poprawny\",\"Niepoprawny\")))","v":""}]
[null,null,{"$f":"IF(Walidacja!A531=\"\",\"\",(IF(Walidacja!A531,\"Poprawny\",\"Niepoprawny\")))","v":""}]
[null,null,{"$f":"IF(Walidacja!A532=\"\",\"\",(IF(Walidacja!A532,\"Poprawny\",\"Niepoprawny\")))","v":""}]
[null,null,{"$f":"IF(Walidacja!A533=\"\",\"\",(IF(Walidacja!A533,\"Poprawny\",\"Niepoprawny\")))","v":""}]
[null,null,{"$f":"IF(Walidacja!A534=\"\",\"\",(IF(Walidacja!A534,\"Poprawny\",\"Niepoprawny\")))","v":""}]
[null,null,{"$f":"IF(Walidacja!A535=\"\",\"\",(IF(Walidacja!A535,\"Poprawny\",\"Niepoprawny\")))","v":""}]
[null,null,{"$f":"IF(Walidacja!A536=\"\",\"\",(IF(Walidacja!A536,\"Poprawny\",\"Niepoprawny\")))","v":""}]
[null,null,{"$f":"IF(Walidacja!A537=\"\",\"\",(IF(Walidacja!A537,\"Poprawny\",\"Niepoprawny\")))","v":""}]
[null,null,{"$f":"IF(Walidacja!A538=\"\",\"\",(IF(Walidacja!A538,\"Poprawny\",\"Niepoprawny\")))","v":""}]
[null,null,{"$f":"IF(Walidacja!A539=\"\",\"\",(IF(Walidacja!A539,\"Poprawny\",\"Niepoprawny\")))","v":""}]
[null,null,{"$f":"IF(Walidacja!A540=\"\",\"\",(IF(Walidacja!A540,\"Poprawny\",\"Niepoprawny\")))","v":""}]
[null,null,{"$f":"IF(Walidacja!A541=\"\",\"\",(IF(Walidacja!A541,\"Poprawny\",\"Niepoprawny\")))","v":""}]
[null,null,{"$f":"IF(Walidacja!A542=\"\",\"\",(IF(Walidacja!A542,\"Poprawny\",\"Niepoprawny\")))","v":""}]
[null,null,{"$f":"IF(Walidacja!A543=\"\",\"\",(IF(Walidacja!A543,\"Poprawny\",\"Niepoprawny\")))","v":""}]
[null,null,{"$f":"IF(Walidacja!A544=\"\",\"\",(IF(Walidacja!A544,\"Poprawny\",\"Niepoprawny\")))","v":""}]
[null,null,{"$f":"IF(Walidacja!A545=\"\",\"\",(IF(Walidacja!A545,\"Poprawny\",\"Niepoprawny\")))","v":""}]
[null,null,{"$f":"IF(Walidacja!A546=\"\",\"\",(IF(Walidacja!A546,\"Poprawny\",\"Niepoprawny\")))","v":""}]
[null,null,{"$f":"IF(Walidacja!A547=\"\",\"\",(IF(Walidacja!A547,\"Poprawny\",\"Niepoprawny\")))","v":""}]
[null,null,{"$f":"IF(Walidacja!A548=\"\",\"\",(IF(Walidacja!A548,\"Poprawny\",\"Niepoprawny\")))","v":""}]
[null,null,{"$f":"IF(Walidacja!A549=\"\",\"\",(IF(Walidacja!A549,\"Poprawny\",\"Niepoprawny\")))","v":""}]
[null,null,{"$f":"IF(Walidacja!A550=\"\",\"\",(IF(Walidacja!A550,\"Poprawny\",\"Niepoprawny\")))","v":""}]
[null,null,{"$f":"IF(Walidacja!A551=\"\",\"\",(IF(Walidacja!A551,\"Poprawny\",\"Niepoprawny\")))","v":""}]
[null,null,{"$f":"IF(Walidacja!A552=\"\",\"\",(IF(Walidacja!A552,\"Poprawny\",\"Niepoprawny\")))","v":""}]
[null,null,{"$f":"IF(Walidacja!A553=\"\",\"\",(IF(Walidacja!A553,\"Poprawny\",\"Niepoprawny\")))","v":""}]
[null,null,{"$f":"IF(Walidacja!A554=\"\",\"\",(IF(Walidacja!A554,\"Poprawny\",\"Niepoprawny\")))","v":""}]
[null,null,{"$f":"IF(Walidacja!A555=\"\",\"\",(IF(Walidacja!A555,\"Poprawny\",\"Niepoprawny\")))","v":""}]
[null,null,{"$f":"IF(Walidacja!A556=\"\",\"\",(IF(Walidacja!A556,\"Poprawny\",\"Niepoprawny\")))","v":""}]
[null,null,{"$f":"IF(Walidacja!A557=\"\",\"\",(IF(Walidacja!A557,\"Poprawny\",\"Niepoprawny\")))","v":""}]
[null,null,{"$f":"IF(Walidacja!A558=\"\",\"\",(IF(Walidacja!A558,\"Poprawny\",\"Niepoprawny\")))","v":""}]
[null,null,{"$f":"IF(Walidacja!A559=\"\",\"\",(IF(Walidacja!A559,\"Poprawny\",\"Niepoprawny\")))","v":""}]
[null,null,{"$f":"IF(Walidacja!A560=\"\",\"\",(IF(Walidacja!A560,\"Poprawny\",\"Niepoprawny\")))","v":""}]
[null,null,{"$f":"IF(Walidacja!A561=\"\",\"\",(IF(Walidacja!A561,\"Poprawny\",\"Niepoprawny\")))","v":""}]
[null,null,{"$f":"IF(Walidacja!A562=\"\",\"\",(IF(Walidacja!A562,\"Poprawny\",\"Niepoprawny\")))","v":""}]
[null,null,{"$f":"IF(Walidacja!A563=\"\",\"\",(IF(Walidacja!A563,\"Poprawny\",\"Niepoprawny\")))","v":""}]
[null,null,{"$f":"IF(Walidacja!A564=\"\",\"\",(IF(Walidacja!A564,\"Poprawny\",\"Niepoprawny\")))","v":""}]
[null,null,{"$f":"IF(Walidacja!A565=\"\",\"\",(IF(Walidacja!A565,\"Poprawny\",\"Niepoprawny\")))","v":""}]
[null,null,{"$f":"IF(Walidacja!A566=\"\",\"\",(IF(Walidacja!A566,\"Poprawny\",\"Niepoprawny\")))","v":""}]
[null,null,{"$f":"IF(Walidacja!A567=\"\",\"\",(IF(Walidacja!A567,\"Poprawny\",\"Niepoprawny\")))","v":""}]
[null,null,{"$f":"IF(Walidacja!A568=\"\",\"\",(IF(Walidacja!A568,\"Poprawny\",\"Niepoprawny\")))","v":""}]
[null,null,{"$f":"IF(Walidacja!A569=\"\",\"\",(IF(Walidacja!A569,\"Poprawny\",\"Niepoprawny\")))","v":""}]
[null,null,{"$f":"IF(Walidacja!A570=\"\",\"\",(IF(Walidacja!A570,\"Poprawny\",\"Niepoprawny\")))","v":""}]
[null,null,{"$f":"IF(Walidacja!A571=\"\",\"\",(IF(Walidacja!A571,\"Poprawny\",\"Niepoprawny\")))","v":""}]
[null,null,{"$f":"IF(Walidacja!A572=\"\",\"\",(IF(Walidacja!A572,\"Poprawny\",\"Niepoprawny\")))","v":""}]
[null,null,{"$f":"IF(Walidacja!A573=\"\",\"\",(IF(Walidacja!A573,\"Poprawny\",\"Niepoprawny\")))","v":""}]
[null,null,{"$f":"IF(Walidacja!A574=\"\",\"\",(IF(Walidacja!A574,\"Poprawny\",\"Niepoprawny\")))","v":""}]
[null,null,{"$f":"IF(Walidacja!A575=\"\",\"\",(IF(Walidacja!A575,\"Poprawny\",\"Niepoprawny\")))","v":""}]
[null,null,{"$f":"IF(Walidacja!A576=\"\",\"\",(IF(Walidacja!A576,\"Poprawny\",\"Niepoprawny\")))","v":""}]
[null,null,{"$f":"IF(Walidacja!A577=\"\",\"\",(IF(Walidacja!A577,\"Poprawny\",\"Niepoprawny\")))","v":""}]
[null,null,{"$f":"IF(Walidacja!A578=\"\",\"\",(IF(Walidacja!A578,\"Poprawny\",\"Niepoprawny\")))","v":""}]
[null,null,{"$f":"IF(Walidacja!A579=\"\",\"\",(IF(Walidacja!A579,\"Poprawny\",\"Niepoprawny\")))","v":""}]
[null,null,{"$f":"IF(Walidacja!A580=\"\",\"\",(IF(Walidacja!A580,\"Poprawny\",\"Niepoprawny\")))","v":""}]
[null,null,{"$f":"IF(Walidacja!A581=\"\",\"\",(IF(Walidacja!A581,\"Poprawny\",\"Niepoprawny\")))","v":""}]
[null,null,{"$f":"IF(Walidacja!A582=\"\",\"\",(IF(Walidacja!A582,\"Poprawny\",\"Niepoprawny\")))","v":""}]
[null,null,{"$f":"IF(Walidacja!A583=\"\",\"\",(IF(Walidacja!A583,\"Poprawny\",\"Niepoprawny\")))","v":""}]
[null,null,{"$f":"IF(Walidacja!A584=\"\",\"\",(IF(Walidacja!A584,\"Poprawny\",\"Niepoprawny\")))","v":""}]
[null,null,{"$f":"IF(Walidacja!A585=\"\",\"\",(IF(Walidacja!A585,\"Poprawny\",\"Niepoprawny\")))","v":""}]
[null,null,{"$f":"IF(Walidacja!A586=\"\",\"\",(IF(Walidacja!A586,\"Poprawny\",\"Niepoprawny\")))","v":""}]
[null,null,{"$f":"IF(Walidacja!A587=\"\",\"\",(IF(Walidacja!A587,\"Poprawny\",\"Niepoprawny\")))","v":""}]
[null,null,{"$f":"IF(Walidacja!A588=\"\",\"\",(IF(Walidacja!A588,\"Poprawny\",\"Niepoprawny\")))","v":""}]
[null,null,{"$f":"IF(Walidacja!A589=\"\",\"\",(IF(Walidacja!A589,\"Poprawny\",\"Niepoprawny\")))","v":""}]
[null,null,{"$f":"IF(Walidacja!A590=\"\",\"\",(IF(Walidacja!A590,\"Poprawny\",\"Niepoprawny\")))","v":""}]
[null,null,{"$f":"IF(Walidacja!A591=\"\",\"\",(IF(Walidacja!A591,\"Poprawny\",\"Niepoprawny\")))","v":""}]
[null,null,{"$f":"IF(Walidacja!A592=\"\",\"\",(IF(Walidacja!A592,\"Poprawny\",\"Niepoprawny\")))","v":""}]
[null,null,{"$f":"IF(Walidacja!A593=\"\",\"\",(IF(Walidacja!A593,\"Poprawny\",\"Niepoprawny\")))","v":""}]
[null,null,{"$f":"IF(Walidacja!A594=\"\",\"\",(IF(Walidacja!A594,\"Poprawny\",\"Niepoprawny\")))","v":""}]
[null,null,{"$f":"IF(Walidacja!A595=\"\",\"\",(IF(Walidacja!A595,\"Poprawny\",\"Niepoprawny\")))","v":""}]
[null,null,{"$f":"IF(Walidacja!A596=\"\",\"\",(IF(Walidacja!A596,\"Poprawny\",\"Niepoprawny\")))","v":""}]
[null,null,{"$f":"IF(Walidacja!A597=\"\",\"\",(IF(Walidacja!A597,\"Poprawny\",\"Niepoprawny\")))","v":""}]
[null,null,{"$f":"IF(Walidacja!A598=\"\",\"\",(IF(Walidacja!A598,\"Poprawny\",\"Niepoprawny\")))","v":""}]
[null,null,{"$f":"IF(Walidacja!A599=\"\",\"\",(IF(Walidacja!A599,\"Poprawny\",\"Niepoprawny\")))","v":""}]
[null,null,{"$f":"IF(Walidacja!A600=\"\",\"\",(IF(Walidacja!A600,\"Poprawny\",\"Niepoprawny\")))","v":""}]
[null,null,{"$f":"IF(Walidacja!A601=\"\",\"\",(IF(Walidacja!A601,\"Poprawny\",\"Niepoprawny\")))","v":""}]
[null,null,{"$f":"IF(Walidacja!A602=\"\",\"\",(IF(Walidacja!A602,\"Poprawny\",\"Niepoprawny\")))","v":""}]
[null,null,{"$f":"IF(Walidacja!A603=\"\",\"\",(IF(Walidacja!A603,\"Poprawny\",\"Niepoprawny\")))","v":""}]
[null,null,{"$f":"IF(Walidacja!A604=\"\",\"\",(IF(Walidacja!A604,\"Poprawny\",\"Niepoprawny\")))","v":""}]
[null,null,{"$f":"IF(Walidacja!A605=\"\",\"\",(IF(Walidacja!A605,\"Poprawny\",\"Niepoprawny\")))","v":""}]
[null,null,{"$f":"IF(Walidacja!A606=\"\",\"\",(IF(Walidacja!A606,\"Poprawny\",\"Niepoprawny\")))","v":""}]
[null,null,{"$f":"IF(Walidacja!A607=\"\",\"\",(IF(Walidacja!A607,\"Poprawny\",\"Niepoprawny\")))","v":""}]
[null,null,{"$f":"IF(Walidacja!A608=\"\",\"\",(IF(Walidacja!A608,\"Poprawny\",\"Niepoprawny\")))","v":""}]
[null,null,{"$f":"IF(Walidacja!A609=\"\",\"\",(IF(Walidacja!A609,\"Poprawny\",\"Niepoprawny\")))","v":""}]
[null,null,{"$f":"IF(Walidacja!A610=\"\",\"\",(IF(Walidacja!A610,\"Poprawny\",\"Niepoprawny\")))","v":""}]
[null,null,{"$f":"IF(Walidacja!A611=\"\",\"\",(IF(Walidacja!A611,\"Poprawny\",\"Niepoprawny\")))","v":""}]
[null,null,{"$f":"IF(Walidacja!A612=\"\",\"\",(IF(Walidacja!A612,\"Poprawny\",\"Niepoprawny\")))","v":""}]
[null,null,{"$f":"IF(Walidacja!A613=\"\",\"\",(IF(Walidacja!A613,\"Poprawny\",\"Niepoprawny\")))","v":""}]
[null,null,{"$f":"IF(Walidacja!A614=\"\",\"\",(IF(Walidacja!A614,\"Poprawny\",\"Niepoprawny\")))","v":""}]
[null,null,{"$f":"IF(Walidacja!A615=\"\",\"\",(IF(Walidacja!A615,\"Poprawny\",\"Niepoprawny\")))","v":""}]
[null,null,{"$f":"IF(Walidacja!A616=\"\",\"\",(IF(Walidacja!A616,\"Poprawny\",\"Niepoprawny\")))","v":""}]
[null,null,{"$f":"IF(Walidacja!A617=\"\",\"\",(IF(Walidacja!A617,\"Poprawny\",\"Niepoprawny\")))","v":""}]
[null,null,{"$f":"IF(Walidacja!A618=\"\",\"\",(IF(Walidacja!A618,\"Poprawny\",\"Niepoprawny\")))","v":""}]
[null,null,{"$f":"IF(Walidacja!A619=\"\",\"\",(IF(Walidacja!A619,\"Poprawny\",\"Niepoprawny\")))","v":""}]
[null,null,{"$f":"IF(Walidacja!A620=\"\",\"\",(IF(Walidacja!A620,\"Poprawny\",\"Niepoprawny\")))","v":""}]
[null,null,{"$f":"IF(Walidacja!A621=\"\",\"\",(IF(Walidacja!A621,\"Poprawny\",\"Niepoprawny\")))","v":""}]
[null,null,{"$f":"IF(Walidacja!A622=\"\",\"\",(IF(Walidacja!A622,\"Poprawny\",\"Niepoprawny\")))","v":""}]
[null,null,{"$f":"IF(Walidacja!A623=\"\",\"\",(IF(Walidacja!A623,\"Poprawny\",\"Niepoprawny\")))","v":""}]
[null,null,{"$f":"IF(Walidacja!A624=\"\",\"\",(IF(Walidacja!A624,\"Poprawny\",\"Niepoprawny\")))","v":""}]
[null,null,{"$f":"IF(Walidacja!A625=\"\",\"\",(IF(Walidacja!A625,\"Poprawny\",\"Niepoprawny\")))","v":""}]
[null,null,{"$f":"IF(Walidacja!A626=\"\",\"\",(IF(Walidacja!A626,\"Poprawny\",\"Niepoprawny\")))","v":""}]
[null,null,{"$f":"IF(Walidacja!A627=\"\",\"\",(IF(Walidacja!A627,\"Poprawny\",\"Niepoprawny\")))","v":""}]
[null,null,{"$f":"IF(Walidacja!A628=\"\",\"\",(IF(Walidacja!A628,\"Poprawny\",\"Niepoprawny\")))","v":""}]
[null,null,{"$f":"IF(Walidacja!A629=\"\",\"\",(IF(Walidacja!A629,\"Poprawny\",\"Niepoprawny\")))","v":""}]
[null,null,{"$f":"IF(Walidacja!A630=\"\",\"\",(IF(Walidacja!A630,\"Poprawny\",\"Niepoprawny\")))","v":""}]
[null,null,{"$f":"IF(Walidacja!A631=\"\",\"\",(IF(Walidacja!A631,\"Poprawny\",\"Niepoprawny\")))","v":""}]
[null,null,{"$f":"IF(Walidacja!A632=\"\",\"\",(IF(Walidacja!A632,\"Poprawny\",\"Niepoprawny\")))","v":""}]
[null,null,{"$f":"IF(Walidacja!A633=\"\",\"\",(IF(Walidacja!A633,\"Poprawny\",\"Niepoprawny\")))","v":""}]
[null,null,{"$f":"IF(Walidacja!A634=\"\",\"\",(IF(Walidacja!A634,\"Poprawny\",\"Niepoprawny\")))","v":""}]
[null,null,{"$f":"IF(Walidacja!A635=\"\",\"\",(IF(Walidacja!A635,\"Poprawny\",\"Niepoprawny\")))","v":""}]
[null,null,{"$f":"IF(Walidacja!A636=\"\",\"\",(IF(Walidacja!A636,\"Poprawny\",\"Niepoprawny\")))","v":""}]
[null,null,{"$f":"IF(Walidacja!A637=\"\",\"\",(IF(Walidacja!A637,\"Poprawny\",\"Niepoprawny\")))","v":""}]
[null,null,{"$f":"IF(Walidacja!A638=\"\",\"\",(IF(Walidacja!A638,\"Poprawny\",\"Niepoprawny\")))","v":""}]
[null,null,{"$f":"IF(Walidacja!A639=\"\",\"\",(IF(Walidacja!A639,\"Poprawny\",\"Niepoprawny\")))","v":""}]
[null,null,{"$f":"IF(Walidacja!A640=\"\",\"\",(IF(Walidacja!A640,\"Poprawny\",\"Niepoprawny\")))","v":""}]
[null,null,{"$f":"IF(Walidacja!A641=\"\",\"\",(IF(Walidacja!A641,\"Poprawny\",\"Niepoprawny\")))","v":""}]
[null,null,{"$f":"IF(Walidacja!A642=\"\",\"\",(IF(Walidacja!A642,\"Poprawny\",\"Niepoprawny\")))","v":""}]
[null,null,{"$f":"IF(Walidacja!A643=\"\",\"\",(IF(Walidacja!A643,\"Poprawny\",\"Niepoprawny\")))","v":""}]
[null,null,{"$f":"IF(Walidacja!A644=\"\",\"\",(IF(Walidacja!A644,\"Poprawny\",\"Niepoprawny\")))","v":""}]
[null,null,{"$f":"IF(Walidacja!A645=\"\",\"\",(IF(Walidacja!A645,\"Poprawny\",\"Niepoprawny\")))","v":""}]
[null,null,{"$f":"IF(Walidacja!A646=\"\",\"\",(IF(Walidacja!A646,\"Poprawny\",\"Niepoprawny\")))","v":""}]
[null,null,{"$f":"IF(Walidacja!A647=\"\",\"\",(IF(Walidacja!A647,\"Poprawny\",\"Niepoprawny\")))","v":""}]
[null,null,{"$f":"IF(Walidacja!A648=\"\",\"\",(IF(Walidacja!A648,\"Poprawny\",\"Niepoprawny\")))","v":""}]
[null,null,{"$f":"IF(Walidacja!A649=\"\",\"\",(IF(Walidacja!A649,\"Poprawny\",\"Niepoprawny\")))","v":""}]
[null,null,{"$f":"IF(Walidacja!A650=\"\",\"\",(IF(Walidacja!A650,\"Poprawny\",\"Niepoprawny\")))","v":""}]
[null,null,{"$f":"IF(Walidacja!A651=\"\",\"\",(IF(Walidacja!A651,\"Poprawny\",\"Niepoprawny\")))","v":""}]
[null,null,{"$f":"IF(Walidacja!A652=\"\",\"\",(IF(Walidacja!A652,\"Poprawny\",\"Niepoprawny\")))","v":""}]
[null,null,{"$f":"IF(Walidacja!A653=\"\",\"\",(IF(Walidacja!A653,\"Poprawny\",\"Niepoprawny\")))","v":""}]
[null,null,{"$f":"IF(Walidacja!A654=\"\",\"\",(IF(Walidacja!A654,\"Poprawny\",\"Niepoprawny\")))","v":""}]
[null,null,{"$f":"IF(Walidacja!A655=\"\",\"\",(IF(Walidacja!A655,\"Poprawny\",\"Niepoprawny\")))","v":""}]
[null,null,{"$f":"IF(Walidacja!A656=\"\",\"\",(IF(Walidacja!A656,\"Poprawny\",\"Niepoprawny\")))","v":""}]
[null,null,{"$f":"IF(Walidacja!A657=\"\",\"\",(IF(Walidacja!A657,\"Poprawny\",\"Niepoprawny\")))","v":""}]
[null,null,{"$f":"IF(Walidacja!A658=\"\",\"\",(IF(Walidacja!A658,\"Poprawny\",\"Niepoprawny\")))","v":""}]
[null,null,{"$f":"IF(Walidacja!A659=\"\",\"\",(IF(Walidacja!A659,\"Poprawny\",\"Niepoprawny\")))","v":""}]
[null,null,{"$f":"IF(Walidacja!A660=\"\",\"\",(IF(Walidacja!A660,\"Poprawny\",\"Niepoprawny\")))","v":""}]
[null,null,{"$f":"IF(Walidacja!A661=\"\",\"\",(IF(Walidacja!A661,\"Poprawny\",\"Niepoprawny\")))","v":""}]
[null,null,{"$f":"IF(Walidacja!A662=\"\",\"\",(IF(Walidacja!A662,\"Poprawny\",\"Niepoprawny\")))","v":""}]
[null,null,{"$f":"IF(Walidacja!A663=\"\",\"\",(IF(Walidacja!A663,\"Poprawny\",\"Niepoprawny\")))","v":""}]
[null,null,{"$f":"IF(Walidacja!A664=\"\",\"\",(IF(Walidacja!A664,\"Poprawny\",\"Niepoprawny\")))","v":""}]
[null,null,{"$f":"IF(Walidacja!A665=\"\",\"\",(IF(Walidacja!A665,\"Poprawny\",\"Niepoprawny\")))","v":""}]
[null,null,{"$f":"IF(Walidacja!A666=\"\",\"\",(IF(Walidacja!A666,\"Poprawny\",\"Niepoprawny\")))","v":""}]
[null,null,{"$f":"IF(Walidacja!A667=\"\",\"\",(IF(Walidacja!A667,\"Poprawny\",\"Niepoprawny\")))","v":""}]
[null,null,{"$f":"IF(Walidacja!A668=\"\",\"\",(IF(Walidacja!A668,\"Poprawny\",\"Niepoprawny\")))","v":""}]
[null,null,{"$f":"IF(Walidacja!A669=\"\",\"\",(IF(Walidacja!A669,\"Poprawny\",\"Niepoprawny\")))","v":""}]
[null,null,{"$f":"IF(Walidacja!A670=\"\",\"\",(IF(Walidacja!A670,\"Poprawny\",\"Niepoprawny\")))","v":""}]
[null,null,{"$f":"IF(Walidacja!A671=\"\",\"\",(IF(Walidacja!A671,\"Poprawny\",\"Niepoprawny\")))","v":""}]
[null,null,{"$f":"IF(Walidacja!A672=\"\",\"\",(IF(Walidacja!A672,\"Poprawny\",\"Niepoprawny\")))","v":""}]
[null,null,{"$f":"IF(Walidacja!A673=\"\",\"\",(IF(Walidacja!A673,\"Poprawny\",\"Niepoprawny\")))","v":""}]
[null,null,{"$f":"IF(Walidacja!A674=\"\",\"\",(IF(Walidacja!A674,\"Poprawny\",\"Niepoprawny\")))","v":""}]
[null,null,{"$f":"IF(Walidacja!A675=\"\",\"\",(IF(Walidacja!A675,\"Poprawny\",\"Niepoprawny\")))","v":""}]
[null,null,{"$f":"IF(Walidacja!A676=\"\",\"\",(IF(Walidacja!A676,\"Poprawny\",\"Niepoprawny\")))","v":""}]
[null,null,{"$f":"IF(Walidacja!A677=\"\",\"\",(IF(Walidacja!A677,\"Poprawny\",\"Niepoprawny\")))","v":""}]
[null,null,{"$f":"IF(Walidacja!A678=\"\",\"\",(IF(Walidacja!A678,\"Poprawny\",\"Niepoprawny\")))","v":""}]
[null,null,{"$f":"IF(Walidacja!A679=\"\",\"\",(IF(Walidacja!A679,\"Poprawny\",\"Niepoprawny\")))","v":""}]
[null,null,{"$f":"IF(Walidacja!A680=\"\",\"\",(IF(Walidacja!A680,\"Poprawny\",\"Niepoprawny\")))","v":""}]
[null,null,{"$f":"IF(Walidacja!A681=\"\",\"\",(IF(Walidacja!A681,\"Poprawny\",\"Niepoprawny\")))","v":""}]
[null,null,{"$f":"IF(Walidacja!A682=\"\",\"\",(IF(Walidacja!A682,\"Poprawny\",\"Niepoprawny\")))","v":""}]
[null,null,{"$f":"IF(Walidacja!A683=\"\",\"\",(IF(Walidacja!A683,\"Poprawny\",\"Niepoprawny\")))","v":""}]
[null,null,{"$f":"IF(Walidacja!A684=\"\",\"\",(IF(Walidacja!A684,\"Poprawny\",\"Niepoprawny\")))","v":""}]
[null,null,{"$f":"IF(Walidacja!A685=\"\",\"\",(IF(Walidacja!A685,\"Poprawny\",\"Niepoprawny\")))","v":""}]
[null,null,{"$f":"IF(Walidacja!A686=\"\",\"\",(IF(Walidacja!A686,\"Poprawny\",\"Niepoprawny\")))","v":""}]
[null,null,{"$f":"IF(Walidacja!A687=\"\",\"\",(IF(Walidacja!A687,\"Poprawny\",\"Niepoprawny\")))","v":""}]
[null,null,{"$f":"IF(Walidacja!A688=\"\",\"\",(IF(Walidacja!A688,\"Poprawny\",\"Niepoprawny\")))","v":""}]
[null,null,{"$f":"IF(Walidacja!A689=\"\",\"\",(IF(Walidacja!A689,\"Poprawny\",\"Niepoprawny\")))","v":""}]
[null,null,{"$f":"IF(Walidacja!A690=\"\",\"\",(IF(Walidacja!A690,\"Poprawny\",\"Niepoprawny\")))","v":""}]
[null,null,{"$f":"IF(Walidacja!A691=\"\",\"\",(IF(Walidacja!A691,\"Poprawny\",\"Niepoprawny\")))","v":""}]
[null,null,{"$f":"IF(Walidacja!A692=\"\",\"\",(IF(Walidacja!A692,\"Poprawny\",\"Niepoprawny\")))","v":""}]
[null,null,{"$f":"IF(Walidacja!A693=\"\",\"\",(IF(Walidacja!A693,\"Poprawny\",\"Niepoprawny\")))","v":""}]
[null,null,{"$f":"IF(Walidacja!A694=\"\",\"\",(IF(Walidacja!A694,\"Poprawny\",\"Niepoprawny\")))","v":""}]
[null,null,{"$f":"IF(Walidacja!A695=\"\",\"\",(IF(Walidacja!A695,\"Poprawny\",\"Niepoprawny\")))","v":""}]
[null,null,{"$f":"IF(Walidacja!A696=\"\",\"\",(IF(Walidacja!A696,\"Poprawny\",\"Niepoprawny\")))","v":""}]
[null,null,{"$f":"IF(Walidacja!A697=\"\",\"\",(IF(Walidacja!A697,\"Poprawny\",\"Niepoprawny\")))","v":""}]
[null,null,{"$f":"IF(Walidacja!A698=\"\",\"\",(IF(Walidacja!A698,\"Poprawny\",\"Niepoprawny\")))","v":""}]
[null,null,{"$f":"IF(Walidacja!A699=\"\",\"\",(IF(Walidacja!A699,\"Poprawny\",\"Niepoprawny\")))","v":""}]
[null,null,{"$f":"IF(Walidacja!A700=\"\",\"\",(IF(Walidacja!A700,\"Poprawny\",\"Niepoprawny\")))","v":""}]
[null,null,{"$f":"IF(Walidacja!A701=\"\",\"\",(IF(Walidacja!A701,\"Poprawny\",\"Niepoprawny\")))","v":""}]
[null,null,{"$f":"IF(Walidacja!A702=\"\",\"\",(IF(Walidacja!A702,\"Poprawny\",\"Niepoprawny\")))","v":""}]
[null,null,{"$f":"IF(Walidacja!A703=\"\",\"\",(IF(Walidacja!A703,\"Poprawny\",\"Niepoprawny\")))","v":""}]
[null,null,{"$f":"IF(Walidacja!A704=\"\",\"\",(IF(Walidacja!A704,\"Poprawny\",\"Niepoprawny\")))","v":""}]
[null,null,{"$f":"IF(Walidacja!A705=\"\",\"\",(IF(Walidacja!A705,\"Poprawny\",\"Niepoprawny\")))","v":""}]
[null,null,{"$f":"IF(Walidacja!A706=\"\",\"\",(IF(Walidacja!A706,\"Poprawny\",\"Niepoprawny\")))","v":""}]
[null,null,{"$f":"IF(Walidacja!A707=\"\",\"\",(IF(Walidacja!A707,\"Poprawny\",\"Niepoprawny\")))","v":""}]
[null,null,{"$f":"IF(Walidacja!A708=\"\",\"\",(IF(Walidacja!A708,\"Poprawny\",\"Niepoprawny\")))","v":""}]
[null,null,{"$f":"IF(Walidacja!A709=\"\",\"\",(IF(Walidacja!A709,\"Poprawny\",\"Niepoprawny\")))","v":""}]
[null,null,{"$f":"IF(Walidacja!A710=\"\",\"\",(IF(Walidacja!A710,\"Poprawny\",\"Niepoprawny\")))","v":""}]
[null,null,{"$f":"IF(Walidacja!A711=\"\",\"\",(IF(Walidacja!A711,\"Poprawny\",\"Niepoprawny\")))","v":""}]
[null,null,{"$f":"IF(Walidacja!A712=\"\",\"\",(IF(Walidacja!A712,\"Poprawny\",\"Niepoprawny\")))","v":""}]
[null,null,{"$f":"IF(Walidacja!A713=\"\",\"\",(IF(Walidacja!A713,\"Poprawny\",\"Niepoprawny\")))","v":""}]
[null,null,{"$f":"IF(Walidacja!A714=\"\",\"\",(IF(Walidacja!A714,\"Poprawny\",\"Niepoprawny\")))","v":""}]
[null,null,{"$f":"IF(Walidacja!A715=\"\",\"\",(IF(Walidacja!A715,\"Poprawny\",\"Niepoprawny\")))","v":""}]
[null,null,{"$f":"IF(Walidacja!A716=\"\",\"\",(IF(Walidacja!A716,\"Poprawny\",\"Niepoprawny\")))","v":""}]
[null,null,{"$f":"IF(Walidacja!A717=\"\",\"\",(IF(Walidacja!A717,\"Poprawny\",\"Niepoprawny\")))","v":""}]
[null,null,{"$f":"IF(Walidacja!A718=\"\",\"\",(IF(Walidacja!A718,\"Poprawny\",\"Niepoprawny\")))","v":""}]
[null,null,{"$f":"IF(Walidacja!A719=\"\",\"\",(IF(Walidacja!A719,\"Poprawny\",\"Niepoprawny\")))","v":""}]
[null,null,{"$f":"IF(Walidacja!A720=\"\",\"\",(IF(Walidacja!A720,\"Poprawny\",\"Niepoprawny\")))","v":""}]
[null,null,{"$f":"IF(Walidacja!A721=\"\",\"\",(IF(Walidacja!A721,\"Poprawny\",\"Niepoprawny\")))","v":""}]
[null,null,{"$f":"IF(Walidacja!A722=\"\",\"\",(IF(Walidacja!A722,\"Poprawny\",\"Niepoprawny\")))","v":""}]
[null,null,{"$f":"IF(Walidacja!A723=\"\",\"\",(IF(Walidacja!A723,\"Poprawny\",\"Niepoprawny\")))","v":""}]
[null,null,{"$f":"IF(Walidacja!A724=\"\",\"\",(IF(Walidacja!A724,\"Poprawny\",\"Niepoprawny\")))","v":""}]
[null,null,{"$f":"IF(Walidacja!A725=\"\",\"\",(IF(Walidacja!A725,\"Poprawny\",\"Niepoprawny\")))","v":""}]
[null,null,{"$f":"IF(Walidacja!A726=\"\",\"\",(IF(Walidacja!A726,\"Poprawny\",\"Niepoprawny\")))","v":""}]
[null,null,{"$f":"IF(Walidacja!A727=\"\",\"\",(IF(Walidacja!A727,\"Poprawny\",\"Niepoprawny\")))","v":""}]
[null,null,{"$f":"IF(Walidacja!A728=\"\",\"\",(IF(Walidacja!A728,\"Poprawny\",\"Niepoprawny\")))","v":""}]
[null,null,{"$f":"IF(Walidacja!A729=\"\",\"\",(IF(Walidacja!A729,\"Poprawny\",\"Niepoprawny\")))","v":""}]
[null,null,{"$f":"IF(Walidacja!A730=\"\",\"\",(IF(Walidacja!A730,\"Poprawny\",\"Niepoprawny\")))","v":""}]
[null,null,{"$f":"IF(Walidacja!A731=\"\",\"\",(IF(Walidacja!A731,\"Poprawny\",\"Niepoprawny\")))","v":""}]
[null,null,{"$f":"IF(Walidacja!A732=\"\",\"\",(IF(Walidacja!A732,\"Poprawny\",\"Niepoprawny\")))","v":""}]
[null,null,{"$f":"IF(Walidacja!A733=\"\",\"\",(IF(Walidacja!A733,\"Poprawny\",\"Niepoprawny\")))","v":""}]
[null,null,{"$f":"IF(Walidacja!A734=\"\",\"\",(IF(Walidacja!A734,\"Poprawny\",\"Niepoprawny\")))","v":""}]
[null,null,{"$f":"IF(Walidacja!A735=\"\",\"\",(IF(Walidacja!A735,\"Poprawny\",\"Niepoprawny\")))","v":""}]
[null,null,{"$f":"IF(Walidacja!A736=\"\",\"\",(IF(Walidacja!A736,\"Poprawny\",\"Niepoprawny\")))","v":""}]
[null,null,{"$f":"IF(Walidacja!A737=\"\",\"\",(IF(Walidacja!A737,\"Poprawny\",\"Niepoprawny\")))","v":""}]
[null,null,{"$f":"IF(Walidacja!A738=\"\",\"\",(IF(Walidacja!A738,\"Poprawny\",\"Niepoprawny\")))","v":""}]
[null,null,{"$f":"IF(Walidacja!A739=\"\",\"\",(IF(Walidacja!A739,\"Poprawny\",\"Niepoprawny\")))","v":""}]
[null,null,{"$f":"IF(Walidacja!A740=\"\",\"\",(IF(Walidacja!A740,\"Poprawny\",\"Niepoprawny\")))","v":""}]
[null,null,{"$f":"IF(Walidacja!A741=\"\",\"\",(IF(Walidacja!A741,\"Poprawny\",\"Niepoprawny\")))","v":""}]
[null,null,{"$f":"IF(Walidacja!A742=\"\",\"\",(IF(Walidacja!A742,\"Poprawny\",\"Niepoprawny\")))","v":""}]
[null,null,{"$f":"IF(Walidacja!A743=\"\",\"\",(IF(Walidacja!A743,\"Poprawny\",\"Niepoprawny\")))","v":""}]
[null,null,{"$f":"IF(Walidacja!A744=\"\",\"\",(IF(Walidacja!A744,\"Poprawny\",\"Niepoprawny\")))","v":""}]
[null,null,{"$f":"IF(Walidacja!A745=\"\",\"\",(IF(Walidacja!A745,\"Poprawny\",\"Niepoprawny\")))","v":""}]
[null,null,{"$f":"IF(Walidacja!A746=\"\",\"\",(IF(Walidacja!A746,\"Poprawny\",\"Niepoprawny\")))","v":""}]
[null,null,{"$f":"IF(Walidacja!A747=\"\",\"\",(IF(Walidacja!A747,\"Poprawny\",\"Niepoprawny\")))","v":""}]
[null,null,{"$f":"IF(Walidacja!A748=\"\",\"\",(IF(Walidacja!A748,\"Poprawny\",\"Niepoprawny\")))","v":""}]
[null,null,{"$f":"IF(Walidacja!A749=\"\",\"\",(IF(Walidacja!A749,\"Poprawny\",\"Niepoprawny\")))","v":""}]
[null,null,{"$f":"IF(Walidacja!A750=\"\",\"\",(IF(Walidacja!A750,\"Poprawny\",\"Niepoprawny\")))","v":""}]
[null,null,{"$f":"IF(Walidacja!A751=\"\",\"\",(IF(Walidacja!A751,\"Poprawny\",\"Niepoprawny\")))","v":""}]
[null,null,{"$f":"IF(Walidacja!A752=\"\",\"\",(IF(Walidacja!A752,\"Poprawny\",\"Niepoprawny\")))","v":""}]
[null,null,{"$f":"IF(Walidacja!A753=\"\",\"\",(IF(Walidacja!A753,\"Poprawny\",\"Niepoprawny\")))","v":""}]
[null,null,{"$f":"IF(Walidacja!A754=\"\",\"\",(IF(Walidacja!A754,\"Poprawny\",\"Niepoprawny\")))","v":""}]
[null,null,{"$f":"IF(Walidacja!A755=\"\",\"\",(IF(Walidacja!A755,\"Poprawny\",\"Niepoprawny\")))","v":""}]
[null,null,{"$f":"IF(Walidacja!A756=\"\",\"\",(IF(Walidacja!A756,\"Poprawny\",\"Niepoprawny\")))","v":""}]
[null,null,{"$f":"IF(Walidacja!A757=\"\",\"\",(IF(Walidacja!A757,\"Poprawny\",\"Niepoprawny\")))","v":""}]
[null,null,{"$f":"IF(Walidacja!A758=\"\",\"\",(IF(Walidacja!A758,\"Poprawny\",\"Niepoprawny\")))","v":""}]
[null,null,{"$f":"IF(Walidacja!A759=\"\",\"\",(IF(Walidacja!A759,\"Poprawny\",\"Niepoprawny\")))","v":""}]
[null,null,{"$f":"IF(Walidacja!A760=\"\",\"\",(IF(Walidacja!A760,\"Poprawny\",\"Niepoprawny\")))","v":""}]
[null,null,{"$f":"IF(Walidacja!A761=\"\",\"\",(IF(Walidacja!A761,\"Poprawny\",\"Niepoprawny\")))","v":""}]
[null,null,{"$f":"IF(Walidacja!A762=\"\",\"\",(IF(Walidacja!A762,\"Poprawny\",\"Niepoprawny\")))","v":""}]
[null,null,{"$f":"IF(Walidacja!A763=\"\",\"\",(IF(Walidacja!A763,\"Poprawny\",\"Niepoprawny\")))","v":""}]
[null,null,{"$f":"IF(Walidacja!A764=\"\",\"\",(IF(Walidacja!A764,\"Poprawny\",\"Niepoprawny\")))","v":""}]
[null,null,{"$f":"IF(Walidacja!A765=\"\",\"\",(IF(Walidacja!A765,\"Poprawny\",\"Niepoprawny\")))","v":""}]
[null,null,{"$f":"IF(Walidacja!A766=\"\",\"\",(IF(Walidacja!A766,\"Poprawny\",\"Niepoprawny\")))","v":""}]
[null,null,{"$f":"IF(Walidacja!A767=\"\",\"\",(IF(Walidacja!A767,\"Poprawny\",\"Niepoprawny\")))","v":""}]
[null,null,{"$f":"IF(Walidacja!A768=\"\",\"\",(IF(Walidacja!A768,\"Poprawny\",\"Niepoprawny\")))","v":""}]
[null,null,{"$f":"IF(Walidacja!A769=\"\",\"\",(IF(Walidacja!A769,\"Poprawny\",\"Niepoprawny\")))","v":""}]
[null,null,{"$f":"IF(Walidacja!A770=\"\",\"\",(IF(Walidacja!A770,\"Poprawny\",\"Niepoprawny\")))","v":""}]
[null,null,{"$f":"IF(Walidacja!A771=\"\",\"\",(IF(Walidacja!A771,\"Poprawny\",\"Niepoprawny\")))","v":""}]
[null,null,{"$f":"IF(Walidacja!A772=\"\",\"\",(IF(Walidacja!A772,\"Poprawny\",\"Niepoprawny\")))","v":""}]
[null,null,{"$f":"IF(Walidacja!A773=\"\",\"\",(IF(Walidacja!A773,\"Poprawny\",\"Niepoprawny\")))","v":""}]
[null,null,{"$f":"IF(Walidacja!A774=\"\",\"\",(IF(Walidacja!A774,\"Poprawny\",\"Niepoprawny\")))","v":""}]
[null,null,{"$f":"IF(Walidacja!A775=\"\",\"\",(IF(Walidacja!A775,\"Poprawny\",\"Niepoprawny\")))","v":""}]
[null,null,{"$f":"IF(Walidacja!A776=\"\",\"\",(IF(Walidacja!A776,\"Poprawny\",\"Niepoprawny\")))","v":""}]
[null,null,{"$f":"IF(Walidacja!A777=\"\",\"\",(IF(Walidacja!A777,\"Poprawny\",\"Niepoprawny\")))","v":""}]
[null,null,{"$f":"IF(Walidacja!A778=\"\",\"\",(IF(Walidacja!A778,\"Poprawny\",\"Niepoprawny\")))","v":""}]
[null,null,{"$f":"IF(Walidacja!A779=\"\",\"\",(IF(Walidacja!A779,\"Poprawny\",\"Niepoprawny\")))","v":""}]
[null,null,{"$f":"IF(Walidacja!A780=\"\",\"\",(IF(Walidacja!A780,\"Poprawny\",\"Niepoprawny\")))","v":""}]
[null,null,{"$f":"IF(Walidacja!A781=\"\",\"\",(IF(Walidacja!A781,\"Poprawny\",\"Niepoprawny\")))","v":""}]
[null,null,{"$f":"IF(Walidacja!A782=\"\",\"\",(IF(Walidacja!A782,\"Poprawny\",\"Niepoprawny\")))","v":""}]
[null,null,{"$f":"IF(Walidacja!A783=\"\",\"\",(IF(Walidacja!A783,\"Poprawny\",\"Niepoprawny\")))","v":""}]
[null,null,{"$f":"IF(Walidacja!A784=\"\",\"\",(IF(Walidacja!A784,\"Poprawny\",\"Niepoprawny\")))","v":""}]
[null,null,{"$f":"IF(Walidacja!A785=\"\",\"\",(IF(Walidacja!A785,\"Poprawny\",\"Niepoprawny\")))","v":""}]
[null,null,{"$f":"IF(Walidacja!A786=\"\",\"\",(IF(Walidacja!A786,\"Poprawny\",\"Niepoprawny\")))","v":""}]
[null,null,{"$f":"IF(Walidacja!A787=\"\",\"\",(IF(Walidacja!A787,\"Poprawny\",\"Niepoprawny\")))","v":""}]
[null,null,{"$f":"IF(Walidacja!A788=\"\",\"\",(IF(Walidacja!A788,\"Poprawny\",\"Niepoprawny\")))","v":""}]
[null,null,{"$f":"IF(Walidacja!A789=\"\",\"\",(IF(Walidacja!A789,\"Poprawny\",\"Niepoprawny\")))","v":""}]
[null,null,{"$f":"IF(Walidacja!A790=\"\",\"\",(IF(Walidacja!A790,\"Poprawny\",\"Niepoprawny\")))","v":""}]
[null,null,{"$f":"IF(Walidacja!A791=\"\",\"\",(IF(Walidacja!A791,\"Poprawny\",\"Niepoprawny\")))","v":""}]
[null,null,{"$f":"IF(Walidacja!A792=\"\",\"\",(IF(Walidacja!A792,\"Poprawny\",\"Niepoprawny\")))","v":""}]
[null,null,{"$f":"IF(Walidacja!A793=\"\",\"\",(IF(Walidacja!A793,\"Poprawny\",\"Niepoprawny\")))","v":""}]
[null,null,{"$f":"IF(Walidacja!A794=\"\",\"\",(IF(Walidacja!A794,\"Poprawny\",\"Niepoprawny\")))","v":""}]
[null,null,{"$f":"IF(Walidacja!A795=\"\",\"\",(IF(Walidacja!A795,\"Poprawny\",\"Niepoprawny\")))","v":""}]
[null,null,{"$f":"IF(Walidacja!A796=\"\",\"\",(IF(Walidacja!A796,\"Poprawny\",\"Niepoprawny\")))","v":""}]
[null,null,{"$f":"IF(Walidacja!A797=\"\",\"\",(IF(Walidacja!A797,\"Poprawny\",\"Niepoprawny\")))","v":""}]
[null,null,{"$f":"IF(Walidacja!A798=\"\",\"\",(IF(Walidacja!A798,\"Poprawny\",\"Niepoprawny\")))","v":""}]
[null,null,{"$f":"IF(Walidacja!A799=\"\",\"\",(IF(Walidacja!A799,\"Poprawny\",\"Niepoprawny\")))","v":""}]
[null,null,{"$f":"IF(Walidacja!A800=\"\",\"\",(IF(Walidacja!A800,\"Poprawny\",\"Niepoprawny\")))","v":""}]
[null,null,{"$f":"IF(Walidacja!A801=\"\",\"\",(IF(Walidacja!A801,\"Poprawny\",\"Niepoprawny\")))","v":""}]
[null,null,{"$f":"IF(Walidacja!A802=\"\",\"\",(IF(Walidacja!A802,\"Poprawny\",\"Niepoprawny\")))","v":""}]
[null,null,{"$f":"IF(Walidacja!A803=\"\",\"\",(IF(Walidacja!A803,\"Poprawny\",\"Niepoprawny\")))","v":""}]
[null,null,{"$f":"IF(Walidacja!A804=\"\",\"\",(IF(Walidacja!A804,\"Poprawny\",\"Niepoprawny\")))","v":""}]
[null,null,{"$f":"IF(Walidacja!A805=\"\",\"\",(IF(Walidacja!A805,\"Poprawny\",\"Niepoprawny\")))","v":""}]
[null,null,{"$f":"IF(Walidacja!A806=\"\",\"\",(IF(Walidacja!A806,\"Poprawny\",\"Niepoprawny\")))","v":""}]
[null,null,{"$f":"IF(Walidacja!A807=\"\",\"\",(IF(Walidacja!A807,\"Poprawny\",\"Niepoprawny\")))","v":""}]
[null,null,{"$f":"IF(Walidacja!A808=\"\",\"\",(IF(Walidacja!A808,\"Poprawny\",\"Niepoprawny\")))","v":""}]
[null,null,{"$f":"IF(Walidacja!A809=\"\",\"\",(IF(Walidacja!A809,\"Poprawny\",\"Niepoprawny\")))","v":""}]
[null,null,{"$f":"IF(Walidacja!A810=\"\",\"\",(IF(Walidacja!A810,\"Poprawny\",\"Niepoprawny\")))","v":""}]
[null,null,{"$f":"IF(Walidacja!A811=\"\",\"\",(IF(Walidacja!A811,\"Poprawny\",\"Niepoprawny\")))","v":""}]
[null,null,{"$f":"IF(Walidacja!A812=\"\",\"\",(IF(Walidacja!A812,\"Poprawny\",\"Niepoprawny\")))","v":""}]
[null,null,{"$f":"IF(Walidacja!A813=\"\",\"\",(IF(Walidacja!A813,\"Poprawny\",\"Niepoprawny\")))","v":""}]
[null,null,{"$f":"IF(Walidacja!A814=\"\",\"\",(IF(Walidacja!A814,\"Poprawny\",\"Niepoprawny\")))","v":""}]
[null,null,{"$f":"IF(Walidacja!A815=\"\",\"\",(IF(Walidacja!A815,\"Poprawny\",\"Niepoprawny\")))","v":""}]
[null,null,{"$f":"IF(Walidacja!A816=\"\",\"\",(IF(Walidacja!A816,\"Poprawny\",\"Niepoprawny\")))","v":""}]
[null,null,{"$f":"IF(Walidacja!A817=\"\",\"\",(IF(Walidacja!A817,\"Poprawny\",\"Niepoprawny\")))","v":""}]
[null,null,{"$f":"IF(Walidacja!A818=\"\",\"\",(IF(Walidacja!A818,\"Poprawny\",\"Niepoprawny\")))","v":""}]
[null,null,{"$f":"IF(Walidacja!A819=\"\",\"\",(IF(Walidacja!A819,\"Poprawny\",\"Niepoprawny\")))","v":""}]
[null,null,{"$f":"IF(Walidacja!A820=\"\",\"\",(IF(Walidacja!A820,\"Poprawny\",\"Niepoprawny\")))","v":""}]
[null,null,{"$f":"IF(Walidacja!A821=\"\",\"\",(IF(Walidacja!A821,\"Poprawny\",\"Niepoprawny\")))","v":""}]
[null,null,{"$f":"IF(Walidacja!A822=\"\",\"\",(IF(Walidacja!A822,\"Poprawny\",\"Niepoprawny\")))","v":""}]
[null,null,{"$f":"IF(Walidacja!A823=\"\",\"\",(IF(Walidacja!A823,\"Poprawny\",\"Niepoprawny\")))","v":""}]
[null,null,{"$f":"IF(Walidacja!A824=\"\",\"\",(IF(Walidacja!A824,\"Poprawny\",\"Niepoprawny\")))","v":""}]
[null,null,{"$f":"IF(Walidacja!A825=\"\",\"\",(IF(Walidacja!A825,\"Poprawny\",\"Niepoprawny\")))","v":""}]
[null,null,{"$f":"IF(Walidacja!A826=\"\",\"\",(IF(Walidacja!A826,\"Poprawny\",\"Niepoprawny\")))","v":""}]
[null,null,{"$f":"IF(Walidacja!A827=\"\",\"\",(IF(Walidacja!A827,\"Poprawny\",\"Niepoprawny\")))","v":""}]
[null,null,{"$f":"IF(Walidacja!A828=\"\",\"\",(IF(Walidacja!A828,\"Poprawny\",\"Niepoprawny\")))","v":""}]
[null,null,{"$f":"IF(Walidacja!A829=\"\",\"\",(IF(Walidacja!A829,\"Poprawny\",\"Niepoprawny\")))","v":""}]
[null,null,{"$f":"IF(Walidacja!A830=\"\",\"\",(IF(Walidacja!A830,\"Poprawny\",\"Niepoprawny\")))","v":""}]
[null,null,{"$f":"IF(Walidacja!A831=\"\",\"\",(IF(Walidacja!A831,\"Poprawny\",\"Niepoprawny\")))","v":""}]
[null,null,{"$f":"IF(Walidacja!A832=\"\",\"\",(IF(Walidacja!A832,\"Poprawny\",\"Niepoprawny\")))","v":""}]
[null,null,{"$f":"IF(Walidacja!A833=\"\",\"\",(IF(Walidacja!A833,\"Poprawny\",\"Niepoprawny\")))","v":""}]
[null,null,{"$f":"IF(Walidacja!A834=\"\",\"\",(IF(Walidacja!A834,\"Poprawny\",\"Niepoprawny\")))","v":""}]
[null,null,{"$f":"IF(Walidacja!A835=\"\",\"\",(IF(Walidacja!A835,\"Poprawny\",\"Niepoprawny\")))","v":""}]
[null,null,{"$f":"IF(Walidacja!A836=\"\",\"\",(IF(Walidacja!A836,\"Poprawny\",\"Niepoprawny\")))","v":""}]
[null,null,{"$f":"IF(Walidacja!A837=\"\",\"\",(IF(Walidacja!A837,\"Poprawny\",\"Niepoprawny\")))","v":""}]
[null,null,{"$f":"IF(Walidacja!A838=\"\",\"\",(IF(Walidacja!A838,\"Poprawny\",\"Niepoprawny\")))","v":""}]
[null,null,{"$f":"IF(Walidacja!A839=\"\",\"\",(IF(Walidacja!A839,\"Poprawny\",\"Niepoprawny\")))","v":""}]
[null,null,{"$f":"IF(Walidacja!A840=\"\",\"\",(IF(Walidacja!A840,\"Poprawny\",\"Niepoprawny\")))","v":""}]
[null,null,{"$f":"IF(Walidacja!A841=\"\",\"\",(IF(Walidacja!A841,\"Poprawny\",\"Niepoprawny\")))","v":""}]
[null,null,{"$f":"IF(Walidacja!A842=\"\",\"\",(IF(Walidacja!A842,\"Poprawny\",\"Niepoprawny\")))","v":""}]
[null,null,{"$f":"IF(Walidacja!A843=\"\",\"\",(IF(Walidacja!A843,\"Poprawny\",\"Niepoprawny\")))","v":""}]
[null,null,{"$f":"IF(Walidacja!A844=\"\",\"\",(IF(Walidacja!A844,\"Poprawny\",\"Niepoprawny\")))","v":""}]
[null,null,{"$f":"IF(Walidacja!A845=\"\",\"\",(IF(Walidacja!A845,\"Poprawny\",\"Niepoprawny\")))","v":""}]
[null,null,{"$f":"IF(Walidacja!A846=\"\",\"\",(IF(Walidacja!A846,\"Poprawny\",\"Niepoprawny\")))","v":""}]
[null,null,{"$f":"IF(Walidacja!A847=\"\",\"\",(IF(Walidacja!A847,\"Poprawny\",\"Niepoprawny\")))","v":""}]
[null,null,{"$f":"IF(Walidacja!A848=\"\",\"\",(IF(Walidacja!A848,\"Poprawny\",\"Niepoprawny\")))","v":""}]
[null,null,{"$f":"IF(Walidacja!A849=\"\",\"\",(IF(Walidacja!A849,\"Poprawny\",\"Niepoprawny\")))","v":""}]
[null,null,{"$f":"IF(Walidacja!A850=\"\",\"\",(IF(Walidacja!A850,\"Poprawny\",\"Niepoprawny\")))","v":""}]
[null,null,{"$f":"IF(Walidacja!A851=\"\",\"\",(IF(Walidacja!A851,\"Poprawny\",\"Niepoprawny\")))","v":""}]
[null,null,{"$f":"IF(Walidacja!A852=\"\",\"\",(IF(Walidacja!A852,\"Poprawny\",\"Niepoprawny\")))","v":""}]
[null,null,{"$f":"IF(Walidacja!A853=\"\",\"\",(IF(Walidacja!A853,\"Poprawny\",\"Niepoprawny\")))","v":""}]
[null,null,{"$f":"IF(Walidacja!A854=\"\",\"\",(IF(Walidacja!A854,\"Poprawny\",\"Niepoprawny\")))","v":""}]
[null,null,{"$f":"IF(Walidacja!A855=\"\",\"\",(IF(Walidacja!A855,\"Poprawny\",\"Niepoprawny\")))","v":""}]
[null,null,{"$f":"IF(Walidacja!A856=\"\",\"\",(IF(Walidacja!A856,\"Poprawny\",\"Niepoprawny\")))","v":""}]
[null,null,{"$f":"IF(Walidacja!A857=\"\",\"\",(IF(Walidacja!A857,\"Poprawny\",\"Niepoprawny\")))","v":""}]
[null,null,{"$f":"IF(Walidacja!A858=\"\",\"\",(IF(Walidacja!A858,\"Poprawny\",\"Niepoprawny\")))","v":""}]
[null,null,{"$f":"IF(Walidacja!A859=\"\",\"\",(IF(Walidacja!A859,\"Poprawny\",\"Niepoprawny\")))","v":""}]
[null,null,{"$f":"IF(Walidacja!A860=\"\",\"\",(IF(Walidacja!A860,\"Poprawny\",\"Niepoprawny\")))","v":""}]
[null,null,{"$f":"IF(Walidacja!A861=\"\",\"\",(IF(Walidacja!A861,\"Poprawny\",\"Niepoprawny\")))","v":""}]
[null,null,{"$f":"IF(Walidacja!A862=\"\",\"\",(IF(Walidacja!A862,\"Poprawny\",\"Niepoprawny\")))","v":""}]
[null,null,{"$f":"IF(Walidacja!A863=\"\",\"\",(IF(Walidacja!A863,\"Poprawny\",\"Niepoprawny\")))","v":""}]
[null,null,{"$f":"IF(Walidacja!A864=\"\",\"\",(IF(Walidacja!A864,\"Poprawny\",\"Niepoprawny\")))","v":""}]
[null,null,{"$f":"IF(Walidacja!A865=\"\",\"\",(IF(Walidacja!A865,\"Poprawny\",\"Niepoprawny\")))","v":""}]
[null,null,{"$f":"IF(Walidacja!A866=\"\",\"\",(IF(Walidacja!A866,\"Poprawny\",\"Niepoprawny\")))","v":""}]
[null,null,{"$f":"IF(Walidacja!A867=\"\",\"\",(IF(Walidacja!A867,\"Poprawny\",\"Niepoprawny\")))","v":""}]
[null,null,{"$f":"IF(Walidacja!A868=\"\",\"\",(IF(Walidacja!A868,\"Poprawny\",\"Niepoprawny\")))","v":""}]
[null,null,{"$f":"IF(Walidacja!A869=\"\",\"\",(IF(Walidacja!A869,\"Poprawny\",\"Niepoprawny\")))","v":""}]
[null,null,{"$f":"IF(Walidacja!A870=\"\",\"\",(IF(Walidacja!A870,\"Poprawny\",\"Niepoprawny\")))","v":""}]
[null,null,{"$f":"IF(Walidacja!A871=\"\",\"\",(IF(Walidacja!A871,\"Poprawny\",\"Niepoprawny\")))","v":""}]
[null,null,{"$f":"IF(Walidacja!A872=\"\",\"\",(IF(Walidacja!A872,\"Poprawny\",\"Niepoprawny\")))","v":""}]
[null,null,{"$f":"IF(Walidacja!A873=\"\",\"\",(IF(Walidacja!A873,\"Poprawny\",\"Niepoprawny\")))","v":""}]
[null,null,{"$f":"IF(Walidacja!A874=\"\",\"\",(IF(Walidacja!A874,\"Poprawny\",\"Niepoprawny\")))","v":""}]
[null,null,{"$f":"IF(Walidacja!A875=\"\",\"\",(IF(Walidacja!A875,\"Poprawny\",\"Niepoprawny\")))","v":""}]
[null,null,{"$f":"IF(Walidacja!A876=\"\",\"\",(IF(Walidacja!A876,\"Poprawny\",\"Niepoprawny\")))","v":""}]
[null,null,{"$f":"IF(Walidacja!A877=\"\",\"\",(IF(Walidacja!A877,\"Poprawny\",\"Niepoprawny\")))","v":""}]
[null,null,{"$f":"IF(Walidacja!A878=\"\",\"\",(IF(Walidacja!A878,\"Poprawny\",\"Niepoprawny\")))","v":""}]
[null,null,{"$f":"IF(Walidacja!A879=\"\",\"\",(IF(Walidacja!A879,\"Poprawny\",\"Niepoprawny\")))","v":""}]
[null,null,{"$f":"IF(Walidacja!A880=\"\",\"\",(IF(Walidacja!A880,\"Poprawny\",\"Niepoprawny\")))","v":""}]
[null,null,{"$f":"IF(Walidacja!A881=\"\",\"\",(IF(Walidacja!A881,\"Poprawny\",\"Niepoprawny\")))","v":""}]
[null,null,{"$f":"IF(Walidacja!A882=\"\",\"\",(IF(Walidacja!A882,\"Poprawny\",\"Niepoprawny\")))","v":""}]
[null,null,{"$f":"IF(Walidacja!A883=\"\",\"\",(IF(Walidacja!A883,\"Poprawny\",\"Niepoprawny\")))","v":""}]
[null,null,{"$f":"IF(Walidacja!A884=\"\",\"\",(IF(Walidacja!A884,\"Poprawny\",\"Niepoprawny\")))","v":""}]
[null,null,{"$f":"IF(Walidacja!A885=\"\",\"\",(IF(Walidacja!A885,\"Poprawny\",\"Niepoprawny\")))","v":""}]
[null,null,{"$f":"IF(Walidacja!A886=\"\",\"\",(IF(Walidacja!A886,\"Poprawny\",\"Niepoprawny\")))","v":""}]
[null,null,{"$f":"IF(Walidacja!A887=\"\",\"\",(IF(Walidacja!A887,\"Poprawny\",\"Niepoprawny\")))","v":""}]
[null,null,{"$f":"IF(Walidacja!A888=\"\",\"\",(IF(Walidacja!A888,\"Poprawny\",\"Niepoprawny\")))","v":""}]
[null,null,{"$f":"IF(Walidacja!A889=\"\",\"\",(IF(Walidacja!A889,\"Poprawny\",\"Niepoprawny\")))","v":""}]
[null,null,{"$f":"IF(Walidacja!A890=\"\",\"\",(IF(Walidacja!A890,\"Poprawny\",\"Niepoprawny\")))","v":""}]
[null,null,{"$f":"IF(Walidacja!A891=\"\",\"\",(IF(Walidacja!A891,\"Poprawny\",\"Niepoprawny\")))","v":""}]
[null,null,{"$f":"IF(Walidacja!A892=\"\",\"\",(IF(Walidacja!A892,\"Poprawny\",\"Niepoprawny\")))","v":""}]
[null,null,{"$f":"IF(Walidacja!A893=\"\",\"\",(IF(Walidacja!A893,\"Poprawny\",\"Niepoprawny\")))","v":""}]
[null,null,{"$f":"IF(Walidacja!A894=\"\",\"\",(IF(Walidacja!A894,\"Poprawny\",\"Niepoprawny\")))","v":""}]
[null,null,{"$f":"IF(Walidacja!A895=\"\",\"\",(IF(Walidacja!A895,\"Poprawny\",\"Niepoprawny\")))","v":""}]
[null,null,{"$f":"IF(Walidacja!A896=\"\",\"\",(IF(Walidacja!A896,\"Poprawny\",\"Niepoprawny\")))","v":""}]
[null,null,{"$f":"IF(Walidacja!A897=\"\",\"\",(IF(Walidacja!A897,\"Poprawny\",\"Niepoprawny\")))","v":""}]
[null,null,{"$f":"IF(Walidacja!A898=\"\",\"\",(IF(Walidacja!A898,\"Poprawny\",\"Niepoprawny\")))","v":""}]
[null,null,{"$f":"IF(Walidacja!A899=\"\",\"\",(IF(Walidacja!A899,\"Poprawny\",\"Niepoprawny\")))","v":""}]
[null,null,{"$f":"IF(Walidacja!A900=\"\",\"\",(IF(Walidacja!A900,\"Poprawny\",\"Niepoprawny\")))","v":""}]
[null,null,{"$f":"IF(Walidacja!A901=\"\",\"\",(IF(Walidacja!A901,\"Poprawny\",\"Niepoprawny\")))","v":""}]
[null,null,{"$f":"IF(Walidacja!A902=\"\",\"\",(IF(Walidacja!A902,\"Poprawny\",\"Niepoprawny\")))","v":""}]
[null,null,{"$f":"IF(Walidacja!A903=\"\",\"\",(IF(Walidacja!A903,\"Poprawny\",\"Niepoprawny\")))","v":""}]
[null,null,{"$f":"IF(Walidacja!A904=\"\",\"\",(IF(Walidacja!A904,\"Poprawny\",\"Niepoprawny\")))","v":""}]
[null,null,{"$f":"IF(Walidacja!A905=\"\",\"\",(IF(Walidacja!A905,\"Poprawny\",\"Niepoprawny\")))","v":""}]
[null,null,{"$f":"IF(Walidacja!A906=\"\",\"\",(IF(Walidacja!A906,\"Poprawny\",\"Niepoprawny\")))","v":""}]
[null,null,{"$f":"IF(Walidacja!A907=\"\",\"\",(IF(Walidacja!A907,\"Poprawny\",\"Niepoprawny\")))","v":""}]
[null,null,{"$f":"IF(Walidacja!A908=\"\",\"\",(IF(Walidacja!A908,\"Poprawny\",\"Niepoprawny\")))","v":""}]
[null,null,{"$f":"IF(Walidacja!A909=\"\",\"\",(IF(Walidacja!A909,\"Poprawny\",\"Niepoprawny\")))","v":""}]
[null,null,{"$f":"IF(Walidacja!A910=\"\",\"\",(IF(Walidacja!A910,\"Poprawny\",\"Niepoprawny\")))","v":""}]
[null,null,{"$f":"IF(Walidacja!A911=\"\",\"\",(IF(Walidacja!A911,\"Poprawny\",\"Niepoprawny\")))","v":""}]
[null,null,{"$f":"IF(Walidacja!A912=\"\",\"\",(IF(Walidacja!A912,\"Poprawny\",\"Niepoprawny\")))","v":""}]
[null,null,{"$f":"IF(Walidacja!A913=\"\",\"\",(IF(Walidacja!A913,\"Poprawny\",\"Niepoprawny\")))","v":""}]
[null,null,{"$f":"IF(Walidacja!A914=\"\",\"\",(IF(Walidacja!A914,\"Poprawny\",\"Niepoprawny\")))","v":""}]
[null,null,{"$f":"IF(Walidacja!A915=\"\",\"\",(IF(Walidacja!A915,\"Poprawny\",\"Niepoprawny\")))","v":""}]
[null,null,{"$f":"IF(Walidacja!A916=\"\",\"\",(IF(Walidacja!A916,\"Poprawny\",\"Niepoprawny\")))","v":""}]
[null,null,{"$f":"IF(Walidacja!A917=\"\",\"\",(IF(Walidacja!A917,\"Poprawny\",\"Niepoprawny\")))","v":""}]
[null,null,{"$f":"IF(Walidacja!A918=\"\",\"\",(IF(Walidacja!A918,\"Poprawny\",\"Niepoprawny\")))","v":""}]
[null,null,{"$f":"IF(Walidacja!A919=\"\",\"\",(IF(Walidacja!A919,\"Poprawny\",\"Niepoprawny\")))","v":""}]
[null,null,{"$f":"IF(Walidacja!A920=\"\",\"\",(IF(Walidacja!A920,\"Poprawny\",\"Niepoprawny\")))","v":""}]
[null,null,{"$f":"IF(Walidacja!A921=\"\",\"\",(IF(Walidacja!A921,\"Poprawny\",\"Niepoprawny\")))","v":""}]
[null,null,{"$f":"IF(Walidacja!A922=\"\",\"\",(IF(Walidacja!A922,\"Poprawny\",\"Niepoprawny\")))","v":""}]
[null,null,{"$f":"IF(Walidacja!A923=\"\",\"\",(IF(Walidacja!A923,\"Poprawny\",\"Niepoprawny\")))","v":""}]
[null,null,{"$f":"IF(Walidacja!A924=\"\",\"\",(IF(Walidacja!A924,\"Poprawny\",\"Niepoprawny\")))","v":""}]
[null,null,{"$f":"IF(Walidacja!A925=\"\",\"\",(IF(Walidacja!A925,\"Poprawny\",\"Niepoprawny\")))","v":""}]
[null,null,{"$f":"IF(Walidacja!A926=\"\",\"\",(IF(Walidacja!A926,\"Poprawny\",\"Niepoprawny\")))","v":""}]
[null,null,{"$f":"IF(Walidacja!A927=\"\",\"\",(IF(Walidacja!A927,\"Poprawny\",\"Niepoprawny\")))","v":""}]
[null,null,{"$f":"IF(Walidacja!A928=\"\",\"\",(IF(Walidacja!A928,\"Poprawny\",\"Niepoprawny\")))","v":""}]
[null,null,{"$f":"IF(Walidacja!A929=\"\",\"\",(IF(Walidacja!A929,\"Poprawny\",\"Niepoprawny\")))","v":""}]
[null,null,{"$f":"IF(Walidacja!A930=\"\",\"\",(IF(Walidacja!A930,\"Poprawny\",\"Niepoprawny\")))","v":""}]
[null,null,{"$f":"IF(Walidacja!A931=\"\",\"\",(IF(Walidacja!A931,\"Poprawny\",\"Niepoprawny\")))","v":""}]
[null,null,{"$f":"IF(Walidacja!A932=\"\",\"\",(IF(Walidacja!A932,\"Poprawny\",\"Niepoprawny\")))","v":""}]
[null,null,{"$f":"IF(Walidacja!A933=\"\",\"\",(IF(Walidacja!A933,\"Poprawny\",\"Niepoprawny\")))","v":""}]
[null,null,{"$f":"IF(Walidacja!A934=\"\",\"\",(IF(Walidacja!A934,\"Poprawny\",\"Niepoprawny\")))","v":""}]
[null,null,{"$f":"IF(Walidacja!A935=\"\",\"\",(IF(Walidacja!A935,\"Poprawny\",\"Niepoprawny\")))","v":""}]
[null,null,{"$f":"IF(Walidacja!A936=\"\",\"\",(IF(Walidacja!A936,\"Poprawny\",\"Niepoprawny\")))","v":""}]
[null,null,{"$f":"IF(Walidacja!A937=\"\",\"\",(IF(Walidacja!A937,\"Poprawny\",\"Niepoprawny\")))","v":""}]
[null,null,{"$f":"IF(Walidacja!A938=\"\",\"\",(IF(Walidacja!A938,\"Poprawny\",\"Niepoprawny\")))","v":""}]
[null,null,{"$f":"IF(Walidacja!A939=\"\",\"\",(IF(Walidacja!A939,\"Poprawny\",\"Niepoprawny\")))","v":""}]
[null,null,{"$f":"IF(Walidacja!A940=\"\",\"\",(IF(Walidacja!A940,\"Poprawny\",\"Niepoprawny\")))","v":""}]
[null,null,{"$f":"IF(Walidacja!A941=\"\",\"\",(IF(Walidacja!A941,\"Poprawny\",\"Niepoprawny\")))","v":""}]
[null,null,{"$f":"IF(Walidacja!A942=\"\",\"\",(IF(Walidacja!A942,\"Poprawny\",\"Niepoprawny\")))","v":""}]
[null,null,{"$f":"IF(Walidacja!A943=\"\",\"\",(IF(Walidacja!A943,\"Poprawny\",\"Niepoprawny\")))","v":""}]
[null,null,{"$f":"IF(Walidacja!A944=\"\",\"\",(IF(Walidacja!A944,\"Poprawny\",\"Niepoprawny\")))","v":""}]
[null,null,{"$f":"IF(Walidacja!A945=\"\",\"\",(IF(Walidacja!A945,\"Poprawny\",\"Niepoprawny\")))","v":""}]
[null,null,{"$f":"IF(Walidacja!A946=\"\",\"\",(IF(Walidacja!A946,\"Poprawny\",\"Niepoprawny\")))","v":""}]
[null,null,{"$f":"IF(Walidacja!A947=\"\",\"\",(IF(Walidacja!A947,\"Poprawny\",\"Niepoprawny\")))","v":""}]
[null,null,{"$f":"IF(Walidacja!A948=\"\",\"\",(IF(Walidacja!A948,\"Poprawny\",\"Niepoprawny\")))","v":""}]
[null,null,{"$f":"IF(Walidacja!A949=\"\",\"\",(IF(Walidacja!A949,\"Poprawny\",\"Niepoprawny\")))","v":""}]
[null,null,{"$f":"IF(Walidacja!A950=\"\",\"\",(IF(Walidacja!A950,\"Poprawny\",\"Niepoprawny\")))","v":""}]
[null,null,{"$f":"IF(Walidacja!A951=\"\",\"\",(IF(Walidacja!A951,\"Poprawny\",\"Niepoprawny\")))","v":""}]
[null,null,{"$f":"IF(Walidacja!A952=\"\",\"\",(IF(Walidacja!A952,\"Poprawny\",\"Niepoprawny\")))","v":""}]
[null,null,{"$f":"IF(Walidacja!A953=\"\",\"\",(IF(Walidacja!A953,\"Poprawny\",\"Niepoprawny\")))","v":""}]
[null,null,{"$f":"IF(Walidacja!A954=\"\",\"\",(IF(Walidacja!A954,\"Poprawny\",\"Niepoprawny\")))","v":""}]
[null,null,{"$f":"IF(Walidacja!A955=\"\",\"\",(IF(Walidacja!A955,\"Poprawny\",\"Niepoprawny\")))","v":""}]
[null,null,{"$f":"IF(Walidacja!A956=\"\",\"\",(IF(Walidacja!A956,\"Poprawny\",\"Niepoprawny\")))","v":""}]
[null,null,{"$f":"IF(Walidacja!A957=\"\",\"\",(IF(Walidacja!A957,\"Poprawny\",\"Niepoprawny\")))","v":""}]
[null,null,{"$f":"IF(Walidacja!A958=\"\",\"\",(IF(Walidacja!A958,\"Poprawny\",\"Niepoprawny\")))","v":""}]
[null,null,{"$f":"IF(Walidacja!A959=\"\",\"\",(IF(Walidacja!A959,\"Poprawny\",\"Niepoprawny\")))","v":""}]
[null,null,{"$f":"IF(Walidacja!A960=\"\",\"\",(IF(Walidacja!A960,\"Poprawny\",\"Niepoprawny\")))","v":""}]
[null,null,{"$f":"IF(Walidacja!A961=\"\",\"\",(IF(Walidacja!A961,\"Poprawny\",\"Niepoprawny\")))","v":""}]
[null,null,{"$f":"IF(Walidacja!A962=\"\",\"\",(IF(Walidacja!A962,\"Poprawny\",\"Niepoprawny\")))","v":""}]
[null,null,{"$f":"IF(Walidacja!A963=\"\",\"\",(IF(Walidacja!A963,\"Poprawny\",\"Niepoprawny\")))","v":""}]
[null,null,{"$f":"IF(Walidacja!A964=\"\",\"\",(IF(Walidacja!A964,\"Poprawny\",\"Niepoprawny\")))","v":""}]
[null,null,{"$f":"IF(Walidacja!A965=\"\",\"\",(IF(Walidacja!A965,\"Poprawny\",\"Niepoprawny\")))","v":""}]
[null,null,{"$f":"IF(Walidacja!A966=\"\",\"\",(IF(Walidacja!A966,\"Poprawny\",\"Niepoprawny\")))","v":""}]
[null,null,{"$f":"IF(Walidacja!A967=\"\",\"\",(IF(Walidacja!A967,\"Poprawny\",\"Niepoprawny\")))","v":""}]
[null,null,{"$f":"IF(Walidacja!A968=\"\",\"\",(IF(Walidacja!A968,\"Poprawny\",\"Niepoprawny\")))","v":""}]
[null,null,{"$f":"IF(Walidacja!A969=\"\",\"\",(IF(Walidacja!A969,\"Poprawny\",\"Niepoprawny\")))","v":""}]
[null,null,{"$f":"IF(Walidacja!A970=\"\",\"\",(IF(Walidacja!A970,\"Poprawny\",\"Niepoprawny\")))","v":""}]
[null,null,{"$f":"IF(Walidacja!A971=\"\",\"\",(IF(Walidacja!A971,\"Poprawny\",\"Niepoprawny\")))","v":""}]
[null,null,{"$f":"IF(Walidacja!A972=\"\",\"\",(IF(Walidacja!A972,\"Poprawny\",\"Niepoprawny\")))","v":""}]
[null,null,{"$f":"IF(Walidacja!A973=\"\",\"\",(IF(Walidacja!A973,\"Poprawny\",\"Niepoprawny\")))","v":""}]
[null,null,{"$f":"IF(Walidacja!A974=\"\",\"\",(IF(Walidacja!A974,\"Poprawny\",\"Niepoprawny\")))","v":""}]
[null,null,{"$f":"IF(Walidacja!A975=\"\",\"\",(IF(Walidacja!A975,\"Poprawny\",\"Niepoprawny\")))","v":""}]
[null,null,{"$f":"IF(Walidacja!A976=\"\",\"\",(IF(Walidacja!A976,\"Poprawny\",\"Niepoprawny\")))","v":""}]
[null,null,{"$f":"IF(Walidacja!A977=\"\",\"\",(IF(Walidacja!A977,\"Poprawny\",\"Niepoprawny\")))","v":""}]
[null,null,{"$f":"IF(Walidacja!A978=\"\",\"\",(IF(Walidacja!A978,\"Poprawny\",\"Niepoprawny\")))","v":""}]
[null,null,{"$f":"IF(Walidacja!A979=\"\",\"\",(IF(Walidacja!A979,\"Poprawny\",\"Niepoprawny\")))","v":""}]
[null,null,{"$f":"IF(Walidacja!A980=\"\",\"\",(IF(Walidacja!A980,\"Poprawny\",\"Niepoprawny\")))","v":""}]
[null,null,{"$f":"IF(Walidacja!A981=\"\",\"\",(IF(Walidacja!A981,\"Poprawny\",\"Niepoprawny\")))","v":""}]
[null,null,{"$f":"IF(Walidacja!A982=\"\",\"\",(IF(Walidacja!A982,\"Poprawny\",\"Niepoprawny\")))","v":""}]
[null,null,{"$f":"IF(Walidacja!A983=\"\",\"\",(IF(Walidacja!A983,\"Poprawny\",\"Niepoprawny\")))","v":""}]
[null,null,{"$f":"IF(Walidacja!A984=\"\",\"\",(IF(Walidacja!A984,\"Poprawny\",\"Niepoprawny\")))","v":""}]
[null,null,{"$f":"IF(Walidacja!A985=\"\",\"\",(IF(Walidacja!A985,\"Poprawny\",\"Niepoprawny\")))","v":""}]
[null,null,{"$f":"IF(Walidacja!A986=\"\",\"\",(IF(Walidacja!A986,\"Poprawny\",\"Niepoprawny\")))","v":""}]
[null,null,{"$f":"IF(Walidacja!A987=\"\",\"\",(IF(Walidacja!A987,\"Poprawny\",\"Niepoprawny\")))","v":""}]
[null,null,{"$f":"IF(Walidacja!A988=\"\",\"\",(IF(Walidacja!A988,\"Poprawny\",\"Niepoprawny\")))","v":""}]
[null,null,{"$f":"IF(Walidacja!A989=\"\",\"\",(IF(Walidacja!A989,\"Poprawny\",\"Niepoprawny\")))","v":""}]
[null,null,{"$f":"IF(Walidacja!A990=\"\",\"\",(IF(Walidacja!A990,\"Poprawny\",\"Niepoprawny\")))","v":""}]
[null,null,{"$f":"IF(Walidacja!A991=\"\",\"\",(IF(Walidacja!A991,\"Poprawny\",\"Niepoprawny\")))","v":""}]
[null,null,{"$f":"IF(Walidacja!A992=\"\",\"\",(IF(Walidacja!A992,\"Poprawny\",\"Niepoprawny\")))","v":""}]
[null,null,{"$f":"IF(Walidacja!A993=\"\",\"\",(IF(Walidacja!A993,\"Poprawny\",\"Niepoprawny\")))","v":""}]
[null,null,{"$f":"IF(Walidacja!A994=\"\",\"\",(IF(Walidacja!A994,\"Poprawny\",\"Niepoprawny\")))","v":""}]
[null,null,{"$f":"IF(Walidacja!A995=\"\",\"\",(IF(Walidacja!A995,\"Poprawny\",\"Niepoprawny\")))","v":""}]
[null,null,{"$f":"IF(Walidacja!A996=\"\",\"\",(IF(Walidacja!A996,\"Poprawny\",\"Niepoprawny\")))","v":""}]
[null,null,{"$f":"IF(Walidacja!A997=\"\",\"\",(IF(Walidacja!A997,\"Poprawny\",\"Niepoprawny\")))","v":""}]
[null,null,{"$f":"IF(Walidacja!A998=\"\",\"\",(IF(Walidacja!A998,\"Poprawny\",\"Niepoprawny\")))","v":""}]
[null,null,{"$f":"IF(Walidacja!A999=\"\",\"\",(IF(Walidacja!A999,\"Poprawny\",\"Niepoprawny\")))","v":""}]
[null,null,{"$f":"IF(Walidacja!A1000=\"\",\"\",(IF(Walidacja!A1000,\"Poprawny\",\"Niepoprawny\")))","v":""}]
[null,null,{"$f":"IF(Walidacja!A1001=\"\",\"\",(IF(Walidacja!A1001,\"Poprawny\",\"Niepoprawny\")))","v":""}]
[null,null,{"$f":"IF(Walidacja!A1002=\"\",\"\",(IF(Walidacja!A1002,\"Poprawny\",\"Niepoprawny\")))","v":""}]
[null,null,{"$f":"IF(Walidacja!A1003=\"\",\"\",(IF(Walidacja!A1003,\"Poprawny\",\"Niepoprawny\")))","v":""}]
[null,null,{"$f":"IF(Walidacja!A1004=\"\",\"\",(IF(Walidacja!A1004,\"Poprawny\",\"Niepoprawny\")))","v":""}]
[null,null,{"$f":"IF(Walidacja!A1005=\"\",\"\",(IF(Walidacja!A1005,\"Poprawny\",\"Niepoprawny\")))","v":""}]
[null,null,{"$f":"IF(Walidacja!A1006=\"\",\"\",(IF(Walidacja!A1006,\"Poprawny\",\"Niepoprawny\")))","v":""}]
[null,null,{"$f":"IF(Walidacja!A1007=\"\",\"\",(IF(Walidacja!A1007,\"Poprawny\",\"Niepoprawny\")))","v":""}]
[null,null,{"$f":"IF(Walidacja!A1008=\"\",\"\",(IF(Walidacja!A1008,\"Poprawny\",\"Niepoprawny\")))","v":""}]
[null,null,{"$f":"IF(Walidacja!A1009=\"\",\"\",(IF(Walidacja!A1009,\"Poprawny\",\"Niepoprawny\")))","v":""}]
[null,null,{"$f":"IF(Walidacja!A1010=\"\",\"\",(IF(Walidacja!A1010,\"Poprawny\",\"Niepoprawny\")))","v":""}]
[null,null,{"$f":"IF(Walidacja!A1011=\"\",\"\",(IF(Walidacja!A1011,\"Poprawny\",\"Niepoprawny\")))","v":""}]
[null,null,{"$f":"IF(Walidacja!A1012=\"\",\"\",(IF(Walidacja!A1012,\"Poprawny\",\"Niepoprawny\")))","v":""}]
[null,null,{"$f":"IF(Walidacja!A1013=\"\",\"\",(IF(Walidacja!A1013,\"Poprawny\",\"Niepoprawny\")))","v":""}]
[null,null,{"$f":"IF(Walidacja!A1014=\"\",\"\",(IF(Walidacja!A1014,\"Poprawny\",\"Niepoprawny\")))","v":""}]
[null,null,{"$f":"IF(Walidacja!A1015=\"\",\"\",(IF(Walidacja!A1015,\"Poprawny\",\"Niepoprawny\")))","v":""}]
[null,null,{"$f":"IF(Walidacja!A1016=\"\",\"\",(IF(Walidacja!A1016,\"Poprawny\",\"Niepoprawny\")))","v":""}]
[null,null,{"$f":"IF(Walidacja!A1017=\"\",\"\",(IF(Walidacja!A1017,\"Poprawny\",\"Niepoprawny\")))","v":""}]
[null,null,{"$f":"IF(Walidacja!A1018=\"\",\"\",(IF(Walidacja!A1018,\"Poprawny\",\"Niepoprawny\")))","v":""}]
[null,null,{"$f":"IF(Walidacja!A1019=\"\",\"\",(IF(Walidacja!A1019,\"Poprawny\",\"Niepoprawny\")))","v":""}]
[null,null,{"$f":"IF(Walidacja!A1020=\"\",\"\",(IF(Walidacja!A1020,\"Poprawny\",\"Niepoprawny\")))","v":""}]
[null,null,{"$f":"IF(Walidacja!A1021=\"\",\"\",(IF(Walidacja!A1021,\"Poprawny\",\"Niepoprawny\")))","v":""}]
[null,null,{"$f":"IF(Walidacja!A1022=\"\",\"\",(IF(Walidacja!A1022,\"Poprawny\",\"Niepoprawny\")))","v":""}]
[null,null,{"$f":"IF(Walidacja!A1023=\"\",\"\",(IF(Walidacja!A1023,\"Poprawny\",\"Niepoprawny\")))","v":""}]
[null,null,{"$f":"IF(Walidacja!A1024=\"\",\"\",(IF(Walidacja!A1024,\"Poprawny\",\"Niepoprawny\")))","v":""}]
[null,null,{"$f":"IF(Walidacja!A1025=\"\",\"\",(IF(Walidacja!A1025,\"Poprawny\",\"Niepoprawny\")))","v":""}]
[null,null,{"$f":"IF(Walidacja!A1026=\"\",\"\",(IF(Walidacja!A1026,\"Poprawny\",\"Niepoprawny\")))","v":""}]
[null,null,{"$f":"IF(Walidacja!A1027=\"\",\"\",(IF(Walidacja!A1027,\"Poprawny\",\"Niepoprawny\")))","v":""}]
[null,null,{"$f":"IF(Walidacja!A1028=\"\",\"\",(IF(Walidacja!A1028,\"Poprawny\",\"Niepoprawny\")))","v":""}]
[null,null,{"$f":"IF(Walidacja!A1029=\"\",\"\",(IF(Walidacja!A1029,\"Poprawny\",\"Niepoprawny\")))","v":""}]
[null,null,{"$f":"IF(Walidacja!A1030=\"\",\"\",(IF(Walidacja!A1030,\"Poprawny\",\"Niepoprawny\")))","v":""}]
[null,null,{"$f":"IF(Walidacja!A1031=\"\",\"\",(IF(Walidacja!A1031,\"Poprawny\",\"Niepoprawny\")))","v":""}]
[null,null,{"$f":"IF(Walidacja!A1032=\"\",\"\",(IF(Walidacja!A1032,\"Poprawny\",\"Niepoprawny\")))","v":""}]
[null,null,{"$f":"IF(Walidacja!A1033=\"\",\"\",(IF(Walidacja!A1033,\"Poprawny\",\"Niepoprawny\")))","v":""}]
[null,null,{"$f":"IF(Walidacja!A1034=\"\",\"\",(IF(Walidacja!A1034,\"Poprawny\",\"Niepoprawny\")))","v":""}]
[null,null,{"$f":"IF(Walidacja!A1035=\"\",\"\",(IF(Walidacja!A1035,\"Poprawny\",\"Niepoprawny\")))","v":""}]
[null,null,{"$f":"IF(Walidacja!A1036=\"\",\"\",(IF(Walidacja!A1036,\"Poprawny\",\"Niepoprawny\")))","v":""}]
[null,null,{"$f":"IF(Walidacja!A1037=\"\",\"\",(IF(Walidacja!A1037,\"Poprawny\",\"Niepoprawny\")))","v":""}]
[null,null,{"$f":"IF(Walidacja!A1038=\"\",\"\",(IF(Walidacja!A1038,\"Poprawny\",\"Niepoprawny\")))","v":""}]
[null,null,{"$f":"IF(Walidacja!A1039=\"\",\"\",(IF(Walidacja!A1039,\"Poprawny\",\"Niepoprawny\")))","v":""}]
[null,null,{"$f":"IF(Walidacja!A1040=\"\",\"\",(IF(Walidacja!A1040,\"Poprawny\",\"Niepoprawny\")))","v":""}]
[null,null,{"$f":"IF(Walidacja!A1041=\"\",\"\",(IF(Walidacja!A1041,\"Poprawny\",\"Niepoprawny\")))","v":""}]
[null,null,{"$f":"IF(Walidacja!A1042=\"\",\"\",(IF(Walidacja!A1042,\"Poprawny\",\"Niepoprawny\")))","v":""}]
[null,null,{"$f":"IF(Walidacja!A1043=\"\",\"\",(IF(Walidacja!A1043,\"Poprawny\",\"Niepoprawny\")))","v":""}]
[null,null,{"$f":"IF(Walidacja!A1044=\"\",\"\",(IF(Walidacja!A1044,\"Poprawny\",\"Niepoprawny\")))","v":""}]
[null,null,{"$f":"IF(Walidacja!A1045=\"\",\"\",(IF(Walidacja!A1045,\"Poprawny\",\"Niepoprawny\")))","v":""}]
[null,null,{"$f":"IF(Walidacja!A1046=\"\",\"\",(IF(Walidacja!A1046,\"Poprawny\",\"Niepoprawny\")))","v":""}]
[null,null,{"$f":"IF(Walidacja!A1047=\"\",\"\",(IF(Walidacja!A1047,\"Poprawny\",\"Niepoprawny\")))","v":""}]
[null,null,{"$f":"IF(Walidacja!A1048=\"\",\"\",(IF(Walidacja!A1048,\"Poprawny\",\"Niepoprawny\")))","v":""}]
[null,null,{"$f":"IF(Walidacja!A1049=\"\",\"\",(IF(Walidacja!A1049,\"Poprawny\",\"Niepoprawny\")))","v":""}]
[null,null,{"$f":"IF(Walidacja!A1050=\"\",\"\",(IF(Walidacja!A1050,\"Poprawny\",\"Niepoprawny\")))","v":""}]
[null,null,{"$f":"IF(Walidacja!A1051=\"\",\"\",(IF(Walidacja!A1051,\"Poprawny\",\"Niepoprawny\")))","v":""}]
[null,null,{"$f":"IF(Walidacja!A1052=\"\",\"\",(IF(Walidacja!A1052,\"Poprawny\",\"Niepoprawny\")))","v":""}]
[null,null,{"$f":"IF(Walidacja!A1053=\"\",\"\",(IF(Walidacja!A1053,\"Poprawny\",\"Niepoprawny\")))","v":""}]
[null,null,{"$f":"IF(Walidacja!A1054=\"\",\"\",(IF(Walidacja!A1054,\"Poprawny\",\"Niepoprawny\")))","v":""}]
[null,null,{"$f":"IF(Walidacja!A1055=\"\",\"\",(IF(Walidacja!A1055,\"Poprawny\",\"Niepoprawny\")))","v":""}]
[null,null,{"$f":"IF(Walidacja!A1056=\"\",\"\",(IF(Walidacja!A1056,\"Poprawny\",\"Niepoprawny\")))","v":""}]
[null,null,{"$f":"IF(Walidacja!A1057=\"\",\"\",(IF(Walidacja!A1057,\"Poprawny\",\"Niepoprawny\")))","v":""}]
[null,null,{"$f":"IF(Walidacja!A1058=\"\",\"\",(IF(Walidacja!A1058,\"Poprawny\",\"Niepoprawny\")))","v":""}]
[null,null,{"$f":"IF(Walidacja!A1059=\"\",\"\",(IF(Walidacja!A1059,\"Poprawny\",\"Niepoprawny\")))","v":""}]
[null,null,{"$f":"IF(Walidacja!A1060=\"\",\"\",(IF(Walidacja!A1060,\"Poprawny\",\"Niepoprawny\")))","v":""}]
[null,null,{"$f":"IF(Walidacja!A1061=\"\",\"\",(IF(Walidacja!A1061,\"Poprawny\",\"Niepoprawny\")))","v":""}]
[null,null,{"$f":"IF(Walidacja!A1062=\"\",\"\",(IF(Walidacja!A1062,\"Poprawny\",\"Niepoprawny\")))","v":""}]
[null,null,{"$f":"IF(Walidacja!A1063=\"\",\"\",(IF(Walidacja!A1063,\"Poprawny\",\"Niepoprawny\")))","v":""}]
[null,null,{"$f":"IF(Walidacja!A1064=\"\",\"\",(IF(Walidacja!A1064,\"Poprawny\",\"Niepoprawny\")))","v":""}]
[null,null,{"$f":"IF(Walidacja!A1065=\"\",\"\",(IF(Walidacja!A1065,\"Poprawny\",\"Niepoprawny\")))","v":""}]
[null,null,{"$f":"IF(Walidacja!A1066=\"\",\"\",(IF(Walidacja!A1066,\"Poprawny\",\"Niepoprawny\")))","v":""}]
[null,null,{"$f":"IF(Walidacja!A1067=\"\",\"\",(IF(Walidacja!A1067,\"Poprawny\",\"Niepoprawny\")))","v":""}]
[null,null,{"$f":"IF(Walidacja!A1068=\"\",\"\",(IF(Walidacja!A1068,\"Poprawny\",\"Niepoprawny\")))","v":""}]
[null,null,{"$f":"IF(Walidacja!A1069=\"\",\"\",(IF(Walidacja!A1069,\"Poprawny\",\"Niepoprawny\")))","v":""}]
[null,null,{"$f":"IF(Walidacja!A1070=\"\",\"\",(IF(Walidacja!A1070,\"Poprawny\",\"Niepoprawny\")))","v":""}]
[null,null,{"$f":"IF(Walidacja!A1071=\"\",\"\",(IF(Walidacja!A1071,\"Poprawny\",\"Niepoprawny\")))","v":""}]
[null,null,{"$f":"IF(Walidacja!A1072=\"\",\"\",(IF(Walidacja!A1072,\"Poprawny\",\"Niepoprawny\")))","v":""}]
[null,null,{"$f":"IF(Walidacja!A1073=\"\",\"\",(IF(Walidacja!A1073,\"Poprawny\",\"Niepoprawny\")))","v":""}]
[null,null,{"$f":"IF(Walidacja!A1074=\"\",\"\",(IF(Walidacja!A1074,\"Poprawny\",\"Niepoprawny\")))","v":""}]
[null,null,{"$f":"IF(Walidacja!A1075=\"\",\"\",(IF(Walidacja!A1075,\"Poprawny\",\"Niepoprawny\")))","v":""}]
[null,null,{"$f":"IF(Walidacja!A1076=\"\",\"\",(IF(Walidacja!A1076,\"Poprawny\",\"Niepoprawny\")))","v":""}]
[null,null,{"$f":"IF(Walidacja!A1077=\"\",\"\",(IF(Walidacja!A1077,\"Poprawny\",\"Niepoprawny\")))","v":""}]
[null,null,{"$f":"IF(Walidacja!A1078=\"\",\"\",(IF(Walidacja!A1078,\"Poprawny\",\"Niepoprawny\")))","v":""}]
[null,null,{"$f":"IF(Walidacja!A1079=\"\",\"\",(IF(Walidacja!A1079,\"Poprawny\",\"Niepoprawny\")))","v":""}]
[null,null,{"$f":"IF(Walidacja!A1080=\"\",\"\",(IF(Walidacja!A1080,\"Poprawny\",\"Niepoprawny\")))","v":""}]
[null,null,{"$f":"IF(Walidacja!A1081=\"\",\"\",(IF(Walidacja!A1081,\"Poprawny\",\"Niepoprawny\")))","v":""}]
[null,null,{"$f":"IF(Walidacja!A1082=\"\",\"\",(IF(Walidacja!A1082,\"Poprawny\",\"Niepoprawny\")))","v":""}]
[null,null,{"$f":"IF(Walidacja!A1083=\"\",\"\",(IF(Walidacja!A1083,\"Poprawny\",\"Niepoprawny\")))","v":""}]
[null,null,{"$f":"IF(Walidacja!A1084=\"\",\"\",(IF(Walidacja!A1084,\"Poprawny\",\"Niepoprawny\")))","v":""}]
[null,null,{"$f":"IF(Walidacja!A1085=\"\",\"\",(IF(Walidacja!A1085,\"Poprawny\",\"Niepoprawny\")))","v":""}]
[null,null,{"$f":"IF(Walidacja!A1086=\"\",\"\",(IF(Walidacja!A1086,\"Poprawny\",\"Niepoprawny\")))","v":""}]
[null,null,{"$f":"IF(Walidacja!A1087=\"\",\"\",(IF(Walidacja!A1087,\"Poprawny\",\"Niepoprawny\")))","v":""}]
[null,null,{"$f":"IF(Walidacja!A1088=\"\",\"\",(IF(Walidacja!A1088,\"Poprawny\",\"Niepoprawny\")))","v":""}]
[null,null,{"$f":"IF(Walidacja!A1089=\"\",\"\",(IF(Walidacja!A1089,\"Poprawny\",\"Niepoprawny\")))","v":""}]
[null,null,{"$f":"IF(Walidacja!A1090=\"\",\"\",(IF(Walidacja!A1090,\"Poprawny\",\"Niepoprawny\")))","v":""}]
[null,null,{"$f":"IF(Walidacja!A1091=\"\",\"\",(IF(Walidacja!A1091,\"Poprawny\",\"Niepoprawny\")))","v":""}]
[null,null,{"$f":"IF(Walidacja!A1092=\"\",\"\",(IF(Walidacja!A1092,\"Poprawny\",\"Niepoprawny\")))","v":""}]
[null,null,{"$f":"IF(Walidacja!A1093=\"\",\"\",(IF(Walidacja!A1093,\"Poprawny\",\"Niepoprawny\")))","v":""}]
[null,null,{"$f":"IF(Walidacja!A1094=\"\",\"\",(IF(Walidacja!A1094,\"Poprawny\",\"Niepoprawny\")))","v":""}]
[null,null,{"$f":"IF(Walidacja!A1095=\"\",\"\",(IF(Walidacja!A1095,\"Poprawny\",\"Niepoprawny\")))","v":""}]
[null,null,{"$f":"IF(Walidacja!A1096=\"\",\"\",(IF(Walidacja!A1096,\"Poprawny\",\"Niepoprawny\")))","v":""}]
[null,null,{"$f":"IF(Walidacja!A1097=\"\",\"\",(IF(Walidacja!A1097,\"Poprawny\",\"Niepoprawny\")))","v":""}]
[null,null,{"$f":"IF(Walidacja!A1098=\"\",\"\",(IF(Walidacja!A1098,\"Poprawny\",\"Niepoprawny\")))","v":""}]
[null,null,{"$f":"IF(Walidacja!A1099=\"\",\"\",(IF(Walidacja!A1099,\"Poprawny\",\"Niepoprawny\")))","v":""}]
[null,null,{"$f":"IF(Walidacja!A1100=\"\",\"\",(IF(Walidacja!A1100,\"Poprawny\",\"Niepoprawny\")))","v":""}]
[null,null,{"$f":"IF(Walidacja!A1101=\"\",\"\",(IF(Walidacja!A1101,\"Poprawny\",\"Niepoprawny\")))","v":""}]
[null,null,{"$f":"IF(Walidacja!A1102=\"\",\"\",(IF(Walidacja!A1102,\"Poprawny\",\"Niepoprawny\")))","v":""}]
[null,null,{"$f":"IF(Walidacja!A1103=\"\",\"\",(IF(Walidacja!A1103,\"Poprawny\",\"Niepoprawny\")))","v":""}]
[null,null,{"$f":"IF(Walidacja!A1104=\"\",\"\",(IF(Walidacja!A1104,\"Poprawny\",\"Niepoprawny\")))","v":""}]
[null,null,{"$f":"IF(Walidacja!A1105=\"\",\"\",(IF(Walidacja!A1105,\"Poprawny\",\"Niepoprawny\")))","v":""}]
[null,null,{"$f":"IF(Walidacja!A1106=\"\",\"\",(IF(Walidacja!A1106,\"Poprawny\",\"Niepoprawny\")))","v":""}]
[null,null,{"$f":"IF(Walidacja!A1107=\"\",\"\",(IF(Walidacja!A1107,\"Poprawny\",\"Niepoprawny\")))","v":""}]
[null,null,{"$f":"IF(Walidacja!A1108=\"\",\"\",(IF(Walidacja!A1108,\"Poprawny\",\"Niepoprawny\")))","v":""}]
[null,null,{"$f":"IF(Walidacja!A1109=\"\",\"\",(IF(Walidacja!A1109,\"Poprawny\",\"Niepoprawny\")))","v":""}]
[null,null,{"$f":"IF(Walidacja!A1110=\"\",\"\",(IF(Walidacja!A1110,\"Poprawny\",\"Niepoprawny\")))","v":""}]
[null,null,{"$f":"IF(Walidacja!A1111=\"\",\"\",(IF(Walidacja!A1111,\"Poprawny\",\"Niepoprawny\")))","v":""}]
[null,null,{"$f":"IF(Walidacja!A1112=\"\",\"\",(IF(Walidacja!A1112,\"Poprawny\",\"Niepoprawny\")))","v":""}]
[null,null,{"$f":"IF(Walidacja!A1113=\"\",\"\",(IF(Walidacja!A1113,\"Poprawny\",\"Niepoprawny\")))","v":""}]
[null,null,{"$f":"IF(Walidacja!A1114=\"\",\"\",(IF(Walidacja!A1114,\"Poprawny\",\"Niepoprawny\")))","v":""}]
[null,null,{"$f":"IF(Walidacja!A1115=\"\",\"\",(IF(Walidacja!A1115,\"Poprawny\",\"Niepoprawny\")))","v":""}]
[null,null,{"$f":"IF(Walidacja!A1116=\"\",\"\",(IF(Walidacja!A1116,\"Poprawny\",\"Niepoprawny\")))","v":""}]
[null,null,{"$f":"IF(Walidacja!A1117=\"\",\"\",(IF(Walidacja!A1117,\"Poprawny\",\"Niepoprawny\")))","v":""}]
[null,null,{"$f":"IF(Walidacja!A1118=\"\",\"\",(IF(Walidacja!A1118,\"Poprawny\",\"Niepoprawny\")))","v":""}]
[null,null,{"$f":"IF(Walidacja!A1119=\"\",\"\",(IF(Walidacja!A1119,\"Poprawny\",\"Niepoprawny\")))","v":""}]
[null,null,{"$f":"IF(Walidacja!A1120=\"\",\"\",(IF(Walidacja!A1120,\"Poprawny\",\"Niepoprawny\")))","v":""}]
[null,null,{"$f":"IF(Walidacja!A1121=\"\",\"\",(IF(Walidacja!A1121,\"Poprawny\",\"Niepoprawny\")))","v":""}]
[null,null,{"$f":"IF(Walidacja!A1122=\"\",\"\",(IF(Walidacja!A1122,\"Poprawny\",\"Niepoprawny\")))","v":""}]
[null,null,{"$f":"IF(Walidacja!A1123=\"\",\"\",(IF(Walidacja!A1123,\"Poprawny\",\"Niepoprawny\")))","v":""}]
[null,null,{"$f":"IF(Walidacja!A1124=\"\",\"\",(IF(Walidacja!A1124,\"Poprawny\",\"Niepoprawny\")))","v":""}]
[null,null,{"$f":"IF(Walidacja!A1125=\"\",\"\",(IF(Walidacja!A1125,\"Poprawny\",\"Niepoprawny\")))","v":""}]
[null,null,{"$f":"IF(Walidacja!A1126=\"\",\"\",(IF(Walidacja!A1126,\"Poprawny\",\"Niepoprawny\")))","v":""}]
[null,null,{"$f":"IF(Walidacja!A1127=\"\",\"\",(IF(Walidacja!A1127,\"Poprawny\",\"Niepoprawny\")))","v":""}]
[null,null,{"$f":"IF(Walidacja!A1128=\"\",\"\",(IF(Walidacja!A1128,\"Poprawny\",\"Niepoprawny\")))","v":""}]
[null,null,{"$f":"IF(Walidacja!A1129=\"\",\"\",(IF(Walidacja!A1129,\"Poprawny\",\"Niepoprawny\")))","v":""}]
[null,null,{"$f":"IF(Walidacja!A1130=\"\",\"\",(IF(Walidacja!A1130,\"Poprawny\",\"Niepoprawny\")))","v":""}]
[null,null,{"$f":"IF(Walidacja!A1131=\"\",\"\",(IF(Walidacja!A1131,\"Poprawny\",\"Niepoprawny\")))","v":""}]
[null,null,{"$f":"IF(Walidacja!A1132=\"\",\"\",(IF(Walidacja!A1132,\"Poprawny\",\"Niepoprawny\")))","v":""}]
[null,null,{"$f":"IF(Walidacja!A1133=\"\",\"\",(IF(Walidacja!A1133,\"Poprawny\",\"Niepoprawny\")))","v":""}]
[null,null,{"$f":"IF(Walidacja!A1134=\"\",\"\",(IF(Walidacja!A1134,\"Poprawny\",\"Niepoprawny\")))","v":""}]
[null,null,{"$f":"IF(Walidacja!A1135=\"\",\"\",(IF(Walidacja!A1135,\"Poprawny\",\"Niepoprawny\")))","v":""}]
[null,null,{"$f":"IF(Walidacja!A1136=\"\",\"\",(IF(Walidacja!A1136,\"Poprawny\",\"Niepoprawny\")))","v":""}]
[null,null,{"$f":"IF(Walidacja!A1137=\"\",\"\",(IF(Walidacja!A1137,\"Poprawny\",\"Niepoprawny\")))","v":""}]
[null,null,{"$f":"IF(Walidacja!A1138=\"\",\"\",(IF(Walidacja!A1138,\"Poprawny\",\"Niepoprawny\")))","v":""}]
[null,null,{"$f":"IF(Walidacja!A1139=\"\",\"\",(IF(Walidacja!A1139,\"Poprawny\",\"Niepoprawny\")))","v":""}]
[null,null,{"$f":"IF(Walidacja!A1140=\"\",\"\",(IF(Walidacja!A1140,\"Poprawny\",\"Niepoprawny\")))","v":""}]
[null,null,{"$f":"IF(Walidacja!A1141=\"\",\"\",(IF(Walidacja!A1141,\"Poprawny\",\"Niepoprawny\")))","v":""}]
[null,null,{"$f":"IF(Walidacja!A1142=\"\",\"\",(IF(Walidacja!A1142,\"Poprawny\",\"Niepoprawny\")))","v":""}]
[null,null,{"$f":"IF(Walidacja!A1143=\"\",\"\",(IF(Walidacja!A1143,\"Poprawny\",\"Niepoprawny\")))","v":""}]
[null,null,{"$f":"IF(Walidacja!A1144=\"\",\"\",(IF(Walidacja!A1144,\"Poprawny\",\"Niepoprawny\")))","v":""}]
[null,null,{"$f":"IF(Walidacja!A1145=\"\",\"\",(IF(Walidacja!A1145,\"Poprawny\",\"Niepoprawny\")))","v":""}]
[null,null,{"$f":"IF(Walidacja!A1146=\"\",\"\",(IF(Walidacja!A1146,\"Poprawny\",\"Niepoprawny\")))","v":""}]
[null,null,{"$f":"IF(Walidacja!A1147=\"\",\"\",(IF(Walidacja!A1147,\"Poprawny\",\"Niepoprawny\")))","v":""}]
[null,null,{"$f":"IF(Walidacja!A1148=\"\",\"\",(IF(Walidacja!A1148,\"Poprawny\",\"Niepoprawny\")))","v":""}]
[null,null,{"$f":"IF(Walidacja!A1149=\"\",\"\",(IF(Walidacja!A1149,\"Poprawny\",\"Niepoprawny\")))","v":""}]
[null,null,{"$f":"IF(Walidacja!A1150=\"\",\"\",(IF(Walidacja!A1150,\"Poprawny\",\"Niepoprawny\")))","v":""}]
[null,null,{"$f":"IF(Walidacja!A1151=\"\",\"\",(IF(Walidacja!A1151,\"Poprawny\",\"Niepoprawny\")))","v":""}]
[null,null,{"$f":"IF(Walidacja!A1152=\"\",\"\",(IF(Walidacja!A1152,\"Poprawny\",\"Niepoprawny\")))","v":""}]
[null,null,{"$f":"IF(Walidacja!A1153=\"\",\"\",(IF(Walidacja!A1153,\"Poprawny\",\"Niepoprawny\")))","v":""}]
[null,null,{"$f":"IF(Walidacja!A1154=\"\",\"\",(IF(Walidacja!A1154,\"Poprawny\",\"Niepoprawny\")))","v":""}]
[null,null,{"$f":"IF(Walidacja!A1155=\"\",\"\",(IF(Walidacja!A1155,\"Poprawny\",\"Niepoprawny\")))","v":""}]
[null,null,{"$f":"IF(Walidacja!A1156=\"\",\"\",(IF(Walidacja!A1156,\"Poprawny\",\"Niepoprawny\")))","v":""}]
[null,null,{"$f":"IF(Walidacja!A1157=\"\",\"\",(IF(Walidacja!A1157,\"Poprawny\",\"Niepoprawny\")))","v":""}]
[null,null,{"$f":"IF(Walidacja!A1158=\"\",\"\",(IF(Walidacja!A1158,\"Poprawny\",\"Niepoprawny\")))","v":""}]
[null,null,{"$f":"IF(Walidacja!A1159=\"\",\"\",(IF(Walidacja!A1159,\"Poprawny\",\"Niepoprawny\")))","v":""}]
[null,null,{"$f":"IF(Walidacja!A1160=\"\",\"\",(IF(Walidacja!A1160,\"Poprawny\",\"Niepoprawny\")))","v":""}]
[null,null,{"$f":"IF(Walidacja!A1161=\"\",\"\",(IF(Walidacja!A1161,\"Poprawny\",\"Niepoprawny\")))","v":""}]
[null,null,{"$f":"IF(Walidacja!A1162=\"\",\"\",(IF(Walidacja!A1162,\"Poprawny\",\"Niepoprawny\")))","v":""}]
[null,null,{"$f":"IF(Walidacja!A1163=\"\",\"\",(IF(Walidacja!A1163,\"Poprawny\",\"Niepoprawny\")))","v":""}]
[null,null,{"$f":"IF(Walidacja!A1164=\"\",\"\",(IF(Walidacja!A1164,\"Poprawny\",\"Niepoprawny\")))","v":""}]
[null,null,{"$f":"IF(Walidacja!A1165=\"\",\"\",(IF(Walidacja!A1165,\"Poprawny\",\"Niepoprawny\")))","v":""}]
[null,null,{"$f":"IF(Walidacja!A1166=\"\",\"\",(IF(Walidacja!A1166,\"Poprawny\",\"Niepoprawny\")))","v":""}]
[null,null,{"$f":"IF(Walidacja!A1167=\"\",\"\",(IF(Walidacja!A1167,\"Poprawny\",\"Niepoprawny\")))","v":""}]
[null,null,{"$f":"IF(Walidacja!A1168=\"\",\"\",(IF(Walidacja!A1168,\"Poprawny\",\"Niepoprawny\")))","v":""}]
[null,null,{"$f":"IF(Walidacja!A1169=\"\",\"\",(IF(Walidacja!A1169,\"Poprawny\",\"Niepoprawny\")))","v":""}]
[null,null,{"$f":"IF(Walidacja!A1170=\"\",\"\",(IF(Walidacja!A1170,\"Poprawny\",\"Niepoprawny\")))","v":""}]
[null,null,{"$f":"IF(Walidacja!A1171=\"\",\"\",(IF(Walidacja!A1171,\"Poprawny\",\"Niepoprawny\")))","v":""}]
[null,null,{"$f":"IF(Walidacja!A1172=\"\",\"\",(IF(Walidacja!A1172,\"Poprawny\",\"Niepoprawny\")))","v":""}]
[null,null,{"$f":"IF(Walidacja!A1173=\"\",\"\",(IF(Walidacja!A1173,\"Poprawny\",\"Niepoprawny\")))","v":""}]
[null,null,{"$f":"IF(Walidacja!A1174=\"\",\"\",(IF(Walidacja!A1174,\"Poprawny\",\"Niepoprawny\")))","v":""}]
[null,null,{"$f":"IF(Walidacja!A1175=\"\",\"\",(IF(Walidacja!A1175,\"Poprawny\",\"Niepoprawny\")))","v":""}]
[null,null,{"$f":"IF(Walidacja!A1176=\"\",\"\",(IF(Walidacja!A1176,\"Poprawny\",\"Niepoprawny\")))","v":""}]
[null,null,{"$f":"IF(Walidacja!A1177=\"\",\"\",(IF(Walidacja!A1177,\"Poprawny\",\"Niepoprawny\")))","v":""}]
[null,null,{"$f":"IF(Walidacja!A1178=\"\",\"\",(IF(Walidacja!A1178,\"Poprawny\",\"Niepoprawny\")))","v":""}]
[null,null,{"$f":"IF(Walidacja!A1179=\"\",\"\",(IF(Walidacja!A1179,\"Poprawny\",\"Niepoprawny\")))","v":""}]
[null,null,{"$f":"IF(Walidacja!A1180=\"\",\"\",(IF(Walidacja!A1180,\"Poprawny\",\"Niepoprawny\")))","v":""}]
[null,null,{"$f":"IF(Walidacja!A1181=\"\",\"\",(IF(Walidacja!A1181,\"Poprawny\",\"Niepoprawny\")))","v":""}]
[null,null,{"$f":"IF(Walidacja!A1182=\"\",\"\",(IF(Walidacja!A1182,\"Poprawny\",\"Niepoprawny\")))","v":""}]
[null,null,{"$f":"IF(Walidacja!A1183=\"\",\"\",(IF(Walidacja!A1183,\"Poprawny\",\"Niepoprawny\")))","v":""}]
[null,null,{"$f":"IF(Walidacja!A1184=\"\",\"\",(IF(Walidacja!A1184,\"Poprawny\",\"Niepoprawny\")))","v":""}]
[null,null,{"$f":"IF(Walidacja!A1185=\"\",\"\",(IF(Walidacja!A1185,\"Poprawny\",\"Niepoprawny\")))","v":""}]
[null,null,{"$f":"IF(Walidacja!A1186=\"\",\"\",(IF(Walidacja!A1186,\"Poprawny\",\"Niepoprawny\")))","v":""}]
[null,null,{"$f":"IF(Walidacja!A1187=\"\",\"\",(IF(Walidacja!A1187,\"Poprawny\",\"Niepoprawny\")))","v":""}]
[null,null,{"$f":"IF(Walidacja!A1188=\"\",\"\",(IF(Walidacja!A1188,\"Poprawny\",\"Niepoprawny\")))","v":""}]
[null,null,{"$f":"IF(Walidacja!A1189=\"\",\"\",(IF(Walidacja!A1189,\"Poprawny\",\"Niepoprawny\")))","v":""}]
[null,null,{"$f":"IF(Walidacja!A1190=\"\",\"\",(IF(Walidacja!A1190,\"Poprawny\",\"Niepoprawny\")))","v":""}]
[null,null,{"$f":"IF(Walidacja!A1191=\"\",\"\",(IF(Walidacja!A1191,\"Poprawny\",\"Niepoprawny\")))","v":""}]
[null,null,{"$f":"IF(Walidacja!A1192=\"\",\"\",(IF(Walidacja!A1192,\"Poprawny\",\"Niepoprawny\")))","v":""}]
[null,null,{"$f":"IF(Walidacja!A1193=\"\",\"\",(IF(Walidacja!A1193,\"Poprawny\",\"Niepoprawny\")))","v":""}]
[null,null,{"$f":"IF(Walidacja!A1194=\"\",\"\",(IF(Walidacja!A1194,\"Poprawny\",\"Niepoprawny\")))","v":""}]
[null,null,{"$f":"IF(Walidacja!A1195=\"\",\"\",(IF(Walidacja!A1195,\"Poprawny\",\"Niepoprawny\")))","v":""}]
[null,null,{"$f":"IF(Walidacja!A1196=\"\",\"\",(IF(Walidacja!A1196,\"Poprawny\",\"Niepoprawny\")))","v":""}]
[null,null,{"$f":"IF(Walidacja!A1197=\"\",\"\",(IF(Walidacja!A1197,\"Poprawny\",\"Niepoprawny\")))","v":""}]
[null,null,{"$f":"IF(Walidacja!A1198=\"\",\"\",(IF(Walidacja!A1198,\"Poprawny\",\"Niepoprawny\")))","v":""}]
[null,null,{"$f":"IF(Walidacja!A1199=\"\",\"\",(IF(Walidacja!A1199,\"Poprawny\",\"Niepoprawny\")))","v":""}]
[null,null,{"$f":"IF(Walidacja!A1200=\"\",\"\",(IF(Walidacja!A1200,\"Poprawny\",\"Niepoprawny\")))","v":""}]
[null,null,{"$f":"IF(Walidacja!A1201=\"\",\"\",(IF(Walidacja!A1201,\"Poprawny\",\"Niepoprawny\")))","v":""}]
[null,null,{"$f":"IF(Walidacja!A1202=\"\",\"\",(IF(Walidacja!A1202,\"Poprawny\",\"Niepoprawny\")))","v":""}]
[null,null,{"$f":"IF(Walidacja!A1203=\"\",\"\",(IF(Walidacja!A1203,\"Poprawny\",\"Niepoprawny\")))","v":""}]
[null,null,{"$f":"IF(Walidacja!A1204=\"\",\"\",(IF(Walidacja!A1204,\"Poprawny\",\"Niepoprawny\")))","v":""}]
[null,null,{"$f":"IF(Walidacja!A1205=\"\",\"\",(IF(Walidacja!A1205,\"Poprawny\",\"Niepoprawny\")))","v":""}]
[null,null,{"$f":"IF(Walidacja!A1206=\"\",\"\",(IF(Walidacja!A1206,\"Poprawny\",\"Niepoprawny\")))","v":""}]
[null,null,{"$f":"IF(Walidacja!A1207=\"\",\"\",(IF(Walidacja!A1207,\"Poprawny\",\"Niepoprawny\")))","v":""}]
[null,null,{"$f":"IF(Walidacja!A1208=\"\",\"\",(IF(Walidacja!A1208,\"Poprawny\",\"Niepoprawny\")))","v":""}]
[null,null,{"$f":"IF(Walidacja!A1209=\"\",\"\",(IF(Walidacja!A1209,\"Poprawny\",\"Niepoprawny\")))","v":""}]
[null,null,{"$f":"IF(Walidacja!A1210=\"\",\"\",(IF(Walidacja!A1210,\"Poprawny\",\"Niepoprawny\")))","v":""}]
[null,null,{"$f":"IF(Walidacja!A1211=\"\",\"\",(IF(Walidacja!A1211,\"Poprawny\",\"Niepoprawny\")))","v":""}]
[null,null,{"$f":"IF(Walidacja!A1212=\"\",\"\",(IF(Walidacja!A1212,\"Poprawny\",\"Niepoprawny\")))","v":""}]
[null,null,{"$f":"IF(Walidacja!A1213=\"\",\"\",(IF(Walidacja!A1213,\"Poprawny\",\"Niepoprawny\")))","v":""}]
[null,null,{"$f":"IF(Walidacja!A1214=\"\",\"\",(IF(Walidacja!A1214,\"Poprawny\",\"Niepoprawny\")))","v":""}]
[null,null,{"$f":"IF(Walidacja!A1215=\"\",\"\",(IF(Walidacja!A1215,\"Poprawny\",\"Niepoprawny\")))","v":""}]
[null,null,{"$f":"IF(Walidacja!A1216=\"\",\"\",(IF(Walidacja!A1216,\"Poprawny\",\"Niepoprawny\")))","v":""}]
[null,null,{"$f":"IF(Walidacja!A1217=\"\",\"\",(IF(Walidacja!A1217,\"Poprawny\",\"Niepoprawny\")))","v":""}]
[null,null,{"$f":"IF(Walidacja!A1218=\"\",\"\",(IF(Walidacja!A1218,\"Poprawny\",\"Niepoprawny\")))","v":""}]
[null,null,{"$f":"IF(Walidacja!A1219=\"\",\"\",(IF(Walidacja!A1219,\"Poprawny\",\"Niepoprawny\")))","v":""}]
[null,null,{"$f":"IF(Walidacja!A1220=\"\",\"\",(IF(Walidacja!A1220,\"Poprawny\",\"Niepoprawny\")))","v":""}]
[null,null,{"$f":"IF(Walidacja!A1221=\"\",\"\",(IF(Walidacja!A1221,\"Poprawny\",\"Niepoprawny\")))","v":""}]
[null,null,{"$f":"IF(Walidacja!A1222=\"\",\"\",(IF(Walidacja!A1222,\"Poprawny\",\"Niepoprawny\")))","v":""}]
[null,null,{"$f":"IF(Walidacja!A1223=\"\",\"\",(IF(Walidacja!A1223,\"Poprawny\",\"Niepoprawny\")))","v":""}]
[null,null,{"$f":"IF(Walidacja!A1224=\"\",\"\",(IF(Walidacja!A1224,\"Poprawny\",\"Niepoprawny\")))","v":""}]
[null,null,{"$f":"IF(Walidacja!A1225=\"\",\"\",(IF(Walidacja!A1225,\"Poprawny\",\"Niepoprawny\")))","v":""}]
[null,null,{"$f":"IF(Walidacja!A1226=\"\",\"\",(IF(Walidacja!A1226,\"Poprawny\",\"Niepoprawny\")))","v":""}]
[null,null,{"$f":"IF(Walidacja!A1227=\"\",\"\",(IF(Walidacja!A1227,\"Poprawny\",\"Niepoprawny\")))","v":""}]
[null,null,{"$f":"IF(Walidacja!A1228=\"\",\"\",(IF(Walidacja!A1228,\"Poprawny\",\"Niepoprawny\")))","v":""}]
[null,null,{"$f":"IF(Walidacja!A1229=\"\",\"\",(IF(Walidacja!A1229,\"Poprawny\",\"Niepoprawny\")))","v":""}]
[null,null,{"$f":"IF(Walidacja!A1230=\"\",\"\",(IF(Walidacja!A1230,\"Poprawny\",\"Niepoprawny\")))","v":""}]
[null,null,{"$f":"IF(Walidacja!A1231=\"\",\"\",(IF(Walidacja!A1231,\"Poprawny\",\"Niepoprawny\")))","v":""}]
[null,null,{"$f":"IF(Walidacja!A1232=\"\",\"\",(IF(Walidacja!A1232,\"Poprawny\",\"Niepoprawny\")))","v":""}]
[null,null,{"$f":"IF(Walidacja!A1233=\"\",\"\",(IF(Walidacja!A1233,\"Poprawny\",\"Niepoprawny\")))","v":""}]
[null,null,{"$f":"IF(Walidacja!A1234=\"\",\"\",(IF(Walidacja!A1234,\"Poprawny\",\"Niepoprawny\")))","v":""}]
[null,null,{"$f":"IF(Walidacja!A1235=\"\",\"\",(IF(Walidacja!A1235,\"Poprawny\",\"Niepoprawny\")))","v":""}]
[null,null,{"$f":"IF(Walidacja!A1236=\"\",\"\",(IF(Walidacja!A1236,\"Poprawny\",\"Niepoprawny\")))","v":""}]
[null,null,{"$f":"IF(Walidacja!A1237=\"\",\"\",(IF(Walidacja!A1237,\"Poprawny\",\"Niepoprawny\")))","v":""}]
[null,null,{"$f":"IF(Walidacja!A1238=\"\",\"\",(IF(Walidacja!A1238,\"Poprawny\",\"Niepoprawny\")))","v":""}]
[null,null,{"$f":"IF(Walidacja!A1239=\"\",\"\",(IF(Walidacja!A1239,\"Poprawny\",\"Niepoprawny\")))","v":""}]
[null,null,{"$f":"IF(Walidacja!A1240=\"\",\"\",(IF(Walidacja!A1240,\"Poprawny\",\"Niepoprawny\")))","v":""}]
[null,null,{"$f":"IF(Walidacja!A1241=\"\",\"\",(IF(Walidacja!A1241,\"Poprawny\",\"Niepoprawny\")))","v":""}]
[null,null,{"$f":"IF(Walidacja!A1242=\"\",\"\",(IF(Walidacja!A1242,\"Poprawny\",\"Niepoprawny\")))","v":""}]
[null,null,{"$f":"IF(Walidacja!A1243=\"\",\"\",(IF(Walidacja!A1243,\"Poprawny\",\"Niepoprawny\")))","v":""}]
[null,null,{"$f":"IF(Walidacja!A1244=\"\",\"\",(IF(Walidacja!A1244,\"Poprawny\",\"Niepoprawny\")))","v":""}]
[null,null,{"$f":"IF(Walidacja!A1245=\"\",\"\",(IF(Walidacja!A1245,\"Poprawny\",\"Niepoprawny\")))","v":""}]
[null,null,{"$f":"IF(Walidacja!A1246=\"\",\"\",(IF(Walidacja!A1246,\"Poprawny\",\"Niepoprawny\")))","v":""}]
[null,null,{"$f":"IF(Walidacja!A1247=\"\",\"\",(IF(Walidacja!A1247,\"Poprawny\",\"Niepoprawny\")))","v":""}]
[null,null,{"$f":"IF(Walidacja!A1248=\"\",\"\",(IF(Walidacja!A1248,\"Poprawny\",\"Niepoprawny\")))","v":""}]
[null,null,{"$f":"IF(Walidacja!A1249=\"\",\"\",(IF(Walidacja!A1249,\"Poprawny\",\"Niepoprawny\")))","v":""}]
[null,null,{"$f":"IF(Walidacja!A1250=\"\",\"\",(IF(Walidacja!A1250,\"Poprawny\",\"Niepoprawny\")))","v":""}]
[null,null,{"$f":"IF(Walidacja!A1251=\"\",\"\",(IF(Walidacja!A1251,\"Poprawny\",\"Niepoprawny\")))","v":""}]
[null,null,{"$f":"IF(Walidacja!A1252=\"\",\"\",(IF(Walidacja!A1252,\"Poprawny\",\"Niepoprawny\")))","v":""}]
[null,null,{"$f":"IF(Walidacja!A1253=\"\",\"\",(IF(Walidacja!A1253,\"Poprawny\",\"Niepoprawny\")))","v":""}]
[null,null,{"$f":"IF(Walidacja!A1254=\"\",\"\",(IF(Walidacja!A1254,\"Poprawny\",\"Niepoprawny\")))","v":""}]
[null,null,{"$f":"IF(Walidacja!A1255=\"\",\"\",(IF(Walidacja!A1255,\"Poprawny\",\"Niepoprawny\")))","v":""}]
[null,null,{"$f":"IF(Walidacja!A1256=\"\",\"\",(IF(Walidacja!A1256,\"Poprawny\",\"Niepoprawny\")))","v":""}]
[null,null,{"$f":"IF(Walidacja!A1257=\"\",\"\",(IF(Walidacja!A1257,\"Poprawny\",\"Niepoprawny\")))","v":""}]
[null,null,{"$f":"IF(Walidacja!A1258=\"\",\"\",(IF(Walidacja!A1258,\"Poprawny\",\"Niepoprawny\")))","v":""}]
[null,null,{"$f":"IF(Walidacja!A1259=\"\",\"\",(IF(Walidacja!A1259,\"Poprawny\",\"Niepoprawny\")))","v":""}]
[null,null,{"$f":"IF(Walidacja!A1260=\"\",\"\",(IF(Walidacja!A1260,\"Poprawny\",\"Niepoprawny\")))","v":""}]
[null,null,{"$f":"IF(Walidacja!A1261=\"\",\"\",(IF(Walidacja!A1261,\"Poprawny\",\"Niepoprawny\")))","v":""}]
[null,null,{"$f":"IF(Walidacja!A1262=\"\",\"\",(IF(Walidacja!A1262,\"Poprawny\",\"Niepoprawny\")))","v":""}]
[null,null,{"$f":"IF(Walidacja!A1263=\"\",\"\",(IF(Walidacja!A1263,\"Poprawny\",\"Niepoprawny\")))","v":""}]
[null,null,{"$f":"IF(Walidacja!A1264=\"\",\"\",(IF(Walidacja!A1264,\"Poprawny\",\"Niepoprawny\")))","v":""}]
[null,null,{"$f":"IF(Walidacja!A1265=\"\",\"\",(IF(Walidacja!A1265,\"Poprawny\",\"Niepoprawny\")))","v":""}]
[null,null,{"$f":"IF(Walidacja!A1266=\"\",\"\",(IF(Walidacja!A1266,\"Poprawny\",\"Niepoprawny\")))","v":""}]
[null,null,{"$f":"IF(Walidacja!A1267=\"\",\"\",(IF(Walidacja!A1267,\"Poprawny\",\"Niepoprawny\")))","v":""}]
[null,null,{"$f":"IF(Walidacja!A1268=\"\",\"\",(IF(Walidacja!A1268,\"Poprawny\",\"Niepoprawny\")))","v":""}]
[null,null,{"$f":"IF(Walidacja!A1269=\"\",\"\",(IF(Walidacja!A1269,\"Poprawny\",\"Niepoprawny\")))","v":""}]
[null,null,{"$f":"IF(Walidacja!A1270=\"\",\"\",(IF(Walidacja!A1270,\"Poprawny\",\"Niepoprawny\")))","v":""}]
[null,null,{"$f":"IF(Walidacja!A1271=\"\",\"\",(IF(Walidacja!A1271,\"Poprawny\",\"Niepoprawny\")))","v":""}]
[null,null,{"$f":"IF(Walidacja!A1272=\"\",\"\",(IF(Walidacja!A1272,\"Poprawny\",\"Niepoprawny\")))","v":""}]
[null,null,{"$f":"IF(Walidacja!A1273=\"\",\"\",(IF(Walidacja!A1273,\"Poprawny\",\"Niepoprawny\")))","v":""}]
[null,null,{"$f":"IF(Walidacja!A1274=\"\",\"\",(IF(Walidacja!A1274,\"Poprawny\",\"Niepoprawny\")))","v":""}]
[null,null,{"$f":"IF(Walidacja!A1275=\"\",\"\",(IF(Walidacja!A1275,\"Poprawny\",\"Niepoprawny\")))","v":""}]
[null,null,{"$f":"IF(Walidacja!A1276=\"\",\"\",(IF(Walidacja!A1276,\"Poprawny\",\"Niepoprawny\")))","v":""}]
[null,null,{"$f":"IF(Walidacja!A1277=\"\",\"\",(IF(Walidacja!A1277,\"Poprawny\",\"Niepoprawny\")))","v":""}]
[null,null,{"$f":"IF(Walidacja!A1278=\"\",\"\",(IF(Walidacja!A1278,\"Poprawny\",\"Niepoprawny\")))","v":""}]
[null,null,{"$f":"IF(Walidacja!A1279=\"\",\"\",(IF(Walidacja!A1279,\"Poprawny\",\"Niepoprawny\")))","v":""}]
[null,null,{"$f":"IF(Walidacja!A1280=\"\",\"\",(IF(Walidacja!A1280,\"Poprawny\",\"Niepoprawny\")))","v":""}]
[null,null,{"$f":"IF(Walidacja!A1281=\"\",\"\",(IF(Walidacja!A1281,\"Poprawny\",\"Niepoprawny\")))","v":""}]
[null,null,{"$f":"IF(Walidacja!A1282=\"\",\"\",(IF(Walidacja!A1282,\"Poprawny\",\"Niepoprawny\")))","v":""}]
[null,null,{"$f":"IF(Walidacja!A1283=\"\",\"\",(IF(Walidacja!A1283,\"Poprawny\",\"Niepoprawny\")))","v":""}]
[null,null,{"$f":"IF(Walidacja!A1284=\"\",\"\",(IF(Walidacja!A1284,\"Poprawny\",\"Niepoprawny\")))","v":""}]
[null,null,{"$f":"IF(Walidacja!A1285=\"\",\"\",(IF(Walidacja!A1285,\"Poprawny\",\"Niepoprawny\")))","v":""}]
[null,null,{"$f":"IF(Walidacja!A1286=\"\",\"\",(IF(Walidacja!A1286,\"Poprawny\",\"Niepoprawny\")))","v":""}]
[null,null,{"$f":"IF(Walidacja!A1287=\"\",\"\",(IF(Walidacja!A1287,\"Poprawny\",\"Niepoprawny\")))","v":""}]
[null,null,{"$f":"IF(Walidacja!A1288=\"\",\"\",(IF(Walidacja!A1288,\"Poprawny\",\"Niepoprawny\")))","v":""}]
[null,null,{"$f":"IF(Walidacja!A1289=\"\",\"\",(IF(Walidacja!A1289,\"Poprawny\",\"Niepoprawny\")))","v":""}]
[null,null,{"$f":"IF(Walidacja!A1290=\"\",\"\",(IF(Walidacja!A1290,\"Poprawny\",\"Niepoprawny\")))","v":""}]
[null,null,{"$f":"IF(Walidacja!A1291=\"\",\"\",(IF(Walidacja!A1291,\"Poprawny\",\"Niepoprawny\")))","v":""}]
[null,null,{"$f":"IF(Walidacja!A1292=\"\",\"\",(IF(Walidacja!A1292,\"Poprawny\",\"Niepoprawny\")))","v":""}]
[null,null,{"$f":"IF(Walidacja!A1293=\"\",\"\",(IF(Walidacja!A1293,\"Poprawny\",\"Niepoprawny\")))","v":""}]
[null,null,{"$f":"IF(Walidacja!A1294=\"\",\"\",(IF(Walidacja!A1294,\"Poprawny\",\"Niepoprawny\")))","v":""}]
[null,null,{"$f":"IF(Walidacja!A1295=\"\",\"\",(IF(Walidacja!A1295,\"Poprawny\",\"Niepoprawny\")))","v":""}]
[null,null,{"$f":"IF(Walidacja!A1296=\"\",\"\",(IF(Walidacja!A1296,\"Poprawny\",\"Niepoprawny\")))","v":""}]
[null,null,{"$f":"IF(Walidacja!A1297=\"\",\"\",(IF(Walidacja!A1297,\"Poprawny\",\"Niepoprawny\")))","v":""}]
[null,null,{"$f":"IF(Walidacja!A1298=\"\",\"\",(IF(Walidacja!A1298,\"Poprawny\",\"Niepoprawny\")))","v":""}]
[null,null,{"$f":"IF(Walidacja!A1299=\"\",\"\",(IF(Walidacja!A1299,\"Poprawny\",\"Niepoprawny\")))","v":""}]
[null,null,{"$f":"IF(Walidacja!A1300=\"\",\"\",(IF(Walidacja!A1300,\"Poprawny\",\"Niepoprawny\")))","v":""}]
[null,null,{"$f":"IF(Walidacja!A1301=\"\",\"\",(IF(Walidacja!A1301,\"Poprawny\",\"Niepoprawny\")))","v":""}]
[null,null,{"$f":"IF(Walidacja!A1302=\"\",\"\",(IF(Walidacja!A1302,\"Poprawny\",\"Niepoprawny\")))","v":""}]
[null,null,{"$f":"IF(Walidacja!A1303=\"\",\"\",(IF(Walidacja!A1303,\"Poprawny\",\"Niepoprawny\")))","v":""}]
[null,null,{"$f":"IF(Walidacja!A1304=\"\",\"\",(IF(Walidacja!A1304,\"Poprawny\",\"Niepoprawny\")))","v":""}]
[null,null,{"$f":"IF(Walidacja!A1305=\"\",\"\",(IF(Walidacja!A1305,\"Poprawny\",\"Niepoprawny\")))","v":""}]
[null,null,{"$f":"IF(Walidacja!A1306=\"\",\"\",(IF(Walidacja!A1306,\"Poprawny\",\"Niepoprawny\")))","v":""}]
[null,null,{"$f":"IF(Walidacja!A1307=\"\",\"\",(IF(Walidacja!A1307,\"Poprawny\",\"Niepoprawny\")))","v":""}]
[null,null,{"$f":"IF(Walidacja!A1308=\"\",\"\",(IF(Walidacja!A1308,\"Poprawny\",\"Niepoprawny\")))","v":""}]
[null,null,{"$f":"IF(Walidacja!A1309=\"\",\"\",(IF(Walidacja!A1309,\"Poprawny\",\"Niepoprawny\")))","v":""}]
[null,null,{"$f":"IF(Walidacja!A1310=\"\",\"\",(IF(Walidacja!A1310,\"Poprawny\",\"Niepoprawny\")))","v":""}]
[null,null,{"$f":"IF(Walidacja!A1311=\"\",\"\",(IF(Walidacja!A1311,\"Poprawny\",\"Niepoprawny\")))","v":""}]
[null,null,{"$f":"IF(Walidacja!A1312=\"\",\"\",(IF(Walidacja!A1312,\"Poprawny\",\"Niepoprawny\")))","v":""}]
[null,null,{"$f":"IF(Walidacja!A1313=\"\",\"\",(IF(Walidacja!A1313,\"Poprawny\",\"Niepoprawny\")))","v":""}]
[null,null,{"$f":"IF(Walidacja!A1314=\"\",\"\",(IF(Walidacja!A1314,\"Poprawny\",\"Niepoprawny\")))","v":""}]
[null,null,{"$f":"IF(Walidacja!A1315=\"\",\"\",(IF(Walidacja!A1315,\"Poprawny\",\"Niepoprawny\")))","v":""}]
[null,null,{"$f":"IF(Walidacja!A1316=\"\",\"\",(IF(Walidacja!A1316,\"Poprawny\",\"Niepoprawny\")))","v":""}]
[null,null,{"$f":"IF(Walidacja!A1317=\"\",\"\",(IF(Walidacja!A1317,\"Poprawny\",\"Niepoprawny\")))","v":""}]
[null,null,{"$f":"IF(Walidacja!A1318=\"\",\"\",(IF(Walidacja!A1318,\"Poprawny\",\"Niepoprawny\")))","v":""}]
[null,null,{"$f":"IF(Walidacja!A1319=\"\",\"\",(IF(Walidacja!A1319,\"Poprawny\",\"Niepoprawny\")))","v":""}]
[null,null,{"$f":"IF(Walidacja!A1320=\"\",\"\",(IF(Walidacja!A1320,\"Poprawny\",\"Niepoprawny\")))","v":""}]
[null,null,{"$f":"IF(Walidacja!A1321=\"\",\"\",(IF(Walidacja!A1321,\"Poprawny\",\"Niepoprawny\")))","v":""}]
[null,null,{"$f":"IF(Walidacja!A1322=\"\",\"\",(IF(Walidacja!A1322,\"Poprawny\",\"Niepoprawny\")))","v":""}]
[null,null,{"$f":"IF(Walidacja!A1323=\"\",\"\",(IF(Walidacja!A1323,\"Poprawny\",\"Niepoprawny\")))","v":""}]
[null,null,{"$f":"IF(Walidacja!A1324=\"\",\"\",(IF(Walidacja!A1324,\"Poprawny\",\"Niepoprawny\")))","v":""}]
[null,null,{"$f":"IF(Walidacja!A1325=\"\",\"\",(IF(Walidacja!A1325,\"Poprawny\",\"Niepoprawny\")))","v":""}]
[null,null,{"$f":"IF(Walidacja!A1326=\"\",\"\",(IF(Walidacja!A1326,\"Poprawny\",\"Niepoprawny\")))","v":""}]
[null,null,{"$f":"IF(Walidacja!A1327=\"\",\"\",(IF(Walidacja!A1327,\"Poprawny\",\"Niepoprawny\")))","v":""}]
[null,null,{"$f":"IF(Walidacja!A1328=\"\",\"\",(IF(Walidacja!A1328,\"Poprawny\",\"Niepoprawny\")))","v":""}]
[null,null,{"$f":"IF(Walidacja!A1329=\"\",\"\",(IF(Walidacja!A1329,\"Poprawny\",\"Niepoprawny\")))","v":""}]
[null,null,{"$f":"IF(Walidacja!A1330=\"\",\"\",(IF(Walidacja!A1330,\"Poprawny\",\"Niepoprawny\")))","v":""}]
[null,null,{"$f":"IF(Walidacja!A1331=\"\",\"\",(IF(Walidacja!A1331,\"Poprawny\",\"Niepoprawny\")))","v":""}]
[null,null,{"$f":"IF(Walidacja!A1332=\"\",\"\",(IF(Walidacja!A1332,\"Poprawny\",\"Niepoprawny\")))","v":""}]
[null,null,{"$f":"IF(Walidacja!A1333=\"\",\"\",(IF(Walidacja!A1333,\"Poprawny\",\"Niepoprawny\")))","v":""}]
[null,null,{"$f":"IF(Walidacja!A1334=\"\",\"\",(IF(Walidacja!A1334,\"Poprawny\",\"Niepoprawny\")))","v":""}]
[null,null,{"$f":"IF(Walidacja!A1335=\"\",\"\",(IF(Walidacja!A1335,\"Poprawny\",\"Niepoprawny\")))","v":""}]
[null,null,{"$f":"IF(Walidacja!A1336=\"\",\"\",(IF(Walidacja!A1336,\"Poprawny\",\"Niepoprawny\")))","v":""}]
[null,null,{"$f":"IF(Walidacja!A1337=\"\",\"\",(IF(Walidacja!A1337,\"Poprawny\",\"Niepoprawny\")))","v":""}]
[null,null,{"$f":"IF(Walidacja!A1338=\"\",\"\",(IF(Walidacja!A1338,\"Poprawny\",\"Niepoprawny\")))","v":""}]
[null,null,{"$f":"IF(Walidacja!A1339=\"\",\"\",(IF(Walidacja!A1339,\"Poprawny\",\"Niepoprawny\")))","v":""}]
[null,null,{"$f":"IF(Walidacja!A1340=\"\",\"\",(IF(Walidacja!A1340,\"Poprawny\",\"Niepoprawny\")))","v":""}]
[null,null,{"$f":"IF(Walidacja!A1341=\"\",\"\",(IF(Walidacja!A1341,\"Poprawny\",\"Niepoprawny\")))","v":""}]
[null,null,{"$f":"IF(Walidacja!A1342=\"\",\"\",(IF(Walidacja!A1342,\"Poprawny\",\"Niepoprawny\")))","v":""}]
[null,null,{"$f":"IF(Walidacja!A1343=\"\",\"\",(IF(Walidacja!A1343,\"Poprawny\",\"Niepoprawny\")))","v":""}]
[null,null,{"$f":"IF(Walidacja!A1344=\"\",\"\",(IF(Walidacja!A1344,\"Poprawny\",\"Niepoprawny\")))","v":""}]
[null,null,{"$f":"IF(Walidacja!A1345=\"\",\"\",(IF(Walidacja!A1345,\"Poprawny\",\"Niepoprawny\")))","v":""}]
[null,null,{"$f":"IF(Walidacja!A1346=\"\",\"\",(IF(Walidacja!A1346,\"Poprawny\",\"Niepoprawny\")))","v":""}]
[null,null,{"$f":"IF(Walidacja!A1347=\"\",\"\",(IF(Walidacja!A1347,\"Poprawny\",\"Niepoprawny\")))","v":""}]
[null,null,{"$f":"IF(Walidacja!A1348=\"\",\"\",(IF(Walidacja!A1348,\"Poprawny\",\"Niepoprawny\")))","v":""}]
[null,null,{"$f":"IF(Walidacja!A1349=\"\",\"\",(IF(Walidacja!A1349,\"Poprawny\",\"Niepoprawny\")))","v":""}]
[null,null,{"$f":"IF(Walidacja!A1350=\"\",\"\",(IF(Walidacja!A1350,\"Poprawny\",\"Niepoprawny\")))","v":""}]
[null,null,{"$f":"IF(Walidacja!A1351=\"\",\"\",(IF(Walidacja!A1351,\"Poprawny\",\"Niepoprawny\")))","v":""}]
[null,null,{"$f":"IF(Walidacja!A1352=\"\",\"\",(IF(Walidacja!A1352,\"Poprawny\",\"Niepoprawny\")))","v":""}]
[null,null,{"$f":"IF(Walidacja!A1353=\"\",\"\",(IF(Walidacja!A1353,\"Poprawny\",\"Niepoprawny\")))","v":""}]
[null,null,{"$f":"IF(Walidacja!A1354=\"\",\"\",(IF(Walidacja!A1354,\"Poprawny\",\"Niepoprawny\")))","v":""}]
[null,null,{"$f":"IF(Walidacja!A1355=\"\",\"\",(IF(Walidacja!A1355,\"Poprawny\",\"Niepoprawny\")))","v":""}]
[null,null,{"$f":"IF(Walidacja!A1356=\"\",\"\",(IF(Walidacja!A1356,\"Poprawny\",\"Niepoprawny\")))","v":""}]
[null,null,{"$f":"IF(Walidacja!A1357=\"\",\"\",(IF(Walidacja!A1357,\"Poprawny\",\"Niepoprawny\")))","v":""}]
[null,null,{"$f":"IF(Walidacja!A1358=\"\",\"\",(IF(Walidacja!A1358,\"Poprawny\",\"Niepoprawny\")))","v":""}]
[null,null,{"$f":"IF(Walidacja!A1359=\"\",\"\",(IF(Walidacja!A1359,\"Poprawny\",\"Niepoprawny\")))","v":""}]
[null,null,{"$f":"IF(Walidacja!A1360=\"\",\"\",(IF(Walidacja!A1360,\"Poprawny\",\"Niepoprawny\")))","v":""}]
[null,null,{"$f":"IF(Walidacja!A1361=\"\",\"\",(IF(Walidacja!A1361,\"Poprawny\",\"Niepoprawny\")))","v":""}]
[null,null,{"$f":"IF(Walidacja!A1362=\"\",\"\",(IF(Walidacja!A1362,\"Poprawny\",\"Niepoprawny\")))","v":""}]
[null,null,{"$f":"IF(Walidacja!A1363=\"\",\"\",(IF(Walidacja!A1363,\"Poprawny\",\"Niepoprawny\")))","v":""}]
[null,null,{"$f":"IF(Walidacja!A1364=\"\",\"\",(IF(Walidacja!A1364,\"Poprawny\",\"Niepoprawny\")))","v":""}]
[null,null,{"$f":"IF(Walidacja!A1365=\"\",\"\",(IF(Walidacja!A1365,\"Poprawny\",\"Niepoprawny\")))","v":""}]
[null,null,{"$f":"IF(Walidacja!A1366=\"\",\"\",(IF(Walidacja!A1366,\"Poprawny\",\"Niepoprawny\")))","v":""}]
[null,null,{"$f":"IF(Walidacja!A1367=\"\",\"\",(IF(Walidacja!A1367,\"Poprawny\",\"Niepoprawny\")))","v":""}]
[null,null,{"$f":"IF(Walidacja!A1368=\"\",\"\",(IF(Walidacja!A1368,\"Poprawny\",\"Niepoprawny\")))","v":""}]
[null,null,{"$f":"IF(Walidacja!A1369=\"\",\"\",(IF(Walidacja!A1369,\"Poprawny\",\"Niepoprawny\")))","v":""}]
[null,null,{"$f":"IF(Walidacja!A1370=\"\",\"\",(IF(Walidacja!A1370,\"Poprawny\",\"Niepoprawny\")))","v":""}]
[null,null,{"$f":"IF(Walidacja!A1371=\"\",\"\",(IF(Walidacja!A1371,\"Poprawny\",\"Niepoprawny\")))","v":""}]
[null,null,{"$f":"IF(Walidacja!A1372=\"\",\"\",(IF(Walidacja!A1372,\"Poprawny\",\"Niepoprawny\")))","v":""}]
[null,null,{"$f":"IF(Walidacja!A1373=\"\",\"\",(IF(Walidacja!A1373,\"Poprawny\",\"Niepoprawny\")))","v":""}]
[null,null,{"$f":"IF(Walidacja!A1374=\"\",\"\",(IF(Walidacja!A1374,\"Poprawny\",\"Niepoprawny\")))","v":""}]
[null,null,{"$f":"IF(Walidacja!A1375=\"\",\"\",(IF(Walidacja!A1375,\"Poprawny\",\"Niepoprawny\")))","v":""}]
[null,null,{"$f":"IF(Walidacja!A1376=\"\",\"\",(IF(Walidacja!A1376,\"Poprawny\",\"Niepoprawny\")))","v":""}]
[null,null,{"$f":"IF(Walidacja!A1377=\"\",\"\",(IF(Walidacja!A1377,\"Poprawny\",\"Niepoprawny\")))","v":""}]
[null,null,{"$f":"IF(Walidacja!A1378=\"\",\"\",(IF(Walidacja!A1378,\"Poprawny\",\"Niepoprawny\")))","v":""}]
[null,null,{"$f":"IF(Walidacja!A1379=\"\",\"\",(IF(Walidacja!A1379,\"Poprawny\",\"Niepoprawny\")))","v":""}]
[null,null,{"$f":"IF(Walidacja!A1380=\"\",\"\",(IF(Walidacja!A1380,\"Poprawny\",\"Niepoprawny\")))","v":""}]
[null,null,{"$f":"IF(Walidacja!A1381=\"\",\"\",(IF(Walidacja!A1381,\"Poprawny\",\"Niepoprawny\")))","v":""}]
[null,null,{"$f":"IF(Walidacja!A1382=\"\",\"\",(IF(Walidacja!A1382,\"Poprawny\",\"Niepoprawny\")))","v":""}]
[null,null,{"$f":"IF(Walidacja!A1383=\"\",\"\",(IF(Walidacja!A1383,\"Poprawny\",\"Niepoprawny\")))","v":""}]
[null,null,{"$f":"IF(Walidacja!A1384=\"\",\"\",(IF(Walidacja!A1384,\"Poprawny\",\"Niepoprawny\")))","v":""}]
[null,null,{"$f":"IF(Walidacja!A1385=\"\",\"\",(IF(Walidacja!A1385,\"Poprawny\",\"Niepoprawny\")))","v":""}]
[null,null,{"$f":"IF(Walidacja!A1386=\"\",\"\",(IF(Walidacja!A1386,\"Poprawny\",\"Niepoprawny\")))","v":""}]
[null,null,{"$f":"IF(Walidacja!A1387=\"\",\"\",(IF(Walidacja!A1387,\"Poprawny\",\"Niepoprawny\")))","v":""}]
[null,null,{"$f":"IF(Walidacja!A1388=\"\",\"\",(IF(Walidacja!A1388,\"Poprawny\",\"Niepoprawny\")))","v":""}]
[null,null,{"$f":"IF(Walidacja!A1389=\"\",\"\",(IF(Walidacja!A1389,\"Poprawny\",\"Niepoprawny\")))","v":""}]
[null,null,{"$f":"IF(Walidacja!A1390=\"\",\"\",(IF(Walidacja!A1390,\"Poprawny\",\"Niepoprawny\")))","v":""}]
[null,null,{"$f":"IF(Walidacja!A1391=\"\",\"\",(IF(Walidacja!A1391,\"Poprawny\",\"Niepoprawny\")))","v":""}]
[null,null,{"$f":"IF(Walidacja!A1392=\"\",\"\",(IF(Walidacja!A1392,\"Poprawny\",\"Niepoprawny\")))","v":""}]
[null,null,{"$f":"IF(Walidacja!A1393=\"\",\"\",(IF(Walidacja!A1393,\"Poprawny\",\"Niepoprawny\")))","v":""}]
[null,null,{"$f":"IF(Walidacja!A1394=\"\",\"\",(IF(Walidacja!A1394,\"Poprawny\",\"Niepoprawny\")))","v":""}]
[null,null,{"$f":"IF(Walidacja!A1395=\"\",\"\",(IF(Walidacja!A1395,\"Poprawny\",\"Niepoprawny\")))","v":""}]
[null,null,{"$f":"IF(Walidacja!A1396=\"\",\"\",(IF(Walidacja!A1396,\"Poprawny\",\"Niepoprawny\")))","v":""}]
[null,null,{"$f":"IF(Walidacja!A1397=\"\",\"\",(IF(Walidacja!A1397,\"Poprawny\",\"Niepoprawny\")))","v":""}]
[null,null,{"$f":"IF(Walidacja!A1398=\"\",\"\",(IF(Walidacja!A1398,\"Poprawny\",\"Niepoprawny\")))","v":""}]
[null,null,{"$f":"IF(Walidacja!A1399=\"\",\"\",(IF(Walidacja!A1399,\"Poprawny\",\"Niepoprawny\")))","v":""}]
[null,null,{"$f":"IF(Walidacja!A1400=\"\",\"\",(IF(Walidacja!A1400,\"Poprawny\",\"Niepoprawny\")))","v":""}]
[null,null,{"$f":"IF(Walidacja!A1401=\"\",\"\",(IF(Walidacja!A1401,\"Poprawny\",\"Niepoprawny\")))","v":""}]
[null,null,{"$f":"IF(Walidacja!A1402=\"\",\"\",(IF(Walidacja!A1402,\"Poprawny\",\"Niepoprawny\")))","v":""}]
[null,null,{"$f":"IF(Walidacja!A1403=\"\",\"\",(IF(Walidacja!A1403,\"Poprawny\",\"Niepoprawny\")))","v":""}]
[null,null,{"$f":"IF(Walidacja!A1404=\"\",\"\",(IF(Walidacja!A1404,\"Poprawny\",\"Niepoprawny\")))","v":""}]
[null,null,{"$f":"IF(Walidacja!A1405=\"\",\"\",(IF(Walidacja!A1405,\"Poprawny\",\"Niepoprawny\")))","v":""}]
[null,null,{"$f":"IF(Walidacja!A1406=\"\",\"\",(IF(Walidacja!A1406,\"Poprawny\",\"Niepoprawny\")))","v":""}]
[null,null,{"$f":"IF(Walidacja!A1407=\"\",\"\",(IF(Walidacja!A1407,\"Poprawny\",\"Niepoprawny\")))","v":""}]
[null,null,{"$f":"IF(Walidacja!A1408=\"\",\"\",(IF(Walidacja!A1408,\"Poprawny\",\"Niepoprawny\")))","v":""}]
[null,null,{"$f":"IF(Walidacja!A1409=\"\",\"\",(IF(Walidacja!A1409,\"Poprawny\",\"Niepoprawny\")))","v":""}]
[null,null,{"$f":"IF(Walidacja!A1410=\"\",\"\",(IF(Walidacja!A1410,\"Poprawny\",\"Niepoprawny\")))","v":""}]
[null,null,{"$f":"IF(Walidacja!A1411=\"\",\"\",(IF(Walidacja!A1411,\"Poprawny\",\"Niepoprawny\")))","v":""}]
[null,null,{"$f":"IF(Walidacja!A1412=\"\",\"\",(IF(Walidacja!A1412,\"Poprawny\",\"Niepoprawny\")))","v":""}]
[null,null,{"$f":"IF(Walidacja!A1413=\"\",\"\",(IF(Walidacja!A1413,\"Poprawny\",\"Niepoprawny\")))","v":""}]
[null,null,{"$f":"IF(Walidacja!A1414=\"\",\"\",(IF(Walidacja!A1414,\"Poprawny\",\"Niepoprawny\")))","v":""}]
[null,null,{"$f":"IF(Walidacja!A1415=\"\",\"\",(IF(Walidacja!A1415,\"Poprawny\",\"Niepoprawny\")))","v":""}]
[null,null,{"$f":"IF(Walidacja!A1416=\"\",\"\",(IF(Walidacja!A1416,\"Poprawny\",\"Niepoprawny\")))","v":""}]
[null,null,{"$f":"IF(Walidacja!A1417=\"\",\"\",(IF(Walidacja!A1417,\"Poprawny\",\"Niepoprawny\")))","v":""}]
[null,null,{"$f":"IF(Walidacja!A1418=\"\",\"\",(IF(Walidacja!A1418,\"Poprawny\",\"Niepoprawny\")))","v":""}]
[null,null,{"$f":"IF(Walidacja!A1419=\"\",\"\",(IF(Walidacja!A1419,\"Poprawny\",\"Niepoprawny\")))","v":""}]
[null,null,{"$f":"IF(Walidacja!A1420=\"\",\"\",(IF(Walidacja!A1420,\"Poprawny\",\"Niepoprawny\")))","v":""}]
[null,null,{"$f":"IF(Walidacja!A1421=\"\",\"\",(IF(Walidacja!A1421,\"Poprawny\",\"Niepoprawny\")))","v":""}]
[null,null,{"$f":"IF(Walidacja!A1422=\"\",\"\",(IF(Walidacja!A1422,\"Poprawny\",\"Niepoprawny\")))","v":""}]
[null,null,{"$f":"IF(Walidacja!A1423=\"\",\"\",(IF(Walidacja!A1423,\"Poprawny\",\"Niepoprawny\")))","v":""}]
[null,null,{"$f":"IF(Walidacja!A1424=\"\",\"\",(IF(Walidacja!A1424,\"Poprawny\",\"Niepoprawny\")))","v":""}]
[null,null,{"$f":"IF(Walidacja!A1425=\"\",\"\",(IF(Walidacja!A1425,\"Poprawny\",\"Niepoprawny\")))","v":""}]
[null,null,{"$f":"IF(Walidacja!A1426=\"\",\"\",(IF(Walidacja!A1426,\"Poprawny\",\"Niepoprawny\")))","v":""}]
[null,null,{"$f":"IF(Walidacja!A1427=\"\",\"\",(IF(Walidacja!A1427,\"Poprawny\",\"Niepoprawny\")))","v":""}]
[null,null,{"$f":"IF(Walidacja!A1428=\"\",\"\",(IF(Walidacja!A1428,\"Poprawny\",\"Niepoprawny\")))","v":""}]
[null,null,{"$f":"IF(Walidacja!A1429=\"\",\"\",(IF(Walidacja!A1429,\"Poprawny\",\"Niepoprawny\")))","v":""}]
[null,null,{"$f":"IF(Walidacja!A1430=\"\",\"\",(IF(Walidacja!A1430,\"Poprawny\",\"Niepoprawny\")))","v":""}]
[null,null,{"$f":"IF(Walidacja!A1431=\"\",\"\",(IF(Walidacja!A1431,\"Poprawny\",\"Niepoprawny\")))","v":""}]
[null,null,{"$f":"IF(Walidacja!A1432=\"\",\"\",(IF(Walidacja!A1432,\"Poprawny\",\"Niepoprawny\")))","v":""}]
[null,null,{"$f":"IF(Walidacja!A1433=\"\",\"\",(IF(Walidacja!A1433,\"Poprawny\",\"Niepoprawny\")))","v":""}]
[null,null,{"$f":"IF(Walidacja!A1434=\"\",\"\",(IF(Walidacja!A1434,\"Poprawny\",\"Niepoprawny\")))","v":""}]
[null,null,{"$f":"IF(Walidacja!A1435=\"\",\"\",(IF(Walidacja!A1435,\"Poprawny\",\"Niepoprawny\")))","v":""}]
[null,null,{"$f":"IF(Walidacja!A1436=\"\",\"\",(IF(Walidacja!A1436,\"Poprawny\",\"Niepoprawny\")))","v":""}]
[null,null,{"$f":"IF(Walidacja!A1437=\"\",\"\",(IF(Walidacja!A1437,\"Poprawny\",\"Niepoprawny\")))","v":""}]
[null,null,{"$f":"IF(Walidacja!A1438=\"\",\"\",(IF(Walidacja!A1438,\"Poprawny\",\"Niepoprawny\")))","v":""}]
[null,null,{"$f":"IF(Walidacja!A1439=\"\",\"\",(IF(Walidacja!A1439,\"Poprawny\",\"Niepoprawny\")))","v":""}]
[null,null,{"$f":"IF(Walidacja!A1440=\"\",\"\",(IF(Walidacja!A1440,\"Poprawny\",\"Niepoprawny\")))","v":""}]
[null,null,{"$f":"IF(Walidacja!A1441=\"\",\"\",(IF(Walidacja!A1441,\"Poprawny\",\"Niepoprawny\")))","v":""}]
[null,null,{"$f":"IF(Walidacja!A1442=\"\",\"\",(IF(Walidacja!A1442,\"Poprawny\",\"Niepoprawny\")))","v":""}]
[null,null,{"$f":"IF(Walidacja!A1443=\"\",\"\",(IF(Walidacja!A1443,\"Poprawny\",\"Niepoprawny\")))","v":""}]
[null,null,{"$f":"IF(Walidacja!A1444=\"\",\"\",(IF(Walidacja!A1444,\"Poprawny\",\"Niepoprawny\")))","v":""}]
[null,null,{"$f":"IF(Walidacja!A1445=\"\",\"\",(IF(Walidacja!A1445,\"Poprawny\",\"Niepoprawny\")))","v":""}]
[null,null,{"$f":"IF(Walidacja!A1446=\"\",\"\",(IF(Walidacja!A1446,\"Poprawny\",\"Niepoprawny\")))","v":""}]
[null,null,{"$f":"IF(Walidacja!A1447=\"\",\"\",(IF(Walidacja!A1447,\"Poprawny\",\"Niepoprawny\")))","v":""}]
[null,null,{"$f":"IF(Walidacja!A1448=\"\",\"\",(IF(Walidacja!A1448,\"Poprawny\",\"Niepoprawny\")))","v":""}]
[null,null,{"$f":"IF(Walidacja!A1449=\"\",\"\",(IF(Walidacja!A1449,\"Poprawny\",\"Niepoprawny\")))","v":""}]
[null,null,{"$f":"IF(Walidacja!A1450=\"\",\"\",(IF(Walidacja!A1450,\"Poprawny\",\"Niepoprawny\")))","v":""}]
[null,null,{"$f":"IF(Walidacja!A1451=\"\",\"\",(IF(Walidacja!A1451,\"Poprawny\",\"Niepoprawny\")))","v":""}]
[null,null,{"$f":"IF(Walidacja!A1452=\"\",\"\",(IF(Walidacja!A1452,\"Poprawny\",\"Niepoprawny\")))","v":""}]
[null,null,{"$f":"IF(Walidacja!A1453=\"\",\"\",(IF(Walidacja!A1453,\"Poprawny\",\"Niepoprawny\")))","v":""}]
[null,null,{"$f":"IF(Walidacja!A1454=\"\",\"\",(IF(Walidacja!A1454,\"Poprawny\",\"Niepoprawny\")))","v":""}]
[null,null,{"$f":"IF(Walidacja!A1455=\"\",\"\",(IF(Walidacja!A1455,\"Poprawny\",\"Niepoprawny\")))","v":""}]
[null,null,{"$f":"IF(Walidacja!A1456=\"\",\"\",(IF(Walidacja!A1456,\"Poprawny\",\"Niepoprawny\")))","v":""}]
[null,null,{"$f":"IF(Walidacja!A1457=\"\",\"\",(IF(Walidacja!A1457,\"Poprawny\",\"Niepoprawny\")))","v":""}]
[null,null,{"$f":"IF(Walidacja!A1458=\"\",\"\",(IF(Walidacja!A1458,\"Poprawny\",\"Niepoprawny\")))","v":""}]
[null,null,{"$f":"IF(Walidacja!A1459=\"\",\"\",(IF(Walidacja!A1459,\"Poprawny\",\"Niepoprawny\")))","v":""}]
[null,null,{"$f":"IF(Walidacja!A1460=\"\",\"\",(IF(Walidacja!A1460,\"Poprawny\",\"Niepoprawny\")))","v":""}]
[null,null,{"$f":"IF(Walidacja!A1461=\"\",\"\",(IF(Walidacja!A1461,\"Poprawny\",\"Niepoprawny\")))","v":""}]
[null,null,{"$f":"IF(Walidacja!A1462=\"\",\"\",(IF(Walidacja!A1462,\"Poprawny\",\"Niepoprawny\")))","v":""}]
[null,null,{"$f":"IF(Walidacja!A1463=\"\",\"\",(IF(Walidacja!A1463,\"Poprawny\",\"Niepoprawny\")))","v":""}]
[null,null,{"$f":"IF(Walidacja!A1464=\"\",\"\",(IF(Walidacja!A1464,\"Poprawny\",\"Niepoprawny\")))","v":""}]
[null,null,{"$f":"IF(Walidacja!A1465=\"\",\"\",(IF(Walidacja!A1465,\"Poprawny\",\"Niepoprawny\")))","v":""}]
[null,null,{"$f":"IF(Walidacja!A1466=\"\",\"\",(IF(Walidacja!A1466,\"Poprawny\",\"Niepoprawny\")))","v":""}]
[null,null,{"$f":"IF(Walidacja!A1467=\"\",\"\",(IF(Walidacja!A1467,\"Poprawny\",\"Niepoprawny\")))","v":""}]
[null,null,{"$f":"IF(Walidacja!A1468=\"\",\"\",(IF(Walidacja!A1468,\"Poprawny\",\"Niepoprawny\")))","v":""}]
[null,null,{"$f":"IF(Walidacja!A1469=\"\",\"\",(IF(Walidacja!A1469,\"Poprawny\",\"Niepoprawny\")))","v":""}]
[null,null,{"$f":"IF(Walidacja!A1470=\"\",\"\",(IF(Walidacja!A1470,\"Poprawny\",\"Niepoprawny\")))","v":""}]
[null,null,{"$f":"IF(Walidacja!A1471=\"\",\"\",(IF(Walidacja!A1471,\"Poprawny\",\"Niepoprawny\")))","v":""}]
[null,null,{"$f":"IF(Walidacja!A1472=\"\",\"\",(IF(Walidacja!A1472,\"Poprawny\",\"Niepoprawny\")))","v":""}]
[null,null,{"$f":"IF(Walidacja!A1473=\"\",\"\",(IF(Walidacja!A1473,\"Poprawny\",\"Niepoprawny\")))","v":""}]
[null,null,{"$f":"IF(Walidacja!A1474=\"\",\"\",(IF(Walidacja!A1474,\"Poprawny\",\"Niepoprawny\")))","v":""}]
[null,null,{"$f":"IF(Walidacja!A1475=\"\",\"\",(IF(Walidacja!A1475,\"Poprawny\",\"Niepoprawny\")))","v":""}]
[null,null,{"$f":"IF(Walidacja!A1476=\"\",\"\",(IF(Walidacja!A1476,\"Poprawny\",\"Niepoprawny\")))","v":""}]
[null,null,{"$f":"IF(Walidacja!A1477=\"\",\"\",(IF(Walidacja!A1477,\"Poprawny\",\"Niepoprawny\")))","v":""}]
[null,null,{"$f":"IF(Walidacja!A1478=\"\",\"\",(IF(Walidacja!A1478,\"Poprawny\",\"Niepoprawny\")))","v":""}]
[null,null,{"$f":"IF(Walidacja!A1479=\"\",\"\",(IF(Walidacja!A1479,\"Poprawny\",\"Niepoprawny\")))","v":""}]
[null,null,{"$f":"IF(Walidacja!A1480=\"\",\"\",(IF(Walidacja!A1480,\"Poprawny\",\"Niepoprawny\")))","v":""}]
[null,null,{"$f":"IF(Walidacja!A1481=\"\",\"\",(IF(Walidacja!A1481,\"Poprawny\",\"Niepoprawny\")))","v":""}]
[null,null,{"$f":"IF(Walidacja!A1482=\"\",\"\",(IF(Walidacja!A1482,\"Poprawny\",\"Niepoprawny\")))","v":""}]
[null,null,{"$f":"IF(Walidacja!A1483=\"\",\"\",(IF(Walidacja!A1483,\"Poprawny\",\"Niepoprawny\")))","v":""}]
[null,null,{"$f":"IF(Walidacja!A1484=\"\",\"\",(IF(Walidacja!A1484,\"Poprawny\",\"Niepoprawny\")))","v":""}]
[null,null,{"$f":"IF(Walidacja!A1485=\"\",\"\",(IF(Walidacja!A1485,\"Poprawny\",\"Niepoprawny\")))","v":""}]
[null,null,{"$f":"IF(Walidacja!A1486=\"\",\"\",(IF(Walidacja!A1486,\"Poprawny\",\"Niepoprawny\")))","v":""}]
[null,null,{"$f":"IF(Walidacja!A1487=\"\",\"\",(IF(Walidacja!A1487,\"Poprawny\",\"Niepoprawny\")))","v":""}]
[null,null,{"$f":"IF(Walidacja!A1488=\"\",\"\",(IF(Walidacja!A1488,\"Poprawny\",\"Niepoprawny\")))","v":""}]
[null,null,{"$f":"IF(Walidacja!A1489=\"\",\"\",(IF(Walidacja!A1489,\"Poprawny\",\"Niepoprawny\")))","v":""}]
[null,null,{"$f":"IF(Walidacja!A1490=\"\",\"\",(IF(Walidacja!A1490,\"Poprawny\",\"Niepoprawny\")))","v":""}]
[null,null,{"$f":"IF(Walidacja!A1491=\"\",\"\",(IF(Walidacja!A1491,\"Poprawny\",\"Niepoprawny\")))","v":""}]
[null,null,{"$f":"IF(Walidacja!A1492=\"\",\"\",(IF(Walidacja!A1492,\"Poprawny\",\"Niepoprawny\")))","v":""}]
[null,null,{"$f":"IF(Walidacja!A1493=\"\",\"\",(IF(Walidacja!A1493,\"Poprawny\",\"Niepoprawny\")))","v":""}]
[null,null,{"$f":"IF(Walidacja!A1494=\"\",\"\",(IF(Walidacja!A1494,\"Poprawny\",\"Niepoprawny\")))","v":""}]
[null,null,{"$f":"IF(Walidacja!A1495=\"\",\"\",(IF(Walidacja!A1495,\"Poprawny\",\"Niepoprawny\")))","v":""}]
[null,null,{"$f":"IF(Walidacja!A1496=\"\",\"\",(IF(Walidacja!A1496,\"Poprawny\",\"Niepoprawny\")))","v":""}]
[null,null,{"$f":"IF(Walidacja!A1497=\"\",\"\",(IF(Walidacja!A1497,\"Poprawny\",\"Niepoprawny\")))","v":""}]
[null,null,{"$f":"IF(Walidacja!A1498=\"\",\"\",(IF(Walidacja!A1498,\"Poprawny\",\"Niepoprawny\")))","v":""}]
[null,null,{"$f":"IF(Walidacja!A1499=\"\",\"\",(IF(Walidacja!A1499,\"Poprawny\",\"Niepoprawny\")))","v":""}]
[null,null,{"$f":"IF(Walidacja!A1500=\"\",\"\",(IF(Walidacja!A1500,\"Poprawny\",\"Niepoprawny\")))","v":""}]
[null,null,{"$f":"IF(Walidacja!A1501=\"\",\"\",(IF(Walidacja!A1501,\"Poprawny\",\"Niepoprawny\")))","v":""}]
[null,null,{"$f":"IF(Walidacja!A1502=\"\",\"\",(IF(Walidacja!A1502,\"Poprawny\",\"Niepoprawny\")))","v":""}]
[null,null,{"$f":"IF(Walidacja!A1503=\"\",\"\",(IF(Walidacja!A1503,\"Poprawny\",\"Niepoprawny\")))","v":""}]
[null,null,{"$f":"IF(Walidacja!A1504=\"\",\"\",(IF(Walidacja!A1504,\"Poprawny\",\"Niepoprawny\")))","v":""}]
[null,null,{"$f":"IF(Walidacja!A1505=\"\",\"\",(IF(Walidacja!A1505,\"Poprawny\",\"Niepoprawny\")))","v":""}]
[null,null,{"$f":"IF(Walidacja!A1506=\"\",\"\",(IF(Walidacja!A1506,\"Poprawny\",\"Niepoprawny\")))","v":""}]
[null,null,{"$f":"IF(Walidacja!A1507=\"\",\"\",(IF(Walidacja!A1507,\"Poprawny\",\"Niepoprawny\")))","v":""}]
[null,null,{"$f":"IF(Walidacja!A1508=\"\",\"\",(IF(Walidacja!A1508,\"Poprawny\",\"Niepoprawny\")))","v":""}]
[null,null,{"$f":"IF(Walidacja!A1509=\"\",\"\",(IF(Walidacja!A1509,\"Poprawny\",\"Niepoprawny\")))","v":""}]
[null,null,{"$f":"IF(Walidacja!A1510=\"\",\"\",(IF(Walidacja!A1510,\"Poprawny\",\"Niepoprawny\")))","v":""}]
[null,null,{"$f":"IF(Walidacja!A1511=\"\",\"\",(IF(Walidacja!A1511,\"Poprawny\",\"Niepoprawny\")))","v":""}]
[null,null,{"$f":"IF(Walidacja!A1512=\"\",\"\",(IF(Walidacja!A1512,\"Poprawny\",\"Niepoprawny\")))","v":""}]
[null,null,{"$f":"IF(Walidacja!A1513=\"\",\"\",(IF(Walidacja!A1513,\"Poprawny\",\"Niepoprawny\")))","v":""}]
[null,null,{"$f":"IF(Walidacja!A1514=\"\",\"\",(IF(Walidacja!A1514,\"Poprawny\",\"Niepoprawny\")))","v":""}]
[null,null,{"$f":"IF(Walidacja!A1515=\"\",\"\",(IF(Walidacja!A1515,\"Poprawny\",\"Niepoprawny\")))","v":""}]
[null,null,{"$f":"IF(Walidacja!A1516=\"\",\"\",(IF(Walidacja!A1516,\"Poprawny\",\"Niepoprawny\")))","v":""}]
[null,null,{"$f":"IF(Walidacja!A1517=\"\",\"\",(IF(Walidacja!A1517,\"Poprawny\",\"Niepoprawny\")))","v":""}]
[null,null,{"$f":"IF(Walidacja!A1518=\"\",\"\",(IF(Walidacja!A1518,\"Poprawny\",\"Niepoprawny\")))","v":""}]
[null,null,{"$f":"IF(Walidacja!A1519=\"\",\"\",(IF(Walidacja!A1519,\"Poprawny\",\"Niepoprawny\")))","v":""}]
[null,null,{"$f":"IF(Walidacja!A1520=\"\",\"\",(IF(Walidacja!A1520,\"Poprawny\",\"Niepoprawny\")))","v":""}]
[null,null,{"$f":"IF(Walidacja!A1521=\"\",\"\",(IF(Walidacja!A1521,\"Poprawny\",\"Niepoprawny\")))","v":""}]
[null,null,{"$f":"IF(Walidacja!A1522=\"\",\"\",(IF(Walidacja!A1522,\"Poprawny\",\"Niepoprawny\")))","v":""}]
[null,null,{"$f":"IF(Walidacja!A1523=\"\",\"\",(IF(Walidacja!A1523,\"Poprawny\",\"Niepoprawny\")))","v":""}]
[null,null,{"$f":"IF(Walidacja!A1524=\"\",\"\",(IF(Walidacja!A1524,\"Poprawny\",\"Niepoprawny\")))","v":""}]
[null,null,{"$f":"IF(Walidacja!A1525=\"\",\"\",(IF(Walidacja!A1525,\"Poprawny\",\"Niepoprawny\")))","v":""}]
[null,null,{"$f":"IF(Walidacja!A1526=\"\",\"\",(IF(Walidacja!A1526,\"Poprawny\",\"Niepoprawny\")))","v":""}]
[null,null,{"$f":"IF(Walidacja!A1527=\"\",\"\",(IF(Walidacja!A1527,\"Poprawny\",\"Niepoprawny\")))","v":""}]
[null,null,{"$f":"IF(Walidacja!A1528=\"\",\"\",(IF(Walidacja!A1528,\"Poprawny\",\"Niepoprawny\")))","v":""}]
[null,null,{"$f":"IF(Walidacja!A1529=\"\",\"\",(IF(Walidacja!A1529,\"Poprawny\",\"Niepoprawny\")))","v":""}]
[null,null,{"$f":"IF(Walidacja!A1530=\"\",\"\",(IF(Walidacja!A1530,\"Poprawny\",\"Niepoprawny\")))","v":""}]
[null,null,{"$f":"IF(Walidacja!A1531=\"\",\"\",(IF(Walidacja!A1531,\"Poprawny\",\"Niepoprawny\")))","v":""}]
[null,null,{"$f":"IF(Walidacja!A1532=\"\",\"\",(IF(Walidacja!A1532,\"Poprawny\",\"Niepoprawny\")))","v":""}]
[null,null,{"$f":"IF(Walidacja!A1533=\"\",\"\",(IF(Walidacja!A1533,\"Poprawny\",\"Niepoprawny\")))","v":""}]
[null,null,{"$f":"IF(Walidacja!A1534=\"\",\"\",(IF(Walidacja!A1534,\"Poprawny\",\"Niepoprawny\")))","v":""}]
[null,null,{"$f":"IF(Walidacja!A1535=\"\",\"\",(IF(Walidacja!A1535,\"Poprawny\",\"Niepoprawny\")))","v":""}]
[null,null,{"$f":"IF(Walidacja!A1536=\"\",\"\",(IF(Walidacja!A1536,\"Poprawny\",\"Niepoprawny\")))","v":""}]
[null,null,{"$f":"IF(Walidacja!A1537=\"\",\"\",(IF(Walidacja!A1537,\"Poprawny\",\"Niepoprawny\")))","v":""}]
[null,null,{"$f":"IF(Walidacja!A1538=\"\",\"\",(IF(Walidacja!A1538,\"Poprawny\",\"Niepoprawny\")))","v":""}]
[null,null,{"$f":"IF(Walidacja!A1539=\"\",\"\",(IF(Walidacja!A1539,\"Poprawny\",\"Niepoprawny\")))","v":""}]
[null,null,{"$f":"IF(Walidacja!A1540=\"\",\"\",(IF(Walidacja!A1540,\"Poprawny\",\"Niepoprawny\")))","v":""}]
[null,null,{"$f":"IF(Walidacja!A1541=\"\",\"\",(IF(Walidacja!A1541,\"Poprawny\",\"Niepoprawny\")))","v":""}]
[null,null,{"$f":"IF(Walidacja!A1542=\"\",\"\",(IF(Walidacja!A1542,\"Poprawny\",\"Niepoprawny\")))","v":""}]
[null,null,{"$f":"IF(Walidacja!A1543=\"\",\"\",(IF(Walidacja!A1543,\"Poprawny\",\"Niepoprawny\")))","v":""}]
[null,null,{"$f":"IF(Walidacja!A1544=\"\",\"\",(IF(Walidacja!A1544,\"Poprawny\",\"Niepoprawny\")))","v":""}]
[null,null,{"$f":"IF(Walidacja!A1545=\"\",\"\",(IF(Walidacja!A1545,\"Poprawny\",\"Niepoprawny\")))","v":""}]
[null,null,{"$f":"IF(Walidacja!A1546=\"\",\"\",(IF(Walidacja!A1546,\"Poprawny\",\"Niepoprawny\")))","v":""}]
[null,null,{"$f":"IF(Walidacja!A1547=\"\",\"\",(IF(Walidacja!A1547,\"Poprawny\",\"Niepoprawny\")))","v":""}]
[null,null,{"$f":"IF(Walidacja!A1548=\"\",\"\",(IF(Walidacja!A1548,\"Poprawny\",\"Niepoprawny\")))","v":""}]
[null,null,{"$f":"IF(Walidacja!A1549=\"\",\"\",(IF(Walidacja!A1549,\"Poprawny\",\"Niepoprawny\")))","v":""}]
[null,null,{"$f":"IF(Walidacja!A1550=\"\",\"\",(IF(Walidacja!A1550,\"Poprawny\",\"Niepoprawny\")))","v":""}]
[null,null,{"$f":"IF(Walidacja!A1551=\"\",\"\",(IF(Walidacja!A1551,\"Poprawny\",\"Niepoprawny\")))","v":""}]
[null,null,{"$f":"IF(Walidacja!A1552=\"\",\"\",(IF(Walidacja!A1552,\"Poprawny\",\"Niepoprawny\")))","v":""}]
[null,null,{"$f":"IF(Walidacja!A1553=\"\",\"\",(IF(Walidacja!A1553,\"Poprawny\",\"Niepoprawny\")))","v":""}]
[null,null,{"$f":"IF(Walidacja!A1554=\"\",\"\",(IF(Walidacja!A1554,\"Poprawny\",\"Niepoprawny\")))","v":""}]
[null,null,{"$f":"IF(Walidacja!A1555=\"\",\"\",(IF(Walidacja!A1555,\"Poprawny\",\"Niepoprawny\")))","v":""}]
[null,null,{"$f":"IF(Walidacja!A1556=\"\",\"\",(IF(Walidacja!A1556,\"Poprawny\",\"Niepoprawny\")))","v":""}]
[null,null,{"$f":"IF(Walidacja!A1557=\"\",\"\",(IF(Walidacja!A1557,\"Poprawny\",\"Niepoprawny\")))","v":""}]
[null,null,{"$f":"IF(Walidacja!A1558=\"\",\"\",(IF(Walidacja!A1558,\"Poprawny\",\"Niepoprawny\")))","v":""}]
[null,null,{"$f":"IF(Walidacja!A1559=\"\",\"\",(IF(Walidacja!A1559,\"Poprawny\",\"Niepoprawny\")))","v":""}]
[null,null,{"$f":"IF(Walidacja!A1560=\"\",\"\",(IF(Walidacja!A1560,\"Poprawny\",\"Niepoprawny\")))","v":""}]
[null,null,{"$f":"IF(Walidacja!A1561=\"\",\"\",(IF(Walidacja!A1561,\"Poprawny\",\"Niepoprawny\")))","v":""}]
[null,null,{"$f":"IF(Walidacja!A1562=\"\",\"\",(IF(Walidacja!A1562,\"Poprawny\",\"Niepoprawny\")))","v":""}]
[null,null,{"$f":"IF(Walidacja!A1563=\"\",\"\",(IF(Walidacja!A1563,\"Poprawny\",\"Niepoprawny\")))","v":""}]
[null,null,{"$f":"IF(Walidacja!A1564=\"\",\"\",(IF(Walidacja!A1564,\"Poprawny\",\"Niepoprawny\")))","v":""}]
[null,null,{"$f":"IF(Walidacja!A1565=\"\",\"\",(IF(Walidacja!A1565,\"Poprawny\",\"Niepoprawny\")))","v":""}]
[null,null,{"$f":"IF(Walidacja!A1566=\"\",\"\",(IF(Walidacja!A1566,\"Poprawny\",\"Niepoprawny\")))","v":""}]
[null,null,{"$f":"IF(Walidacja!A1567=\"\",\"\",(IF(Walidacja!A1567,\"Poprawny\",\"Niepoprawny\")))","v":""}]
[null,null,{"$f":"IF(Walidacja!A1568=\"\",\"\",(IF(Walidacja!A1568,\"Poprawny\",\"Niepoprawny\")))","v":""}]
[null,null,{"$f":"IF(Walidacja!A1569=\"\",\"\",(IF(Walidacja!A1569,\"Poprawny\",\"Niepoprawny\")))","v":""}]
[null,null,{"$f":"IF(Walidacja!A1570=\"\",\"\",(IF(Walidacja!A1570,\"Poprawny\",\"Niepoprawny\")))","v":""}]
[null,null,{"$f":"IF(Walidacja!A1571=\"\",\"\",(IF(Walidacja!A1571,\"Poprawny\",\"Niepoprawny\")))","v":""}]
[null,null,{"$f":"IF(Walidacja!A1572=\"\",\"\",(IF(Walidacja!A1572,\"Poprawny\",\"Niepoprawny\")))","v":""}]
[null,null,{"$f":"IF(Walidacja!A1573=\"\",\"\",(IF(Walidacja!A1573,\"Poprawny\",\"Niepoprawny\")))","v":""}]
[null,null,{"$f":"IF(Walidacja!A1574=\"\",\"\",(IF(Walidacja!A1574,\"Poprawny\",\"Niepoprawny\")))","v":""}]
[null,null,{"$f":"IF(Walidacja!A1575=\"\",\"\",(IF(Walidacja!A1575,\"Poprawny\",\"Niepoprawny\")))","v":""}]
[null,null,{"$f":"IF(Walidacja!A1576=\"\",\"\",(IF(Walidacja!A1576,\"Poprawny\",\"Niepoprawny\")))","v":""}]
[null,null,{"$f":"IF(Walidacja!A1577=\"\",\"\",(IF(Walidacja!A1577,\"Poprawny\",\"Niepoprawny\")))","v":""}]
[null,null,{"$f":"IF(Walidacja!A1578=\"\",\"\",(IF(Walidacja!A1578,\"Poprawny\",\"Niepoprawny\")))","v":""}]
[null,null,{"$f":"IF(Walidacja!A1579=\"\",\"\",(IF(Walidacja!A1579,\"Poprawny\",\"Niepoprawny\")))","v":""}]
[null,null,{"$f":"IF(Walidacja!A1580=\"\",\"\",(IF(Walidacja!A1580,\"Poprawny\",\"Niepoprawny\")))","v":""}]
[null,null,{"$f":"IF(Walidacja!A1581=\"\",\"\",(IF(Walidacja!A1581,\"Poprawny\",\"Niepoprawny\")))","v":""}]
[null,null,{"$f":"IF(Walidacja!A1582=\"\",\"\",(IF(Walidacja!A1582,\"Poprawny\",\"Niepoprawny\")))","v":""}]
[null,null,{"$f":"IF(Walidacja!A1583=\"\",\"\",(IF(Walidacja!A1583,\"Poprawny\",\"Niepoprawny\")))","v":""}]
[null,null,{"$f":"IF(Walidacja!A1584=\"\",\"\",(IF(Walidacja!A1584,\"Poprawny\",\"Niepoprawny\")))","v":""}]
[null,null,{"$f":"IF(Walidacja!A1585=\"\",\"\",(IF(Walidacja!A1585,\"Poprawny\",\"Niepoprawny\")))","v":""}]
[null,null,{"$f":"IF(Walidacja!A1586=\"\",\"\",(IF(Walidacja!A1586,\"Poprawny\",\"Niepoprawny\")))","v":""}]
[null,null,{"$f":"IF(Walidacja!A1587=\"\",\"\",(IF(Walidacja!A1587,\"Poprawny\",\"Niepoprawny\")))","v":""}]
[null,null,{"$f":"IF(Walidacja!A1588=\"\",\"\",(IF(Walidacja!A1588,\"Poprawny\",\"Niepoprawny\")))","v":""}]
[null,null,{"$f":"IF(Walidacja!A1589=\"\",\"\",(IF(Walidacja!A1589,\"Poprawny\",\"Niepoprawny\")))","v":""}]
[null,null,{"$f":"IF(Walidacja!A1590=\"\",\"\",(IF(Walidacja!A1590,\"Poprawny\",\"Niepoprawny\")))","v":""}]
[null,null,{"$f":"IF(Walidacja!A1591=\"\",\"\",(IF(Walidacja!A1591,\"Poprawny\",\"Niepoprawny\")))","v":""}]
[null,null,{"$f":"IF(Walidacja!A1592=\"\",\"\",(IF(Walidacja!A1592,\"Poprawny\",\"Niepoprawny\")))","v":""}]
[null,null,{"$f":"IF(Walidacja!A1593=\"\",\"\",(IF(Walidacja!A1593,\"Poprawny\",\"Niepoprawny\")))","v":""}]
[null,null,{"$f":"IF(Walidacja!A1594=\"\",\"\",(IF(Walidacja!A1594,\"Poprawny\",\"Niepoprawny\")))","v":""}]
[null,null,{"$f":"IF(Walidacja!A1595=\"\",\"\",(IF(Walidacja!A1595,\"Poprawny\",\"Niepoprawny\")))","v":""}]
[null,null,{"$f":"IF(Walidacja!A1596=\"\",\"\",(IF(Walidacja!A1596,\"Poprawny\",\"Niepoprawny\")))","v":""}]
[null,null,{"$f":"IF(Walidacja!A1597=\"\",\"\",(IF(Walidacja!A1597,\"Poprawny\",\"Niepoprawny\")))","v":""}]
[null,null,{"$f":"IF(Walidacja!A1598=\"\",\"\",(IF(Walidacja!A1598,\"Poprawny\",\"Niepoprawny\")))","v":""}]
[null,null,{"$f":"IF(Walidacja!A1599=\"\",\"\",(IF(Walidacja!A1599,\"Poprawny\",\"Niepoprawny\")))","v":""}]
[null,null,{"$f":"IF(Walidacja!A1600=\"\",\"\",(IF(Walidacja!A1600,\"Poprawny\",\"Niepoprawny\")))","v":""}]
[null,null,{"$f":"IF(Walidacja!A1601=\"\",\"\",(IF(Walidacja!A1601,\"Poprawny\",\"Niepoprawny\")))","v":""}]
[null,null,{"$f":"IF(Walidacja!A1602=\"\",\"\",(IF(Walidacja!A1602,\"Poprawny\",\"Niepoprawny\")))","v":""}]
[null,null,{"$f":"IF(Walidacja!A1603=\"\",\"\",(IF(Walidacja!A1603,\"Poprawny\",\"Niepoprawny\")))","v":""}]
[null,null,{"$f":"IF(Walidacja!A1604=\"\",\"\",(IF(Walidacja!A1604,\"Poprawny\",\"Niepoprawny\")))","v":""}]
[null,null,{"$f":"IF(Walidacja!A1605=\"\",\"\",(IF(Walidacja!A1605,\"Poprawny\",\"Niepoprawny\")))","v":""}]
[null,null,{"$f":"IF(Walidacja!A1606=\"\",\"\",(IF(Walidacja!A1606,\"Poprawny\",\"Niepoprawny\")))","v":""}]
[null,null,{"$f":"IF(Walidacja!A1607=\"\",\"\",(IF(Walidacja!A1607,\"Poprawny\",\"Niepoprawny\")))","v":""}]
[null,null,{"$f":"IF(Walidacja!A1608=\"\",\"\",(IF(Walidacja!A1608,\"Poprawny\",\"Niepoprawny\")))","v":""}]
[null,null,{"$f":"IF(Walidacja!A1609=\"\",\"\",(IF(Walidacja!A1609,\"Poprawny\",\"Niepoprawny\")))","v":""}]
[null,null,{"$f":"IF(Walidacja!A1610=\"\",\"\",(IF(Walidacja!A1610,\"Poprawny\",\"Niepoprawny\")))","v":""}]
[null,null,{"$f":"IF(Walidacja!A1611=\"\",\"\",(IF(Walidacja!A1611,\"Poprawny\",\"Niepoprawny\")))","v":""}]
[null,null,{"$f":"IF(Walidacja!A1612=\"\",\"\",(IF(Walidacja!A1612,\"Poprawny\",\"Niepoprawny\")))","v":""}]
[null,null,{"$f":"IF(Walidacja!A1613=\"\",\"\",(IF(Walidacja!A1613,\"Poprawny\",\"Niepoprawny\")))","v":""}]
[null,null,{"$f":"IF(Walidacja!A1614=\"\",\"\",(IF(Walidacja!A1614,\"Poprawny\",\"Niepoprawny\")))","v":""}]
[null,null,{"$f":"IF(Walidacja!A1615=\"\",\"\",(IF(Walidacja!A1615,\"Poprawny\",\"Niepoprawny\")))","v":""}]
[null,null,{"$f":"IF(Walidacja!A1616=\"\",\"\",(IF(Walidacja!A1616,\"Poprawny\",\"Niepoprawny\")))","v":""}]
[null,null,{"$f":"IF(Walidacja!A1617=\"\",\"\",(IF(Walidacja!A1617,\"Poprawny\",\"Niepoprawny\")))","v":""}]
[null,null,{"$f":"IF(Walidacja!A1618=\"\",\"\",(IF(Walidacja!A1618,\"Poprawny\",\"Niepoprawny\")))","v":""}]
[null,null,{"$f":"IF(Walidacja!A1619=\"\",\"\",(IF(Walidacja!A1619,\"Poprawny\",\"Niepoprawny\")))","v":""}]
[null,null,{"$f":"IF(Walidacja!A1620=\"\",\"\",(IF(Walidacja!A1620,\"Poprawny\",\"Niepoprawny\")))","v":""}]
[null,null,{"$f":"IF(Walidacja!A1621=\"\",\"\",(IF(Walidacja!A1621,\"Poprawny\",\"Niepoprawny\")))","v":""}]
[null,null,{"$f":"IF(Walidacja!A1622=\"\",\"\",(IF(Walidacja!A1622,\"Poprawny\",\"Niepoprawny\")))","v":""}]
[null,null,{"$f":"IF(Walidacja!A1623=\"\",\"\",(IF(Walidacja!A1623,\"Poprawny\",\"Niepoprawny\")))","v":""}]
[null,null,{"$f":"IF(Walidacja!A1624=\"\",\"\",(IF(Walidacja!A1624,\"Poprawny\",\"Niepoprawny\")))","v":""}]
[null,null,{"$f":"IF(Walidacja!A1625=\"\",\"\",(IF(Walidacja!A1625,\"Poprawny\",\"Niepoprawny\")))","v":""}]
[null,null,{"$f":"IF(Walidacja!A1626=\"\",\"\",(IF(Walidacja!A1626,\"Poprawny\",\"Niepoprawny\")))","v":""}]
[null,null,{"$f":"IF(Walidacja!A1627=\"\",\"\",(IF(Walidacja!A1627,\"Poprawny\",\"Niepoprawny\")))","v":""}]
[null,null,{"$f":"IF(Walidacja!A1628=\"\",\"\",(IF(Walidacja!A1628,\"Poprawny\",\"Niepoprawny\")))","v":""}]
[null,null,{"$f":"IF(Walidacja!A1629=\"\",\"\",(IF(Walidacja!A1629,\"Poprawny\",\"Niepoprawny\")))","v":""}]
[null,null,{"$f":"IF(Walidacja!A1630=\"\",\"\",(IF(Walidacja!A1630,\"Poprawny\",\"Niepoprawny\")))","v":""}]
[null,null,{"$f":"IF(Walidacja!A1631=\"\",\"\",(IF(Walidacja!A1631,\"Poprawny\",\"Niepoprawny\")))","v":""}]
[null,null,{"$f":"IF(Walidacja!A1632=\"\",\"\",(IF(Walidacja!A1632,\"Poprawny\",\"Niepoprawny\")))","v":""}]
[null,null,{"$f":"IF(Walidacja!A1633=\"\",\"\",(IF(Walidacja!A1633,\"Poprawny\",\"Niepoprawny\")))","v":""}]
[null,null,{"$f":"IF(Walidacja!A1634=\"\",\"\",(IF(Walidacja!A1634,\"Poprawny\",\"Niepoprawny\")))","v":""}]
[null,null,{"$f":"IF(Walidacja!A1635=\"\",\"\",(IF(Walidacja!A1635,\"Poprawny\",\"Niepoprawny\")))","v":""}]
[null,null,{"$f":"IF(Walidacja!A1636=\"\",\"\",(IF(Walidacja!A1636,\"Poprawny\",\"Niepoprawny\")))","v":""}]
[null,null,{"$f":"IF(Walidacja!A1637=\"\",\"\",(IF(Walidacja!A1637,\"Poprawny\",\"Niepoprawny\")))","v":""}]
[null,null,{"$f":"IF(Walidacja!A1638=\"\",\"\",(IF(Walidacja!A1638,\"Poprawny\",\"Niepoprawny\")))","v":""}]
[null,null,{"$f":"IF(Walidacja!A1639=\"\",\"\",(IF(Walidacja!A1639,\"Poprawny\",\"Niepoprawny\")))","v":""}]
[null,null,{"$f":"IF(Walidacja!A1640=\"\",\"\",(IF(Walidacja!A1640,\"Poprawny\",\"Niepoprawny\")))","v":""}]
[null,null,{"$f":"IF(Walidacja!A1641=\"\",\"\",(IF(Walidacja!A1641,\"Poprawny\",\"Niepoprawny\")))","v":""}]
[null,null,{"$f":"IF(Walidacja!A1642=\"\",\"\",(IF(Walidacja!A1642,\"Poprawny\",\"Niepoprawny\")))","v":""}]
[null,null,{"$f":"IF(Walidacja!A1643=\"\",\"\",(IF(Walidacja!A1643,\"Poprawny\",\"Niepoprawny\")))","v":""}]
[null,null,{"$f":"IF(Walidacja!A1644=\"\",\"\",(IF(Walidacja!A1644,\"Poprawny\",\"Niepoprawny\")))","v":""}]
[null,null,{"$f":"IF(Walidacja!A1645=\"\",\"\",(IF(Walidacja!A1645,\"Poprawny\",\"Niepoprawny\")))","v":""}]
[null,null,{"$f":"IF(Walidacja!A1646=\"\",\"\",(IF(Walidacja!A1646,\"Poprawny\",\"Niepoprawny\")))","v":""}]
[null,null,{"$f":"IF(Walidacja!A1647=\"\",\"\",(IF(Walidacja!A1647,\"Poprawny\",\"Niepoprawny\")))","v":""}]
[null,null,{"$f":"IF(Walidacja!A1648=\"\",\"\",(IF(Walidacja!A1648,\"Poprawny\",\"Niepoprawny\")))","v":""}]
[null,null,{"$f":"IF(Walidacja!A1649=\"\",\"\",(IF(Walidacja!A1649,\"Poprawny\",\"Niepoprawny\")))","v":""}]
[null,null,{"$f":"IF(Walidacja!A1650=\"\",\"\",(IF(Walidacja!A1650,\"Poprawny\",\"Niepoprawny\")))","v":""}]
[null,null,{"$f":"IF(Walidacja!A1651=\"\",\"\",(IF(Walidacja!A1651,\"Poprawny\",\"Niepoprawny\")))","v":""}]
[null,null,{"$f":"IF(Walidacja!A1652=\"\",\"\",(IF(Walidacja!A1652,\"Poprawny\",\"Niepoprawny\")))","v":""}]
[null,null,{"$f":"IF(Walidacja!A1653=\"\",\"\",(IF(Walidacja!A1653,\"Poprawny\",\"Niepoprawny\")))","v":""}]
[null,null,{"$f":"IF(Walidacja!A1654=\"\",\"\",(IF(Walidacja!A1654,\"Poprawny\",\"Niepoprawny\")))","v":""}]
[null,null,{"$f":"IF(Walidacja!A1655=\"\",\"\",(IF(Walidacja!A1655,\"Poprawny\",\"Niepoprawny\")))","v":""}]
[null,null,{"$f":"IF(Walidacja!A1656=\"\",\"\",(IF(Walidacja!A1656,\"Poprawny\",\"Niepoprawny\")))","v":""}]
[null,null,{"$f":"IF(Walidacja!A1657=\"\",\"\",(IF(Walidacja!A1657,\"Poprawny\",\"Niepoprawny\")))","v":""}]
[null,null,{"$f":"IF(Walidacja!A1658=\"\",\"\",(IF(Walidacja!A1658,\"Poprawny\",\"Niepoprawny\")))","v":""}]
[null,null,{"$f":"IF(Walidacja!A1659=\"\",\"\",(IF(Walidacja!A1659,\"Poprawny\",\"Niepoprawny\")))","v":""}]
[null,null,{"$f":"IF(Walidacja!A1660=\"\",\"\",(IF(Walidacja!A1660,\"Poprawny\",\"Niepoprawny\")))","v":""}]
[null,null,{"$f":"IF(Walidacja!A1661=\"\",\"\",(IF(Walidacja!A1661,\"Poprawny\",\"Niepoprawny\")))","v":""}]
[null,null,{"$f":"IF(Walidacja!A1662=\"\",\"\",(IF(Walidacja!A1662,\"Poprawny\",\"Niepoprawny\")))","v":""}]
[null,null,{"$f":"IF(Walidacja!A1663=\"\",\"\",(IF(Walidacja!A1663,\"Poprawny\",\"Niepoprawny\")))","v":""}]
[null,null,{"$f":"IF(Walidacja!A1664=\"\",\"\",(IF(Walidacja!A1664,\"Poprawny\",\"Niepoprawny\")))","v":""}]
[null,null,{"$f":"IF(Walidacja!A1665=\"\",\"\",(IF(Walidacja!A1665,\"Poprawny\",\"Niepoprawny\")))","v":""}]
[null,null,{"$f":"IF(Walidacja!A1666=\"\",\"\",(IF(Walidacja!A1666,\"Poprawny\",\"Niepoprawny\")))","v":""}]
[null,null,{"$f":"IF(Walidacja!A1667=\"\",\"\",(IF(Walidacja!A1667,\"Poprawny\",\"Niepoprawny\")))","v":""}]
[null,null,{"$f":"IF(Walidacja!A1668=\"\",\"\",(IF(Walidacja!A1668,\"Poprawny\",\"Niepoprawny\")))","v":""}]
[null,null,{"$f":"IF(Walidacja!A1669=\"\",\"\",(IF(Walidacja!A1669,\"Poprawny\",\"Niepoprawny\")))","v":""}]
[null,null,{"$f":"IF(Walidacja!A1670=\"\",\"\",(IF(Walidacja!A1670,\"Poprawny\",\"Niepoprawny\")))","v":""}]
[null,null,{"$f":"IF(Walidacja!A1671=\"\",\"\",(IF(Walidacja!A1671,\"Poprawny\",\"Niepoprawny\")))","v":""}]
[null,null,{"$f":"IF(Walidacja!A1672=\"\",\"\",(IF(Walidacja!A1672,\"Poprawny\",\"Niepoprawny\")))","v":""}]
[null,null,{"$f":"IF(Walidacja!A1673=\"\",\"\",(IF(Walidacja!A1673,\"Poprawny\",\"Niepoprawny\")))","v":""}]
[null,null,{"$f":"IF(Walidacja!A1674=\"\",\"\",(IF(Walidacja!A1674,\"Poprawny\",\"Niepoprawny\")))","v":""}]
[null,null,{"$f":"IF(Walidacja!A1675=\"\",\"\",(IF(Walidacja!A1675,\"Poprawny\",\"Niepoprawny\")))","v":""}]
[null,null,{"$f":"IF(Walidacja!A1676=\"\",\"\",(IF(Walidacja!A1676,\"Poprawny\",\"Niepoprawny\")))","v":""}]
[null,null,{"$f":"IF(Walidacja!A1677=\"\",\"\",(IF(Walidacja!A1677,\"Poprawny\",\"Niepoprawny\")))","v":""}]
[null,null,{"$f":"IF(Walidacja!A1678=\"\",\"\",(IF(Walidacja!A1678,\"Poprawny\",\"Niepoprawny\")))","v":""}]
[null,null,{"$f":"IF(Walidacja!A1679=\"\",\"\",(IF(Walidacja!A1679,\"Poprawny\",\"Niepoprawny\")))","v":""}]
[null,null,{"$f":"IF(Walidacja!A1680=\"\",\"\",(IF(Walidacja!A1680,\"Poprawny\",\"Niepoprawny\")))","v":""}]
[null,null,{"$f":"IF(Walidacja!A1681=\"\",\"\",(IF(Walidacja!A1681,\"Poprawny\",\"Niepoprawny\")))","v":""}]
[null,null,{"$f":"IF(Walidacja!A1682=\"\",\"\",(IF(Walidacja!A1682,\"Poprawny\",\"Niepoprawny\")))","v":""}]
[null,null,{"$f":"IF(Walidacja!A1683=\"\",\"\",(IF(Walidacja!A1683,\"Poprawny\",\"Niepoprawny\")))","v":""}]
[null,null,{"$f":"IF(Walidacja!A1684=\"\",\"\",(IF(Walidacja!A1684,\"Poprawny\",\"Niepoprawny\")))","v":""}]
[null,null,{"$f":"IF(Walidacja!A1685=\"\",\"\",(IF(Walidacja!A1685,\"Poprawny\",\"Niepoprawny\")))","v":""}]
[null,null,{"$f":"IF(Walidacja!A1686=\"\",\"\",(IF(Walidacja!A1686,\"Poprawny\",\"Niepoprawny\")))","v":""}]
[null,null,{"$f":"IF(Walidacja!A1687=\"\",\"\",(IF(Walidacja!A1687,\"Poprawny\",\"Niepoprawny\")))","v":""}]
[null,null,{"$f":"IF(Walidacja!A1688=\"\",\"\",(IF(Walidacja!A1688,\"Poprawny\",\"Niepoprawny\")))","v":""}]
[null,null,{"$f":"IF(Walidacja!A1689=\"\",\"\",(IF(Walidacja!A1689,\"Poprawny\",\"Niepoprawny\")))","v":""}]
[null,null,{"$f":"IF(Walidacja!A1690=\"\",\"\",(IF(Walidacja!A1690,\"Poprawny\",\"Niepoprawny\")))","v":""}]
[null,null,{"$f":"IF(Walidacja!A1691=\"\",\"\",(IF(Walidacja!A1691,\"Poprawny\",\"Niepoprawny\")))","v":""}]
[null,null,{"$f":"IF(Walidacja!A1692=\"\",\"\",(IF(Walidacja!A1692,\"Poprawny\",\"Niepoprawny\")))","v":""}]
[null,null,{"$f":"IF(Walidacja!A1693=\"\",\"\",(IF(Walidacja!A1693,\"Poprawny\",\"Niepoprawny\")))","v":""}]
[null,null,{"$f":"IF(Walidacja!A1694=\"\",\"\",(IF(Walidacja!A1694,\"Poprawny\",\"Niepoprawny\")))","v":""}]
[null,null,{"$f":"IF(Walidacja!A1695=\"\",\"\",(IF(Walidacja!A1695,\"Poprawny\",\"Niepoprawny\")))","v":""}]
[null,null,{"$f":"IF(Walidacja!A1696=\"\",\"\",(IF(Walidacja!A1696,\"Poprawny\",\"Niepoprawny\")))","v":""}]
[null,null,{"$f":"IF(Walidacja!A1697=\"\",\"\",(IF(Walidacja!A1697,\"Poprawny\",\"Niepoprawny\")))","v":""}]
[null,null,{"$f":"IF(Walidacja!A1698=\"\",\"\",(IF(Walidacja!A1698,\"Poprawny\",\"Niepoprawny\")))","v":""}]
[null,null,{"$f":"IF(Walidacja!A1699=\"\",\"\",(IF(Walidacja!A1699,\"Poprawny\",\"Niepoprawny\")))","v":""}]
[null,null,{"$f":"IF(Walidacja!A1700=\"\",\"\",(IF(Walidacja!A1700,\"Poprawny\",\"Niepoprawny\")))","v":""}]
[null,null,{"$f":"IF(Walidacja!A1701=\"\",\"\",(IF(Walidacja!A1701,\"Poprawny\",\"Niepoprawny\")))","v":""}]
[null,null,{"$f":"IF(Walidacja!A1702=\"\",\"\",(IF(Walidacja!A1702,\"Poprawny\",\"Niepoprawny\")))","v":""}]
[null,null,{"$f":"IF(Walidacja!A1703=\"\",\"\",(IF(Walidacja!A1703,\"Poprawny\",\"Niepoprawny\")))","v":""}]
[null,null,{"$f":"IF(Walidacja!A1704=\"\",\"\",(IF(Walidacja!A1704,\"Poprawny\",\"Niepoprawny\")))","v":""}]
[null,null,{"$f":"IF(Walidacja!A1705=\"\",\"\",(IF(Walidacja!A1705,\"Poprawny\",\"Niepoprawny\")))","v":""}]
[null,null,{"$f":"IF(Walidacja!A1706=\"\",\"\",(IF(Walidacja!A1706,\"Poprawny\",\"Niepoprawny\")))","v":""}]
[null,null,{"$f":"IF(Walidacja!A1707=\"\",\"\",(IF(Walidacja!A1707,\"Poprawny\",\"Niepoprawny\")))","v":""}]
[null,null,{"$f":"IF(Walidacja!A1708=\"\",\"\",(IF(Walidacja!A1708,\"Poprawny\",\"Niepoprawny\")))","v":""}]
[null,null,{"$f":"IF(Walidacja!A1709=\"\",\"\",(IF(Walidacja!A1709,\"Poprawny\",\"Niepoprawny\")))","v":""}]
[null,null,{"$f":"IF(Walidacja!A1710=\"\",\"\",(IF(Walidacja!A1710,\"Poprawny\",\"Niepoprawny\")))","v":""}]
[null,null,{"$f":"IF(Walidacja!A1711=\"\",\"\",(IF(Walidacja!A1711,\"Poprawny\",\"Niepoprawny\")))","v":""}]
[null,null,{"$f":"IF(Walidacja!A1712=\"\",\"\",(IF(Walidacja!A1712,\"Poprawny\",\"Niepoprawny\")))","v":""}]
[null,null,{"$f":"IF(Walidacja!A1713=\"\",\"\",(IF(Walidacja!A1713,\"Poprawny\",\"Niepoprawny\")))","v":""}]
[null,null,{"$f":"IF(Walidacja!A1714=\"\",\"\",(IF(Walidacja!A1714,\"Poprawny\",\"Niepoprawny\")))","v":""}]
[null,null,{"$f":"IF(Walidacja!A1715=\"\",\"\",(IF(Walidacja!A1715,\"Poprawny\",\"Niepoprawny\")))","v":""}]
[null,null,{"$f":"IF(Walidacja!A1716=\"\",\"\",(IF(Walidacja!A1716,\"Poprawny\",\"Niepoprawny\")))","v":""}]
[null,null,{"$f":"IF(Walidacja!A1717=\"\",\"\",(IF(Walidacja!A1717,\"Poprawny\",\"Niepoprawny\")))","v":""}]
[null,null,{"$f":"IF(Walidacja!A1718=\"\",\"\",(IF(Walidacja!A1718,\"Poprawny\",\"Niepoprawny\")))","v":""}]
[null,null,{"$f":"IF(Walidacja!A1719=\"\",\"\",(IF(Walidacja!A1719,\"Poprawny\",\"Niepoprawny\")))","v":""}]
[null,null,{"$f":"IF(Walidacja!A1720=\"\",\"\",(IF(Walidacja!A1720,\"Poprawny\",\"Niepoprawny\")))","v":""}]
[null,null,{"$f":"IF(Walidacja!A1721=\"\",\"\",(IF(Walidacja!A1721,\"Poprawny\",\"Niepoprawny\")))","v":""}]
[null,null,{"$f":"IF(Walidacja!A1722=\"\",\"\",(IF(Walidacja!A1722,\"Poprawny\",\"Niepoprawny\")))","v":""}]
[null,null,{"$f":"IF(Walidacja!A1723=\"\",\"\",(IF(Walidacja!A1723,\"Poprawny\",\"Niepoprawny\")))","v":""}]
[null,null,{"$f":"IF(Walidacja!A1724=\"\",\"\",(IF(Walidacja!A1724,\"Poprawny\",\"Niepoprawny\")))","v":""}]
[null,null,{"$f":"IF(Walidacja!A1725=\"\",\"\",(IF(Walidacja!A1725,\"Poprawny\",\"Niepoprawny\")))","v":""}]
[null,null,{"$f":"IF(Walidacja!A1726=\"\",\"\",(IF(Walidacja!A1726,\"Poprawny\",\"Niepoprawny\")))","v":""}]
[null,null,{"$f":"IF(Walidacja!A1727=\"\",\"\",(IF(Walidacja!A1727,\"Poprawny\",\"Niepoprawny\")))","v":""}]
[null,null,{"$f":"IF(Walidacja!A1728=\"\",\"\",(IF(Walidacja!A1728,\"Poprawny\",\"Niepoprawny\")))","v":""}]
[null,null,{"$f":"IF(Walidacja!A1729=\"\",\"\",(IF(Walidacja!A1729,\"Poprawny\",\"Niepoprawny\")))","v":""}]
[null,null,{"$f":"IF(Walidacja!A1730=\"\",\"\",(IF(Walidacja!A1730,\"Poprawny\",\"Niepoprawny\")))","v":""}]
[null,null,{"$f":"IF(Walidacja!A1731=\"\",\"\",(IF(Walidacja!A1731,\"Poprawny\",\"Niepoprawny\")))","v":""}]
[null,null,{"$f":"IF(Walidacja!A1732=\"\",\"\",(IF(Walidacja!A1732,\"Poprawny\",\"Niepoprawny\")))","v":""}]
[null,null,{"$f":"IF(Walidacja!A1733=\"\",\"\",(IF(Walidacja!A1733,\"Poprawny\",\"Niepoprawny\")))","v":""}]
[null,null,{"$f":"IF(Walidacja!A1734=\"\",\"\",(IF(Walidacja!A1734,\"Poprawny\",\"Niepoprawny\")))","v":""}]
[null,null,{"$f":"IF(Walidacja!A1735=\"\",\"\",(IF(Walidacja!A1735,\"Poprawny\",\"Niepoprawny\")))","v":""}]
[null,null,{"$f":"IF(Walidacja!A1736=\"\",\"\",(IF(Walidacja!A1736,\"Poprawny\",\"Niepoprawny\")))","v":""}]
[null,null,{"$f":"IF(Walidacja!A1737=\"\",\"\",(IF(Walidacja!A1737,\"Poprawny\",\"Niepoprawny\")))","v":""}]
[null,null,{"$f":"IF(Walidacja!A1738=\"\",\"\",(IF(Walidacja!A1738,\"Poprawny\",\"Niepoprawny\")))","v":""}]
[null,null,{"$f":"IF(Walidacja!A1739=\"\",\"\",(IF(Walidacja!A1739,\"Poprawny\",\"Niepoprawny\")))","v":""}]
[null,null,{"$f":"IF(Walidacja!A1740=\"\",\"\",(IF(Walidacja!A1740,\"Poprawny\",\"Niepoprawny\")))","v":""}]
[null,null,{"$f":"IF(Walidacja!A1741=\"\",\"\",(IF(Walidacja!A1741,\"Poprawny\",\"Niepoprawny\")))","v":""}]
[null,null,{"$f":"IF(Walidacja!A1742=\"\",\"\",(IF(Walidacja!A1742,\"Poprawny\",\"Niepoprawny\")))","v":""}]
[null,null,{"$f":"IF(Walidacja!A1743=\"\",\"\",(IF(Walidacja!A1743,\"Poprawny\",\"Niepoprawny\")))","v":""}]
[null,null,{"$f":"IF(Walidacja!A1744=\"\",\"\",(IF(Walidacja!A1744,\"Poprawny\",\"Niepoprawny\")))","v":""}]
[null,null,{"$f":"IF(Walidacja!A1745=\"\",\"\",(IF(Walidacja!A1745,\"Poprawny\",\"Niepoprawny\")))","v":""}]
[null,null,{"$f":"IF(Walidacja!A1746=\"\",\"\",(IF(Walidacja!A1746,\"Poprawny\",\"Niepoprawny\")))","v":""}]
[null,null,{"$f":"IF(Walidacja!A1747=\"\",\"\",(IF(Walidacja!A1747,\"Poprawny\",\"Niepoprawny\")))","v":""}]
[null,null,{"$f":"IF(Walidacja!A1748=\"\",\"\",(IF(Walidacja!A1748,\"Poprawny\",\"Niepoprawny\")))","v":""}]
[null,null,{"$f":"IF(Walidacja!A1749=\"\",\"\",(IF(Walidacja!A1749,\"Poprawny\",\"Niepoprawny\")))","v":""}]
[null,null,{"$f":"IF(Walidacja!A1750=\"\",\"\",(IF(Walidacja!A1750,\"Poprawny\",\"Niepoprawny\")))","v":""}]
[null,null,{"$f":"IF(Walidacja!A1751=\"\",\"\",(IF(Walidacja!A1751,\"Poprawny\",\"Niepoprawny\")))","v":""}]
[null,null,{"$f":"IF(Walidacja!A1752=\"\",\"\",(IF(Walidacja!A1752,\"Poprawny\",\"Niepoprawny\")))","v":""}]
[null,null,{"$f":"IF(Walidacja!A1753=\"\",\"\",(IF(Walidacja!A1753,\"Poprawny\",\"Niepoprawny\")))","v":""}]
[null,null,{"$f":"IF(Walidacja!A1754=\"\",\"\",(IF(Walidacja!A1754,\"Poprawny\",\"Niepoprawny\")))","v":""}]
[null,null,{"$f":"IF(Walidacja!A1755=\"\",\"\",(IF(Walidacja!A1755,\"Poprawny\",\"Niepoprawny\")))","v":""}]
[null,null,{"$f":"IF(Walidacja!A1756=\"\",\"\",(IF(Walidacja!A1756,\"Poprawny\",\"Niepoprawny\")))","v":""}]
[null,null,{"$f":"IF(Walidacja!A1757=\"\",\"\",(IF(Walidacja!A1757,\"Poprawny\",\"Niepoprawny\")))","v":""}]
[null,null,{"$f":"IF(Walidacja!A1758=\"\",\"\",(IF(Walidacja!A1758,\"Poprawny\",\"Niepoprawny\")))","v":""}]
[null,null,{"$f":"IF(Walidacja!A1759=\"\",\"\",(IF(Walidacja!A1759,\"Poprawny\",\"Niepoprawny\")))","v":""}]
[null,null,{"$f":"IF(Walidacja!A1760=\"\",\"\",(IF(Walidacja!A1760,\"Poprawny\",\"Niepoprawny\")))","v":""}]
[null,null,{"$f":"IF(Walidacja!A1761=\"\",\"\",(IF(Walidacja!A1761,\"Poprawny\",\"Niepoprawny\")))","v":""}]
[null,null,{"$f":"IF(Walidacja!A1762=\"\",\"\",(IF(Walidacja!A1762,\"Poprawny\",\"Niepoprawny\")))","v":""}]
[null,null,{"$f":"IF(Walidacja!A1763=\"\",\"\",(IF(Walidacja!A1763,\"Poprawny\",\"Niepoprawny\")))","v":""}]
[null,null,{"$f":"IF(Walidacja!A1764=\"\",\"\",(IF(Walidacja!A1764,\"Poprawny\",\"Niepoprawny\")))","v":""}]
[null,null,{"$f":"IF(Walidacja!A1765=\"\",\"\",(IF(Walidacja!A1765,\"Poprawny\",\"Niepoprawny\")))","v":""}]
[null,null,{"$f":"IF(Walidacja!A1766=\"\",\"\",(IF(Walidacja!A1766,\"Poprawny\",\"Niepoprawny\")))","v":""}]
[null,null,{"$f":"IF(Walidacja!A1767=\"\",\"\",(IF(Walidacja!A1767,\"Poprawny\",\"Niepoprawny\")))","v":""}]
[null,null,{"$f":"IF(Walidacja!A1768=\"\",\"\",(IF(Walidacja!A1768,\"Poprawny\",\"Niepoprawny\")))","v":""}]
[null,null,{"$f":"IF(Walidacja!A1769=\"\",\"\",(IF(Walidacja!A1769,\"Poprawny\",\"Niepoprawny\")))","v":""}]
[null,null,{"$f":"IF(Walidacja!A1770=\"\",\"\",(IF(Walidacja!A1770,\"Poprawny\",\"Niepoprawny\")))","v":""}]
[null,null,{"$f":"IF(Walidacja!A1771=\"\",\"\",(IF(Walidacja!A1771,\"Poprawny\",\"Niepoprawny\")))","v":""}]
[null,null,{"$f":"IF(Walidacja!A1772=\"\",\"\",(IF(Walidacja!A1772,\"Poprawny\",\"Niepoprawny\")))","v":""}]
[null,null,{"$f":"IF(Walidacja!A1773=\"\",\"\",(IF(Walidacja!A1773,\"Poprawny\",\"Niepoprawny\")))","v":""}]
[null,null,{"$f":"IF(Walidacja!A1774=\"\",\"\",(IF(Walidacja!A1774,\"Poprawny\",\"Niepoprawny\")))","v":""}]
[null,null,{"$f":"IF(Walidacja!A1775=\"\",\"\",(IF(Walidacja!A1775,\"Poprawny\",\"Niepoprawny\")))","v":""}]
[null,null,{"$f":"IF(Walidacja!A1776=\"\",\"\",(IF(Walidacja!A1776,\"Poprawny\",\"Niepoprawny\")))","v":""}]
[null,null,{"$f":"IF(Walidacja!A1777=\"\",\"\",(IF(Walidacja!A1777,\"Poprawny\",\"Niepoprawny\")))","v":""}]
[null,null,{"$f":"IF(Walidacja!A1778=\"\",\"\",(IF(Walidacja!A1778,\"Poprawny\",\"Niepoprawny\")))","v":""}]
[null,null,{"$f":"IF(Walidacja!A1779=\"\",\"\",(IF(Walidacja!A1779,\"Poprawny\",\"Niepoprawny\")))","v":""}]
[null,null,{"$f":"IF(Walidacja!A1780=\"\",\"\",(IF(Walidacja!A1780,\"Poprawny\",\"Niepoprawny\")))","v":""}]
[null,null,{"$f":"IF(Walidacja!A1781=\"\",\"\",(IF(Walidacja!A1781,\"Poprawny\",\"Niepoprawny\")))","v":""}]
[null,null,{"$f":"IF(Walidacja!A1782=\"\",\"\",(IF(Walidacja!A1782,\"Poprawny\",\"Niepoprawny\")))","v":""}]
[null,null,{"$f":"IF(Walidacja!A1783=\"\",\"\",(IF(Walidacja!A1783,\"Poprawny\",\"Niepoprawny\")))","v":""}]
[null,null,{"$f":"IF(Walidacja!A1784=\"\",\"\",(IF(Walidacja!A1784,\"Poprawny\",\"Niepoprawny\")))","v":""}]
[null,null,{"$f":"IF(Walidacja!A1785=\"\",\"\",(IF(Walidacja!A1785,\"Poprawny\",\"Niepoprawny\")))","v":""}]
[null,null,{"$f":"IF(Walidacja!A1786=\"\",\"\",(IF(Walidacja!A1786,\"Poprawny\",\"Niepoprawny\")))","v":""}]
[null,null,{"$f":"IF(Walidacja!A1787=\"\",\"\",(IF(Walidacja!A1787,\"Poprawny\",\"Niepoprawny\")))","v":""}]
[null,null,{"$f":"IF(Walidacja!A1788=\"\",\"\",(IF(Walidacja!A1788,\"Poprawny\",\"Niepoprawny\")))","v":""}]
[null,null,{"$f":"IF(Walidacja!A1789=\"\",\"\",(IF(Walidacja!A1789,\"Poprawny\",\"Niepoprawny\")))","v":""}]
[null,null,{"$f":"IF(Walidacja!A1790=\"\",\"\",(IF(Walidacja!A1790,\"Poprawny\",\"Niepoprawny\")))","v":""}]
[null,null,{"$f":"IF(Walidacja!A1791=\"\",\"\",(IF(Walidacja!A1791,\"Poprawny\",\"Niepoprawny\")))","v":""}]
[null,null,{"$f":"IF(Walidacja!A1792=\"\",\"\",(IF(Walidacja!A1792,\"Poprawny\",\"Niepoprawny\")))","v":""}]
[null,null,{"$f":"IF(Walidacja!A1793=\"\",\"\",(IF(Walidacja!A1793,\"Poprawny\",\"Niepoprawny\")))","v":""}]
[null,null,{"$f":"IF(Walidacja!A1794=\"\",\"\",(IF(Walidacja!A1794,\"Poprawny\",\"Niepoprawny\")))","v":""}]
[null,null,{"$f":"IF(Walidacja!A1795=\"\",\"\",(IF(Walidacja!A1795,\"Poprawny\",\"Niepoprawny\")))","v":""}]
[null,null,{"$f":"IF(Walidacja!A1796=\"\",\"\",(IF(Walidacja!A1796,\"Poprawny\",\"Niepoprawny\")))","v":""}]
[null,null,{"$f":"IF(Walidacja!A1797=\"\",\"\",(IF(Walidacja!A1797,\"Poprawny\",\"Niepoprawny\")))","v":""}]
[null,null,{"$f":"IF(Walidacja!A1798=\"\",\"\",(IF(Walidacja!A1798,\"Poprawny\",\"Niepoprawny\")))","v":""}]
[null,null,{"$f":"IF(Walidacja!A1799=\"\",\"\",(IF(Walidacja!A1799,\"Poprawny\",\"Niepoprawny\")))","v":""}]
[null,null,{"$f":"IF(Walidacja!A1800=\"\",\"\",(IF(Walidacja!A1800,\"Poprawny\",\"Niepoprawny\")))","v":""}]
[null,null,{"$f":"IF(Walidacja!A1801=\"\",\"\",(IF(Walidacja!A1801,\"Poprawny\",\"Niepoprawny\")))","v":""}]
[null,null,{"$f":"IF(Walidacja!A1802=\"\",\"\",(IF(Walidacja!A1802,\"Poprawny\",\"Niepoprawny\")))","v":""}]
[null,null,{"$f":"IF(Walidacja!A1803=\"\",\"\",(IF(Walidacja!A1803,\"Poprawny\",\"Niepoprawny\")))","v":""}]
[null,null,{"$f":"IF(Walidacja!A1804=\"\",\"\",(IF(Walidacja!A1804,\"Poprawny\",\"Niepoprawny\")))","v":""}]
[null,null,{"$f":"IF(Walidacja!A1805=\"\",\"\",(IF(Walidacja!A1805,\"Poprawny\",\"Niepoprawny\")))","v":""}]
[null,null,{"$f":"IF(Walidacja!A1806=\"\",\"\",(IF(Walidacja!A1806,\"Poprawny\",\"Niepoprawny\")))","v":""}]
[null,null,{"$f":"IF(Walidacja!A1807=\"\",\"\",(IF(Walidacja!A1807,\"Poprawny\",\"Niepoprawny\")))","v":""}]
[null,null,{"$f":"IF(Walidacja!A1808=\"\",\"\",(IF(Walidacja!A1808,\"Poprawny\",\"Niepoprawny\")))","v":""}]
[null,null,{"$f":"IF(Walidacja!A1809=\"\",\"\",(IF(Walidacja!A1809,\"Poprawny\",\"Niepoprawny\")))","v":""}]
[null,null,{"$f":"IF(Walidacja!A1810=\"\",\"\",(IF(Walidacja!A1810,\"Poprawny\",\"Niepoprawny\")))","v":""}]
[null,null,{"$f":"IF(Walidacja!A1811=\"\",\"\",(IF(Walidacja!A1811,\"Poprawny\",\"Niepoprawny\")))","v":""}]
[null,null,{"$f":"IF(Walidacja!A1812=\"\",\"\",(IF(Walidacja!A1812,\"Poprawny\",\"Niepoprawny\")))","v":""}]
[null,null,{"$f":"IF(Walidacja!A1813=\"\",\"\",(IF(Walidacja!A1813,\"Poprawny\",\"Niepoprawny\")))","v":""}]
[null,null,{"$f":"IF(Walidacja!A1814=\"\",\"\",(IF(Walidacja!A1814,\"Poprawny\",\"Niepoprawny\")))","v":""}]
[null,null,{"$f":"IF(Walidacja!A1815=\"\",\"\",(IF(Walidacja!A1815,\"Poprawny\",\"Niepoprawny\")))","v":""}]
[null,null,{"$f":"IF(Walidacja!A1816=\"\",\"\",(IF(Walidacja!A1816,\"Poprawny\",\"Niepoprawny\")))","v":""}]
[null,null,{"$f":"IF(Walidacja!A1817=\"\",\"\",(IF(Walidacja!A1817,\"Poprawny\",\"Niepoprawny\")))","v":""}]
[null,null,{"$f":"IF(Walidacja!A1818=\"\",\"\",(IF(Walidacja!A1818,\"Poprawny\",\"Niepoprawny\")))","v":""}]
[null,null,{"$f":"IF(Walidacja!A1819=\"\",\"\",(IF(Walidacja!A1819,\"Poprawny\",\"Niepoprawny\")))","v":""}]
[null,null,{"$f":"IF(Walidacja!A1820=\"\",\"\",(IF(Walidacja!A1820,\"Poprawny\",\"Niepoprawny\")))","v":""}]
[null,null,{"$f":"IF(Walidacja!A1821=\"\",\"\",(IF(Walidacja!A1821,\"Poprawny\",\"Niepoprawny\")))","v":""}]
[null,null,{"$f":"IF(Walidacja!A1822=\"\",\"\",(IF(Walidacja!A1822,\"Poprawny\",\"Niepoprawny\")))","v":""}]
[null,null,{"$f":"IF(Walidacja!A1823=\"\",\"\",(IF(Walidacja!A1823,\"Poprawny\",\"Niepoprawny\")))","v":""}]
[null,null,{"$f":"IF(Walidacja!A1824=\"\",\"\",(IF(Walidacja!A1824,\"Poprawny\",\"Niepoprawny\")))","v":""}]
[null,null,{"$f":"IF(Walidacja!A1825=\"\",\"\",(IF(Walidacja!A1825,\"Poprawny\",\"Niepoprawny\")))","v":""}]
[null,null,{"$f":"IF(Walidacja!A1826=\"\",\"\",(IF(Walidacja!A1826,\"Poprawny\",\"Niepoprawny\")))","v":""}]
[null,null,{"$f":"IF(Walidacja!A1827=\"\",\"\",(IF(Walidacja!A1827,\"Poprawny\",\"Niepoprawny\")))","v":""}]
[null,null,{"$f":"IF(Walidacja!A1828=\"\",\"\",(IF(Walidacja!A1828,\"Poprawny\",\"Niepoprawny\")))","v":""}]
[null,null,{"$f":"IF(Walidacja!A1829=\"\",\"\",(IF(Walidacja!A1829,\"Poprawny\",\"Niepoprawny\")))","v":""}]
[null,null,{"$f":"IF(Walidacja!A1830=\"\",\"\",(IF(Walidacja!A1830,\"Poprawny\",\"Niepoprawny\")))","v":""}]
[null,null,{"$f":"IF(Walidacja!A1831=\"\",\"\",(IF(Walidacja!A1831,\"Poprawny\",\"Niepoprawny\")))","v":""}]
[null,null,{"$f":"IF(Walidacja!A1832=\"\",\"\",(IF(Walidacja!A1832,\"Poprawny\",\"Niepoprawny\")))","v":""}]
[null,null,{"$f":"IF(Walidacja!A1833=\"\",\"\",(IF(Walidacja!A1833,\"Poprawny\",\"Niepoprawny\")))","v":""}]
[null,null,{"$f":"IF(Walidacja!A1834=\"\",\"\",(IF(Walidacja!A1834,\"Poprawny\",\"Niepoprawny\")))","v":""}]
[null,null,{"$f":"IF(Walidacja!A1835=\"\",\"\",(IF(Walidacja!A1835,\"Poprawny\",\"Niepoprawny\")))","v":""}]
[null,null,{"$f":"IF(Walidacja!A1836=\"\",\"\",(IF(Walidacja!A1836,\"Poprawny\",\"Niepoprawny\")))","v":""}]
[null,null,{"$f":"IF(Walidacja!A1837=\"\",\"\",(IF(Walidacja!A1837,\"Poprawny\",\"Niepoprawny\")))","v":""}]
[null,null,{"$f":"IF(Walidacja!A1838=\"\",\"\",(IF(Walidacja!A1838,\"Poprawny\",\"Niepoprawny\")))","v":""}]
[null,null,{"$f":"IF(Walidacja!A1839=\"\",\"\",(IF(Walidacja!A1839,\"Poprawny\",\"Niepoprawny\")))","v":""}]
[null,null,{"$f":"IF(Walidacja!A1840=\"\",\"\",(IF(Walidacja!A1840,\"Poprawny\",\"Niepoprawny\")))","v":""}]
[null,null,{"$f":"IF(Walidacja!A1841=\"\",\"\",(IF(Walidacja!A1841,\"Poprawny\",\"Niepoprawny\")))","v":""}]
[null,null,{"$f":"IF(Walidacja!A1842=\"\",\"\",(IF(Walidacja!A1842,\"Poprawny\",\"Niepoprawny\")))","v":""}]
[null,null,{"$f":"IF(Walidacja!A1843=\"\",\"\",(IF(Walidacja!A1843,\"Poprawny\",\"Niepoprawny\")))","v":""}]
[null,null,{"$f":"IF(Walidacja!A1844=\"\",\"\",(IF(Walidacja!A1844,\"Poprawny\",\"Niepoprawny\")))","v":""}]
[null,null,{"$f":"IF(Walidacja!A1845=\"\",\"\",(IF(Walidacja!A1845,\"Poprawny\",\"Niepoprawny\")))","v":""}]
[null,null,{"$f":"IF(Walidacja!A1846=\"\",\"\",(IF(Walidacja!A1846,\"Poprawny\",\"Niepoprawny\")))","v":""}]
[null,null,{"$f":"IF(Walidacja!A1847=\"\",\"\",(IF(Walidacja!A1847,\"Poprawny\",\"Niepoprawny\")))","v":""}]
[null,null,{"$f":"IF(Walidacja!A1848=\"\",\"\",(IF(Walidacja!A1848,\"Poprawny\",\"Niepoprawny\")))","v":""}]
[null,null,{"$f":"IF(Walidacja!A1849=\"\",\"\",(IF(Walidacja!A1849,\"Poprawny\",\"Niepoprawny\")))","v":""}]
[null,null,{"$f":"IF(Walidacja!A1850=\"\",\"\",(IF(Walidacja!A1850,\"Poprawny\",\"Niepoprawny\")))","v":""}]
[null,null,{"$f":"IF(Walidacja!A1851=\"\",\"\",(IF(Walidacja!A1851,\"Poprawny\",\"Niepoprawny\")))","v":""}]
[null,null,{"$f":"IF(Walidacja!A1852=\"\",\"\",(IF(Walidacja!A1852,\"Poprawny\",\"Niepoprawny\")))","v":""}]
[null,null,{"$f":"IF(Walidacja!A1853=\"\",\"\",(IF(Walidacja!A1853,\"Poprawny\",\"Niepoprawny\")))","v":""}]
[null,null,{"$f":"IF(Walidacja!A1854=\"\",\"\",(IF(Walidacja!A1854,\"Poprawny\",\"Niepoprawny\")))","v":""}]
[null,null,{"$f":"IF(Walidacja!A1855=\"\",\"\",(IF(Walidacja!A1855,\"Poprawny\",\"Niepoprawny\")))","v":""}]
[null,null,{"$f":"IF(Walidacja!A1856=\"\",\"\",(IF(Walidacja!A1856,\"Poprawny\",\"Niepoprawny\")))","v":""}]
[null,null,{"$f":"IF(Walidacja!A1857=\"\",\"\",(IF(Walidacja!A1857,\"Poprawny\",\"Niepoprawny\")))","v":""}]
[null,null,{"$f":"IF(Walidacja!A1858=\"\",\"\",(IF(Walidacja!A1858,\"Poprawny\",\"Niepoprawny\")))","v":""}]
[null,null,{"$f":"IF(Walidacja!A1859=\"\",\"\",(IF(Walidacja!A1859,\"Poprawny\",\"Niepoprawny\")))","v":""}]
[null,null,{"$f":"IF(Walidacja!A1860=\"\",\"\",(IF(Walidacja!A1860,\"Poprawny\",\"Niepoprawny\")))","v":""}]
[null,null,{"$f":"IF(Walidacja!A1861=\"\",\"\",(IF(Walidacja!A1861,\"Poprawny\",\"Niepoprawny\")))","v":""}]
[null,null,{"$f":"IF(Walidacja!A1862=\"\",\"\",(IF(Walidacja!A1862,\"Poprawny\",\"Niepoprawny\")))","v":""}]
[null,null,{"$f":"IF(Walidacja!A1863=\"\",\"\",(IF(Walidacja!A1863,\"Poprawny\",\"Niepoprawny\")))","v":""}]
[null,null,{"$f":"IF(Walidacja!A1864=\"\",\"\",(IF(Walidacja!A1864,\"Poprawny\",\"Niepoprawny\")))","v":""}]
[null,null,{"$f":"IF(Walidacja!A1865=\"\",\"\",(IF(Walidacja!A1865,\"Poprawny\",\"Niepoprawny\")))","v":""}]
[null,null,{"$f":"IF(Walidacja!A1866=\"\",\"\",(IF(Walidacja!A1866,\"Poprawny\",\"Niepoprawny\")))","v":""}]
[null,null,{"$f":"IF(Walidacja!A1867=\"\",\"\",(IF(Walidacja!A1867,\"Poprawny\",\"Niepoprawny\")))","v":""}]
[null,null,{"$f":"IF(Walidacja!A1868=\"\",\"\",(IF(Walidacja!A1868,\"Poprawny\",\"Niepoprawny\")))","v":""}]
[null,null,{"$f":"IF(Walidacja!A1869=\"\",\"\",(IF(Walidacja!A1869,\"Poprawny\",\"Niepoprawny\")))","v":""}]
[null,null,{"$f":"IF(Walidacja!A1870=\"\",\"\",(IF(Walidacja!A1870,\"Poprawny\",\"Niepoprawny\")))","v":""}]
[null,null,{"$f":"IF(Walidacja!A1871=\"\",\"\",(IF(Walidacja!A1871,\"Poprawny\",\"Niepoprawny\")))","v":""}]
[null,null,{"$f":"IF(Walidacja!A1872=\"\",\"\",(IF(Walidacja!A1872,\"Poprawny\",\"Niepoprawny\")))","v":""}]
[null,null,{"$f":"IF(Walidacja!A1873=\"\",\"\",(IF(Walidacja!A1873,\"Poprawny\",\"Niepoprawny\")))","v":""}]
[null,null,{"$f":"IF(Walidacja!A1874=\"\",\"\",(IF(Walidacja!A1874,\"Poprawny\",\"Niepoprawny\")))","v":""}]
[null,null,{"$f":"IF(Walidacja!A1875=\"\",\"\",(IF(Walidacja!A1875,\"Poprawny\",\"Niepoprawny\")))","v":""}]
[null,null,{"$f":"IF(Walidacja!A1876=\"\",\"\",(IF(Walidacja!A1876,\"Poprawny\",\"Niepoprawny\")))","v":""}]
[null,null,{"$f":"IF(Walidacja!A1877=\"\",\"\",(IF(Walidacja!A1877,\"Poprawny\",\"Niepoprawny\")))","v":""}]
[null,null,{"$f":"IF(Walidacja!A1878=\"\",\"\",(IF(Walidacja!A1878,\"Poprawny\",\"Niepoprawny\")))","v":""}]
[null,null,{"$f":"IF(Walidacja!A1879=\"\",\"\",(IF(Walidacja!A1879,\"Poprawny\",\"Niepoprawny\")))","v":""}]
[null,null,{"$f":"IF(Walidacja!A1880=\"\",\"\",(IF(Walidacja!A1880,\"Poprawny\",\"Niepoprawny\")))","v":""}]
[null,null,{"$f":"IF(Walidacja!A1881=\"\",\"\",(IF(Walidacja!A1881,\"Poprawny\",\"Niepoprawny\")))","v":""}]
[null,null,{"$f":"IF(Walidacja!A1882=\"\",\"\",(IF(Walidacja!A1882,\"Poprawny\",\"Niepoprawny\")))","v":""}]
[null,null,{"$f":"IF(Walidacja!A1883=\"\",\"\",(IF(Walidacja!A1883,\"Poprawny\",\"Niepoprawny\")))","v":""}]
[null,null,{"$f":"IF(Walidacja!A1884=\"\",\"\",(IF(Walidacja!A1884,\"Poprawny\",\"Niepoprawny\")))","v":""}]
[null,null,{"$f":"IF(Walidacja!A1885=\"\",\"\",(IF(Walidacja!A1885,\"Poprawny\",\"Niepoprawny\")))","v":""}]
[null,null,{"$f":"IF(Walidacja!A1886=\"\",\"\",(IF(Walidacja!A1886,\"Poprawny\",\"Niepoprawny\")))","v":""}]
[null,null,{"$f":"IF(Walidacja!A1887=\"\",\"\",(IF(Walidacja!A1887,\"Poprawny\",\"Niepoprawny\")))","v":""}]
[null,null,{"$f":"IF(Walidacja!A1888=\"\",\"\",(IF(Walidacja!A1888,\"Poprawny\",\"Niepoprawny\")))","v":""}]
[null,null,{"$f":"IF(Walidacja!A1889=\"\",\"\",(IF(Walidacja!A1889,\"Poprawny\",\"Niepoprawny\")))","v":""}]
[null,null,{"$f":"IF(Walidacja!A1890=\"\",\"\",(IF(Walidacja!A1890,\"Poprawny\",\"Niepoprawny\")))","v":""}]
[null,null,{"$f":"IF(Walidacja!A1891=\"\",\"\",(IF(Walidacja!A1891,\"Poprawny\",\"Niepoprawny\")))","v":""}]
[null,null,{"$f":"IF(Walidacja!A1892=\"\",\"\",(IF(Walidacja!A1892,\"Poprawny\",\"Niepoprawny\")))","v":""}]
[null,null,{"$f":"IF(Walidacja!A1893=\"\",\"\",(IF(Walidacja!A1893,\"Poprawny\",\"Niepoprawny\")))","v":""}]
[null,null,{"$f":"IF(Walidacja!A1894=\"\",\"\",(IF(Walidacja!A1894,\"Poprawny\",\"Niepoprawny\")))","v":""}]
[null,null,{"$f":"IF(Walidacja!A1895=\"\",\"\",(IF(Walidacja!A1895,\"Poprawny\",\"Niepoprawny\")))","v":""}]
[null,null,{"$f":"IF(Walidacja!A1896=\"\",\"\",(IF(Walidacja!A1896,\"Poprawny\",\"Niepoprawny\")))","v":""}]
[null,null,{"$f":"IF(Walidacja!A1897=\"\",\"\",(IF(Walidacja!A1897,\"Poprawny\",\"Niepoprawny\")))","v":""}]
[null,null,{"$f":"IF(Walidacja!A1898=\"\",\"\",(IF(Walidacja!A1898,\"Poprawny\",\"Niepoprawny\")))","v":""}]
[null,null,{"$f":"IF(Walidacja!A1899=\"\",\"\",(IF(Walidacja!A1899,\"Poprawny\",\"Niepoprawny\")))","v":""}]
[null,null,{"$f":"IF(Walidacja!A1900=\"\",\"\",(IF(Walidacja!A1900,\"Poprawny\",\"Niepoprawny\")))","v":""}]
[null,null,{"$f":"IF(Walidacja!A1901=\"\",\"\",(IF(Walidacja!A1901,\"Poprawny\",\"Niepoprawny\")))","v":""}]
[null,null,{"$f":"IF(Walidacja!A1902=\"\",\"\",(IF(Walidacja!A1902,\"Poprawny\",\"Niepoprawny\")))","v":""}]
[null,null,{"$f":"IF(Walidacja!A1903=\"\",\"\",(IF(Walidacja!A1903,\"Poprawny\",\"Niepoprawny\")))","v":""}]
[null,null,{"$f":"IF(Walidacja!A1904=\"\",\"\",(IF(Walidacja!A1904,\"Poprawny\",\"Niepoprawny\")))","v":""}]
[null,null,{"$f":"IF(Walidacja!A1905=\"\",\"\",(IF(Walidacja!A1905,\"Poprawny\",\"Niepoprawny\")))","v":""}]
[null,null,{"$f":"IF(Walidacja!A1906=\"\",\"\",(IF(Walidacja!A1906,\"Poprawny\",\"Niepoprawny\")))","v":""}]
[null,null,{"$f":"IF(Walidacja!A1907=\"\",\"\",(IF(Walidacja!A1907,\"Poprawny\",\"Niepoprawny\")))","v":""}]
[null,null,{"$f":"IF(Walidacja!A1908=\"\",\"\",(IF(Walidacja!A1908,\"Poprawny\",\"Niepoprawny\")))","v":""}]
[null,null,{"$f":"IF(Walidacja!A1909=\"\",\"\",(IF(Walidacja!A1909,\"Poprawny\",\"Niepoprawny\")))","v":""}]
[null,null,{"$f":"IF(Walidacja!A1910=\"\",\"\",(IF(Walidacja!A1910,\"Poprawny\",\"Niepoprawny\")))","v":""}]
[null,null,{"$f":"IF(Walidacja!A1911=\"\",\"\",(IF(Walidacja!A1911,\"Poprawny\",\"Niepoprawny\")))","v":""}]
[null,null,{"$f":"IF(Walidacja!A1912=\"\",\"\",(IF(Walidacja!A1912,\"Poprawny\",\"Niepoprawny\")))","v":""}]
[null,null,{"$f":"IF(Walidacja!A1913=\"\",\"\",(IF(Walidacja!A1913,\"Poprawny\",\"Niepoprawny\")))","v":""}]
[null,null,{"$f":"IF(Walidacja!A1914=\"\",\"\",(IF(Walidacja!A1914,\"Poprawny\",\"Niepoprawny\")))","v":""}]
[null,null,{"$f":"IF(Walidacja!A1915=\"\",\"\",(IF(Walidacja!A1915,\"Poprawny\",\"Niepoprawny\")))","v":""}]
[null,null,{"$f":"IF(Walidacja!A1916=\"\",\"\",(IF(Walidacja!A1916,\"Poprawny\",\"Niepoprawny\")))","v":""}]
[null,null,{"$f":"IF(Walidacja!A1917=\"\",\"\",(IF(Walidacja!A1917,\"Poprawny\",\"Niepoprawny\")))","v":""}]
[null,null,{"$f":"IF(Walidacja!A1918=\"\",\"\",(IF(Walidacja!A1918,\"Poprawny\",\"Niepoprawny\")))","v":""}]
[null,null,{"$f":"IF(Walidacja!A1919=\"\",\"\",(IF(Walidacja!A1919,\"Poprawny\",\"Niepoprawny\")))","v":""}]
[null,null,{"$f":"IF(Walidacja!A1920=\"\",\"\",(IF(Walidacja!A1920,\"Poprawny\",\"Niepoprawny\")))","v":""}]
[null,null,{"$f":"IF(Walidacja!A1921=\"\",\"\",(IF(Walidacja!A1921,\"Poprawny\",\"Niepoprawny\")))","v":""}]
[null,null,{"$f":"IF(Walidacja!A1922=\"\",\"\",(IF(Walidacja!A1922,\"Poprawny\",\"Niepoprawny\")))","v":""}]
[null,null,{"$f":"IF(Walidacja!A1923=\"\",\"\",(IF(Walidacja!A1923,\"Poprawny\",\"Niepoprawny\")))","v":""}]
[null,null,{"$f":"IF(Walidacja!A1924=\"\",\"\",(IF(Walidacja!A1924,\"Poprawny\",\"Niepoprawny\")))","v":""}]
[null,null,{"$f":"IF(Walidacja!A1925=\"\",\"\",(IF(Walidacja!A1925,\"Poprawny\",\"Niepoprawny\")))","v":""}]
[null,null,{"$f":"IF(Walidacja!A1926=\"\",\"\",(IF(Walidacja!A1926,\"Poprawny\",\"Niepoprawny\")))","v":""}]
[null,null,{"$f":"IF(Walidacja!A1927=\"\",\"\",(IF(Walidacja!A1927,\"Poprawny\",\"Niepoprawny\")))","v":""}]
[null,null,{"$f":"IF(Walidacja!A1928=\"\",\"\",(IF(Walidacja!A1928,\"Poprawny\",\"Niepoprawny\")))","v":""}]
[null,null,{"$f":"IF(Walidacja!A1929=\"\",\"\",(IF(Walidacja!A1929,\"Poprawny\",\"Niepoprawny\")))","v":""}]
[null,null,{"$f":"IF(Walidacja!A1930=\"\",\"\",(IF(Walidacja!A1930,\"Poprawny\",\"Niepoprawny\")))","v":""}]
[null,null,{"$f":"IF(Walidacja!A1931=\"\",\"\",(IF(Walidacja!A1931,\"Poprawny\",\"Niepoprawny\")))","v":""}]
[null,null,{"$f":"IF(Walidacja!A1932=\"\",\"\",(IF(Walidacja!A1932,\"Poprawny\",\"Niepoprawny\")))","v":""}]
[null,null,{"$f":"IF(Walidacja!A1933=\"\",\"\",(IF(Walidacja!A1933,\"Poprawny\",\"Niepoprawny\")))","v":""}]
[null,null,{"$f":"IF(Walidacja!A1934=\"\",\"\",(IF(Walidacja!A1934,\"Poprawny\",\"Niepoprawny\")))","v":""}]
[null,null,{"$f":"IF(Walidacja!A1935=\"\",\"\",(IF(Walidacja!A1935,\"Poprawny\",\"Niepoprawny\")))","v":""}]
[null,null,{"$f":"IF(Walidacja!A1936=\"\",\"\",(IF(Walidacja!A1936,\"Poprawny\",\"Niepoprawny\")))","v":""}]
[null,null,{"$f":"IF(Walidacja!A1937=\"\",\"\",(IF(Walidacja!A1937,\"Poprawny\",\"Niepoprawny\")))","v":""}]
[null,null,{"$f":"IF(Walidacja!A1938=\"\",\"\",(IF(Walidacja!A1938,\"Poprawny\",\"Niepoprawny\")))","v":""}]
[null,null,{"$f":"IF(Walidacja!A1939=\"\",\"\",(IF(Walidacja!A1939,\"Poprawny\",\"Niepoprawny\")))","v":""}]
[null,null,{"$f":"IF(Walidacja!A1940=\"\",\"\",(IF(Walidacja!A1940,\"Poprawny\",\"Niepoprawny\")))","v":""}]
[null,null,{"$f":"IF(Walidacja!A1941=\"\",\"\",(IF(Walidacja!A1941,\"Poprawny\",\"Niepoprawny\")))","v":""}]
[null,null,{"$f":"IF(Walidacja!A1942=\"\",\"\",(IF(Walidacja!A1942,\"Poprawny\",\"Niepoprawny\")))","v":""}]
[null,null,{"$f":"IF(Walidacja!A1943=\"\",\"\",(IF(Walidacja!A1943,\"Poprawny\",\"Niepoprawny\")))","v":""}]
[null,null,{"$f":"IF(Walidacja!A1944=\"\",\"\",(IF(Walidacja!A1944,\"Poprawny\",\"Niepoprawny\")))","v":""}]
[null,null,{"$f":"IF(Walidacja!A1945=\"\",\"\",(IF(Walidacja!A1945,\"Poprawny\",\"Niepoprawny\")))","v":""}]
[null,null,{"$f":"IF(Walidacja!A1946=\"\",\"\",(IF(Walidacja!A1946,\"Poprawny\",\"Niepoprawny\")))","v":""}]
[null,null,{"$f":"IF(Walidacja!A1947=\"\",\"\",(IF(Walidacja!A1947,\"Poprawny\",\"Niepoprawny\")))","v":""}]
[null,null,{"$f":"IF(Walidacja!A1948=\"\",\"\",(IF(Walidacja!A1948,\"Poprawny\",\"Niepoprawny\")))","v":""}]
[null,null,{"$f":"IF(Walidacja!A1949=\"\",\"\",(IF(Walidacja!A1949,\"Poprawny\",\"Niepoprawny\")))","v":""}]
[null,null,{"$f":"IF(Walidacja!A1950=\"\",\"\",(IF(Walidacja!A1950,\"Poprawny\",\"Niepoprawny\")))","v":""}]
[null,null,{"$f":"IF(Walidacja!A1951=\"\",\"\",(IF(Walidacja!A1951,\"Poprawny\",\"Niepoprawny\")))","v":""}]
[null,null,{"$f":"IF(Walidacja!A1952=\"\",\"\",(IF(Walidacja!A1952,\"Poprawny\",\"Niepoprawny\")))","v":""}]
[null,null,{"$f":"IF(Walidacja!A1953=\"\",\"\",(IF(Walidacja!A1953,\"Poprawny\",\"Niepoprawny\")))","v":""}]
[null,null,{"$f":"IF(Walidacja!A1954=\"\",\"\",(IF(Walidacja!A1954,\"Poprawny\",\"Niepoprawny\")))","v":""}]
[null,null,{"$f":"IF(Walidacja!A1955=\"\",\"\",(IF(Walidacja!A1955,\"Poprawny\",\"Niepoprawny\")))","v":""}]
[null,null,{"$f":"IF(Walidacja!A1956=\"\",\"\",(IF(Walidacja!A1956,\"Poprawny\",\"Niepoprawny\")))","v":""}]
[null,null,{"$f":"IF(Walidacja!A1957=\"\",\"\",(IF(Walidacja!A1957,\"Poprawny\",\"Niepoprawny\")))","v":""}]
[null,null,{"$f":"IF(Walidacja!A1958=\"\",\"\",(IF(Walidacja!A1958,\"Poprawny\",\"Niepoprawny\")))","v":""}]
[null,null,{"$f":"IF(Walidacja!A1959=\"\",\"\",(IF(Walidacja!A1959,\"Poprawny\",\"Niepoprawny\")))","v":""}]
[null,null,{"$f":"IF(Walidacja!A1960=\"\",\"\",(IF(Walidacja!A1960,\"Poprawny\",\"Niepoprawny\")))","v":""}]
[null,null,{"$f":"IF(Walidacja!A1961=\"\",\"\",(IF(Walidacja!A1961,\"Poprawny\",\"Niepoprawny\")))","v":""}]
[null,null,{"$f":"IF(Walidacja!A1962=\"\",\"\",(IF(Walidacja!A1962,\"Poprawny\",\"Niepoprawny\")))","v":""}]
[null,null,{"$f":"IF(Walidacja!A1963=\"\",\"\",(IF(Walidacja!A1963,\"Poprawny\",\"Niepoprawny\")))","v":""}]
[null,null,{"$f":"IF(Walidacja!A1964=\"\",\"\",(IF(Walidacja!A1964,\"Poprawny\",\"Niepoprawny\")))","v":""}]
[null,null,{"$f":"IF(Walidacja!A1965=\"\",\"\",(IF(Walidacja!A1965,\"Poprawny\",\"Niepoprawny\")))","v":""}]
[null,null,{"$f":"IF(Walidacja!A1966=\"\",\"\",(IF(Walidacja!A1966,\"Poprawny\",\"Niepoprawny\")))","v":""}]
[null,null,{"$f":"IF(Walidacja!A1967=\"\",\"\",(IF(Walidacja!A1967,\"Poprawny\",\"Niepoprawny\")))","v":""}]
[null,null,{"$f":"IF(Walidacja!A1968=\"\",\"\",(IF(Walidacja!A1968,\"Poprawny\",\"Niepoprawny\")))","v":""}]
[null,null,{"$f":"IF(Walidacja!A1969=\"\",\"\",(IF(Walidacja!A1969,\"Poprawny\",\"Niepoprawny\")))","v":""}]
[null,null,{"$f":"IF(Walidacja!A1970=\"\",\"\",(IF(Walidacja!A1970,\"Poprawny\",\"Niepoprawny\")))","v":""}]
[null,null,{"$f":"IF(Walidacja!A1971=\"\",\"\",(IF(Walidacja!A1971,\"Poprawny\",\"Niepoprawny\")))","v":""}]
[null,null,{"$f":"IF(Walidacja!A1972=\"\",\"\",(IF(Walidacja!A1972,\"Poprawny\",\"Niepoprawny\")))","v":""}]
[null,null,{"$f":"IF(Walidacja!A1973=\"\",\"\",(IF(Walidacja!A1973,\"Poprawny\",\"Niepoprawny\")))","v":""}]
[null,null,{"$f":"IF(Walidacja!A1974=\"\",\"\",(IF(Walidacja!A1974,\"Poprawny\",\"Niepoprawny\")))","v":""}]
[null,null,{"$f":"IF(Walidacja!A1975=\"\",\"\",(IF(Walidacja!A1975,\"Poprawny\",\"Niepoprawny\")))","v":""}]
[null,null,{"$f":"IF(Walidacja!A1976=\"\",\"\",(IF(Walidacja!A1976,\"Poprawny\",\"Niepoprawny\")))","v":""}]
[null,null,{"$f":"IF(Walidacja!A1977=\"\",\"\",(IF(Walidacja!A1977,\"Poprawny\",\"Niepoprawny\")))","v":""}]
[null,null,{"$f":"IF(Walidacja!A1978=\"\",\"\",(IF(Walidacja!A1978,\"Poprawny\",\"Niepoprawny\")))","v":""}]
[null,null,{"$f":"IF(Walidacja!A1979=\"\",\"\",(IF(Walidacja!A1979,\"Poprawny\",\"Niepoprawny\")))","v":""}]
[null,null,{"$f":"IF(Walidacja!A1980=\"\",\"\",(IF(Walidacja!A1980,\"Poprawny\",\"Niepoprawny\")))","v":""}]
[null,null,{"$f":"IF(Walidacja!A1981=\"\",\"\",(IF(Walidacja!A1981,\"Poprawny\",\"Niepoprawny\")))","v":""}]
[null,null,{"$f":"IF(Walidacja!A1982=\"\",\"\",(IF(Walidacja!A1982,\"Poprawny\",\"Niepoprawny\")))","v":""}]
[null,null,{"$f":"IF(Walidacja!A1983=\"\",\"\",(IF(Walidacja!A1983,\"Poprawny\",\"Niepoprawny\")))","v":""}]
[null,null,{"$f":"IF(Walidacja!A1984=\"\",\"\",(IF(Walidacja!A1984,\"Poprawny\",\"Niepoprawny\")))","v":""}]
[null,null,{"$f":"IF(Walidacja!A1985=\"\",\"\",(IF(Walidacja!A1985,\"Poprawny\",\"Niepoprawny\")))","v":""}]
[null,null,{"$f":"IF(Walidacja!A1986=\"\",\"\",(IF(Walidacja!A1986,\"Poprawny\",\"Niepoprawny\")))","v":""}]
[null,null,{"$f":"IF(Walidacja!A1987=\"\",\"\",(IF(Walidacja!A1987,\"Poprawny\",\"Niepoprawny\")))","v":""}]
[null,null,{"$f":"IF(Walidacja!A1988=\"\",\"\",(IF(Walidacja!A1988,\"Poprawny\",\"Niepoprawny\")))","v":""}]
[null,null,{"$f":"IF(Walidacja!A1989=\"\",\"\",(IF(Walidacja!A1989,\"Poprawny\",\"Niepoprawny\")))","v":""}]
[null,null,{"$f":"IF(Walidacja!A1990=\"\",\"\",(IF(Walidacja!A1990,\"Poprawny\",\"Niepoprawny\")))","v":""}]
[null,null,{"$f":"IF(Walidacja!A1991=\"\",\"\",(IF(Walidacja!A1991,\"Poprawny\",\"Niepoprawny\")))","v":""}]
[null,null,{"$f":"IF(Walidacja!A1992=\"\",\"\",(IF(Walidacja!A1992,\"Poprawny\",\"Niepoprawny\")))","v":""}]
[null,null,{"$f":"IF(Walidacja!A1993=\"\",\"\",(IF(Walidacja!A1993,\"Poprawny\",\"Niepoprawny\")))","v":""}]
[null,null,{"$f":"IF(Walidacja!A1994=\"\",\"\",(IF(Walidacja!A1994,\"Poprawny\",\"Niepoprawny\")))","v":""}]
[null,null,{"$f":"IF(Walidacja!A1995=\"\",\"\",(IF(Walidacja!A1995,\"Poprawny\",\"Niepoprawny\")))","v":""}]
[null,null,{"$f":"IF(Walidacja!A1996=\"\",\"\",(IF(Walidacja!A1996,\"Poprawny\",\"Niepoprawny\")))","v":""}]
[null,null,{"$f":"IF(Walidacja!A1997=\"\",\"\",(IF(Walidacja!A1997,\"Poprawny\",\"Niepoprawny\")))","v":""}]
[null,null,{"$f":"IF(Walidacja!A1998=\"\",\"\",(IF(Walidacja!A1998,\"Poprawny\",\"Niepoprawny\")))","v":""}]
[null,null,{"$f":"IF(Walidacja!A1999=\"\",\"\",(IF(Walidacja!A1999,\"Poprawny\",\"Niepoprawny\")))","v":""}]
[null,null,{"$f":"IF(Walidacja!A2000=\"\",\"\",(IF(Walidacja!A2000,\"Poprawny\",\"Niepoprawny\")))","v":""}]
[null,null,{"$f":"IF(Walidacja!A2001=\"\",\"\",(IF(Walidacja!A2001,\"Poprawny\",\"Niepoprawny\")))","v":""}]
[null,null,{"$f":"IF(Walidacja!A2002=\"\",\"\",(IF(Walidacja!A2002,\"Poprawny\",\"Niepoprawny\")))","v":""}]
[null,null,{"$f":"IF(Walidacja!A2003=\"\",\"\",(IF(Walidacja!A2003,\"Poprawny\",\"Niepoprawny\")))","v":""}]
[null,null,{"$f":"IF(Walidacja!A2004=\"\",\"\",(IF(Walidacja!A2004,\"Poprawny\",\"Niepoprawny\")))","v":""}]
[null,null,{"$f":"IF(Walidacja!A2005=\"\",\"\",(IF(Walidacja!A2005,\"Poprawny\",\"Niepoprawny\")))","v":""}]
[null,null,{"$f":"IF(Walidacja!A2006=\"\",\"\",(IF(Walidacja!A2006,\"Poprawny\",\"Niepoprawny\")))","v":""}]
[null,null,{"$f":"IF(Walidacja!A2007=\"\",\"\",(IF(Walidacja!A2007,\"Poprawny\",\"Niepoprawny\")))","v":""}]
[null,null,{"$f":"IF(Walidacja!A2008=\"\",\"\",(IF(Walidacja!A2008,\"Poprawny\",\"Niepoprawny\")))","v":""}]
[null,null,{"$f":"IF(Walidacja!A2009=\"\",\"\",(IF(Walidacja!A2009,\"Poprawny\",\"Niepoprawny\")))","v":""}]
[null,null,{"$f":"IF(Walidacja!A2010=\"\",\"\",(IF(Walidacja!A2010,\"Poprawny\",\"Niepoprawny\")))","v":""}]
[null,null,{"$f":"IF(Walidacja!A2011=\"\",\"\",(IF(Walidacja!A2011,\"Poprawny\",\"Niepoprawny\")))","v":""}]
[null,null,{"$f":"IF(Walidacja!A2012=\"\",\"\",(IF(Walidacja!A2012,\"Poprawny\",\"Niepoprawny\")))","v":""}]
[null,null,{"$f":"IF(Walidacja!A2013=\"\",\"\",(IF(Walidacja!A2013,\"Poprawny\",\"Niepoprawny\")))","v":""}]
[null,null,{"$f":"IF(Walidacja!A2014=\"\",\"\",(IF(Walidacja!A2014,\"Poprawny\",\"Niepoprawny\")))","v":""}]
[null,null,{"$f":"IF(Walidacja!A2015=\"\",\"\",(IF(Walidacja!A2015,\"Poprawny\",\"Niepoprawny\")))","v":""}]
[null,null,{"$f":"IF(Walidacja!A2016=\"\",\"\",(IF(Walidacja!A2016,\"Poprawny\",\"Niepoprawny\")))","v":""}]
[null,null,{"$f":"IF(Walidacja!A2017=\"\",\"\",(IF(Walidacja!A2017,\"Poprawny\",\"Niepoprawny\")))","v":""}]
[null,null,{"$f":"IF(Walidacja!A2018=\"\",\"\",(IF(Walidacja!A2018,\"Poprawny\",\"Niepoprawny\")))","v":""}]
[null,null,{"$f":"IF(Walidacja!A2019=\"\",\"\",(IF(Walidacja!A2019,\"Poprawny\",\"Niepoprawny\")))","v":""}]
[null,null,{"$f":"IF(Walidacja!A2020=\"\",\"\",(IF(Walidacja!A2020,\"Poprawny\",\"Niepoprawny\")))","v":""}]
[null,null,{"$f":"IF(Walidacja!A2021=\"\",\"\",(IF(Walidacja!A2021,\"Poprawny\",\"Niepoprawny\")))","v":""}]
[null,null,{"$f":"IF(Walidacja!A2022=\"\",\"\",(IF(Walidacja!A2022,\"Poprawny\",\"Niepoprawny\")))","v":""}]
[null,null,{"$f":"IF(Walidacja!A2023=\"\",\"\",(IF(Walidacja!A2023,\"Poprawny\",\"Niepoprawny\")))","v":""}]
[null,null,{"$f":"IF(Walidacja!A2024=\"\",\"\",(IF(Walidacja!A2024,\"Poprawny\",\"Niepoprawny\")))","v":""}]
[null,null,{"$f":"IF(Walidacja!A2025=\"\",\"\",(IF(Walidacja!A2025,\"Poprawny\",\"Niepoprawny\")))","v":""}]
[null,null,{"$f":"IF(Walidacja!A2026=\"\",\"\",(IF(Walidacja!A2026,\"Poprawny\",\"Niepoprawny\")))","v":""}]
[null,null,{"$f":"IF(Walidacja!A2027=\"\",\"\",(IF(Walidacja!A2027,\"Poprawny\",\"Niepoprawny\")))","v":""}]
[null,null,{"$f":"IF(Walidacja!A2028=\"\",\"\",(IF(Walidacja!A2028,\"Poprawny\",\"Niepoprawny\")))","v":""}]
[null,null,{"$f":"IF(Walidacja!A2029=\"\",\"\",(IF(Walidacja!A2029,\"Poprawny\",\"Niepoprawny\")))","v":""}]
[null,null,{"$f":"IF(Walidacja!A2030=\"\",\"\",(IF(Walidacja!A2030,\"Poprawny\",\"Niepoprawny\")))","v":""}]
[null,null,{"$f":"IF(Walidacja!A2031=\"\",\"\",(IF(Walidacja!A2031,\"Poprawny\",\"Niepoprawny\")))","v":""}]
[null,null,{"$f":"IF(Walidacja!A2032=\"\",\"\",(IF(Walidacja!A2032,\"Poprawny\",\"Niepoprawny\")))","v":""}]
[null,null,{"$f":"IF(Walidacja!A2033=\"\",\"\",(IF(Walidacja!A2033,\"Poprawny\",\"Niepoprawny\")))","v":""}]
[null,null,{"$f":"IF(Walidacja!A2034=\"\",\"\",(IF(Walidacja!A2034,\"Poprawny\",\"Niepoprawny\")))","v":""}]
[null,null,{"$f":"IF(Walidacja!A2035=\"\",\"\",(IF(Walidacja!A2035,\"Poprawny\",\"Niepoprawny\")))","v":""}]
[null,null,{"$f":"IF(Walidacja!A2036=\"\",\"\",(IF(Walidacja!A2036,\"Poprawny\",\"Niepoprawny\")))","v":""}]
[null,null,{"$f":"IF(Walidacja!A2037=\"\",\"\",(IF(Walidacja!A2037,\"Poprawny\",\"Niepoprawny\")))","v":""}]
[null,null,{"$f":"IF(Walidacja!A2038=\"\",\"\",(IF(Walidacja!A2038,\"Poprawny\",\"Niepoprawny\")))","v":""}]
[null,null,{"$f":"IF(Walidacja!A2039=\"\",\"\",(IF(Walidacja!A2039,\"Poprawny\",\"Niepoprawny\")))","v":""}]
[null,null,{"$f":"IF(Walidacja!A2040=\"\",\"\",(IF(Walidacja!A2040,\"Poprawny\",\"Niepoprawny\")))","v":""}]
[null,null,{"$f":"IF(Walidacja!A2041=\"\",\"\",(IF(Walidacja!A2041,\"Poprawny\",\"Niepoprawny\")))","v":""}]
[null,null,{"$f":"IF(Walidacja!A2042=\"\",\"\",(IF(Walidacja!A2042,\"Poprawny\",\"Niepoprawny\")))","v":""}]
[null,null,{"$f":"IF(Walidacja!A2043=\"\",\"\",(IF(Walidacja!A2043,\"Poprawny\",\"Niepoprawny\")))","v":""}]
[null,null,{"$f":"IF(Walidacja!A2044=\"\",\"\",(IF(Walidacja!A2044,\"Poprawny\",\"Niepoprawny\")))","v":""}]
[null,null,{"$f":"IF(Walidacja!A2045=\"\",\"\",(IF(Walidacja!A2045,\"Poprawny\",\"Niepoprawny\")))","v":""}]
[null,null,{"$f":"IF(Walidacja!A2046=\"\",\"\",(IF(Walidacja!A2046,\"Poprawny\",\"Niepoprawny\")))","v":""}]
[null,null,{"$f":"IF(Walidacja!A2047=\"\",\"\",(IF(Walidacja!A2047,\"Poprawny\",\"Niepoprawny\")))","v":""}]
[null,null,{"$f":"IF(Walidacja!A2048=\"\",\"\",(IF(Walidacja!A2048,\"Poprawny\",\"Niepoprawny\")))","v":""}]
[null,null,{"$f":"IF(Walidacja!A2049=\"\",\"\",(IF(Walidacja!A2049,\"Poprawny\",\"Niepoprawny\")))","v":""}]
[null,null,{"$f":"IF(Walidacja!A2050=\"\",\"\",(IF(Walidacja!A2050,\"Poprawny\",\"Niepoprawny\")))","v":""}]
[null,null,{"$f":"IF(Walidacja!A2051=\"\",\"\",(IF(Walidacja!A2051,\"Poprawny\",\"Niepoprawny\")))","v":""}]
[null,null,{"$f":"IF(Walidacja!A2052=\"\",\"\",(IF(Walidacja!A2052,\"Poprawny\",\"Niepoprawny\")))","v":""}]
[null,null,{"$f":"IF(Walidacja!A2053=\"\",\"\",(IF(Walidacja!A2053,\"Poprawny\",\"Niepoprawny\")))","v":""}]
[null,null,{"$f":"IF(Walidacja!A2054=\"\",\"\",(IF(Walidacja!A2054,\"Poprawny\",\"Niepoprawny\")))","v":""}]
[null,null,{"$f":"IF(Walidacja!A2055=\"\",\"\",(IF(Walidacja!A2055,\"Poprawny\",\"Niepoprawny\")))","v":""}]
[null,null,{"$f":"IF(Walidacja!A2056=\"\",\"\",(IF(Walidacja!A2056,\"Poprawny\",\"Niepoprawny\")))","v":""}]
[null,null,{"$f":"IF(Walidacja!A2057=\"\",\"\",(IF(Walidacja!A2057,\"Poprawny\",\"Niepoprawny\")))","v":""}]
[null,null,{"$f":"IF(Walidacja!A2058=\"\",\"\",(IF(Walidacja!A2058,\"Poprawny\",\"Niepoprawny\")))","v":""}]
[null,null,{"$f":"IF(Walidacja!A2059=\"\",\"\",(IF(Walidacja!A2059,\"Poprawny\",\"Niepoprawny\")))","v":""}]
[null,null,{"$f":"IF(Walidacja!A2060=\"\",\"\",(IF(Walidacja!A2060,\"Poprawny\",\"Niepoprawny\")))","v":""}]
[null,null,{"$f":"IF(Walidacja!A2061=\"\",\"\",(IF(Walidacja!A2061,\"Poprawny\",\"Niepoprawny\")))","v":""}]
[null,null,{"$f":"IF(Walidacja!A2062=\"\",\"\",(IF(Walidacja!A2062,\"Poprawny\",\"Niepoprawny\")))","v":""}]
[null,null,{"$f":"IF(Walidacja!A2063=\"\",\"\",(IF(Walidacja!A2063,\"Poprawny\",\"Niepoprawny\")))","v":""}]
[null,null,{"$f":"IF(Walidacja!A2064=\"\",\"\",(IF(Walidacja!A2064,\"Poprawny\",\"Niepoprawny\")))","v":""}]
[null,null,{"$f":"IF(Walidacja!A2065=\"\",\"\",(IF(Walidacja!A2065,\"Poprawny\",\"Niepoprawny\")))","v":""}]
[null,null,{"$f":"IF(Walidacja!A2066=\"\",\"\",(IF(Walidacja!A2066,\"Poprawny\",\"Niepoprawny\")))","v":""}]
[null,null,{"$f":"IF(Walidacja!A2067=\"\",\"\",(IF(Walidacja!A2067,\"Poprawny\",\"Niepoprawny\")))","v":""}]
[null,null,{"$f":"IF(Walidacja!A2068=\"\",\"\",(IF(Walidacja!A2068,\"Poprawny\",\"Niepoprawny\")))","v":""}]
[null,null,{"$f":"IF(Walidacja!A2069=\"\",\"\",(IF(Walidacja!A2069,\"Poprawny\",\"Niepoprawny\")))","v":""}]
[null,null,{"$f":"IF(Walidacja!A2070=\"\",\"\",(IF(Walidacja!A2070,\"Poprawny\",\"Niepoprawny\")))","v":""}]
[null,null,{"$f":"IF(Walidacja!A2071=\"\",\"\",(IF(Walidacja!A2071,\"Poprawny\",\"Niepoprawny\")))","v":""}]
[null,null,{"$f":"IF(Walidacja!A2072=\"\",\"\",(IF(Walidacja!A2072,\"Poprawny\",\"Niepoprawny\")))","v":""}]
[null,null,{"$f":"IF(Walidacja!A2073=\"\",\"\",(IF(Walidacja!A2073,\"Poprawny\",\"Niepoprawny\")))","v":""}]
[null,null,{"$f":"IF(Walidacja!A2074=\"\",\"\",(IF(Walidacja!A2074,\"Poprawny\",\"Niepoprawny\")))","v":""}]
[null,null,{"$f":"IF(Walidacja!A2075=\"\",\"\",(IF(Walidacja!A2075,\"Poprawny\",\"Niepoprawny\")))","v":""}]
[null,null,{"$f":"IF(Walidacja!A2076=\"\",\"\",(IF(Walidacja!A2076,\"Poprawny\",\"Niepoprawny\")))","v":""}]
[null,null,{"$f":"IF(Walidacja!A2077=\"\",\"\",(IF(Walidacja!A2077,\"Poprawny\",\"Niepoprawny\")))","v":""}]
[null,null,{"$f":"IF(Walidacja!A2078=\"\",\"\",(IF(Walidacja!A2078,\"Poprawny\",\"Niepoprawny\")))","v":""}]
[null,null,{"$f":"IF(Walidacja!A2079=\"\",\"\",(IF(Walidacja!A2079,\"Poprawny\",\"Niepoprawny\")))","v":""}]
[null,null,{"$f":"IF(Walidacja!A2080=\"\",\"\",(IF(Walidacja!A2080,\"Poprawny\",\"Niepoprawny\")))","v":""}]
[null,null,{"$f":"IF(Walidacja!A2081=\"\",\"\",(IF(Walidacja!A2081,\"Poprawny\",\"Niepoprawny\")))","v":""}]
[null,null,{"$f":"IF(Walidacja!A2082=\"\",\"\",(IF(Walidacja!A2082,\"Poprawny\",\"Niepoprawny\")))","v":""}]
[null,null,{"$f":"IF(Walidacja!A2083=\"\",\"\",(IF(Walidacja!A2083,\"Poprawny\",\"Niepoprawny\")))","v":""}]
[null,null,{"$f":"IF(Walidacja!A2084=\"\",\"\",(IF(Walidacja!A2084,\"Poprawny\",\"Niepoprawny\")))","v":""}]
[null,null,{"$f":"IF(Walidacja!A2085=\"\",\"\",(IF(Walidacja!A2085,\"Poprawny\",\"Niepoprawny\")))","v":""}]
[null,null,{"$f":"IF(Walidacja!A2086=\"\",\"\",(IF(Walidacja!A2086,\"Poprawny\",\"Niepoprawny\")))","v":""}]
[null,null,{"$f":"IF(Walidacja!A2087=\"\",\"\",(IF(Walidacja!A2087,\"Poprawny\",\"Niepoprawny\")))","v":""}]
[null,null,{"$f":"IF(Walidacja!A2088=\"\",\"\",(IF(Walidacja!A2088,\"Poprawny\",\"Niepoprawny\")))","v":""}]
[null,null,{"$f":"IF(Walidacja!A2089=\"\",\"\",(IF(Walidacja!A2089,\"Poprawny\",\"Niepoprawny\")))","v":""}]
[null,null,{"$f":"IF(Walidacja!A2090=\"\",\"\",(IF(Walidacja!A2090,\"Poprawny\",\"Niepoprawny\")))","v":""}]
[null,null,{"$f":"IF(Walidacja!A2091=\"\",\"\",(IF(Walidacja!A2091,\"Poprawny\",\"Niepoprawny\")))","v":""}]
[null,null,{"$f":"IF(Walidacja!A2092=\"\",\"\",(IF(Walidacja!A2092,\"Poprawny\",\"Niepoprawny\")))","v":""}]
[null,null,{"$f":"IF(Walidacja!A2093=\"\",\"\",(IF(Walidacja!A2093,\"Poprawny\",\"Niepoprawny\")))","v":""}]
[null,null,{"$f":"IF(Walidacja!A2094=\"\",\"\",(IF(Walidacja!A2094,\"Poprawny\",\"Niepoprawny\")))","v":""}]
[null,null,{"$f":"IF(Walidacja!A2095=\"\",\"\",(IF(Walidacja!A2095,\"Poprawny\",\"Niepoprawny\")))","v":""}]
[null,null,{"$f":"IF(Walidacja!A2096=\"\",\"\",(IF(Walidacja!A2096,\"Poprawny\",\"Niepoprawny\")))","v":""}]
[null,null,{"$f":"IF(Walidacja!A2097=\"\",\"\",(IF(Walidacja!A2097,\"Poprawny\",\"Niepoprawny\")))","v":""}]
[null,null,{"$f":"IF(Walidacja!A2098=\"\",\"\",(IF(Walidacja!A2098,\"Poprawny\",\"Niepoprawny\")))","v":""}]
[null,null,{"$f":"IF(Walidacja!A2099=\"\",\"\",(IF(Walidacja!A2099,\"Poprawny\",\"Niepoprawny\")))","v":""}]
[null,null,{"$f":"IF(Walidacja!A2100=\"\",\"\",(IF(Walidacja!A2100,\"Poprawny\",\"Niepoprawny\")))","v":""}]
[null,null,{"$f":"IF(Walidacja!A2101=\"\",\"\",(IF(Walidacja!A2101,\"Poprawny\",\"Niepoprawny\")))","v":""}]
[null,null,{"$f":"IF(Walidacja!A2102=\"\",\"\",(IF(Walidacja!A2102,\"Poprawny\",\"Niepoprawny\")))","v":""}]
[null,null,{"$f":"IF(Walidacja!A2103=\"\",\"\",(IF(Walidacja!A2103,\"Poprawny\",\"Niepoprawny\")))","v":""}]
[null,null,{"$f":"IF(Walidacja!A2104=\"\",\"\",(IF(Walidacja!A2104,\"Poprawny\",\"Niepoprawny\")))","v":""}]
[null,null,{"$f":"IF(Walidacja!A2105=\"\",\"\",(IF(Walidacja!A2105,\"Poprawny\",\"Niepoprawny\")))","v":""}]
[null,null,{"$f":"IF(Walidacja!A2106=\"\",\"\",(IF(Walidacja!A2106,\"Poprawny\",\"Niepoprawny\")))","v":""}]
[null,null,{"$f":"IF(Walidacja!A2107=\"\",\"\",(IF(Walidacja!A2107,\"Poprawny\",\"Niepoprawny\")))","v":""}]
[null,null,{"$f":"IF(Walidacja!A2108=\"\",\"\",(IF(Walidacja!A2108,\"Poprawny\",\"Niepoprawny\")))","v":""}]
[null,null,{"$f":"IF(Walidacja!A2109=\"\",\"\",(IF(Walidacja!A2109,\"Poprawny\",\"Niepoprawny\")))","v":""}]
[null,null,{"$f":"IF(Walidacja!A2110=\"\",\"\",(IF(Walidacja!A2110,\"Poprawny\",\"Niepoprawny\")))","v":""}]
[null,null,{"$f":"IF(Walidacja!A2111=\"\",\"\",(IF(Walidacja!A2111,\"Poprawny\",\"Niepoprawny\")))","v":""}]
[null,null,{"$f":"IF(Walidacja!A2112=\"\",\"\",(IF(Walidacja!A2112,\"Poprawny\",\"Niepoprawny\")))","v":""}]
[null,null,{"$f":"IF(Walidacja!A2113=\"\",\"\",(IF(Walidacja!A2113,\"Poprawny\",\"Niepoprawny\")))","v":""}]
[null,null,{"$f":"IF(Walidacja!A2114=\"\",\"\",(IF(Walidacja!A2114,\"Poprawny\",\"Niepoprawny\")))","v":""}]
[null,null,{"$f":"IF(Walidacja!A2115=\"\",\"\",(IF(Walidacja!A2115,\"Poprawny\",\"Niepoprawny\")))","v":""}]
[null,null,{"$f":"IF(Walidacja!A2116=\"\",\"\",(IF(Walidacja!A2116,\"Poprawny\",\"Niepoprawny\")))","v":""}]
[null,null,{"$f":"IF(Walidacja!A2117=\"\",\"\",(IF(Walidacja!A2117,\"Poprawny\",\"Niepoprawny\")))","v":""}]
[null,null,{"$f":"IF(Walidacja!A2118=\"\",\"\",(IF(Walidacja!A2118,\"Poprawny\",\"Niepoprawny\")))","v":""}]
[null,null,{"$f":"IF(Walidacja!A2119=\"\",\"\",(IF(Walidacja!A2119,\"Poprawny\",\"Niepoprawny\")))","v":""}]
[null,null,{"$f":"IF(Walidacja!A2120=\"\",\"\",(IF(Walidacja!A2120,\"Poprawny\",\"Niepoprawny\")))","v":""}]
[null,null,{"$f":"IF(Walidacja!A2121=\"\",\"\",(IF(Walidacja!A2121,\"Poprawny\",\"Niepoprawny\")))","v":""}]
[null,null,{"$f":"IF(Walidacja!A2122=\"\",\"\",(IF(Walidacja!A2122,\"Poprawny\",\"Niepoprawny\")))","v":""}]
[null,null,{"$f":"IF(Walidacja!A2123=\"\",\"\",(IF(Walidacja!A2123,\"Poprawny\",\"Niepoprawny\")))","v":""}]
[null,null,{"$f":"IF(Walidacja!A2124=\"\",\"\",(IF(Walidacja!A2124,\"Poprawny\",\"Niepoprawny\")))","v":""}]
[null,null,{"$f":"IF(Walidacja!A2125=\"\",\"\",(IF(Walidacja!A2125,\"Poprawny\",\"Niepoprawny\")))","v":""}]
[null,null,{"$f":"IF(Walidacja!A2126=\"\",\"\",(IF(Walidacja!A2126,\"Poprawny\",\"Niepoprawny\")))","v":""}]
[null,null,{"$f":"IF(Walidacja!A2127=\"\",\"\",(IF(Walidacja!A2127,\"Poprawny\",\"Niepoprawny\")))","v":""}]
[null,null,{"$f":"IF(Walidacja!A2128=\"\",\"\",(IF(Walidacja!A2128,\"Poprawny\",\"Niepoprawny\")))","v":""}]
[null,null,{"$f":"IF(Walidacja!A2129=\"\",\"\",(IF(Walidacja!A2129,\"Poprawny\",\"Niepoprawny\")))","v":""}]
[null,null,{"$f":"IF(Walidacja!A2130=\"\",\"\",(IF(Walidacja!A2130,\"Poprawny\",\"Niepoprawny\")))","v":""}]
[null,null,{"$f":"IF(Walidacja!A2131=\"\",\"\",(IF(Walidacja!A2131,\"Poprawny\",\"Niepoprawny\")))","v":""}]
[null,null,{"$f":"IF(Walidacja!A2132=\"\",\"\",(IF(Walidacja!A2132,\"Poprawny\",\"Niepoprawny\")))","v":""}]
[null,null,{"$f":"IF(Walidacja!A2133=\"\",\"\",(IF(Walidacja!A2133,\"Poprawny\",\"Niepoprawny\")))","v":""}]
[null,null,{"$f":"IF(Walidacja!A2134=\"\",\"\",(IF(Walidacja!A2134,\"Poprawny\",\"Niepoprawny\")))","v":""}]
[null,null,{"$f":"IF(Walidacja!A2135=\"\",\"\",(IF(Walidacja!A2135,\"Poprawny\",\"Niepoprawny\")))","v":""}]
[null,null,{"$f":"IF(Walidacja!A2136=\"\",\"\",(IF(Walidacja!A2136,\"Poprawny\",\"Niepoprawny\")))","v":""}]
[null,null,{"$f":"IF(Walidacja!A2137=\"\",\"\",(IF(Walidacja!A2137,\"Poprawny\",\"Niepoprawny\")))","v":""}]
[null,null,{"$f":"IF(Walidacja!A2138=\"\",\"\",(IF(Walidacja!A2138,\"Poprawny\",\"Niepoprawny\")))","v":""}]
[null,null,{"$f":"IF(Walidacja!A2139=\"\",\"\",(IF(Walidacja!A2139,\"Poprawny\",\"Niepoprawny\")))","v":""}]
[null,null,{"$f":"IF(Walidacja!A2140=\"\",\"\",(IF(Walidacja!A2140,\"Poprawny\",\"Niepoprawny\")))","v":""}]
[null,null,{"$f":"IF(Walidacja!A2141=\"\",\"\",(IF(Walidacja!A2141,\"Poprawny\",\"Niepoprawny\")))","v":""}]
[null,null,{"$f":"IF(Walidacja!A2142=\"\",\"\",(IF(Walidacja!A2142,\"Poprawny\",\"Niepoprawny\")))","v":""}]
[null,null,{"$f":"IF(Walidacja!A2143=\"\",\"\",(IF(Walidacja!A2143,\"Poprawny\",\"Niepoprawny\")))","v":""}]
[null,null,{"$f":"IF(Walidacja!A2144=\"\",\"\",(IF(Walidacja!A2144,\"Poprawny\",\"Niepoprawny\")))","v":""}]
[null,null,{"$f":"IF(Walidacja!A2145=\"\",\"\",(IF(Walidacja!A2145,\"Poprawny\",\"Niepoprawny\")))","v":""}]
[null,null,{"$f":"IF(Walidacja!A2146=\"\",\"\",(IF(Walidacja!A2146,\"Poprawny\",\"Niepoprawny\")))","v":""}]
[null,null,{"$f":"IF(Walidacja!A2147=\"\",\"\",(IF(Walidacja!A2147,\"Poprawny\",\"Niepoprawny\")))","v":""}]
[null,null,{"$f":"IF(Walidacja!A2148=\"\",\"\",(IF(Walidacja!A2148,\"Poprawny\",\"Niepoprawny\")))","v":""}]
[null,null,{"$f":"IF(Walidacja!A2149=\"\",\"\",(IF(Walidacja!A2149,\"Poprawny\",\"Niepoprawny\")))","v":""}]
[null,null,{"$f":"IF(Walidacja!A2150=\"\",\"\",(IF(Walidacja!A2150,\"Poprawny\",\"Niepoprawny\")))","v":""}]
[null,null,{"$f":"IF(Walidacja!A2151=\"\",\"\",(IF(Walidacja!A2151,\"Poprawny\",\"Niepoprawny\")))","v":""}]
[null,null,{"$f":"IF(Walidacja!A2152=\"\",\"\",(IF(Walidacja!A2152,\"Poprawny\",\"Niepoprawny\")))","v":""}]
[null,null,{"$f":"IF(Walidacja!A2153=\"\",\"\",(IF(Walidacja!A2153,\"Poprawny\",\"Niepoprawny\")))","v":""}]
[null,null,{"$f":"IF(Walidacja!A2154=\"\",\"\",(IF(Walidacja!A2154,\"Poprawny\",\"Niepoprawny\")))","v":""}]
[null,null,{"$f":"IF(Walidacja!A2155=\"\",\"\",(IF(Walidacja!A2155,\"Poprawny\",\"Niepoprawny\")))","v":""}]
[null,null,{"$f":"IF(Walidacja!A2156=\"\",\"\",(IF(Walidacja!A2156,\"Poprawny\",\"Niepoprawny\")))","v":""}]
[null,null,{"$f":"IF(Walidacja!A2157=\"\",\"\",(IF(Walidacja!A2157,\"Poprawny\",\"Niepoprawny\")))","v":""}]
[null,null,{"$f":"IF(Walidacja!A2158=\"\",\"\",(IF(Walidacja!A2158,\"Poprawny\",\"Niepoprawny\")))","v":""}]
[null,null,{"$f":"IF(Walidacja!A2159=\"\",\"\",(IF(Walidacja!A2159,\"Poprawny\",\"Niepoprawny\")))","v":""}]
[null,null,{"$f":"IF(Walidacja!A2160=\"\",\"\",(IF(Walidacja!A2160,\"Poprawny\",\"Niepoprawny\")))","v":""}]
[null,null,{"$f":"IF(Walidacja!A2161=\"\",\"\",(IF(Walidacja!A2161,\"Poprawny\",\"Niepoprawny\")))","v":""}]
[null,null,{"$f":"IF(Walidacja!A2162=\"\",\"\",(IF(Walidacja!A2162,\"Poprawny\",\"Niepoprawny\")))","v":""}]
[null,null,{"$f":"IF(Walidacja!A2163=\"\",\"\",(IF(Walidacja!A2163,\"Poprawny\",\"Niepoprawny\")))","v":""}]
[null,null,{"$f":"IF(Walidacja!A2164=\"\",\"\",(IF(Walidacja!A2164,\"Poprawny\",\"Niepoprawny\")))","v":""}]
[null,null,{"$f":"IF(Walidacja!A2165=\"\",\"\",(IF(Walidacja!A2165,\"Poprawny\",\"Niepoprawny\")))","v":""}]
[null,null,{"$f":"IF(Walidacja!A2166=\"\",\"\",(IF(Walidacja!A2166,\"Poprawny\",\"Niepoprawny\")))","v":""}]
[null,null,{"$f":"IF(Walidacja!A2167=\"\",\"\",(IF(Walidacja!A2167,\"Poprawny\",\"Niepoprawny\")))","v":""}]
[null,null,{"$f":"IF(Walidacja!A2168=\"\",\"\",(IF(Walidacja!A2168,\"Poprawny\",\"Niepoprawny\")))","v":""}]
[null,null,{"$f":"IF(Walidacja!A2169=\"\",\"\",(IF(Walidacja!A2169,\"Poprawny\",\"Niepoprawny\")))","v":""}]
[null,null,{"$f":"IF(Walidacja!A2170=\"\",\"\",(IF(Walidacja!A2170,\"Poprawny\",\"Niepoprawny\")))","v":""}]
[null,null,{"$f":"IF(Walidacja!A2171=\"\",\"\",(IF(Walidacja!A2171,\"Poprawny\",\"Niepoprawny\")))","v":""}]
[null,null,{"$f":"IF(Walidacja!A2172=\"\",\"\",(IF(Walidacja!A2172,\"Poprawny\",\"Niepoprawny\")))","v":""}]
[null,null,{"$f":"IF(Walidacja!A2173=\"\",\"\",(IF(Walidacja!A2173,\"Poprawny\",\"Niepoprawny\")))","v":""}]
[null,null,{"$f":"IF(Walidacja!A2174=\"\",\"\",(IF(Walidacja!A2174,\"Poprawny\",\"Niepoprawny\")))","v":""}]
[null,null,{"$f":"IF(Walidacja!A2175=\"\",\"\",(IF(Walidacja!A2175,\"Poprawny\",\"Niepoprawny\")))","v":""}]
[null,null,{"$f":"IF(Walidacja!A2176=\"\",\"\",(IF(Walidacja!A2176,\"Poprawny\",\"Niepoprawny\")))","v":""}]
[null,null,{"$f":"IF(Walidacja!A2177=\"\",\"\",(IF(Walidacja!A2177,\"Poprawny\",\"Niepoprawny\")))","v":""}]
[null,null,{"$f":"IF(Walidacja!A2178=\"\",\"\",(IF(Walidacja!A2178,\"Poprawny\",\"Niepoprawny\")))","v":""}]
[null,null,{"$f":"IF(Walidacja!A2179=\"\",\"\",(IF(Walidacja!A2179,\"Poprawny\",\"Niepoprawny\")))","v":""}]
[null,null,{"$f":"IF(Walidacja!A2180=\"\",\"\",(IF(Walidacja!A2180,\"Poprawny\",\"Niepoprawny\")))","v":""}]
[null,null,{"$f":"IF(Walidacja!A2181=\"\",\"\",(IF(Walidacja!A2181,\"Poprawny\",\"Niepoprawny\")))","v":""}]
[null,null,{"$f":"IF(Walidacja!A2182=\"\",\"\",(IF(Walidacja!A2182,\"Poprawny\",\"Niepoprawny\")))","v":""}]
[null,null,{"$f":"IF(Walidacja!A2183=\"\",\"\",(IF(Walidacja!A2183,\"Poprawny\",\"Niepoprawny\")))","v":""}]
[null,null,{"$f":"IF(Walidacja!A2184=\"\",\"\",(IF(Walidacja!A2184,\"Poprawny\",\"Niepoprawny\")))","v":""}]
[null,null,{"$f":"IF(Walidacja!A2185=\"\",\"\",(IF(Walidacja!A2185,\"Poprawny\",\"Niepoprawny\")))","v":""}]
[null,null,{"$f":"IF(Walidacja!A2186=\"\",\"\",(IF(Walidacja!A2186,\"Poprawny\",\"Niepoprawny\")))","v":""}]
[null,null,{"$f":"IF(Walidacja!A2187=\"\",\"\",(IF(Walidacja!A2187,\"Poprawny\",\"Niepoprawny\")))","v":""}]
[null,null,{"$f":"IF(Walidacja!A2188=\"\",\"\",(IF(Walidacja!A2188,\"Poprawny\",\"Niepoprawny\")))","v":""}]
[null,null,{"$f":"IF(Walidacja!A2189=\"\",\"\",(IF(Walidacja!A2189,\"Poprawny\",\"Niepoprawny\")))","v":""}]
[null,null,{"$f":"IF(Walidacja!A2190=\"\",\"\",(IF(Walidacja!A2190,\"Poprawny\",\"Niepoprawny\")))","v":""}]
[null,null,{"$f":"IF(Walidacja!A2191=\"\",\"\",(IF(Walidacja!A2191,\"Poprawny\",\"Niepoprawny\")))","v":""}]
[null,null,{"$f":"IF(Walidacja!A2192=\"\",\"\",(IF(Walidacja!A2192,\"Poprawny\",\"Niepoprawny\")))","v":""}]
[null,null,{"$f":"IF(Walidacja!A2193=\"\",\"\",(IF(Walidacja!A2193,\"Poprawny\",\"Niepoprawny\")))","v":""}]
[null,null,{"$f":"IF(Walidacja!A2194=\"\",\"\",(IF(Walidacja!A2194,\"Poprawny\",\"Niepoprawny\")))","v":""}]
[null,null,{"$f":"IF(Walidacja!A2195=\"\",\"\",(IF(Walidacja!A2195,\"Poprawny\",\"Niepoprawny\")))","v":""}]
[null,null,{"$f":"IF(Walidacja!A2196=\"\",\"\",(IF(Walidacja!A2196,\"Poprawny\",\"Niepoprawny\")))","v":""}]
[null,null,{"$f":"IF(Walidacja!A2197=\"\",\"\",(IF(Walidacja!A2197,\"Poprawny\",\"Niepoprawny\")))","v":""}]
[null,null,{"$f":"IF(Walidacja!A2198=\"\",\"\",(IF(Walidacja!A2198,\"Poprawny\",\"Niepoprawny\")))","v":""}]
[null,null,{"$f":"IF(Walidacja!A2199=\"\",\"\",(IF(Walidacja!A2199,\"Poprawny\",\"Niepoprawny\")))","v":""}]
[null,null,{"$f":"IF(Walidacja!A2200=\"\",\"\",(IF(Walidacja!A2200,\"Poprawny\",\"Niepoprawny\")))","v":""}]
[null,null,{"$f":"IF(Walidacja!A2201=\"\",\"\",(IF(Walidacja!A2201,\"Poprawny\",\"Niepoprawny\")))","v":""}]
[null,null,{"$f":"IF(Walidacja!A2202=\"\",\"\",(IF(Walidacja!A2202,\"Poprawny\",\"Niepoprawny\")))","v":""}]
[null,null,{"$f":"IF(Walidacja!A2203=\"\",\"\",(IF(Walidacja!A2203,\"Poprawny\",\"Niepoprawny\")))","v":""}]
[null,null,{"$f":"IF(Walidacja!A2204=\"\",\"\",(IF(Walidacja!A2204,\"Poprawny\",\"Niepoprawny\")))","v":""}]
[null,null,{"$f":"IF(Walidacja!A2205=\"\",\"\",(IF(Walidacja!A2205,\"Poprawny\",\"Niepoprawny\")))","v":""}]
[null,null,{"$f":"IF(Walidacja!A2206=\"\",\"\",(IF(Walidacja!A2206,\"Poprawny\",\"Niepoprawny\")))","v":""}]
[null,null,{"$f":"IF(Walidacja!A2207=\"\",\"\",(IF(Walidacja!A2207,\"Poprawny\",\"Niepoprawny\")))","v":""}]
[null,null,{"$f":"IF(Walidacja!A2208=\"\",\"\",(IF(Walidacja!A2208,\"Poprawny\",\"Niepoprawny\")))","v":""}]
[null,null,{"$f":"IF(Walidacja!A2209=\"\",\"\",(IF(Walidacja!A2209,\"Poprawny\",\"Niepoprawny\")))","v":""}]
[null,null,{"$f":"IF(Walidacja!A2210=\"\",\"\",(IF(Walidacja!A2210,\"Poprawny\",\"Niepoprawny\")))","v":""}]
[null,null,{"$f":"IF(Walidacja!A2211=\"\",\"\",(IF(Walidacja!A2211,\"Poprawny\",\"Niepoprawny\")))","v":""}]
[null,null,{"$f":"IF(Walidacja!A2212=\"\",\"\",(IF(Walidacja!A2212,\"Poprawny\",\"Niepoprawny\")))","v":""}]
[null,null,{"$f":"IF(Walidacja!A2213=\"\",\"\",(IF(Walidacja!A2213,\"Poprawny\",\"Niepoprawny\")))","v":""}]
[null,null,{"$f":"IF(Walidacja!A2214=\"\",\"\",(IF(Walidacja!A2214,\"Poprawny\",\"Niepoprawny\")))","v":""}]
[null,null,{"$f":"IF(Walidacja!A2215=\"\",\"\",(IF(Walidacja!A2215,\"Poprawny\",\"Niepoprawny\")))","v":""}]
[null,null,{"$f":"IF(Walidacja!A2216=\"\",\"\",(IF(Walidacja!A2216,\"Poprawny\",\"Niepoprawny\")))","v":""}]
[null,null,{"$f":"IF(Walidacja!A2217=\"\",\"\",(IF(Walidacja!A2217,\"Poprawny\",\"Niepoprawny\")))","v":""}]
[null,null,{"$f":"IF(Walidacja!A2218=\"\",\"\",(IF(Walidacja!A2218,\"Poprawny\",\"Niepoprawny\")))","v":""}]
[null,null,{"$f":"IF(Walidacja!A2219=\"\",\"\",(IF(Walidacja!A2219,\"Poprawny\",\"Niepoprawny\")))","v":""}]
[null,null,{"$f":"IF(Walidacja!A2220=\"\",\"\",(IF(Walidacja!A2220,\"Poprawny\",\"Niepoprawny\")))","v":""}]
[null,null,{"$f":"IF(Walidacja!A2221=\"\",\"\",(IF(Walidacja!A2221,\"Poprawny\",\"Niepoprawny\")))","v":""}]
[null,null,{"$f":"IF(Walidacja!A2222=\"\",\"\",(IF(Walidacja!A2222,\"Poprawny\",\"Niepoprawny\")))","v":""}]
[null,null,{"$f":"IF(Walidacja!A2223=\"\",\"\",(IF(Walidacja!A2223,\"Poprawny\",\"Niepoprawny\")))","v":""}]
[null,null,{"$f":"IF(Walidacja!A2224=\"\",\"\",(IF(Walidacja!A2224,\"Poprawny\",\"Niepoprawny\")))","v":""}]
[null,null,{"$f":"IF(Walidacja!A2225=\"\",\"\",(IF(Walidacja!A2225,\"Poprawny\",\"Niepoprawny\")))","v":""}]
[null,null,{"$f":"IF(Walidacja!A2226=\"\",\"\",(IF(Walidacja!A2226,\"Poprawny\",\"Niepoprawny\")))","v":""}]
[null,null,{"$f":"IF(Walidacja!A2227=\"\",\"\",(IF(Walidacja!A2227,\"Poprawny\",\"Niepoprawny\")))","v":""}]
[null,null,{"$f":"IF(Walidacja!A2228=\"\",\"\",(IF(Walidacja!A2228,\"Poprawny\",\"Niepoprawny\")))","v":""}]
[null,null,{"$f":"IF(Walidacja!A2229=\"\",\"\",(IF(Walidacja!A2229,\"Poprawny\",\"Niepoprawny\")))","v":""}]
[null,null,{"$f":"IF(Walidacja!A2230=\"\",\"\",(IF(Walidacja!A2230,\"Poprawny\",\"Niepoprawny\")))","v":""}]
[null,null,{"$f":"IF(Walidacja!A2231=\"\",\"\",(IF(Walidacja!A2231,\"Poprawny\",\"Niepoprawny\")))","v":""}]
[null,null,{"$f":"IF(Walidacja!A2232=\"\",\"\",(IF(Walidacja!A2232,\"Poprawny\",\"Niepoprawny\")))","v":""}]
[null,null,{"$f":"IF(Walidacja!A2233=\"\",\"\",(IF(Walidacja!A2233,\"Poprawny\",\"Niepoprawny\")))","v":""}]
[null,null,{"$f":"IF(Walidacja!A2234=\"\",\"\",(IF(Walidacja!A2234,\"Poprawny\",\"Niepoprawny\")))","v":""}]
[null,null,{"$f":"IF(Walidacja!A2235=\"\",\"\",(IF(Walidacja!A2235,\"Poprawny\",\"Niepoprawny\")))","v":""}]
[null,null,{"$f":"IF(Walidacja!A2236=\"\",\"\",(IF(Walidacja!A2236,\"Poprawny\",\"Niepoprawny\")))","v":""}]
[null,null,{"$f":"IF(Walidacja!A2237=\"\",\"\",(IF(Walidacja!A2237,\"Poprawny\",\"Niepoprawny\")))","v":""}]
[null,null,{"$f":"IF(Walidacja!A2238=\"\",\"\",(IF(Walidacja!A2238,\"Poprawny\",\"Niepoprawny\")))","v":""}]
[null,null,{"$f":"IF(Walidacja!A2239=\"\",\"\",(IF(Walidacja!A2239,\"Poprawny\",\"Niepoprawny\")))","v":""}]
[null,null,{"$f":"IF(Walidacja!A2240=\"\",\"\",(IF(Walidacja!A2240,\"Poprawny\",\"Niepoprawny\")))","v":""}]
[null,null,{"$f":"IF(Walidacja!A2241=\"\",\"\",(IF(Walidacja!A2241,\"Poprawny\",\"Niepoprawny\")))","v":""}]
[null,null,{"$f":"IF(Walidacja!A2242=\"\",\"\",(IF(Walidacja!A2242,\"Poprawny\",\"Niepoprawny\")))","v":""}]
[null,null,{"$f":"IF(Walidacja!A2243=\"\",\"\",(IF(Walidacja!A2243,\"Poprawny\",\"Niepoprawny\")))","v":""}]
[null,null,{"$f":"IF(Walidacja!A2244=\"\",\"\",(IF(Walidacja!A2244,\"Poprawny\",\"Niepoprawny\")))","v":""}]
[null,null,{"$f":"IF(Walidacja!A2245=\"\",\"\",(IF(Walidacja!A2245,\"Poprawny\",\"Niepoprawny\")))","v":""}]
[null,null,{"$f":"IF(Walidacja!A2246=\"\",\"\",(IF(Walidacja!A2246,\"Poprawny\",\"Niepoprawny\")))","v":""}]
[null,null,{"$f":"IF(Walidacja!A2247=\"\",\"\",(IF(Walidacja!A2247,\"Poprawny\",\"Niepoprawny\")))","v":""}]
[null,null,{"$f":"IF(Walidacja!A2248=\"\",\"\",(IF(Walidacja!A2248,\"Poprawny\",\"Niepoprawny\")))","v":""}]
[null,null,{"$f":"IF(Walidacja!A2249=\"\",\"\",(IF(Walidacja!A2249,\"Poprawny\",\"Niepoprawny\")))","v":""}]
[null,null,{"$f":"IF(Walidacja!A2250=\"\",\"\",(IF(Walidacja!A2250,\"Poprawny\",\"Niepoprawny\")))","v":""}]
[null,null,{"$f":"IF(Walidacja!A2251=\"\",\"\",(IF(Walidacja!A2251,\"Poprawny\",\"Niepoprawny\")))","v":""}]
[null,null,{"$f":"IF(Walidacja!A2252=\"\",\"\",(IF(Walidacja!A2252,\"Poprawny\",\"Niepoprawny\")))","v":""}]
[null,null,{"$f":"IF(Walidacja!A2253=\"\",\"\",(IF(Walidacja!A2253,\"Poprawny\",\"Niepoprawny\")))","v":""}]
[null,null,{"$f":"IF(Walidacja!A2254=\"\",\"\",(IF(Walidacja!A2254,\"Poprawny\",\"Niepoprawny\")))","v":""}]
[null,null,{"$f":"IF(Walidacja!A2255=\"\",\"\",(IF(Walidacja!A2255,\"Poprawny\",\"Niepoprawny\")))","v":""}]
[null,null,{"$f":"IF(Walidacja!A2256=\"\",\"\",(IF(Walidacja!A2256,\"Poprawny\",\"Niepoprawny\")))","v":""}]
[null,null,{"$f":"IF(Walidacja!A2257=\"\",\"\",(IF(Walidacja!A2257,\"Poprawny\",\"Niepoprawny\")))","v":""}]
[null,null,{"$f":"IF(Walidacja!A2258=\"\",\"\",(IF(Walidacja!A2258,\"Poprawny\",\"Niepoprawny\")))","v":""}]
[null,null,{"$f":"IF(Walidacja!A2259=\"\",\"\",(IF(Walidacja!A2259,\"Poprawny\",\"Niepoprawny\")))","v":""}]
[null,null,{"$f":"IF(Walidacja!A2260=\"\",\"\",(IF(Walidacja!A2260,\"Poprawny\",\"Niepoprawny\")))","v":""}]
[null,null,{"$f":"IF(Walidacja!A2261=\"\",\"\",(IF(Walidacja!A2261,\"Poprawny\",\"Niepoprawny\")))","v":""}]
[null,null,{"$f":"IF(Walidacja!A2262=\"\",\"\",(IF(Walidacja!A2262,\"Poprawny\",\"Niepoprawny\")))","v":""}]
[null,null,{"$f":"IF(Walidacja!A2263=\"\",\"\",(IF(Walidacja!A2263,\"Poprawny\",\"Niepoprawny\")))","v":""}]
[null,null,{"$f":"IF(Walidacja!A2264=\"\",\"\",(IF(Walidacja!A2264,\"Poprawny\",\"Niepoprawny\")))","v":""}]
[null,null,{"$f":"IF(Walidacja!A2265=\"\",\"\",(IF(Walidacja!A2265,\"Poprawny\",\"Niepoprawny\")))","v":""}]
[null,null,{"$f":"IF(Walidacja!A2266=\"\",\"\",(IF(Walidacja!A2266,\"Poprawny\",\"Niepoprawny\")))","v":""}]
[null,null,{"$f":"IF(Walidacja!A2267=\"\",\"\",(IF(Walidacja!A2267,\"Poprawny\",\"Niepoprawny\")))","v":""}]
[null,null,{"$f":"IF(Walidacja!A2268=\"\",\"\",(IF(Walidacja!A2268,\"Poprawny\",\"Niepoprawny\")))","v":""}]
[null,null,{"$f":"IF(Walidacja!A2269=\"\",\"\",(IF(Walidacja!A2269,\"Poprawny\",\"Niepoprawny\")))","v":""}]
[null,null,{"$f":"IF(Walidacja!A2270=\"\",\"\",(IF(Walidacja!A2270,\"Poprawny\",\"Niepoprawny\")))","v":""}]
[null,null,{"$f":"IF(Walidacja!A2271=\"\",\"\",(IF(Walidacja!A2271,\"Poprawny\",\"Niepoprawny\")))","v":""}]
[null,null,{"$f":"IF(Walidacja!A2272=\"\",\"\",(IF(Walidacja!A2272,\"Poprawny\",\"Niepoprawny\")))","v":""}]
[null,null,{"$f":"IF(Walidacja!A2273=\"\",\"\",(IF(Walidacja!A2273,\"Poprawny\",\"Niepoprawny\")))","v":""}]
[null,null,{"$f":"IF(Walidacja!A2274=\"\",\"\",(IF(Walidacja!A2274,\"Poprawny\",\"Niepoprawny\")))","v":""}]
[null,null,{"$f":"IF(Walidacja!A2275=\"\",\"\",(IF(Walidacja!A2275,\"Poprawny\",\"Niepoprawny\")))","v":""}]
[null,null,{"$f":"IF(Walidacja!A2276=\"\",\"\",(IF(Walidacja!A2276,\"Poprawny\",\"Niepoprawny\")))","v":""}]
[null,null,{"$f":"IF(Walidacja!A2277=\"\",\"\",(IF(Walidacja!A2277,\"Poprawny\",\"Niepoprawny\")))","v":""}]
[null,null,{"$f":"IF(Walidacja!A2278=\"\",\"\",(IF(Walidacja!A2278,\"Poprawny\",\"Niepoprawny\")))","v":""}]
[null,null,{"$f":"IF(Walidacja!A2279=\"\",\"\",(IF(Walidacja!A2279,\"Poprawny\",\"Niepoprawny\")))","v":""}]
[null,null,{"$f":"IF(Walidacja!A2280=\"\",\"\",(IF(Walidacja!A2280,\"Poprawny\",\"Niepoprawny\")))","v":""}]
[null,null,{"$f":"IF(Walidacja!A2281=\"\",\"\",(IF(Walidacja!A2281,\"Poprawny\",\"Niepoprawny\")))","v":""}]
[null,null,{"$f":"IF(Walidacja!A2282=\"\",\"\",(IF(Walidacja!A2282,\"Poprawny\",\"Niepoprawny\")))","v":""}]
[null,null,{"$f":"IF(Walidacja!A2283=\"\",\"\",(IF(Walidacja!A2283,\"Poprawny\",\"Niepoprawny\")))","v":""}]
[null,null,{"$f":"IF(Walidacja!A2284=\"\",\"\",(IF(Walidacja!A2284,\"Poprawny\",\"Niepoprawny\")))","v":""}]
[null,null,{"$f":"IF(Walidacja!A2285=\"\",\"\",(IF(Walidacja!A2285,\"Poprawny\",\"Niepoprawny\")))","v":""}]
[null,null,{"$f":"IF(Walidacja!A2286=\"\",\"\",(IF(Walidacja!A2286,\"Poprawny\",\"Niepoprawny\")))","v":""}]
[null,null,{"$f":"IF(Walidacja!A2287=\"\",\"\",(IF(Walidacja!A2287,\"Poprawny\",\"Niepoprawny\")))","v":""}]
[null,null,{"$f":"IF(Walidacja!A2288=\"\",\"\",(IF(Walidacja!A2288,\"Poprawny\",\"Niepoprawny\")))","v":""}]
[null,null,{"$f":"IF(Walidacja!A2289=\"\",\"\",(IF(Walidacja!A2289,\"Poprawny\",\"Niepoprawny\")))","v":""}]
[null,null,{"$f":"IF(Walidacja!A2290=\"\",\"\",(IF(Walidacja!A2290,\"Poprawny\",\"Niepoprawny\")))","v":""}]
[null,null,{"$f":"IF(Walidacja!A2291=\"\",\"\",(IF(Walidacja!A2291,\"Poprawny\",\"Niepoprawny\")))","v":""}]
[null,null,{"$f":"IF(Walidacja!A2292=\"\",\"\",(IF(Walidacja!A2292,\"Poprawny\",\"Niepoprawny\")))","v":""}]
[null,null,{"$f":"IF(Walidacja!A2293=\"\",\"\",(IF(Walidacja!A2293,\"Poprawny\",\"Niepoprawny\")))","v":""}]
[null,null,{"$f":"IF(Walidacja!A2294=\"\",\"\",(IF(Walidacja!A2294,\"Poprawny\",\"Niepoprawny\")))","v":""}]
[null,null,{"$f":"IF(Walidacja!A2295=\"\",\"\",(IF(Walidacja!A2295,\"Poprawny\",\"Niepoprawny\")))","v":""}]
[null,null,{"$f":"IF(Walidacja!A2296=\"\",\"\",(IF(Walidacja!A2296,\"Poprawny\",\"Niepoprawny\")))","v":""}]
[null,null,{"$f":"IF(Walidacja!A2297=\"\",\"\",(IF(Walidacja!A2297,\"Poprawny\",\"Niepoprawny\")))","v":""}]
[null,null,{"$f":"IF(Walidacja!A2298=\"\",\"\",(IF(Walidacja!A2298,\"Poprawny\",\"Niepoprawny\")))","v":""}]
[null,null,{"$f":"IF(Walidacja!A2299=\"\",\"\",(IF(Walidacja!A2299,\"Poprawny\",\"Niepoprawny\")))","v":""}]
[null,null,{"$f":"IF(Walidacja!A2300=\"\",\"\",(IF(Walidacja!A2300,\"Poprawny\",\"Niepoprawny\")))","v":""}]
[null,null,{"$f":"IF(Walidacja!A2301=\"\",\"\",(IF(Walidacja!A2301,\"Poprawny\",\"Niepoprawny\")))","v":""}]
[null,null,{"$f":"IF(Walidacja!A2302=\"\",\"\",(IF(Walidacja!A2302,\"Poprawny\",\"Niepoprawny\")))","v":""}]
[null,null,{"$f":"IF(Walidacja!A2303=\"\",\"\",(IF(Walidacja!A2303,\"Poprawny\",\"Niepoprawny\")))","v":""}]
[null,null,{"$f":"IF(Walidacja!A2304=\"\",\"\",(IF(Walidacja!A2304,\"Poprawny\",\"Niepoprawny\")))","v":""}]
[null,null,{"$f":"IF(Walidacja!A2305=\"\",\"\",(IF(Walidacja!A2305,\"Poprawny\",\"Niepoprawny\")))","v":""}]
[null,null,{"$f":"IF(Walidacja!A2306=\"\",\"\",(IF(Walidacja!A2306,\"Poprawny\",\"Niepoprawny\")))","v":""}]
[null,null,{"$f":"IF(Walidacja!A2307=\"\",\"\",(IF(Walidacja!A2307,\"Poprawny\",\"Niepoprawny\")))","v":""}]
[null,null,{"$f":"IF(Walidacja!A2308=\"\",\"\",(IF(Walidacja!A2308,\"Poprawny\",\"Niepoprawny\")))","v":""}]
[null,null,{"$f":"IF(Walidacja!A2309=\"\",\"\",(IF(Walidacja!A2309,\"Poprawny\",\"Niepoprawny\")))","v":""}]
[null,null,{"$f":"IF(Walidacja!A2310=\"\",\"\",(IF(Walidacja!A2310,\"Poprawny\",\"Niepoprawny\")))","v":""}]
[null,null,{"$f":"IF(Walidacja!A2311=\"\",\"\",(IF(Walidacja!A2311,\"Poprawny\",\"Niepoprawny\")))","v":""}]
[null,null,{"$f":"IF(Walidacja!A2312=\"\",\"\",(IF(Walidacja!A2312,\"Poprawny\",\"Niepoprawny\")))","v":""}]
[null,null,{"$f":"IF(Walidacja!A2313=\"\",\"\",(IF(Walidacja!A2313,\"Poprawny\",\"Niepoprawny\")))","v":""}]
[null,null,{"$f":"IF(Walidacja!A2314=\"\",\"\",(IF(Walidacja!A2314,\"Poprawny\",\"Niepoprawny\")))","v":""}]
[null,null,{"$f":"IF(Walidacja!A2315=\"\",\"\",(IF(Walidacja!A2315,\"Poprawny\",\"Niepoprawny\")))","v":""}]
[null,null,{"$f":"IF(Walidacja!A2316=\"\",\"\",(IF(Walidacja!A2316,\"Poprawny\",\"Niepoprawny\")))","v":""}]
[null,null,{"$f":"IF(Walidacja!A2317=\"\",\"\",(IF(Walidacja!A2317,\"Poprawny\",\"Niepoprawny\")))","v":""}]
[null,null,{"$f":"IF(Walidacja!A2318=\"\",\"\",(IF(Walidacja!A2318,\"Poprawny\",\"Niepoprawny\")))","v":""}]
[null,null,{"$f":"IF(Walidacja!A2319=\"\",\"\",(IF(Walidacja!A2319,\"Poprawny\",\"Niepoprawny\")))","v":""}]
[null,null,{"$f":"IF(Walidacja!A2320=\"\",\"\",(IF(Walidacja!A2320,\"Poprawny\",\"Niepoprawny\")))","v":""}]
[null,null,{"$f":"IF(Walidacja!A2321=\"\",\"\",(IF(Walidacja!A2321,\"Poprawny\",\"Niepoprawny\")))","v":""}]
[null,null,{"$f":"IF(Walidacja!A2322=\"\",\"\",(IF(Walidacja!A2322,\"Poprawny\",\"Niepoprawny\")))","v":""}]
[null,null,{"$f":"IF(Walidacja!A2323=\"\",\"\",(IF(Walidacja!A2323,\"Poprawny\",\"Niepoprawny\")))","v":""}]
[null,null,{"$f":"IF(Walidacja!A2324=\"\",\"\",(IF(Walidacja!A2324,\"Poprawny\",\"Niepoprawny\")))","v":""}]
[null,null,{"$f":"IF(Walidacja!A2325=\"\",\"\",(IF(Walidacja!A2325,\"Poprawny\",\"Niepoprawny\")))","v":""}]
[null,null,{"$f":"IF(Walidacja!A2326=\"\",\"\",(IF(Walidacja!A2326,\"Poprawny\",\"Niepoprawny\")))","v":""}]
[null,null,{"$f":"IF(Walidacja!A2327=\"\",\"\",(IF(Walidacja!A2327,\"Poprawny\",\"Niepoprawny\")))","v":""}]
[null,null,{"$f":"IF(Walidacja!A2328=\"\",\"\",(IF(Walidacja!A2328,\"Poprawny\",\"Niepoprawny\")))","v":""}]
[null,null,{"$f":"IF(Walidacja!A2329=\"\",\"\",(IF(Walidacja!A2329,\"Poprawny\",\"Niepoprawny\")))","v":""}]
[null,null,{"$f":"IF(Walidacja!A2330=\"\",\"\",(IF(Walidacja!A2330,\"Poprawny\",\"Niepoprawny\")))","v":""}]
[null,null,{"$f":"IF(Walidacja!A2331=\"\",\"\",(IF(Walidacja!A2331,\"Poprawny\",\"Niepoprawny\")))","v":""}]
[null,null,{"$f":"IF(Walidacja!A2332=\"\",\"\",(IF(Walidacja!A2332,\"Poprawny\",\"Niepoprawny\")))","v":""}]
[null,null,{"$f":"IF(Walidacja!A2333=\"\",\"\",(IF(Walidacja!A2333,\"Poprawny\",\"Niepoprawny\")))","v":""}]
[null,null,{"$f":"IF(Walidacja!A2334=\"\",\"\",(IF(Walidacja!A2334,\"Poprawny\",\"Niepoprawny\")))","v":""}]
[null,null,{"$f":"IF(Walidacja!A2335=\"\",\"\",(IF(Walidacja!A2335,\"Poprawny\",\"Niepoprawny\")))","v":""}]
[null,null,{"$f":"IF(Walidacja!A2336=\"\",\"\",(IF(Walidacja!A2336,\"Poprawny\",\"Niepoprawny\")))","v":""}]
[null,null,{"$f":"IF(Walidacja!A2337=\"\",\"\",(IF(Walidacja!A2337,\"Poprawny\",\"Niepoprawny\")))","v":""}]
[null,null,{"$f":"IF(Walidacja!A2338=\"\",\"\",(IF(Walidacja!A2338,\"Poprawny\",\"Niepoprawny\")))","v":""}]
[null,null,{"$f":"IF(Walidacja!A2339=\"\",\"\",(IF(Walidacja!A2339,\"Poprawny\",\"Niepoprawny\")))","v":""}]
[null,null,{"$f":"IF(Walidacja!A2340=\"\",\"\",(IF(Walidacja!A2340,\"Poprawny\",\"Niepoprawny\")))","v":""}]
[null,null,{"$f":"IF(Walidacja!A2341=\"\",\"\",(IF(Walidacja!A2341,\"Poprawny\",\"Niepoprawny\")))","v":""}]
[null,null,{"$f":"IF(Walidacja!A2342=\"\",\"\",(IF(Walidacja!A2342,\"Poprawny\",\"Niepoprawny\")))","v":""}]
[null,null,{"$f":"IF(Walidacja!A2343=\"\",\"\",(IF(Walidacja!A2343,\"Poprawny\",\"Niepoprawny\")))","v":""}]
[null,null,{"$f":"IF(Walidacja!A2344=\"\",\"\",(IF(Walidacja!A2344,\"Poprawny\",\"Niepoprawny\")))","v":""}]
[null,null,{"$f":"IF(Walidacja!A2345=\"\",\"\",(IF(Walidacja!A2345,\"Poprawny\",\"Niepoprawny\")))","v":""}]
[null,null,{"$f":"IF(Walidacja!A2346=\"\",\"\",(IF(Walidacja!A2346,\"Poprawny\",\"Niepoprawny\")))","v":""}]
[null,null,{"$f":"IF(Walidacja!A2347=\"\",\"\",(IF(Walidacja!A2347,\"Poprawny\",\"Niepoprawny\")))","v":""}]
[null,null,{"$f":"IF(Walidacja!A2348=\"\",\"\",(IF(Walidacja!A2348,\"Poprawny\",\"Niepoprawny\")))","v":""}]
[null,null,{"$f":"IF(Walidacja!A2349=\"\",\"\",(IF(Walidacja!A2349,\"Poprawny\",\"Niepoprawny\")))","v":""}]
[null,null,{"$f":"IF(Walidacja!A2350=\"\",\"\",(IF(Walidacja!A2350,\"Poprawny\",\"Niepoprawny\")))","v":""}]
[null,null,{"$f":"IF(Walidacja!A2351=\"\",\"\",(IF(Walidacja!A2351,\"Poprawny\",\"Niepoprawny\")))","v":""}]
[null,null,{"$f":"IF(Walidacja!A2352=\"\",\"\",(IF(Walidacja!A2352,\"Poprawny\",\"Niepoprawny\")))","v":""}]
[null,null,{"$f":"IF(Walidacja!A2353=\"\",\"\",(IF(Walidacja!A2353,\"Poprawny\",\"Niepoprawny\")))","v":""}]
[null,null,{"$f":"IF(Walidacja!A2354=\"\",\"\",(IF(Walidacja!A2354,\"Poprawny\",\"Niepoprawny\")))","v":""}]
[null,null,{"$f":"IF(Walidacja!A2355=\"\",\"\",(IF(Walidacja!A2355,\"Poprawny\",\"Niepoprawny\")))","v":""}]
[null,null,{"$f":"IF(Walidacja!A2356=\"\",\"\",(IF(Walidacja!A2356,\"Poprawny\",\"Niepoprawny\")))","v":""}]
[null,null,{"$f":"IF(Walidacja!A2357=\"\",\"\",(IF(Walidacja!A2357,\"Poprawny\",\"Niepoprawny\")))","v":""}]
[null,null,{"$f":"IF(Walidacja!A2358=\"\",\"\",(IF(Walidacja!A2358,\"Poprawny\",\"Niepoprawny\")))","v":""}]
[null,null,{"$f":"IF(Walidacja!A2359=\"\",\"\",(IF(Walidacja!A2359,\"Poprawny\",\"Niepoprawny\")))","v":""}]
[null,null,{"$f":"IF(Walidacja!A2360=\"\",\"\",(IF(Walidacja!A2360,\"Poprawny\",\"Niepoprawny\")))","v":""}]
[null,null,{"$f":"IF(Walidacja!A2361=\"\",\"\",(IF(Walidacja!A2361,\"Poprawny\",\"Niepoprawny\")))","v":""}]
[null,null,{"$f":"IF(Walidacja!A2362=\"\",\"\",(IF(Walidacja!A2362,\"Poprawny\",\"Niepoprawny\")))","v":""}]
[null,null,{"$f":"IF(Walidacja!A2363=\"\",\"\",(IF(Walidacja!A2363,\"Poprawny\",\"Niepoprawny\")))","v":""}]
[null,null,{"$f":"IF(Walidacja!A2364=\"\",\"\",(IF(Walidacja!A2364,\"Poprawny\",\"Niepoprawny\")))","v":""}]
[null,null,{"$f":"IF(Walidacja!A2365=\"\",\"\",(IF(Walidacja!A2365,\"Poprawny\",\"Niepoprawny\")))","v":""}]
[null,null,{"$f":"IF(Walidacja!A2366=\"\",\"\",(IF(Walidacja!A2366,\"Poprawny\",\"Niepoprawny\")))","v":""}]
[null,null,{"$f":"IF(Walidacja!A2367=\"\",\"\",(IF(Walidacja!A2367,\"Poprawny\",\"Niepoprawny\")))","v":""}]
[null,null,{"$f":"IF(Walidacja!A2368=\"\",\"\",(IF(Walidacja!A2368,\"Poprawny\",\"Niepoprawny\")))","v":""}]
[null,null,{"$f":"IF(Walidacja!A2369=\"\",\"\",(IF(Walidacja!A2369,\"Poprawny\",\"Niepoprawny\")))","v":""}]
[null,null,{"$f":"IF(Walidacja!A2370=\"\",\"\",(IF(Walidacja!A2370,\"Poprawny\",\"Niepoprawny\")))","v":""}]
[null,null,{"$f":"IF(Walidacja!A2371=\"\",\"\",(IF(Walidacja!A2371,\"Poprawny\",\"Niepoprawny\")))","v":""}]
[null,null,{"$f":"IF(Walidacja!A2372=\"\",\"\",(IF(Walidacja!A2372,\"Poprawny\",\"Niepoprawny\")))","v":""}]
[null,null,{"$f":"IF(Walidacja!A2373=\"\",\"\",(IF(Walidacja!A2373,\"Poprawny\",\"Niepoprawny\")))","v":""}]
[null,null,{"$f":"IF(Walidacja!A2374=\"\",\"\",(IF(Walidacja!A2374,\"Poprawny\",\"Niepoprawny\")))","v":""}]
[null,null,{"$f":"IF(Walidacja!A2375=\"\",\"\",(IF(Walidacja!A2375,\"Poprawny\",\"Niepoprawny\")))","v":""}]
[null,null,{"$f":"IF(Walidacja!A2376=\"\",\"\",(IF(Walidacja!A2376,\"Poprawny\",\"Niepoprawny\")))","v":""}]
[null,null,{"$f":"IF(Walidacja!A2377=\"\",\"\",(IF(Walidacja!A2377,\"Poprawny\",\"Niepoprawny\")))","v":""}]
[null,null,{"$f":"IF(Walidacja!A2378=\"\",\"\",(IF(Walidacja!A2378,\"Poprawny\",\"Niepoprawny\")))","v":""}]
[null,null,{"$f":"IF(Walidacja!A2379=\"\",\"\",(IF(Walidacja!A2379,\"Poprawny\",\"Niepoprawny\")))","v":""}]
[null,null,{"$f":"IF(Walidacja!A2380=\"\",\"\",(IF(Walidacja!A2380,\"Poprawny\",\"Niepoprawny\")))","v":""}]
[null,null,{"$f":"IF(Walidacja!A2381=\"\",\"\",(IF(Walidacja!A2381,\"Poprawny\",\"Niepoprawny\")))","v":""}]
[null,null,{"$f":"IF(Walidacja!A2382=\"\",\"\",(IF(Walidacja!A2382,\"Poprawny\",\"Niepoprawny\")))","v":""}]
[null,null,{"$f":"IF(Walidacja!A2383=\"\",\"\",(IF(Walidacja!A2383,\"Poprawny\",\"Niepoprawny\")))","v":""}]
[null,null,{"$f":"IF(Walidacja!A2384=\"\",\"\",(IF(Walidacja!A2384,\"Poprawny\",\"Niepoprawny\")))","v":""}]
[null,null,{"$f":"IF(Walidacja!A2385=\"\",\"\",(IF(Walidacja!A2385,\"Poprawny\",\"Niepoprawny\")))","v":""}]
[null,null,{"$f":"IF(Walidacja!A2386=\"\",\"\",(IF(Walidacja!A2386,\"Poprawny\",\"Niepoprawny\")))","v":""}]
[null,null,{"$f":"IF(Walidacja!A2387=\"\",\"\",(IF(Walidacja!A2387,\"Poprawny\",\"Niepoprawny\")))","v":""}]
[null,null,{"$f":"IF(Walidacja!A2388=\"\",\"\",(IF(Walidacja!A2388,\"Poprawny\",\"Niepoprawny\")))","v":""}]
[null,null,{"$f":"IF(Walidacja!A2389=\"\",\"\",(IF(Walidacja!A2389,\"Poprawny\",\"Niepoprawny\")))","v":""}]
[null,null,{"$f":"IF(Walidacja!A2390=\"\",\"\",(IF(Walidacja!A2390,\"Poprawny\",\"Niepoprawny\")))","v":""}]
[null,null,{"$f":"IF(Walidacja!A2391=\"\",\"\",(IF(Walidacja!A2391,\"Poprawny\",\"Niepoprawny\")))","v":""}]
[null,null,{"$f":"IF(Walidacja!A2392=\"\",\"\",(IF(Walidacja!A2392,\"Poprawny\",\"Niepoprawny\")))","v":""}]
[null,null,{"$f":"IF(Walidacja!A2393=\"\",\"\",(IF(Walidacja!A2393,\"Poprawny\",\"Niepoprawny\")))","v":""}]
[null,null,{"$f":"IF(Walidacja!A2394=\"\",\"\",(IF(Walidacja!A2394,\"Poprawny\",\"Niepoprawny\")))","v":""}]
[null,null,{"$f":"IF(Walidacja!A2395=\"\",\"\",(IF(Walidacja!A2395,\"Poprawny\",\"Niepoprawny\")))","v":""}]
[null,null,{"$f":"IF(Walidacja!A2396=\"\",\"\",(IF(Walidacja!A2396,\"Poprawny\",\"Niepoprawny\")))","v":""}]
[null,null,{"$f":"IF(Walidacja!A2397=\"\",\"\",(IF(Walidacja!A2397,\"Poprawny\",\"Niepoprawny\")))","v":""}]
[null,null,{"$f":"IF(Walidacja!A2398=\"\",\"\",(IF(Walidacja!A2398,\"Poprawny\",\"Niepoprawny\")))","v":""}]
[null,null,{"$f":"IF(Walidacja!A2399=\"\",\"\",(IF(Walidacja!A2399,\"Poprawny\",\"Niepoprawny\")))","v":""}]
[null,null,{"$f":"IF(Walidacja!A2400=\"\",\"\",(IF(Walidacja!A2400,\"Poprawny\",\"Niepoprawny\")))","v":""}]
[null,null,{"$f":"IF(Walidacja!A2401=\"\",\"\",(IF(Walidacja!A2401,\"Poprawny\",\"Niepoprawny\")))","v":""}]
[null,null,{"$f":"IF(Walidacja!A2402=\"\",\"\",(IF(Walidacja!A2402,\"Poprawny\",\"Niepoprawny\")))","v":""}]
[null,null,{"$f":"IF(Walidacja!A2403=\"\",\"\",(IF(Walidacja!A2403,\"Poprawny\",\"Niepoprawny\")))","v":""}]
[null,null,{"$f":"IF(Walidacja!A2404=\"\",\"\",(IF(Walidacja!A2404,\"Poprawny\",\"Niepoprawny\")))","v":""}]
[null,null,{"$f":"IF(Walidacja!A2405=\"\",\"\",(IF(Walidacja!A2405,\"Poprawny\",\"Niepoprawny\")))","v":""}]
[null,null,{"$f":"IF(Walidacja!A2406=\"\",\"\",(IF(Walidacja!A2406,\"Poprawny\",\"Niepoprawny\")))","v":""}]
[null,null,{"$f":"IF(Walidacja!A2407=\"\",\"\",(IF(Walidacja!A2407,\"Poprawny\",\"Niepoprawny\")))","v":""}]
[null,null,{"$f":"IF(Walidacja!A2408=\"\",\"\",(IF(Walidacja!A2408,\"Poprawny\",\"Niepoprawny\")))","v":""}]
[null,null,{"$f":"IF(Walidacja!A2409=\"\",\"\",(IF(Walidacja!A2409,\"Poprawny\",\"Niepoprawny\")))","v":""}]
[null,null,{"$f":"IF(Walidacja!A2410=\"\",\"\",(IF(Walidacja!A2410,\"Poprawny\",\"Niepoprawny\")))","v":""}]
[null,null,{"$f":"IF(Walidacja!A2411=\"\",\"\",(IF(Walidacja!A2411,\"Poprawny\",\"Niepoprawny\")))","v":""}]
[null,null,{"$f":"IF(Walidacja!A2412=\"\",\"\",(IF(Walidacja!A2412,\"Poprawny\",\"Niepoprawny\")))","v":""}]
[null,null,{"$f":"IF(Walidacja!A2413=\"\",\"\",(IF(Walidacja!A2413,\"Poprawny\",\"Niepoprawny\")))","v":""}]
[null,null,{"$f":"IF(Walidacja!A2414=\"\",\"\",(IF(Walidacja!A2414,\"Poprawny\",\"Niepoprawny\")))","v":""}]
[null,null,{"$f":"IF(Walidacja!A2415=\"\",\"\",(IF(Walidacja!A2415,\"Poprawny\",\"Niepoprawny\")))","v":""}]
[null,null,{"$f":"IF(Walidacja!A2416=\"\",\"\",(IF(Walidacja!A2416,\"Poprawny\",\"Niepoprawny\")))","v":""}]
[null,null,{"$f":"IF(Walidacja!A2417=\"\",\"\",(IF(Walidacja!A2417,\"Poprawny\",\"Niepoprawny\")))","v":""}]
[null,null,{"$f":"IF(Walidacja!A2418=\"\",\"\",(IF(Walidacja!A2418,\"Poprawny\",\"Niepoprawny\")))","v":""}]
[null,null,{"$f":"IF(Walidacja!A2419=\"\",\"\",(IF(Walidacja!A2419,\"Poprawny\",\"Niepoprawny\")))","v":""}]
[null,null,{"$f":"IF(Walidacja!A2420=\"\",\"\",(IF(Walidacja!A2420,\"Poprawny\",\"Niepoprawny\")))","v":""}]
[null,null,{"$f":"IF(Walidacja!A2421=\"\",\"\",(IF(Walidacja!A2421,\"Poprawny\",\"Niepoprawny\")))","v":""}]
[null,null,{"$f":"IF(Walidacja!A2422=\"\",\"\",(IF(Walidacja!A2422,\"Poprawny\",\"Niepoprawny\")))","v":""}]
[null,null,{"$f":"IF(Walidacja!A2423=\"\",\"\",(IF(Walidacja!A2423,\"Poprawny\",\"Niepoprawny\")))","v":""}]
[null,null,{"$f":"IF(Walidacja!A2424=\"\",\"\",(IF(Walidacja!A2424,\"Poprawny\",\"Niepoprawny\")))","v":""}]
[null,null,{"$f":"IF(Walidacja!A2425=\"\",\"\",(IF(Walidacja!A2425,\"Poprawny\",\"Niepoprawny\")))","v":""}]
[null,null,{"$f":"IF(Walidacja!A2426=\"\",\"\",(IF(Walidacja!A2426,\"Poprawny\",\"Niepoprawny\")))","v":""}]
[null,null,{"$f":"IF(Walidacja!A2427=\"\",\"\",(IF(Walidacja!A2427,\"Poprawny\",\"Niepoprawny\")))","v":""}]
[null,null,{"$f":"IF(Walidacja!A2428=\"\",\"\",(IF(Walidacja!A2428,\"Poprawny\",\"Niepoprawny\")))","v":""}]
[null,null,{"$f":"IF(Walidacja!A2429=\"\",\"\",(IF(Walidacja!A2429,\"Poprawny\",\"Niepoprawny\")))","v":""}]
[null,null,{"$f":"IF(Walidacja!A2430=\"\",\"\",(IF(Walidacja!A2430,\"Poprawny\",\"Niepoprawny\")))","v":""}]
[null,null,{"$f":"IF(Walidacja!A2431=\"\",\"\",(IF(Walidacja!A2431,\"Poprawny\",\"Niepoprawny\")))","v":""}]
[null,null,{"$f":"IF(Walidacja!A2432=\"\",\"\",(IF(Walidacja!A2432,\"Poprawny\",\"Niepoprawny\")))","v":""}]
[null,null,{"$f":"IF(Walidacja!A2433=\"\",\"\",(IF(Walidacja!A2433,\"Poprawny\",\"Niepoprawny\")))","v":""}]
[null,null,{"$f":"IF(Walidacja!A2434=\"\",\"\",(IF(Walidacja!A2434,\"Poprawny\",\"Niepoprawny\")))","v":""}]
[null,null,{"$f":"IF(Walidacja!A2435=\"\",\"\",(IF(Walidacja!A2435,\"Poprawny\",\"Niepoprawny\")))","v":""}]
[null,null,{"$f":"IF(Walidacja!A2436=\"\",\"\",(IF(Walidacja!A2436,\"Poprawny\",\"Niepoprawny\")))","v":""}]
[null,null,{"$f":"IF(Walidacja!A2437=\"\",\"\",(IF(Walidacja!A2437,\"Poprawny\",\"Niepoprawny\")))","v":""}]
[null,null,{"$f":"IF(Walidacja!A2438=\"\",\"\",(IF(Walidacja!A2438,\"Poprawny\",\"Niepoprawny\")))","v":""}]
[null,null,{"$f":"IF(Walidacja!A2439=\"\",\"\",(IF(Walidacja!A2439,\"Poprawny\",\"Niepoprawny\")))","v":""}]
[null,null,{"$f":"IF(Walidacja!A2440=\"\",\"\",(IF(Walidacja!A2440,\"Poprawny\",\"Niepoprawny\")))","v":""}]
[null,null,{"$f":"IF(Walidacja!A2441=\"\",\"\",(IF(Walidacja!A2441,\"Poprawny\",\"Niepoprawny\")))","v":""}]
[null,null,{"$f":"IF(Walidacja!A2442=\"\",\"\",(IF(Walidacja!A2442,\"Poprawny\",\"Niepoprawny\")))","v":""}]
[null,null,{"$f":"IF(Walidacja!A2443=\"\",\"\",(IF(Walidacja!A2443,\"Poprawny\",\"Niepoprawny\")))","v":""}]
[null,null,{"$f":"IF(Walidacja!A2444=\"\",\"\",(IF(Walidacja!A2444,\"Poprawny\",\"Niepoprawny\")))","v":""}]
[null,null,{"$f":"IF(Walidacja!A2445=\"\",\"\",(IF(Walidacja!A2445,\"Poprawny\",\"Niepoprawny\")))","v":""}]
[null,null,{"$f":"IF(Walidacja!A2446=\"\",\"\",(IF(Walidacja!A2446,\"Poprawny\",\"Niepoprawny\")))","v":""}]
[null,null,{"$f":"IF(Walidacja!A2447=\"\",\"\",(IF(Walidacja!A2447,\"Poprawny\",\"Niepoprawny\")))","v":""}]
[null,null,{"$f":"IF(Walidacja!A2448=\"\",\"\",(IF(Walidacja!A2448,\"Poprawny\",\"Niepoprawny\")))","v":""}]
[null,null,{"$f":"IF(Walidacja!A2449=\"\",\"\",(IF(Walidacja!A2449,\"Poprawny\",\"Niepoprawny\")))","v":""}]
[null,null,{"$f":"IF(Walidacja!A2450=\"\",\"\",(IF(Walidacja!A2450,\"Poprawny\",\"Niepoprawny\")))","v":""}]
[null,null,{"$f":"IF(Walidacja!A2451=\"\",\"\",(IF(Walidacja!A2451,\"Poprawny\",\"Niepoprawny\")))","v":""}]
[null,null,{"$f":"IF(Walidacja!A2452=\"\",\"\",(IF(Walidacja!A2452,\"Poprawny\",\"Niepoprawny\")))","v":""}]
[null,null,{"$f":"IF(Walidacja!A2453=\"\",\"\",(IF(Walidacja!A2453,\"Poprawny\",\"Niepoprawny\")))","v":""}]
[null,null,{"$f":"IF(Walidacja!A2454=\"\",\"\",(IF(Walidacja!A2454,\"Poprawny\",\"Niepoprawny\")))","v":""}]
[null,null,{"$f":"IF(Walidacja!A2455=\"\",\"\",(IF(Walidacja!A2455,\"Poprawny\",\"Niepoprawny\")))","v":""}]
[null,null,{"$f":"IF(Walidacja!A2456=\"\",\"\",(IF(Walidacja!A2456,\"Poprawny\",\"Niepoprawny\")))","v":""}]
[null,null,{"$f":"IF(Walidacja!A2457=\"\",\"\",(IF(Walidacja!A2457,\"Poprawny\",\"Niepoprawny\")))","v":""}]
[null,null,{"$f":"IF(Walidacja!A2458=\"\",\"\",(IF(Walidacja!A2458,\"Poprawny\",\"Niepoprawny\")))","v":""}]
[null,null,{"$f":"IF(Walidacja!A2459=\"\",\"\",(IF(Walidacja!A2459,\"Poprawny\",\"Niepoprawny\")))","v":""}]
[null,null,{"$f":"IF(Walidacja!A2460=\"\",\"\",(IF(Walidacja!A2460,\"Poprawny\",\"Niepoprawny\")))","v":""}]
[null,null,{"$f":"IF(Walidacja!A2461=\"\",\"\",(IF(Walidacja!A2461,\"Poprawny\",\"Niepoprawny\")))","v":""}]
[null,null,{"$f":"IF(Walidacja!A2462=\"\",\"\",(IF(Walidacja!A2462,\"Poprawny\",\"Niepoprawny\")))","v":""}]
[null,null,{"$f":"IF(Walidacja!A2463=\"\",\"\",(IF(Walidacja!A2463,\"Poprawny\",\"Niepoprawny\")))","v":""}]
[null,null,{"$f":"IF(Walidacja!A2464=\"\",\"\",(IF(Walidacja!A2464,\"Poprawny\",\"Niepoprawny\")))","v":""}]
[null,null,{"$f":"IF(Walidacja!A2465=\"\",\"\",(IF(Walidacja!A2465,\"Poprawny\",\"Niepoprawny\")))","v":""}]
[null,null,{"$f":"IF(Walidacja!A2466=\"\",\"\",(IF(Walidacja!A2466,\"Poprawny\",\"Niepoprawny\")))","v":""}]
[null,null,{"$f":"IF(Walidacja!A2467=\"\",\"\",(IF(Walidacja!A2467,\"Poprawny\",\"Niepoprawny\")))","v":""}]
[null,null,{"$f":"IF(Walidacja!A2468=\"\",\"\",(IF(Walidacja!A2468,\"Poprawny\",\"Niepoprawny\")))","v":""}]
[null,null,{"$f":"IF(Walidacja!A2469=\"\",\"\",(IF(Walidacja!A2469,\"Poprawny\",\"Niepoprawny\")))","v":""}]
[null,null,{"$f":"IF(Walidacja!A2470=\"\",\"\",(IF(Walidacja!A2470,\"Poprawny\",\"Niepoprawny\")))","v":""}]
[null,null,{"$f":"IF(Walidacja!A2471=\"\",\"\",(IF(Walidacja!A2471,\"Poprawny\",\"Niepoprawny\")))","v":""}]
[null,null,{"$f":"IF(Walidacja!A2472=\"\",\"\",(IF(Walidacja!A2472,\"Poprawny\",\"Niepoprawny\")))","v":""}]
[null,null,{"$f":"IF(Walidacja!A2473=\"\",\"\",(IF(Walidacja!A2473,\"Poprawny\",\"Niepoprawny\")))","v":""}]
[null,null,{"$f":"IF(Walidacja!A2474=\"\",\"\",(IF(Walidacja!A2474,\"Poprawny\",\"Niepoprawny\")))","v":""}]
[null,null,{"$f":"IF(Walidacja!A2475=\"\",\"\",(IF(Walidacja!A2475,\"Poprawny\",\"Niepoprawny\")))","v":""}]
[null,null,{"$f":"IF(Walidacja!A2476=\"\",\"\",(IF(Walidacja!A2476,\"Poprawny\",\"Niepoprawny\")))","v":""}]
[null,null,{"$f":"IF(Walidacja!A2477=\"\",\"\",(IF(Walidacja!A2477,\"Poprawny\",\"Niepoprawny\")))","v":""}]
[null,null,{"$f":"IF(Walidacja!A2478=\"\",\"\",(IF(Walidacja!A2478,\"Poprawny\",\"Niepoprawny\")))","v":""}]
[null,null,{"$f":"IF(Walidacja!A2479=\"\",\"\",(IF(Walidacja!A2479,\"Poprawny\",\"Niepoprawny\")))","v":""}]
[null,null,{"$f":"IF(Walidacja!A2480=\"\",\"\",(IF(Walidacja!A2480,\"Poprawny\",\"Niepoprawny\")))","v":""}]
[null,null,{"$f":"IF(Walidacja!A2481=\"\",\"\",(IF(Walidacja!A2481,\"Poprawny\",\"Niepoprawny\")))","v":""}]
[null,null,{"$f":"IF(Walidacja!A2482=\"\",\"\",(IF(Walidacja!A2482,\"Poprawny\",\"Niepoprawny\")))","v":""}]
[null,null,{"$f":"IF(Walidacja!A2483=\"\",\"\",(IF(Walidacja!A2483,\"Poprawny\",\"Niepoprawny\")))","v":""}]
[null,null,{"$f":"IF(Walidacja!A2484=\"\",\"\",(IF(Walidacja!A2484,\"Poprawny\",\"Niepoprawny\")))","v":""}]
[null,null,{"$f":"IF(Walidacja!A2485=\"\",\"\",(IF(Walidacja!A2485,\"Poprawny\",\"Niepoprawny\")))","v":""}]
[null,null,{"$f":"IF(Walidacja!A2486=\"\",\"\",(IF(Walidacja!A2486,\"Poprawny\",\"Niepoprawny\")))","v":""}]
[null,null,{"$f":"IF(Walidacja!A2487=\"\",\"\",(IF(Walidacja!A2487,\"Poprawny\",\"Niepoprawny\")))","v":""}]
[null,null,{"$f":"IF(Walidacja!A2488=\"\",\"\",(IF(Walidacja!A2488,\"Poprawny\",\"Niepoprawny\")))","v":""}]
[null,null,{"$f":"IF(Walidacja!A2489=\"\",\"\",(IF(Walidacja!A2489,\"Poprawny\",\"Niepoprawny\")))","v":""}]
[null,null,{"$f":"IF(Walidacja!A2490=\"\",\"\",(IF(Walidacja!A2490,\"Poprawny\",\"Niepoprawny\")))","v":""}]
[null,null,{"$f":"IF(Walidacja!A2491=\"\",\"\",(IF(Walidacja!A2491,\"Poprawny\",\"Niepoprawny\")))","v":""}]
[null,null,{"$f":"IF(Walidacja!A2492=\"\",\"\",(IF(Walidacja!A2492,\"Poprawny\",\"Niepoprawny\")))","v":""}]
[null,null,{"$f":"IF(Walidacja!A2493=\"\",\"\",(IF(Walidacja!A2493,\"Poprawny\",\"Niepoprawny\")))","v":""}]
[null,null,{"$f":"IF(Walidacja!A2494=\"\",\"\",(IF(Walidacja!A2494,\"Poprawny\",\"Niepoprawny\")))","v":""}]
[null,null,{"$f":"IF(Walidacja!A2495=\"\",\"\",(IF(Walidacja!A2495,\"Poprawny\",\"Niepoprawny\")))","v":""}]
[null,null,{"$f":"IF(Walidacja!A2496=\"\",\"\",(IF(Walidacja!A2496,\"Poprawny\",\"Niepoprawny\")))","v":""}]
[null,null,{"$f":"IF(Walidacja!A2497=\"\",\"\",(IF(Walidacja!A2497,\"Poprawny\",\"Niepoprawny\")))","v":""}]
[null,null,{"$f":"IF(Walidacja!A2498=\"\",\"\",(IF(Walidacja!A2498,\"Poprawny\",\"Niepoprawny\")))","v":""}]
[null,null,{"$f":"IF(Walidacja!A2499=\"\",\"\",(IF(Walidacja!A2499,\"Poprawny\",\"Niepoprawny\")))","v":""}]
[null,null,{"$f":"IF(Walidacja!A2500=\"\",\"\",(IF(Walidacja!A2500,\"Poprawny\",\"Niepoprawny\")))","v":""}]
[null,null,{"$f":"IF(Walidacja!A2501=\"\",\"\",(IF(Walidacja!A2501,\"Poprawny\",\"Niepoprawny\")))","v":""}]
[null,null,{"$f":"IF(Walidacja!A2502=\"\",\"\",(IF(Walidacja!A2502,\"Poprawny\",\"Niepoprawny\")))","v":""}]
[null,null,{"$f":"IF(Walidacja!A2503=\"\",\"\",(IF(Walidacja!A2503,\"Poprawny\",\"Niepoprawny\")))","v":""}]
[null,null,{"$f":"IF(Walidacja!A2504=\"\",\"\",(IF(Walidacja!A2504,\"Poprawny\",\"Niepoprawny\")))","v":""}]
[null,null,{"$f":"IF(Walidacja!A2505=\"\",\"\",(IF(Walidacja!A2505,\"Poprawny\",\"Niepoprawny\")))","v":""}]
[null,null,{"$f":"IF(Walidacja!A2506=\"\",\"\",(IF(Walidacja!A2506,\"Poprawny\",\"Niepoprawny\")))","v":""}]
[null,null,{"$f":"IF(Walidacja!A2507=\"\",\"\",(IF(Walidacja!A2507,\"Poprawny\",\"Niepoprawny\")))","v":""}]
[null,null,{"$f":"IF(Walidacja!A2508=\"\",\"\",(IF(Walidacja!A2508,\"Poprawny\",\"Niepoprawny\")))","v":""}]
[null,null,{"$f":"IF(Walidacja!A2509=\"\",\"\",(IF(Walidacja!A2509,\"Poprawny\",\"Niepoprawny\")))","v":""}]
[null,null,{"$f":"IF(Walidacja!A2510=\"\",\"\",(IF(Walidacja!A2510,\"Poprawny\",\"Niepoprawny\")))","v":""}]
[null,null,{"$f":"IF(Walidacja!A2511=\"\",\"\",(IF(Walidacja!A2511,\"Poprawny\",\"Niepoprawny\")))","v":""}]
[null,null,{"$f":"IF(Walidacja!A2512=\"\",\"\",(IF(Walidacja!A2512,\"Poprawny\",\"Niepoprawny\")))","v":""}]
[null,null,{"$f":"IF(Walidacja!A2513=\"\",\"\",(IF(Walidacja!A2513,\"Poprawny\",\"Niepoprawny\")))","v":""}]
[null,null,{"$f":"IF(Walidacja!A2514=\"\",\"\",(IF(Walidacja!A2514,\"Poprawny\",\"Niepoprawny\")))","v":""}]
[null,null,{"$f":"IF(Walidacja!A2515=\"\",\"\",(IF(Walidacja!A2515,\"Poprawny\",\"Niepoprawny\")))","v":""}]
[null,null,{"$f":"IF(Walidacja!A2516=\"\",\"\",(IF(Walidacja!A2516,\"Poprawny\",\"Niepoprawny\")))","v":""}]
[null,null,{"$f":"IF(Walidacja!A2517=\"\",\"\",(IF(Walidacja!A2517,\"Poprawny\",\"Niepoprawny\")))","v":""}]
[null,null,{"$f":"IF(Walidacja!A2518=\"\",\"\",(IF(Walidacja!A2518,\"Poprawny\",\"Niepoprawny\")))","v":""}]
[null,null,{"$f":"IF(Walidacja!A2519=\"\",\"\",(IF(Walidacja!A2519,\"Poprawny\",\"Niepoprawny\")))","v":""}]
[null,null,{"$f":"IF(Walidacja!A2520=\"\",\"\",(IF(Walidacja!A2520,\"Poprawny\",\"Niepoprawny\")))","v":""}]
[null,null,{"$f":"IF(Walidacja!A2521=\"\",\"\",(IF(Walidacja!A2521,\"Poprawny\",\"Niepoprawny\")))","v":""}]
[null,null,{"$f":"IF(Walidacja!A2522=\"\",\"\",(IF(Walidacja!A2522,\"Poprawny\",\"Niepoprawny\")))","v":""}]
[null,null,{"$f":"IF(Walidacja!A2523=\"\",\"\",(IF(Walidacja!A2523,\"Poprawny\",\"Niepoprawny\")))","v":""}]
[null,null,{"$f":"IF(Walidacja!A2524=\"\",\"\",(IF(Walidacja!A2524,\"Poprawny\",\"Niepoprawny\")))","v":""}]
[null,null,{"$f":"IF(Walidacja!A2525=\"\",\"\",(IF(Walidacja!A2525,\"Poprawny\",\"Niepoprawny\")))","v":""}]
[null,null,{"$f":"IF(Walidacja!A2526=\"\",\"\",(IF(Walidacja!A2526,\"Poprawny\",\"Niepoprawny\")))","v":""}]
[null,null,{"$f":"IF(Walidacja!A2527=\"\",\"\",(IF(Walidacja!A2527,\"Poprawny\",\"Niepoprawny\")))","v":""}]
[null,null,{"$f":"IF(Walidacja!A2528=\"\",\"\",(IF(Walidacja!A2528,\"Poprawny\",\"Niepoprawny\")))","v":""}]
[null,null,{"$f":"IF(Walidacja!A2529=\"\",\"\",(IF(Walidacja!A2529,\"Poprawny\",\"Niepoprawny\")))","v":""}]
[null,null,{"$f":"IF(Walidacja!A2530=\"\",\"\",(IF(Walidacja!A2530,\"Poprawny\",\"Niepoprawny\")))","v":""}]
[null,null,{"$f":"IF(Walidacja!A2531=\"\",\"\",(IF(Walidacja!A2531,\"Poprawny\",\"Niepoprawny\")))","v":""}]
[null,null,{"$f":"IF(Walidacja!A2532=\"\",\"\",(IF(Walidacja!A2532,\"Poprawny\",\"Niepoprawny\")))","v":""}]
[null,null,{"$f":"IF(Walidacja!A2533=\"\",\"\",(IF(Walidacja!A2533,\"Poprawny\",\"Niepoprawny\")))","v":""}]
[null,null,{"$f":"IF(Walidacja!A2534=\"\",\"\",(IF(Walidacja!A2534,\"Poprawny\",\"Niepoprawny\")))","v":""}]
[null,null,{"$f":"IF(Walidacja!A2535=\"\",\"\",(IF(Walidacja!A2535,\"Poprawny\",\"Niepoprawny\")))","v":""}]
[null,null,{"$f":"IF(Walidacja!A2536=\"\",\"\",(IF(Walidacja!A2536,\"Poprawny\",\"Niepoprawny\")))","v":""}]
[null,null,{"$f":"IF(Walidacja!A2537=\"\",\"\",(IF(Walidacja!A2537,\"Poprawny\",\"Niepoprawny\")))","v":""}]
[null,null,{"$f":"IF(Walidacja!A2538=\"\",\"\",(IF(Walidacja!A2538,\"Poprawny\",\"Niepoprawny\")))","v":""}]
[null,null,{"$f":"IF(Walidacja!A2539=\"\",\"\",(IF(Walidacja!A2539,\"Poprawny\",\"Niepoprawny\")))","v":""}]
[null,null,{"$f":"IF(Walidacja!A2540=\"\",\"\",(IF(Walidacja!A2540,\"Poprawny\",\"Niepoprawny\")))","v":""}]
[null,null,{"$f":"IF(Walidacja!A2541=\"\",\"\",(IF(Walidacja!A2541,\"Poprawny\",\"Niepoprawny\")))","v":""}]
[null,null,{"$f":"IF(Walidacja!A2542=\"\",\"\",(IF(Walidacja!A2542,\"Poprawny\",\"Niepoprawny\")))","v":""}]
[null,null,{"$f":"IF(Walidacja!A2543=\"\",\"\",(IF(Walidacja!A2543,\"Poprawny\",\"Niepoprawny\")))","v":""}]
[null,null,{"$f":"IF(Walidacja!A2544=\"\",\"\",(IF(Walidacja!A2544,\"Poprawny\",\"Niepoprawny\")))","v":""}]
[null,null,{"$f":"IF(Walidacja!A2545=\"\",\"\",(IF(Walidacja!A2545,\"Poprawny\",\"Niepoprawny\")))","v":""}]
[null,null,{"$f":"IF(Walidacja!A2546=\"\",\"\",(IF(Walidacja!A2546,\"Poprawny\",\"Niepoprawny\")))","v":""}]
[null,null,{"$f":"IF(Walidacja!A2547=\"\",\"\",(IF(Walidacja!A2547,\"Poprawny\",\"Niepoprawny\")))","v":""}]
[null,null,{"$f":"IF(Walidacja!A2548=\"\",\"\",(IF(Walidacja!A2548,\"Poprawny\",\"Niepoprawny\")))","v":""}]
[null,null,{"$f":"IF(Walidacja!A2549=\"\",\"\",(IF(Walidacja!A2549,\"Poprawny\",\"Niepoprawny\")))","v":""}]
[null,null,{"$f":"IF(Walidacja!A2550=\"\",\"\",(IF(Walidacja!A2550,\"Poprawny\",\"Niepoprawny\")))","v":""}]
[null,null,{"$f":"IF(Walidacja!A2551=\"\",\"\",(IF(Walidacja!A2551,\"Poprawny\",\"Niepoprawny\")))","v":""}]
[null,null,{"$f":"IF(Walidacja!A2552=\"\",\"\",(IF(Walidacja!A2552,\"Poprawny\",\"Niepoprawny\")))","v":""}]
[null,null,{"$f":"IF(Walidacja!A2553=\"\",\"\",(IF(Walidacja!A2553,\"Poprawny\",\"Niepoprawny\")))","v":""}]
[null,null,{"$f":"IF(Walidacja!A2554=\"\",\"\",(IF(Walidacja!A2554,\"Poprawny\",\"Niepoprawny\")))","v":""}]
[null,null,{"$f":"IF(Walidacja!A2555=\"\",\"\",(IF(Walidacja!A2555,\"Poprawny\",\"Niepoprawny\")))","v":""}]
[null,null,{"$f":"IF(Walidacja!A2556=\"\",\"\",(IF(Walidacja!A2556,\"Poprawny\",\"Niepoprawny\")))","v":""}]
[null,null,{"$f":"IF(Walidacja!A2557=\"\",\"\",(IF(Walidacja!A2557,\"Poprawny\",\"Niepoprawny\")))","v":""}]
[null,null,{"$f":"IF(Walidacja!A2558=\"\",\"\",(IF(Walidacja!A2558,\"Poprawny\",\"Niepoprawny\")))","v":""}]
[null,null,{"$f":"IF(Walidacja!A2559=\"\",\"\",(IF(Walidacja!A2559,\"Poprawny\",\"Niepoprawny\")))","v":""}]
[null,null,{"$f":"IF(Walidacja!A2560=\"\",\"\",(IF(Walidacja!A2560,\"Poprawny\",\"Niepoprawny\")))","v":""}]
[null,null,{"$f":"IF(Walidacja!A2561=\"\",\"\",(IF(Walidacja!A2561,\"Poprawny\",\"Niepoprawny\")))","v":""}]
[null,null,{"$f":"IF(Walidacja!A2562=\"\",\"\",(IF(Walidacja!A2562,\"Poprawny\",\"Niepoprawny\")))","v":""}]
[null,null,{"$f":"IF(Walidacja!A2563=\"\",\"\",(IF(Walidacja!A2563,\"Poprawny\",\"Niepoprawny\")))","v":""}]
[null,null,{"$f":"IF(Walidacja!A2564=\"\",\"\",(IF(Walidacja!A2564,\"Poprawny\",\"Niepoprawny\")))","v":""}]
[null,null,{"$f":"IF(Walidacja!A2565=\"\",\"\",(IF(Walidacja!A2565,\"Poprawny\",\"Niepoprawny\")))","v":""}]
[null,null,{"$f":"IF(Walidacja!A2566=\"\",\"\",(IF(Walidacja!A2566,\"Poprawny\",\"Niepoprawny\")))","v":""}]
[null,null,{"$f":"IF(Walidacja!A2567=\"\",\"\",(IF(Walidacja!A2567,\"Poprawny\",\"Niepoprawny\")))","v":""}]
[null,null,{"$f":"IF(Walidacja!A2568=\"\",\"\",(IF(Walidacja!A2568,\"Poprawny\",\"Niepoprawny\")))","v":""}]
[null,null,{"$f":"IF(Walidacja!A2569=\"\",\"\",(IF(Walidacja!A2569,\"Poprawny\",\"Niepoprawny\")))","v":""}]
[null,null,{"$f":"IF(Walidacja!A2570=\"\",\"\",(IF(Walidacja!A2570,\"Poprawny\",\"Niepoprawny\")))","v":""}]
[null,null,{"$f":"IF(Walidacja!A2571=\"\",\"\",(IF(Walidacja!A2571,\"Poprawny\",\"Niepoprawny\")))","v":""}]
[null,null,{"$f":"IF(Walidacja!A2572=\"\",\"\",(IF(Walidacja!A2572,\"Poprawny\",\"Niepoprawny\")))","v":""}]
[null,null,{"$f":"IF(Walidacja!A2573=\"\",\"\",(IF(Walidacja!A2573,\"Poprawny\",\"Niepoprawny\")))","v":""}]
[null,null,{"$f":"IF(Walidacja!A2574=\"\",\"\",(IF(Walidacja!A2574,\"Poprawny\",\"Niepoprawny\")))","v":""}]
[null,null,{"$f":"IF(Walidacja!A2575=\"\",\"\",(IF(Walidacja!A2575,\"Poprawny\",\"Niepoprawny\")))","v":""}]
[null,null,{"$f":"IF(Walidacja!A2576=\"\",\"\",(IF(Walidacja!A2576,\"Poprawny\",\"Niepoprawny\")))","v":""}]
[null,null,{"$f":"IF(Walidacja!A2577=\"\",\"\",(IF(Walidacja!A2577,\"Poprawny\",\"Niepoprawny\")))","v":""}]
[null,null,{"$f":"IF(Walidacja!A2578=\"\",\"\",(IF(Walidacja!A2578,\"Poprawny\",\"Niepoprawny\")))","v":""}]
[null,null,{"$f":"IF(Walidacja!A2579=\"\",\"\",(IF(Walidacja!A2579,\"Poprawny\",\"Niepoprawny\")))","v":""}]
[null,null,{"$f":"IF(Walidacja!A2580=\"\",\"\",(IF(Walidacja!A2580,\"Poprawny\",\"Niepoprawny\")))","v":""}]
[null,null,{"$f":"IF(Walidacja!A2581=\"\",\"\",(IF(Walidacja!A2581,\"Poprawny\",\"Niepoprawny\")))","v":""}]
[null,null,{"$f":"IF(Walidacja!A2582=\"\",\"\",(IF(Walidacja!A2582,\"Poprawny\",\"Niepoprawny\")))","v":""}]
[null,null,{"$f":"IF(Walidacja!A2583=\"\",\"\",(IF(Walidacja!A2583,\"Poprawny\",\"Niepoprawny\")))","v":""}]
[null,null,{"$f":"IF(Walidacja!A2584=\"\",\"\",(IF(Walidacja!A2584,\"Poprawny\",\"Niepoprawny\")))","v":""}]
[null,null,{"$f":"IF(Walidacja!A2585=\"\",\"\",(IF(Walidacja!A2585,\"Poprawny\",\"Niepoprawny\")))","v":""}]
[null,null,{"$f":"IF(Walidacja!A2586=\"\",\"\",(IF(Walidacja!A2586,\"Poprawny\",\"Niepoprawny\")))","v":""}]
[null,null,{"$f":"IF(Walidacja!A2587=\"\",\"\",(IF(Walidacja!A2587,\"Poprawny\",\"Niepoprawny\")))","v":""}]
[null,null,{"$f":"IF(Walidacja!A2588=\"\",\"\",(IF(Walidacja!A2588,\"Poprawny\",\"Niepoprawny\")))","v":""}]
[null,null,{"$f":"IF(Walidacja!A2589=\"\",\"\",(IF(Walidacja!A2589,\"Poprawny\",\"Niepoprawny\")))","v":""}]
[null,null,{"$f":"IF(Walidacja!A2590=\"\",\"\",(IF(Walidacja!A2590,\"Poprawny\",\"Niepoprawny\")))","v":""}]
[null,null,{"$f":"IF(Walidacja!A2591=\"\",\"\",(IF(Walidacja!A2591,\"Poprawny\",\"Niepoprawny\")))","v":""}]
[null,null,{"$f":"IF(Walidacja!A2592=\"\",\"\",(IF(Walidacja!A2592,\"Poprawny\",\"Niepoprawny\")))","v":""}]
[null,null,{"$f":"IF(Walidacja!A2593=\"\",\"\",(IF(Walidacja!A2593,\"Poprawny\",\"Niepoprawny\")))","v":""}]
[null,null,{"$f":"IF(Walidacja!A2594=\"\",\"\",(IF(Walidacja!A2594,\"Poprawny\",\"Niepoprawny\")))","v":""}]
[null,null,{"$f":"IF(Walidacja!A2595=\"\",\"\",(IF(Walidacja!A2595,\"Poprawny\",\"Niepoprawny\")))","v":""}]
[null,null,{"$f":"IF(Walidacja!A2596=\"\",\"\",(IF(Walidacja!A2596,\"Poprawny\",\"Niepoprawny\")))","v":""}]
[null,null,{"$f":"IF(Walidacja!A2597=\"\",\"\",(IF(Walidacja!A2597,\"Poprawny\",\"Niepoprawny\")))","v":""}]
[null,null,{"$f":"IF(Walidacja!A2598=\"\",\"\",(IF(Walidacja!A2598,\"Poprawny\",\"Niepoprawny\")))","v":""}]
[null,null,{"$f":"IF(Walidacja!A2599=\"\",\"\",(IF(Walidacja!A2599,\"Poprawny\",\"Niepoprawny\")))","v":""}]
[null,null,{"$f":"IF(Walidacja!A2600=\"\",\"\",(IF(Walidacja!A2600,\"Poprawny\",\"Niepoprawny\")))","v":""}]
[null,null,{"$f":"IF(Walidacja!A2601=\"\",\"\",(IF(Walidacja!A2601,\"Poprawny\",\"Niepoprawny\")))","v":""}]
[null,null,{"$f":"IF(Walidacja!A2602=\"\",\"\",(IF(Walidacja!A2602,\"Poprawny\",\"Niepoprawny\")))","v":""}]
[null,null,{"$f":"IF(Walidacja!A2603=\"\",\"\",(IF(Walidacja!A2603,\"Poprawny\",\"Niepoprawny\")))","v":""}]
[null,null,{"$f":"IF(Walidacja!A2604=\"\",\"\",(IF(Walidacja!A2604,\"Poprawny\",\"Niepoprawny\")))","v":""}]
[null,null,{"$f":"IF(Walidacja!A2605=\"\",\"\",(IF(Walidacja!A2605,\"Poprawny\",\"Niepoprawny\")))","v":""}]
[null,null,{"$f":"IF(Walidacja!A2606=\"\",\"\",(IF(Walidacja!A2606,\"Poprawny\",\"Niepoprawny\")))","v":""}]
[null,null,{"$f":"IF(Walidacja!A2607=\"\",\"\",(IF(Walidacja!A2607,\"Poprawny\",\"Niepoprawny\")))","v":""}]
[null,null,{"$f":"IF(Walidacja!A2608=\"\",\"\",(IF(Walidacja!A2608,\"Poprawny\",\"Niepoprawny\")))","v":""}]
[null,null,{"$f":"IF(Walidacja!A2609=\"\",\"\",(IF(Walidacja!A2609,\"Poprawny\",\"Niepoprawny\")))","v":""}]
[null,null,{"$f":"IF(Walidacja!A2610=\"\",\"\",(IF(Walidacja!A2610,\"Poprawny\",\"Niepoprawny\")))","v":""}]
[null,null,{"$f":"IF(Walidacja!A2611=\"\",\"\",(IF(Walidacja!A2611,\"Poprawny\",\"Niepoprawny\")))","v":""}]
[null,null,{"$f":"IF(Walidacja!A2612=\"\",\"\",(IF(Walidacja!A2612,\"Poprawny\",\"Niepoprawny\")))","v":""}]
[null,null,{"$f":"IF(Walidacja!A2613=\"\",\"\",(IF(Walidacja!A2613,\"Poprawny\",\"Niepoprawny\")))","v":""}]
[null,null,{"$f":"IF(Walidacja!A2614=\"\",\"\",(IF(Walidacja!A2614,\"Poprawny\",\"Niepoprawny\")))","v":""}]
[null,null,{"$f":"IF(Walidacja!A2615=\"\",\"\",(IF(Walidacja!A2615,\"Poprawny\",\"Niepoprawny\")))","v":""}]
[null,null,{"$f":"IF(Walidacja!A2616=\"\",\"\",(IF(Walidacja!A2616,\"Poprawny\",\"Niepoprawny\")))","v":""}]
[null,null,{"$f":"IF(Walidacja!A2617=\"\",\"\",(IF(Walidacja!A2617,\"Poprawny\",\"Niepoprawny\")))","v":""}]
[null,null,{"$f":"IF(Walidacja!A2618=\"\",\"\",(IF(Walidacja!A2618,\"Poprawny\",\"Niepoprawny\")))","v":""}]
[null,null,{"$f":"IF(Walidacja!A2619=\"\",\"\",(IF(Walidacja!A2619,\"Poprawny\",\"Niepoprawny\")))","v":""}]
[null,null,{"$f":"IF(Walidacja!A2620=\"\",\"\",(IF(Walidacja!A2620,\"Poprawny\",\"Niepoprawny\")))","v":""}]
[null,null,{"$f":"IF(Walidacja!A2621=\"\",\"\",(IF(Walidacja!A2621,\"Poprawny\",\"Niepoprawny\")))","v":""}]
[null,null,{"$f":"IF(Walidacja!A2622=\"\",\"\",(IF(Walidacja!A2622,\"Poprawny\",\"Niepoprawny\")))","v":""}]
[null,null,{"$f":"IF(Walidacja!A2623=\"\",\"\",(IF(Walidacja!A2623,\"Poprawny\",\"Niepoprawny\")))","v":""}]
[null,null,{"$f":"IF(Walidacja!A2624=\"\",\"\",(IF(Walidacja!A2624,\"Poprawny\",\"Niepoprawny\")))","v":""}]
[null,null,{"$f":"IF(Walidacja!A2625=\"\",\"\",(IF(Walidacja!A2625,\"Poprawny\",\"Niepoprawny\")))","v":""}]
[null,null,{"$f":"IF(Walidacja!A2626=\"\",\"\",(IF(Walidacja!A2626,\"Poprawny\",\"Niepoprawny\")))","v":""}]
[null,null,{"$f":"IF(Walidacja!A2627=\"\",\"\",(IF(Walidacja!A2627,\"Poprawny\",\"Niepoprawny\")))","v":""}]
[null,null,{"$f":"IF(Walidacja!A2628=\"\",\"\",(IF(Walidacja!A2628,\"Poprawny\",\"Niepoprawny\")))","v":""}]
[null,null,{"$f":"IF(Walidacja!A2629=\"\",\"\",(IF(Walidacja!A2629,\"Poprawny\",\"Niepoprawny\")))","v":""}]
[null,null,{"$f":"IF(Walidacja!A2630=\"\",\"\",(IF(Walidacja!A2630,\"Poprawny\",\"Niepoprawny\")))","v":""}]
[null,null,{"$f":"IF(Walidacja!A2631=\"\",\"\",(IF(Walidacja!A2631,\"Poprawny\",\"Niepoprawny\")))","v":""}]
[null,null,{"$f":"IF(Walidacja!A2632=\"\",\"\",(IF(Walidacja!A2632,\"Poprawny\",\"Niepoprawny\")))","v":""}]
[null,null,{"$f":"IF(Walidacja!A2633=\"\",\"\",(IF(Walidacja!A2633,\"Poprawny\",\"Niepoprawny\")))","v":""}]
[null,null,{"$f":"IF(Walidacja!A2634=\"\",\"\",(IF(Walidacja!A2634,\"Poprawny\",\"Niepoprawny\")))","v":""}]
[null,null,{"$f":"IF(Walidacja!A2635=\"\",\"\",(IF(Walidacja!A2635,\"Poprawny\",\"Niepoprawny\")))","v":""}]
[null,null,{"$f":"IF(Walidacja!A2636=\"\",\"\",(IF(Walidacja!A2636,\"Poprawny\",\"Niepoprawny\")))","v":""}]
[null,null,{"$f":"IF(Walidacja!A2637=\"\",\"\",(IF(Walidacja!A2637,\"Poprawny\",\"Niepoprawny\")))","v":""}]
[null,null,{"$f":"IF(Walidacja!A2638=\"\",\"\",(IF(Walidacja!A2638,\"Poprawny\",\"Niepoprawny\")))","v":""}]
[null,null,{"$f":"IF(Walidacja!A2639=\"\",\"\",(IF(Walidacja!A2639,\"Poprawny\",\"Niepoprawny\")))","v":""}]
[null,null,{"$f":"IF(Walidacja!A2640=\"\",\"\",(IF(Walidacja!A2640,\"Poprawny\",\"Niepoprawny\")))","v":""}]
[null,null,{"$f":"IF(Walidacja!A2641=\"\",\"\",(IF(Walidacja!A2641,\"Poprawny\",\"Niepoprawny\")))","v":""}]
[null,null,{"$f":"IF(Walidacja!A2642=\"\",\"\",(IF(Walidacja!A2642,\"Poprawny\",\"Niepoprawny\")))","v":""}]
[null,null,{"$f":"IF(Walidacja!A2643=\"\",\"\",(IF(Walidacja!A2643,\"Poprawny\",\"Niepoprawny\")))","v":""}]
[null,null,{"$f":"IF(Walidacja!A2644=\"\",\"\",(IF(Walidacja!A2644,\"Poprawny\",\"Niepoprawny\")))","v":""}]
[null,null,{"$f":"IF(Walidacja!A2645=\"\",\"\",(IF(Walidacja!A2645,\"Poprawny\",\"Niepoprawny\")))","v":""}]
[null,null,{"$f":"IF(Walidacja!A2646=\"\",\"\",(IF(Walidacja!A2646,\"Poprawny\",\"Niepoprawny\")))","v":""}]
[null,null,{"$f":"IF(Walidacja!A2647=\"\",\"\",(IF(Walidacja!A2647,\"Poprawny\",\"Niepoprawny\")))","v":""}]
[null,null,{"$f":"IF(Walidacja!A2648=\"\",\"\",(IF(Walidacja!A2648,\"Poprawny\",\"Niepoprawny\")))","v":""}]
[null,null,{"$f":"IF(Walidacja!A2649=\"\",\"\",(IF(Walidacja!A2649,\"Poprawny\",\"Niepoprawny\")))","v":""}]
[null,null,{"$f":"IF(Walidacja!A2650=\"\",\"\",(IF(Walidacja!A2650,\"Poprawny\",\"Niepoprawny\")))","v":""}]
[null,null,{"$f":"IF(Walidacja!A2651=\"\",\"\",(IF(Walidacja!A2651,\"Poprawny\",\"Niepoprawny\")))","v":""}]
[null,null,{"$f":"IF(Walidacja!A2652=\"\",\"\",(IF(Walidacja!A2652,\"Poprawny\",\"Niepoprawny\")))","v":""}]
[null,null,{"$f":"IF(Walidacja!A2653=\"\",\"\",(IF(Walidacja!A2653,\"Poprawny\",\"Niepoprawny\")))","v":""}]
[null,null,{"$f":"IF(Walidacja!A2654=\"\",\"\",(IF(Walidacja!A2654,\"Poprawny\",\"Niepoprawny\")))","v":""}]
[null,null,{"$f":"IF(Walidacja!A2655=\"\",\"\",(IF(Walidacja!A2655,\"Poprawny\",\"Niepoprawny\")))","v":""}]
[null,null,{"$f":"IF(Walidacja!A2656=\"\",\"\",(IF(Walidacja!A2656,\"Poprawny\",\"Niepoprawny\")))","v":""}]
[null,null,{"$f":"IF(Walidacja!A2657=\"\",\"\",(IF(Walidacja!A2657,\"Poprawny\",\"Niepoprawny\")))","v":""}]
[null,null,{"$f":"IF(Walidacja!A2658=\"\",\"\",(IF(Walidacja!A2658,\"Poprawny\",\"Niepoprawny\")))","v":""}]
[null,null,{"$f":"IF(Walidacja!A2659=\"\",\"\",(IF(Walidacja!A2659,\"Poprawny\",\"Niepoprawny\")))","v":""}]
[null,null,{"$f":"IF(Walidacja!A2660=\"\",\"\",(IF(Walidacja!A2660,\"Poprawny\",\"Niepoprawny\")))","v":""}]
[null,null,{"$f":"IF(Walidacja!A2661=\"\",\"\",(IF(Walidacja!A2661,\"Poprawny\",\"Niepoprawny\")))","v":""}]
[null,null,{"$f":"IF(Walidacja!A2662=\"\",\"\",(IF(Walidacja!A2662,\"Poprawny\",\"Niepoprawny\")))","v":""}]
[null,null,{"$f":"IF(Walidacja!A2663=\"\",\"\",(IF(Walidacja!A2663,\"Poprawny\",\"Niepoprawny\")))","v":""}]
[null,null,{"$f":"IF(Walidacja!A2664=\"\",\"\",(IF(Walidacja!A2664,\"Poprawny\",\"Niepoprawny\")))","v":""}]
[null,null,{"$f":"IF(Walidacja!A2665=\"\",\"\",(IF(Walidacja!A2665,\"Poprawny\",\"Niepoprawny\")))","v":""}]
[null,null,{"$f":"IF(Walidacja!A2666=\"\",\"\",(IF(Walidacja!A2666,\"Poprawny\",\"Niepoprawny\")))","v":""}]
[null,null,{"$f":"IF(Walidacja!A2667=\"\",\"\",(IF(Walidacja!A2667,\"Poprawny\",\"Niepoprawny\")))","v":""}]
[null,null,{"$f":"IF(Walidacja!A2668=\"\",\"\",(IF(Walidacja!A2668,\"Poprawny\",\"Niepoprawny\")))","v":""}]
[null,null,{"$f":"IF(Walidacja!A2669=\"\",\"\",(IF(Walidacja!A2669,\"Poprawny\",\"Niepoprawny\")))","v":""}]
[null,null,{"$f":"IF(Walidacja!A2670=\"\",\"\",(IF(Walidacja!A2670,\"Poprawny\",\"Niepoprawny\")))","v":""}]
[null,null,{"$f":"IF(Walidacja!A2671=\"\",\"\",(IF(Walidacja!A2671,\"Poprawny\",\"Niepoprawny\")))","v":""}]
[null,null,{"$f":"IF(Walidacja!A2672=\"\",\"\",(IF(Walidacja!A2672,\"Poprawny\",\"Niepoprawny\")))","v":""}]
[null,null,{"$f":"IF(Walidacja!A2673=\"\",\"\",(IF(Walidacja!A2673,\"Poprawny\",\"Niepoprawny\")))","v":""}]
[null,null,{"$f":"IF(Walidacja!A2674=\"\",\"\",(IF(Walidacja!A2674,\"Poprawny\",\"Niepoprawny\")))","v":""}]
[null,null,{"$f":"IF(Walidacja!A2675=\"\",\"\",(IF(Walidacja!A2675,\"Poprawny\",\"Niepoprawny\")))","v":""}]
[null,null,{"$f":"IF(Walidacja!A2676=\"\",\"\",(IF(Walidacja!A2676,\"Poprawny\",\"Niepoprawny\")))","v":""}]
[null,null,{"$f":"IF(Walidacja!A2677=\"\",\"\",(IF(Walidacja!A2677,\"Poprawny\",\"Niepoprawny\")))","v":""}]
[null,null,{"$f":"IF(Walidacja!A2678=\"\",\"\",(IF(Walidacja!A2678,\"Poprawny\",\"Niepoprawny\")))","v":""}]
[null,null,{"$f":"IF(Walidacja!A2679=\"\",\"\",(IF(Walidacja!A2679,\"Poprawny\",\"Niepoprawny\")))","v":""}]
[null,null,{"$f":"IF(Walidacja!A2680=\"\",\"\",(IF(Walidacja!A2680,\"Poprawny\",\"Niepoprawny\")))","v":""}]
[null,null,{"$f":"IF(Walidacja!A2681=\"\",\"\",(IF(Walidacja!A2681,\"Poprawny\",\"Niepoprawny\")))","v":""}]
[null,null,{"$f":"IF(Walidacja!A2682=\"\",\"\",(IF(Walidacja!A2682,\"Poprawny\",\"Niepoprawny\")))","v":""}]
[null,null,{"$f":"IF(Walidacja!A2683=\"\",\"\",(IF(Walidacja!A2683,\"Poprawny\",\"Niepoprawny\")))","v":""}]
[null,null,{"$f":"IF(Walidacja!A2684=\"\",\"\",(IF(Walidacja!A2684,\"Poprawny\",\"Niepoprawny\")))","v":""}]
[null,null,{"$f":"IF(Walidacja!A2685=\"\",\"\",(IF(Walidacja!A2685,\"Poprawny\",\"Niepoprawny\")))","v":""}]
[null,null,{"$f":"IF(Walidacja!A2686=\"\",\"\",(IF(Walidacja!A2686,\"Poprawny\",\"Niepoprawny\")))","v":""}]
[null,null,{"$f":"IF(Walidacja!A2687=\"\",\"\",(IF(Walidacja!A2687,\"Poprawny\",\"Niepoprawny\")))","v":""}]
[null,null,{"$f":"IF(Walidacja!A2688=\"\",\"\",(IF(Walidacja!A2688,\"Poprawny\",\"Niepoprawny\")))","v":""}]
[null,null,{"$f":"IF(Walidacja!A2689=\"\",\"\",(IF(Walidacja!A2689,\"Poprawny\",\"Niepoprawny\")))","v":""}]
[null,null,{"$f":"IF(Walidacja!A2690=\"\",\"\",(IF(Walidacja!A2690,\"Poprawny\",\"Niepoprawny\")))","v":""}]
[null,null,{"$f":"IF(Walidacja!A2691=\"\",\"\",(IF(Walidacja!A2691,\"Poprawny\",\"Niepoprawny\")))","v":""}]
[null,null,{"$f":"IF(Walidacja!A2692=\"\",\"\",(IF(Walidacja!A2692,\"Poprawny\",\"Niepoprawny\")))","v":""}]
[null,null,{"$f":"IF(Walidacja!A2693=\"\",\"\",(IF(Walidacja!A2693,\"Poprawny\",\"Niepoprawny\")))","v":""}]
[null,null,{"$f":"IF(Walidacja!A2694=\"\",\"\",(IF(Walidacja!A2694,\"Poprawny\",\"Niepoprawny\")))","v":""}]
[null,null,{"$f":"IF(Walidacja!A2695=\"\",\"\",(IF(Walidacja!A2695,\"Poprawny\",\"Niepoprawny\")))","v":""}]
[null,null,{"$f":"IF(Walidacja!A2696=\"\",\"\",(IF(Walidacja!A2696,\"Poprawny\",\"Niepoprawny\")))","v":""}]
[null,null,{"$f":"IF(Walidacja!A2697=\"\",\"\",(IF(Walidacja!A2697,\"Poprawny\",\"Niepoprawny\")))","v":""}]
[null,null,{"$f":"IF(Walidacja!A2698=\"\",\"\",(IF(Walidacja!A2698,\"Poprawny\",\"Niepoprawny\")))","v":""}]
[null,null,{"$f":"IF(Walidacja!A2699=\"\",\"\",(IF(Walidacja!A2699,\"Poprawny\",\"Niepoprawny\")))","v":""}]
[null,null,{"$f":"IF(Walidacja!A2700=\"\",\"\",(IF(Walidacja!A2700,\"Poprawny\",\"Niepoprawny\")))","v":""}]
[null,null,{"$f":"IF(Walidacja!A2701=\"\",\"\",(IF(Walidacja!A2701,\"Poprawny\",\"Niepoprawny\")))","v":""}]
[null,null,{"$f":"IF(Walidacja!A2702=\"\",\"\",(IF(Walidacja!A2702,\"Poprawny\",\"Niepoprawny\")))","v":""}]
[null,null,{"$f":"IF(Walidacja!A2703=\"\",\"\",(IF(Walidacja!A2703,\"Poprawny\",\"Niepoprawny\")))","v":""}]
[null,null,{"$f":"IF(Walidacja!A2704=\"\",\"\",(IF(Walidacja!A2704,\"Poprawny\",\"Niepoprawny\")))","v":""}]
[null,null,{"$f":"IF(Walidacja!A2705=\"\",\"\",(IF(Walidacja!A2705,\"Poprawny\",\"Niepoprawny\")))","v":""}]
[null,null,{"$f":"IF(Walidacja!A2706=\"\",\"\",(IF(Walidacja!A2706,\"Poprawny\",\"Niepoprawny\")))","v":""}]
[null,null,{"$f":"IF(Walidacja!A2707=\"\",\"\",(IF(Walidacja!A2707,\"Poprawny\",\"Niepoprawny\")))","v":""}]
[null,null,{"$f":"IF(Walidacja!A2708=\"\",\"\",(IF(Walidacja!A2708,\"Poprawny\",\"Niepoprawny\")))","v":""}]
[null,null,{"$f":"IF(Walidacja!A2709=\"\",\"\",(IF(Walidacja!A2709,\"Poprawny\",\"Niepoprawny\")))","v":""}]
[null,null,{"$f":"IF(Walidacja!A2710=\"\",\"\",(IF(Walidacja!A2710,\"Poprawny\",\"Niepoprawny\")))","v":""}]
[null,null,{"$f":"IF(Walidacja!A2711=\"\",\"\",(IF(Walidacja!A2711,\"Poprawny\",\"Niepoprawny\")))","v":""}]
[null,null,{"$f":"IF(Walidacja!A2712=\"\",\"\",(IF(Walidacja!A2712,\"Poprawny\",\"Niepoprawny\")))","v":""}]
[null,null,{"$f":"IF(Walidacja!A2713=\"\",\"\",(IF(Walidacja!A2713,\"Poprawny\",\"Niepoprawny\")))","v":""}]
[null,null,{"$f":"IF(Walidacja!A2714=\"\",\"\",(IF(Walidacja!A2714,\"Poprawny\",\"Niepoprawny\")))","v":""}]
[null,null,{"$f":"IF(Walidacja!A2715=\"\",\"\",(IF(Walidacja!A2715,\"Poprawny\",\"Niepoprawny\")))","v":""}]
[null,null,{"$f":"IF(Walidacja!A2716=\"\",\"\",(IF(Walidacja!A2716,\"Poprawny\",\"Niepoprawny\")))","v":""}]
[null,null,{"$f":"IF(Walidacja!A2717=\"\",\"\",(IF(Walidacja!A2717,\"Poprawny\",\"Niepoprawny\")))","v":""}]
[null,null,{"$f":"IF(Walidacja!A2718=\"\",\"\",(IF(Walidacja!A2718,\"Poprawny\",\"Niepoprawny\")))","v":""}]
[null,null,{"$f":"IF(Walidacja!A2719=\"\",\"\",(IF(Walidacja!A2719,\"Poprawny\",\"Niepoprawny\")))","v":""}]
[null,null,{"$f":"IF(Walidacja!A2720=\"\",\"\",(IF(Walidacja!A2720,\"Poprawny\",\"Niepoprawny\")))","v":""}]
[null,null,{"$f":"IF(Walidacja!A2721=\"\",\"\",(IF(Walidacja!A2721,\"Poprawny\",\"Niepoprawny\")))","v":""}]
[null,null,{"$f":"IF(Walidacja!A2722=\"\",\"\",(IF(Walidacja!A2722,\"Poprawny\",\"Niepoprawny\")))","v":""}]
[null,null,{"$f":"IF(Walidacja!A2723=\"\",\"\",(IF(Walidacja!A2723,\"Poprawny\",\"Niepoprawny\")))","v":""}]
[null,null,{"$f":"IF(Walidacja!A2724=\"\",\"\",(IF(Walidacja!A2724,\"Poprawny\",\"Niepoprawny\")))","v":""}]
[null,null,{"$f":"IF(Walidacja!A2725=\"\",\"\",(IF(Walidacja!A2725,\"Poprawny\",\"Niepoprawny\")))","v":""}]
[null,null,{"$f":"IF(Walidacja!A2726=\"\",\"\",(IF(Walidacja!A2726,\"Poprawny\",\"Niepoprawny\")))","v":""}]
[null,null,{"$f":"IF(Walidacja!A2727=\"\",\"\",(IF(Walidacja!A2727,\"Poprawny\",\"Niepoprawny\")))","v":""}]
[null,null,{"$f":"IF(Walidacja!A2728=\"\",\"\",(IF(Walidacja!A2728,\"Poprawny\",\"Niepoprawny\")))","v":""}]
[null,null,{"$f":"IF(Walidacja!A2729=\"\",\"\",(IF(Walidacja!A2729,\"Poprawny\",\"Niepoprawny\")))","v":""}]
[null,null,{"$f":"IF(Walidacja!A2730=\"\",\"\",(IF(Walidacja!A2730,\"Poprawny\",\"Niepoprawny\")))","v":""}]
[null,null,{"$f":"IF(Walidacja!A2731=\"\",\"\",(IF(Walidacja!A2731,\"Poprawny\",\"Niepoprawny\")))","v":""}]
[null,null,{"$f":"IF(Walidacja!A2732=\"\",\"\",(IF(Walidacja!A2732,\"Poprawny\",\"Niepoprawny\")))","v":""}]
[null,null,{"$f":"IF(Walidacja!A2733=\"\",\"\",(IF(Walidacja!A2733,\"Poprawny\",\"Niepoprawny\")))","v":""}]
[null,null,{"$f":"IF(Walidacja!A2734=\"\",\"\",(IF(Walidacja!A2734,\"Poprawny\",\"Niepoprawny\")))","v":""}]
[null,null,{"$f":"IF(Walidacja!A2735=\"\",\"\",(IF(Walidacja!A2735,\"Poprawny\",\"Niepoprawny\")))","v":""}]
[null,null,{"$f":"IF(Walidacja!A2736=\"\",\"\",(IF(Walidacja!A2736,\"Poprawny\",\"Niepoprawny\")))","v":""}]
[null,null,{"$f":"IF(Walidacja!A2737=\"\",\"\",(IF(Walidacja!A2737,\"Poprawny\",\"Niepoprawny\")))","v":""}]
[null,null,{"$f":"IF(Walidacja!A2738=\"\",\"\",(IF(Walidacja!A2738,\"Poprawny\",\"Niepoprawny\")))","v":""}]
[null,null,{"$f":"IF(Walidacja!A2739=\"\",\"\",(IF(Walidacja!A2739,\"Poprawny\",\"Niepoprawny\")))","v":""}]
[null,null,{"$f":"IF(Walidacja!A2740=\"\",\"\",(IF(Walidacja!A2740,\"Poprawny\",\"Niepoprawny\")))","v":""}]
[null,null,{"$f":"IF(Walidacja!A2741=\"\",\"\",(IF(Walidacja!A2741,\"Poprawny\",\"Niepoprawny\")))","v":""}]
[null,null,{"$f":"IF(Walidacja!A2742=\"\",\"\",(IF(Walidacja!A2742,\"Poprawny\",\"Niepoprawny\")))","v":""}]
[null,null,{"$f":"IF(Walidacja!A2743=\"\",\"\",(IF(Walidacja!A2743,\"Poprawny\",\"Niepoprawny\")))","v":""}]
[null,null,{"$f":"IF(Walidacja!A2744=\"\",\"\",(IF(Walidacja!A2744,\"Poprawny\",\"Niepoprawny\")))","v":""}]
[null,null,{"$f":"IF(Walidacja!A2745=\"\",\"\",(IF(Walidacja!A2745,\"Poprawny\",\"Niepoprawny\")))","v":""}]
[null,null,{"$f":"IF(Walidacja!A2746=\"\",\"\",(IF(Walidacja!A2746,\"Poprawny\",\"Niepoprawny\")))","v":""}]
[null,null,{"$f":"IF(Walidacja!A2747=\"\",\"\",(IF(Walidacja!A2747,\"Poprawny\",\"Niepoprawny\")))","v":""}]
[null,null,{"$f":"IF(Walidacja!A2748=\"\",\"\",(IF(Walidacja!A2748,\"Poprawny\",\"Niepoprawny\")))","v":""}]
[null,null,{"$f":"IF(Walidacja!A2749=\"\",\"\",(IF(Walidacja!A2749,\"Poprawny\",\"Niepoprawny\")))","v":""}]
[null,null,{"$f":"IF(Walidacja!A2750=\"\",\"\",(IF(Walidacja!A2750,\"Poprawny\",\"Niepoprawny\")))","v":""}]
[null,null,{"$f":"IF(Walidacja!A2751=\"\",\"\",(IF(Walidacja!A2751,\"Poprawny\",\"Niepoprawny\")))","v":""}]
[null,null,{"$f":"IF(Walidacja!A2752=\"\",\"\",(IF(Walidacja!A2752,\"Poprawny\",\"Niepoprawny\")))","v":""}]
[null,null,{"$f":"IF(Walidacja!A2753=\"\",\"\",(IF(Walidacja!A2753,\"Poprawny\",\"Niepoprawny\")))","v":""}]
[null,null,{"$f":"IF(Walidacja!A2754=\"\",\"\",(IF(Walidacja!A2754,\"Poprawny\",\"Niepoprawny\")))","v":""}]
[null,null,{"$f":"IF(Walidacja!A2755=\"\",\"\",(IF(Walidacja!A2755,\"Poprawny\",\"Niepoprawny\")))","v":""}]
[null,null,{"$f":"IF(Walidacja!A2756=\"\",\"\",(IF(Walidacja!A2756,\"Poprawny\",\"Niepoprawny\")))","v":""}]
[null,null,{"$f":"IF(Walidacja!A2757=\"\",\"\",(IF(Walidacja!A2757,\"Poprawny\",\"Niepoprawny\")))","v":""}]
[null,null,{"$f":"IF(Walidacja!A2758=\"\",\"\",(IF(Walidacja!A2758,\"Poprawny\",\"Niepoprawny\")))","v":""}]
[null,null,{"$f":"IF(Walidacja!A2759=\"\",\"\",(IF(Walidacja!A2759,\"Poprawny\",\"Niepoprawny\")))","v":""}]
[null,null,{"$f":"IF(Walidacja!A2760=\"\",\"\",(IF(Walidacja!A2760,\"Poprawny\",\"Niepoprawny\")))","v":""}]
[null,null,{"$f":"IF(Walidacja!A2761=\"\",\"\",(IF(Walidacja!A2761,\"Poprawny\",\"Niepoprawny\")))","v":""}]
[null,null,{"$f":"IF(Walidacja!A2762=\"\",\"\",(IF(Walidacja!A2762,\"Poprawny\",\"Niepoprawny\")))","v":""}]
[null,null,{"$f":"IF(Walidacja!A2763=\"\",\"\",(IF(Walidacja!A2763,\"Poprawny\",\"Niepoprawny\")))","v":""}]
[null,null,{"$f":"IF(Walidacja!A2764=\"\",\"\",(IF(Walidacja!A2764,\"Poprawny\",\"Niepoprawny\")))","v":""}]
[null,null,{"$f":"IF(Walidacja!A2765=\"\",\"\",(IF(Walidacja!A2765,\"Poprawny\",\"Niepoprawny\")))","v":""}]
[null,null,{"$f":"IF(Walidacja!A2766=\"\",\"\",(IF(Walidacja!A2766,\"Poprawny\",\"Niepoprawny\")))","v":""}]
[null,null,{"$f":"IF(Walidacja!A2767=\"\",\"\",(IF(Walidacja!A2767,\"Poprawny\",\"Niepoprawny\")))","v":""}]
[null,null,{"$f":"IF(Walidacja!A2768=\"\",\"\",(IF(Walidacja!A2768,\"Poprawny\",\"Niepoprawny\")))","v":""}]
[null,null,{"$f":"IF(Walidacja!A2769=\"\",\"\",(IF(Walidacja!A2769,\"Poprawny\",\"Niepoprawny\")))","v":""}]
[null,null,{"$f":"IF(Walidacja!A2770=\"\",\"\",(IF(Walidacja!A2770,\"Poprawny\",\"Niepoprawny\")))","v":""}]
[null,null,{"$f":"IF(Walidacja!A2771=\"\",\"\",(IF(Walidacja!A2771,\"Poprawny\",\"Niepoprawny\")))","v":""}]
[null,null,{"$f":"IF(Walidacja!A2772=\"\",\"\",(IF(Walidacja!A2772,\"Poprawny\",\"Niepoprawny\")))","v":""}]
[null,null,{"$f":"IF(Walidacja!A2773=\"\",\"\",(IF(Walidacja!A2773,\"Poprawny\",\"Niepoprawny\")))","v":""}]
[null,null,{"$f":"IF(Walidacja!A2774=\"\",\"\",(IF(Walidacja!A2774,\"Poprawny\",\"Niepoprawny\")))","v":""}]
[null,null,{"$f":"IF(Walidacja!A2775=\"\",\"\",(IF(Walidacja!A2775,\"Poprawny\",\"Niepoprawny\")))","v":""}]
[null,null,{"$f":"IF(Walidacja!A2776=\"\",\"\",(IF(Walidacja!A2776,\"Poprawny\",\"Niepoprawny\")))","v":""}]
[null,null,{"$f":"IF(Walidacja!A2777=\"\",\"\",(IF(Walidacja!A2777,\"Poprawny\",\"Niepoprawny\")))","v":""}]
[null,null,{"$f":"IF(Walidacja!A2778=\"\",\"\",(IF(Walidacja!A2778,\"Poprawny\",\"Niepoprawny\")))","v":""}]
[null,null,{"$f":"IF(Walidacja!A2779=\"\",\"\",(IF(Walidacja!A2779,\"Poprawny\",\"Niepoprawny\")))","v":""}]
[null,null,{"$f":"IF(Walidacja!A2780=\"\",\"\",(IF(Walidacja!A2780,\"Poprawny\",\"Niepoprawny\")))","v":""}]
[null,null,{"$f":"IF(Walidacja!A2781=\"\",\"\",(IF(Walidacja!A2781,\"Poprawny\",\"Niepoprawny\")))","v":""}]
[null,null,{"$f":"IF(Walidacja!A2782=\"\",\"\",(IF(Walidacja!A2782,\"Poprawny\",\"Niepoprawny\")))","v":""}]
[null,null,{"$f":"IF(Walidacja!A2783=\"\",\"\",(IF(Walidacja!A2783,\"Poprawny\",\"Niepoprawny\")))","v":""}]
[null,null,{"$f":"IF(Walidacja!A2784=\"\",\"\",(IF(Walidacja!A2784,\"Poprawny\",\"Niepoprawny\")))","v":""}]
[null,null,{"$f":"IF(Walidacja!A2785=\"\",\"\",(IF(Walidacja!A2785,\"Poprawny\",\"Niepoprawny\")))","v":""}]
[null,null,{"$f":"IF(Walidacja!A2786=\"\",\"\",(IF(Walidacja!A2786,\"Poprawny\",\"Niepoprawny\")))","v":""}]
[null,null,{"$f":"IF(Walidacja!A2787=\"\",\"\",(IF(Walidacja!A2787,\"Poprawny\",\"Niepoprawny\")))","v":""}]
[null,null,{"$f":"IF(Walidacja!A2788=\"\",\"\",(IF(Walidacja!A2788,\"Poprawny\",\"Niepoprawny\")))","v":""}]
[null,null,{"$f":"IF(Walidacja!A2789=\"\",\"\",(IF(Walidacja!A2789,\"Poprawny\",\"Niepoprawny\")))","v":""}]
[null,null,{"$f":"IF(Walidacja!A2790=\"\",\"\",(IF(Walidacja!A2790,\"Poprawny\",\"Niepoprawny\")))","v":""}]
[null,null,{"$f":"IF(Walidacja!A2791=\"\",\"\",(IF(Walidacja!A2791,\"Poprawny\",\"Niepoprawny\")))","v":""}]
[null,null,{"$f":"IF(Walidacja!A2792=\"\",\"\",(IF(Walidacja!A2792,\"Poprawny\",\"Niepoprawny\")))","v":""}]
[null,null,{"$f":"IF(Walidacja!A2793=\"\",\"\",(IF(Walidacja!A2793,\"Poprawny\",\"Niepoprawny\")))","v":""}]
[null,null,{"$f":"IF(Walidacja!A2794=\"\",\"\",(IF(Walidacja!A2794,\"Poprawny\",\"Niepoprawny\")))","v":""}]
[null,null,{"$f":"IF(Walidacja!A2795=\"\",\"\",(IF(Walidacja!A2795,\"Poprawny\",\"Niepoprawny\")))","v":""}]
[null,null,{"$f":"IF(Walidacja!A2796=\"\",\"\",(IF(Walidacja!A2796,\"Poprawny\",\"Niepoprawny\")))","v":""}]
[null,null,{"$f":"IF(Walidacja!A2797=\"\",\"\",(IF(Walidacja!A2797,\"Poprawny\",\"Niepoprawny\")))","v":""}]
[null,null,{"$f":"IF(Walidacja!A2798=\"\",\"\",(IF(Walidacja!A2798,\"Poprawny\",\"Niepoprawny\")))","v":""}]
[null,null,{"$f":"IF(Walidacja!A2799=\"\",\"\",(IF(Walidacja!A2799,\"Poprawny\",\"Niepoprawny\")))","v":""}]
[null,null,{"$f":"IF(Walidacja!A2800=\"\",\"\",(IF(Walidacja!A2800,\"Poprawny\",\"Niepoprawny\")))","v":""}]
[null,null,{"$f":"IF(Walidacja!A2801=\"\",\"\",(IF(Walidacja!A2801,\"Poprawny\",\"Niepoprawny\")))","v":""}]
[null,null,{"$f":"IF(Walidacja!A2802=\"\",\"\",(IF(Walidacja!A2802,\"Poprawny\",\"Niepoprawny\")))","v":""}]
[null,null,{"$f":"IF(Walidacja!A2803=\"\",\"\",(IF(Walidacja!A2803,\"Poprawny\",\"Niepoprawny\")))","v":""}]
[null,null,{"$f":"IF(Walidacja!A2804=\"\",\"\",(IF(Walidacja!A2804,\"Poprawny\",\"Niepoprawny\")))","v":""}]
[null,null,{"$f":"IF(Walidacja!A2805=\"\",\"\",(IF(Walidacja!A2805,\"Poprawny\",\"Niepoprawny\")))","v":""}]
[null,null,{"$f":"IF(Walidacja!A2806=\"\",\"\",(IF(Walidacja!A2806,\"Poprawny\",\"Niepoprawny\")))","v":""}]
[null,null,{"$f":"IF(Walidacja!A2807=\"\",\"\",(IF(Walidacja!A2807,\"Poprawny\",\"Niepoprawny\")))","v":""}]
[null,null,{"$f":"IF(Walidacja!A2808=\"\",\"\",(IF(Walidacja!A2808,\"Poprawny\",\"Niepoprawny\")))","v":""}]
[null,null,{"$f":"IF(Walidacja!A2809=\"\",\"\",(IF(Walidacja!A2809,\"Poprawny\",\"Niepoprawny\")))","v":""}]
[null,null,{"$f":"IF(Walidacja!A2810=\"\",\"\",(IF(Walidacja!A2810,\"Poprawny\",\"Niepoprawny\")))","v":""}]
[null,null,{"$f":"IF(Walidacja!A2811=\"\",\"\",(IF(Walidacja!A2811,\"Poprawny\",\"Niepoprawny\")))","v":""}]
[null,null,{"$f":"IF(Walidacja!A2812=\"\",\"\",(IF(Walidacja!A2812,\"Poprawny\",\"Niepoprawny\")))","v":""}]
[null,null,{"$f":"IF(Walidacja!A2813=\"\",\"\",(IF(Walidacja!A2813,\"Poprawny\",\"Niepoprawny\")))","v":""}]
[null,null,{"$f":"IF(Walidacja!A2814=\"\",\"\",(IF(Walidacja!A2814,\"Poprawny\",\"Niepoprawny\")))","v":""}]
[null,null,{"$f":"IF(Walidacja!A2815=\"\",\"\",(IF(Walidacja!A2815,\"Poprawny\",\"Niepoprawny\")))","v":""}]
[null,null,{"$f":"IF(Walidacja!A2816=\"\",\"\",(IF(Walidacja!A2816,\"Poprawny\",\"Niepoprawny\")))","v":""}]
[null,null,{"$f":"IF(Walidacja!A2817=\"\",\"\",(IF(Walidacja!A2817,\"Poprawny\",\"Niepoprawny\")))","v":""}]
[null,null,{"$f":"IF(Walidacja!A2818=\"\",\"\",(IF(Walidacja!A2818,\"Poprawny\",\"Niepoprawny\")))","v":""}]
[null,null,{"$f":"IF(Walidacja!A2819=\"\",\"\",(IF(Walidacja!A2819,\"Poprawny\",\"Niepoprawny\")))","v":""}]
[null,null,{"$f":"IF(Walidacja!A2820=\"\",\"\",(IF(Walidacja!A2820,\"Poprawny\",\"Niepoprawny\")))","v":""}]
[null,null,{"$f":"IF(Walidacja!A2821=\"\",\"\",(IF(Walidacja!A2821,\"Poprawny\",\"Niepoprawny\")))","v":""}]
[null,null,{"$f":"IF(Walidacja!A2822=\"\",\"\",(IF(Walidacja!A2822,\"Poprawny\",\"Niepoprawny\")))","v":""}]
[null,null,{"$f":"IF(Walidacja!A2823=\"\",\"\",(IF(Walidacja!A2823,\"Poprawny\",\"Niepoprawny\")))","v":""}]
[null,null,{"$f":"IF(Walidacja!A2824=\"\",\"\",(IF(Walidacja!A2824,\"Poprawny\",\"Niepoprawny\")))","v":""}]
[null,null,{"$f":"IF(Walidacja!A2825=\"\",\"\",(IF(Walidacja!A2825,\"Poprawny\",\"Niepoprawny\")))","v":""}]
[null,null,{"$f":"IF(Walidacja!A2826=\"\",\"\",(IF(Walidacja!A2826,\"Poprawny\",\"Niepoprawny\")))","v":""}]
[null,null,{"$f":"IF(Walidacja!A2827=\"\",\"\",(IF(Walidacja!A2827,\"Poprawny\",\"Niepoprawny\")))","v":""}]
[null,null,{"$f":"IF(Walidacja!A2828=\"\",\"\",(IF(Walidacja!A2828,\"Poprawny\",\"Niepoprawny\")))","v":""}]
[null,null,{"$f":"IF(Walidacja!A2829=\"\",\"\",(IF(Walidacja!A2829,\"Poprawny\",\"Niepoprawny\")))","v":""}]
[null,null,{"$f":"IF(Walidacja!A2830=\"\",\"\",(IF(Walidacja!A2830,\"Poprawny\",\"Niepoprawny\")))","v":""}]
[null,null,{"$f":"IF(Walidacja!A2831=\"\",\"\",(IF(Walidacja!A2831,\"Poprawny\",\"Niepoprawny\")))","v":""}]
[null,null,{"$f":"IF(Walidacja!A2832=\"\",\"\",(IF(Walidacja!A2832,\"Poprawny\",\"Niepoprawny\")))","v":""}]
[null,null,{"$f":"IF(Walidacja!A2833=\"\",\"\",(IF(Walidacja!A2833,\"Poprawny\",\"Niepoprawny\")))","v":""}]
[null,null,{"$f":"IF(Walidacja!A2834=\"\",\"\",(IF(Walidacja!A2834,\"Poprawny\",\"Niepoprawny\")))","v":""}]
[null,null,{"$f":"IF(Walidacja!A2835=\"\",\"\",(IF(Walidacja!A2835,\"Poprawny\",\"Niepoprawny\")))","v":""}]
[null,null,{"$f":"IF(Walidacja!A2836=\"\",\"\",(IF(Walidacja!A2836,\"Poprawny\",\"Niepoprawny\")))","v":""}]
[null,null,{"$f":"IF(Walidacja!A2837=\"\",\"\",(IF(Walidacja!A2837,\"Poprawny\",\"Niepoprawny\")))","v":""}]
[null,null,{"$f":"IF(Walidacja!A2838=\"\",\"\",(IF(Walidacja!A2838,\"Poprawny\",\"Niepoprawny\")))","v":""}]
[null,null,{"$f":"IF(Walidacja!A2839=\"\",\"\",(IF(Walidacja!A2839,\"Poprawny\",\"Niepoprawny\")))","v":""}]
[null,null,{"$f":"IF(Walidacja!A2840=\"\",\"\",(IF(Walidacja!A2840,\"Poprawny\",\"Niepoprawny\")))","v":""}]
[null,null,{"$f":"IF(Walidacja!A2841=\"\",\"\",(IF(Walidacja!A2841,\"Poprawny\",\"Niepoprawny\")))","v":""}]
[null,null,{"$f":"IF(Walidacja!A2842=\"\",\"\",(IF(Walidacja!A2842,\"Poprawny\",\"Niepoprawny\")))","v":""}]
[null,null,{"$f":"IF(Walidacja!A2843=\"\",\"\",(IF(Walidacja!A2843,\"Poprawny\",\"Niepoprawny\")))","v":""}]
[null,null,{"$f":"IF(Walidacja!A2844=\"\",\"\",(IF(Walidacja!A2844,\"Poprawny\",\"Niepoprawny\")))","v":""}]
[null,null,{"$f":"IF(Walidacja!A2845=\"\",\"\",(IF(Walidacja!A2845,\"Poprawny\",\"Niepoprawny\")))","v":""}]
[null,null,{"$f":"IF(Walidacja!A2846=\"\",\"\",(IF(Walidacja!A2846,\"Poprawny\",\"Niepoprawny\")))","v":""}]
[null,null,{"$f":"IF(Walidacja!A2847=\"\",\"\",(IF(Walidacja!A2847,\"Poprawny\",\"Niepoprawny\")))","v":""}]
[null,null,{"$f":"IF(Walidacja!A2848=\"\",\"\",(IF(Walidacja!A2848,\"Poprawny\",\"Niepoprawny\")))","v":""}]
[null,null,{"$f":"IF(Walidacja!A2849=\"\",\"\",(IF(Walidacja!A2849,\"Poprawny\",\"Niepoprawny\")))","v":""}]
[null,null,{"$f":"IF(Walidacja!A2850=\"\",\"\",(IF(Walidacja!A2850,\"Poprawny\",\"Niepoprawny\")))","v":""}]
[null,null,{"$f":"IF(Walidacja!A2851=\"\",\"\",(IF(Walidacja!A2851,\"Poprawny\",\"Niepoprawny\")))","v":""}]
[null,null,{"$f":"IF(Walidacja!A2852=\"\",\"\",(IF(Walidacja!A2852,\"Poprawny\",\"Niepoprawny\")))","v":""}]
[null,null,{"$f":"IF(Walidacja!A2853=\"\",\"\",(IF(Walidacja!A2853,\"Poprawny\",\"Niepoprawny\")))","v":""}]
[null,null,{"$f":"IF(Walidacja!A2854=\"\",\"\",(IF(Walidacja!A2854,\"Poprawny\",\"Niepoprawny\")))","v":""}]
[null,null,{"$f":"IF(Walidacja!A2855=\"\",\"\",(IF(Walidacja!A2855,\"Poprawny\",\"Niepoprawny\")))","v":""}]
[null,null,{"$f":"IF(Walidacja!A2856=\"\",\"\",(IF(Walidacja!A2856,\"Poprawny\",\"Niepoprawny\")))","v":""}]
[null,null,{"$f":"IF(Walidacja!A2857=\"\",\"\",(IF(Walidacja!A2857,\"Poprawny\",\"Niepoprawny\")))","v":""}]
[null,null,{"$f":"IF(Walidacja!A2858=\"\",\"\",(IF(Walidacja!A2858,\"Poprawny\",\"Niepoprawny\")))","v":""}]
[null,null,{"$f":"IF(Walidacja!A2859=\"\",\"\",(IF(Walidacja!A2859,\"Poprawny\",\"Niepoprawny\")))","v":""}]
[null,null,{"$f":"IF(Walidacja!A2860=\"\",\"\",(IF(Walidacja!A2860,\"Poprawny\",\"Niepoprawny\")))","v":""}]
[null,null,{"$f":"IF(Walidacja!A2861=\"\",\"\",(IF(Walidacja!A2861,\"Poprawny\",\"Niepoprawny\")))","v":""}]
[null,null,{"$f":"IF(Walidacja!A2862=\"\",\"\",(IF(Walidacja!A2862,\"Poprawny\",\"Niepoprawny\")))","v":""}]
[null,null,{"$f":"IF(Walidacja!A2863=\"\",\"\",(IF(Walidacja!A2863,\"Poprawny\",\"Niepoprawny\")))","v":""}]
[null,null,{"$f":"IF(Walidacja!A2864=\"\",\"\",(IF(Walidacja!A2864,\"Poprawny\",\"Niepoprawny\")))","v":""}]
[null,null,{"$f":"IF(Walidacja!A2865=\"\",\"\",(IF(Walidacja!A2865,\"Poprawny\",\"Niepoprawny\")))","v":""}]
[null,null,{"$f":"IF(Walidacja!A2866=\"\",\"\",(IF(Walidacja!A2866,\"Poprawny\",\"Niepoprawny\")))","v":""}]
[null,null,{"$f":"IF(Walidacja!A2867=\"\",\"\",(IF(Walidacja!A2867,\"Poprawny\",\"Niepoprawny\")))","v":""}]
[null,null,{"$f":"IF(Walidacja!A2868=\"\",\"\",(IF(Walidacja!A2868,\"Poprawny\",\"Niepoprawny\")))","v":""}]
[null,null,{"$f":"IF(Walidacja!A2869=\"\",\"\",(IF(Walidacja!A2869,\"Poprawny\",\"Niepoprawny\")))","v":""}]
[null,null,{"$f":"IF(Walidacja!A2870=\"\",\"\",(IF(Walidacja!A2870,\"Poprawny\",\"Niepoprawny\")))","v":""}]
[null,null,{"$f":"IF(Walidacja!A2871=\"\",\"\",(IF(Walidacja!A2871,\"Poprawny\",\"Niepoprawny\")))","v":""}]
[null,null,{"$f":"IF(Walidacja!A2872=\"\",\"\",(IF(Walidacja!A2872,\"Poprawny\",\"Niepoprawny\")))","v":""}]
[null,null,{"$f":"IF(Walidacja!A2873=\"\",\"\",(IF(Walidacja!A2873,\"Poprawny\",\"Niepoprawny\")))","v":""}]
[null,null,{"$f":"IF(Walidacja!A2874=\"\",\"\",(IF(Walidacja!A2874,\"Poprawny\",\"Niepoprawny\")))","v":""}]
[null,null,{"$f":"IF(Walidacja!A2875=\"\",\"\",(IF(Walidacja!A2875,\"Poprawny\",\"Niepoprawny\")))","v":""}]
[null,null,{"$f":"IF(Walidacja!A2876=\"\",\"\",(IF(Walidacja!A2876,\"Poprawny\",\"Niepoprawny\")))","v":""}]
[null,null,{"$f":"IF(Walidacja!A2877=\"\",\"\",(IF(Walidacja!A2877,\"Poprawny\",\"Niepoprawny\")))","v":""}]
[null,null,{"$f":"IF(Walidacja!A2878=\"\",\"\",(IF(Walidacja!A2878,\"Poprawny\",\"Niepoprawny\")))","v":""}]
[null,null,{"$f":"IF(Walidacja!A2879=\"\",\"\",(IF(Walidacja!A2879,\"Poprawny\",\"Niepoprawny\")))","v":""}]
[null,null,{"$f":"IF(Walidacja!A2880=\"\",\"\",(IF(Walidacja!A2880,\"Poprawny\",\"Niepoprawny\")))","v":""}]
[null,null,{"$f":"IF(Walidacja!A2881=\"\",\"\",(IF(Walidacja!A2881,\"Poprawny\",\"Niepoprawny\")))","v":""}]
[null,null,{"$f":"IF(Walidacja!A2882=\"\",\"\",(IF(Walidacja!A2882,\"Poprawny\",\"Niepoprawny\")))","v":""}]
[null,null,{"$f":"IF(Walidacja!A2883=\"\",\"\",(IF(Walidacja!A2883,\"Poprawny\",\"Niepoprawny\")))","v":""}]
[null,null,{"$f":"IF(Walidacja!A2884=\"\",\"\",(IF(Walidacja!A2884,\"Poprawny\",\"Niepoprawny\")))","v":""}]
[null,null,{"$f":"IF(Walidacja!A2885=\"\",\"\",(IF(Walidacja!A2885,\"Poprawny\",\"Niepoprawny\")))","v":""}]
[null,null,{"$f":"IF(Walidacja!A2886=\"\",\"\",(IF(Walidacja!A2886,\"Poprawny\",\"Niepoprawny\")))","v":""}]
[null,null,{"$f":"IF(Walidacja!A2887=\"\",\"\",(IF(Walidacja!A2887,\"Poprawny\",\"Niepoprawny\")))","v":""}]
[null,null,{"$f":"IF(Walidacja!A2888=\"\",\"\",(IF(Walidacja!A2888,\"Poprawny\",\"Niepoprawny\")))","v":""}]
[null,null,{"$f":"IF(Walidacja!A2889=\"\",\"\",(IF(Walidacja!A2889,\"Poprawny\",\"Niepoprawny\")))","v":""}]
[null,null,{"$f":"IF(Walidacja!A2890=\"\",\"\",(IF(Walidacja!A2890,\"Poprawny\",\"Niepoprawny\")))","v":""}]
[null,null,{"$f":"IF(Walidacja!A2891=\"\",\"\",(IF(Walidacja!A2891,\"Poprawny\",\"Niepoprawny\")))","v":""}]
[null,null,{"$f":"IF(Walidacja!A2892=\"\",\"\",(IF(Walidacja!A2892,\"Poprawny\",\"Niepoprawny\")))","v":""}]
[null,null,{"$f":"IF(Walidacja!A2893=\"\",\"\",(IF(Walidacja!A2893,\"Poprawny\",\"Niepoprawny\")))","v":""}]
[null,null,{"$f":"IF(Walidacja!A2894=\"\",\"\",(IF(Walidacja!A2894,\"Poprawny\",\"Niepoprawny\")))","v":""}]
[null,null,{"$f":"IF(Walidacja!A2895=\"\",\"\",(IF(Walidacja!A2895,\"Poprawny\",\"Niepoprawny\")))","v":""}]
[null,null,{"$f":"IF(Walidacja!A2896=\"\",\"\",(IF(Walidacja!A2896,\"Poprawny\",\"Niepoprawny\")))","v":""}]
[null,null,{"$f":"IF(Walidacja!A2897=\"\",\"\",(IF(Walidacja!A2897,\"Poprawny\",\"Niepoprawny\")))","v":""}]
[null,null,{"$f":"IF(Walidacja!A2898=\"\",\"\",(IF(Walidacja!A2898,\"Poprawny\",\"Niepoprawny\")))","v":""}]
[null,null,{"$f":"IF(Walidacja!A2899=\"\",\"\",(IF(Walidacja!A2899,\"Poprawny\",\"Niepoprawny\")))","v":""}]
[null,null,{"$f":"IF(Walidacja!A2900=\"\",\"\",(IF(Walidacja!A2900,\"Poprawny\",\"Niepoprawny\")))","v":""}]
[null,null,{"$f":"IF(Walidacja!A2901=\"\",\"\",(IF(Walidacja!A2901,\"Poprawny\",\"Niepoprawny\")))","v":""}]
[null,null,{"$f":"IF(Walidacja!A2902=\"\",\"\",(IF(Walidacja!A2902,\"Poprawny\",\"Niepoprawny\")))","v":""}]
[null,null,{"$f":"IF(Walidacja!A2903=\"\",\"\",(IF(Walidacja!A2903,\"Poprawny\",\"Niepoprawny\")))","v":""}]
[null,null,{"$f":"IF(Walidacja!A2904=\"\",\"\",(IF(Walidacja!A2904,\"Poprawny\",\"Niepoprawny\")))","v":""}]
[null,null,{"$f":"IF(Walidacja!A2905=\"\",\"\",(IF(Walidacja!A2905,\"Poprawny\",\"Niepoprawny\")))","v":""}]
[null,null,{"$f":"IF(Walidacja!A2906=\"\",\"\",(IF(Walidacja!A2906,\"Poprawny\",\"Niepoprawny\")))","v":""}]
[null,null,{"$f":"IF(Walidacja!A2907=\"\",\"\",(IF(Walidacja!A2907,\"Poprawny\",\"Niepoprawny\")))","v":""}]
[null,null,{"$f":"IF(Walidacja!A2908=\"\",\"\",(IF(Walidacja!A2908,\"Poprawny\",\"Niepoprawny\")))","v":""}]
[null,null,{"$f":"IF(Walidacja!A2909=\"\",\"\",(IF(Walidacja!A2909,\"Poprawny\",\"Niepoprawny\")))","v":""}]
[null,null,{"$f":"IF(Walidacja!A2910=\"\",\"\",(IF(Walidacja!A2910,\"Poprawny\",\"Niepoprawny\")))","v":""}]
[null,null,{"$f":"IF(Walidacja!A2911=\"\",\"\",(IF(Walidacja!A2911,\"Poprawny\",\"Niepoprawny\")))","v":""}]
[null,null,{"$f":"IF(Walidacja!A2912=\"\",\"\",(IF(Walidacja!A2912,\"Poprawny\",\"Niepoprawny\")))","v":""}]
[null,null,{"$f":"IF(Walidacja!A2913=\"\",\"\",(IF(Walidacja!A2913,\"Poprawny\",\"Niepoprawny\")))","v":""}]
[null,null,{"$f":"IF(Walidacja!A2914=\"\",\"\",(IF(Walidacja!A2914,\"Poprawny\",\"Niepoprawny\")))","v":""}]
[null,null,{"$f":"IF(Walidacja!A2915=\"\",\"\",(IF(Walidacja!A2915,\"Poprawny\",\"Niepoprawny\")))","v":""}]
[null,null,{"$f":"IF(Walidacja!A2916=\"\",\"\",(IF(Walidacja!A2916,\"Poprawny\",\"Niepoprawny\")))","v":""}]
[null,null,{"$f":"IF(Walidacja!A2917=\"\",\"\",(IF(Walidacja!A2917,\"Poprawny\",\"Niepoprawny\")))","v":""}]
[null,null,{"$f":"IF(Walidacja!A2918=\"\",\"\",(IF(Walidacja!A2918,\"Poprawny\",\"Niepoprawny\")))","v":""}]
[null,null,{"$f":"IF(Walidacja!A2919=\"\",\"\",(IF(Walidacja!A2919,\"Poprawny\",\"Niepoprawny\")))","v":""}]
[null,null,{"$f":"IF(Walidacja!A2920=\"\",\"\",(IF(Walidacja!A2920,\"Poprawny\",\"Niepoprawny\")))","v":""}]
[null,null,{"$f":"IF(Walidacja!A2921=\"\",\"\",(IF(Walidacja!A2921,\"Poprawny\",\"Niepoprawny\")))","v":""}]
[null,null,{"$f":"IF(Walidacja!A2922=\"\",\"\",(IF(Walidacja!A2922,\"Poprawny\",\"Niepoprawny\")))","v":""}]
[null,null,{"$f":"IF(Walidacja!A2923=\"\",\"\",(IF(Walidacja!A2923,\"Poprawny\",\"Niepoprawny\")))","v":""}]
[null,null,{"$f":"IF(Walidacja!A2924=\"\",\"\",(IF(Walidacja!A2924,\"Poprawny\",\"Niepoprawny\")))","v":""}]
[null,null,{"$f":"IF(Walidacja!A2925=\"\",\"\",(IF(Walidacja!A2925,\"Poprawny\",\"Niepoprawny\")))","v":""}]
[null,null,{"$f":"IF(Walidacja!A2926=\"\",\"\",(IF(Walidacja!A2926,\"Poprawny\",\"Niepoprawny\")))","v":""}]
[null,null,{"$f":"IF(Walidacja!A2927=\"\",\"\",(IF(Walidacja!A2927,\"Poprawny\",\"Niepoprawny\")))","v":""}]
[null,null,{"$f":"IF(Walidacja!A2928=\"\",\"\",(IF(Walidacja!A2928,\"Poprawny\",\"Niepoprawny\")))","v":""}]
[null,null,{"$f":"IF(Walidacja!A2929=\"\",\"\",(IF(Walidacja!A2929,\"Poprawny\",\"Niepoprawny\")))","v":""}]
[null,null,{"$f":"IF(Walidacja!A2930=\"\",\"\",(IF(Walidacja!A2930,\"Poprawny\",\"Niepoprawny\")))","v":""}]
[null,null,{"$f":"IF(Walidacja!A2931=\"\",\"\",(IF(Walidacja!A2931,\"Poprawny\",\"Niepoprawny\")))","v":""}]
[null,null,{"$f":"IF(Walidacja!A2932=\"\",\"\",(IF(Walidacja!A2932,\"Poprawny\",\"Niepoprawny\")))","v":""}]
[null,null,{"$f":"IF(Walidacja!A2933=\"\",\"\",(IF(Walidacja!A2933,\"Poprawny\",\"Niepoprawny\")))","v":""}]
[null,null,{"$f":"IF(Walidacja!A2934=\"\",\"\",(IF(Walidacja!A2934,\"Poprawny\",\"Niepoprawny\")))","v":""}]
[null,null,{"$f":"IF(Walidacja!A2935=\"\",\"\",(IF(Walidacja!A2935,\"Poprawny\",\"Niepoprawny\")))","v":""}]
[null,null,{"$f":"IF(Walidacja!A2936=\"\",\"\",(IF(Walidacja!A2936,\"Poprawny\",\"Niepoprawny\")))","v":""}]
[null,null,{"$f":"IF(Walidacja!A2937=\"\",\"\",(IF(Walidacja!A2937,\"Poprawny\",\"Niepoprawny\")))","v":""}]
[null,null,{"$f":"IF(Walidacja!A2938=\"\",\"\",(IF(Walidacja!A2938,\"Poprawny\",\"Niepoprawny\")))","v":""}]
[null,null,{"$f":"IF(Walidacja!A2939=\"\",\"\",(IF(Walidacja!A2939,\"Poprawny\",\"Niepoprawny\")))","v":""}]
[null,null,{"$f":"IF(Walidacja!A2940=\"\",\"\",(IF(Walidacja!A2940,\"Poprawny\",\"Niepoprawny\")))","v":""}]
[null,null,{"$f":"IF(Walidacja!A2941=\"\",\"\",(IF(Walidacja!A2941,\"Poprawny\",\"Niepoprawny\")))","v":""}]
[null,null,{"$f":"IF(Walidacja!A2942=\"\",\"\",(IF(Walidacja!A2942,\"Poprawny\",\"Niepoprawny\")))","v":""}]
[null,null,{"$f":"IF(Walidacja!A2943=\"\",\"\",(IF(Walidacja!A2943,\"Poprawny\",\"Niepoprawny\")))","v":""}]
[null,null,{"$f":"IF(Walidacja!A2944=\"\",\"\",(IF(Walidacja!A2944,\"Poprawny\",\"Niepoprawny\")))","v":""}]
[null,null,{"$f":"IF(Walidacja!A2945=\"\",\"\",(IF(Walidacja!A2945,\"Poprawny\",\"Niepoprawny\")))","v":""}]
[null,null,{"$f":"IF(Walidacja!A2946=\"\",\"\",(IF(Walidacja!A2946,\"Poprawny\",\"Niepoprawny\")))","v":""}]
[null,null,{"$f":"IF(Walidacja!A2947=\"\",\"\",(IF(Walidacja!A2947,\"Poprawny\",\"Niepoprawny\")))","v":""}]
[null,null,{"$f":"IF(Walidacja!A2948=\"\",\"\",(IF(Walidacja!A2948,\"Poprawny\",\"Niepoprawny\")))","v":""}]
[null,null,{"$f":"IF(Walidacja!A2949=\"\",\"\",(IF(Walidacja!A2949,\"Poprawny\",\"Niepoprawny\")))","v":""}]
[null,null,{"$f":"IF(Walidacja!A2950=\"\",\"\",(IF(Walidacja!A2950,\"Poprawny\",\"Niepoprawny\")))","v":""}]
[null,null,{"$f":"IF(Walidacja!A2951=\"\",\"\",(IF(Walidacja!A2951,\"Poprawny\",\"Niepoprawny\")))","v":""}]
[null,null,{"$f":"IF(Walidacja!A2952=\"\",\"\",(IF(Walidacja!A2952,\"Poprawny\",\"Niepoprawny\")))","v":""}]
[null,null,{"$f":"IF(Walidacja!A2953=\"\",\"\",(IF(Walidacja!A2953,\"Poprawny\",\"Niepoprawny\")))","v":""}]
[null,null,{"$f":"IF(Walidacja!A2954=\"\",\"\",(IF(Walidacja!A2954,\"Poprawny\",\"Niepoprawny\")))","v":""}]
[null,null,{"$f":"IF(Walidacja!A2955=\"\",\"\",(IF(Walidacja!A2955,\"Poprawny\",\"Niepoprawny\")))","v":""}]
[null,null,{"$f":"IF(Walidacja!A2956=\"\",\"\",(IF(Walidacja!A2956,\"Poprawny\",\"Niepoprawny\")))","v":""}]
[null,null,{"$f":"IF(Walidacja!A2957=\"\",\"\",(IF(Walidacja!A2957,\"Poprawny\",\"Niepoprawny\")))","v":""}]
[null,null,{"$f":"IF(Walidacja!A2958=\"\",\"\",(IF(Walidacja!A2958,\"Poprawny\",\"Niepoprawny\")))","v":""}]
[null,null,{"$f":"IF(Walidacja!A2959=\"\",\"\",(IF(Walidacja!A2959,\"Poprawny\",\"Niepoprawny\")))","v":""}]
[null,null,{"$f":"IF(Walidacja!A2960=\"\",\"\",(IF(Walidacja!A2960,\"Poprawny\",\"Niepoprawny\")))","v":""}]
[null,null,{"$f":"IF(Walidacja!A2961=\"\",\"\",(IF(Walidacja!A2961,\"Poprawny\",\"Niepoprawny\")))","v":""}]
[null,null,{"$f":"IF(Walidacja!A2962=\"\",\"\",(IF(Walidacja!A2962,\"Poprawny\",\"Niepoprawny\")))","v":""}]
[null,null,{"$f":"IF(Walidacja!A2963=\"\",\"\",(IF(Walidacja!A2963,\"Poprawny\",\"Niepoprawny\")))","v":""}]
[null,null,{"$f":"IF(Walidacja!A2964=\"\",\"\",(IF(Walidacja!A2964,\"Poprawny\",\"Niepoprawny\")))","v":""}]
[null,null,{"$f":"IF(Walidacja!A2965=\"\",\"\",(IF(Walidacja!A2965,\"Poprawny\",\"Niepoprawny\")))","v":""}]
[null,null,{"$f":"IF(Walidacja!A2966=\"\",\"\",(IF(Walidacja!A2966,\"Poprawny\",\"Niepoprawny\")))","v":""}]
[null,null,{"$f":"IF(Walidacja!A2967=\"\",\"\",(IF(Walidacja!A2967,\"Poprawny\",\"Niepoprawny\")))","v":""}]
[null,null,{"$f":"IF(Walidacja!A2968=\"\",\"\",(IF(Walidacja!A2968,\"Poprawny\",\"Niepoprawny\")))","v":""}]
[null,null,{"$f":"IF(Walidacja!A2969=\"\",\"\",(IF(Walidacja!A2969,\"Poprawny\",\"Niepoprawny\")))","v":""}]
[null,null,{"$f":"IF(Walidacja!A2970=\"\",\"\",(IF(Walidacja!A2970,\"Poprawny\",\"Niepoprawny\")))","v":""}]
[null,null,{"$f":"IF(Walidacja!A2971=\"\",\"\",(IF(Walidacja!A2971,\"Poprawny\",\"Niepoprawny\")))","v":""}]
[null,null,{"$f":"IF(Walidacja!A2972=\"\",\"\",(IF(Walidacja!A2972,\"Poprawny\",\"Niepoprawny\")))","v":""}]
[null,null,{"$f":"IF(Walidacja!A2973=\"\",\"\",(IF(Walidacja!A2973,\"Poprawny\",\"Niepoprawny\")))","v":""}]
[null,null,{"$f":"IF(Walidacja!A2974=\"\",\"\",(IF(Walidacja!A2974,\"Poprawny\",\"Niepoprawny\")))","v":""}]
[null,null,{"$f":"IF(Walidacja!A2975=\"\",\"\",(IF(Walidacja!A2975,\"Poprawny\",\"Niepoprawny\")))","v":""}]
[null,null,{"$f":"IF(Walidacja!A2976=\"\",\"\",(IF(Walidacja!A2976,\"Poprawny\",\"Niepoprawny\")))","v":""}]
[null,null,{"$f":"IF(Walidacja!A2977=\"\",\"\",(IF(Walidacja!A2977,\"Poprawny\",\"Niepoprawny\")))","v":""}]
[null,null,{"$f":"IF(Walidacja!A2978=\"\",\"\",(IF(Walidacja!A2978,\"Poprawny\",\"Niepoprawny\")))","v":""}]
[null,null,{"$f":"IF(Walidacja!A2979=\"\",\"\",(IF(Walidacja!A2979,\"Poprawny\",\"Niepoprawny\")))","v":""}]
[null,null,{"$f":"IF(Walidacja!A2980=\"\",\"\",(IF(Walidacja!A2980,\"Poprawny\",\"Niepoprawny\")))","v":""}]
[null,null,{"$f":"IF(Walidacja!A2981=\"\",\"\",(IF(Walidacja!A2981,\"Poprawny\",\"Niepoprawny\")))","v":""}]
[null,null,{"$f":"IF(Walidacja!A2982=\"\",\"\",(IF(Walidacja!A2982,\"Poprawny\",\"Niepoprawny\")))","v":""}]
[null,null,{"$f":"IF(Walidacja!A2983=\"\",\"\",(IF(Walidacja!A2983,\"Poprawny\",\"Niepoprawny\")))","v":""}]
[null,null,{"$f":"IF(Walidacja!A2984=\"\",\"\",(IF(Walidacja!A2984,\"Poprawny\",\"Niepoprawny\")))","v":""}]
[null,null,{"$f":"IF(Walidacja!A2985=\"\",\"\",(IF(Walidacja!A2985,\"Poprawny\",\"Niepoprawny\")))","v":""}]
[null,null,{"$f":"IF(Walidacja!A2986=\"\",\"\",(IF(Walidacja!A2986,\"Poprawny\",\"Niepoprawny\")))","v":""}]
[null,null,{"$f":"IF(Walidacja!A2987=\"\",\"\",(IF(Walidacja!A2987,\"Poprawny\",\"Niepoprawny\")))","v":""}]
[null,null,{"$f":"IF(Walidacja!A2988=\"\",\"\",(IF(Walidacja!A2988,\"Poprawny\",\"Niepoprawny\")))","v":""}]
[null,null,{"$f":"IF(Walidacja!A2989=\"\",\"\",(IF(Walidacja!A2989,\"Poprawny\",\"Niepoprawny\")))","v":""}]
[null,null,{"$f":"IF(Walidacja!A2990=\"\",\"\",(IF(Walidacja!A2990,\"Poprawny\",\"Niepoprawny\")))","v":""}]
[null,null,{"$f":"IF(Walidacja!A2991=\"\",\"\",(IF(Walidacja!A2991,\"Poprawny\",\"Niepoprawny\")))","v":""}]
[null,null,{"$f":"IF(Walidacja!A2992=\"\",\"\",(IF(Walidacja!A2992,\"Poprawny\",\"Niepoprawny\")))","v":""}]
[null,null,{"$f":"IF(Walidacja!A2993=\"\",\"\",(IF(Walidacja!A2993,\"Poprawny\",\"Niepoprawny\")))","v":""}]
[null,null,{"$f":"IF(Walidacja!A2994=\"\",\"\",(IF(Walidacja!A2994,\"Poprawny\",\"Niepoprawny\")))","v":""}]
[null,null,{"$f":"IF(Walidacja!A2995=\"\",\"\",(IF(Walidacja!A2995,\"Poprawny\",\"Niepoprawny\")))","v":""}]
[null,null,{"$f":"IF(Walidacja!A2996=\"\",\"\",(IF(Walidacja!A2996,\"Poprawny\",\"Niepoprawny\")))","v":""}]
[null,null,{"$f":"IF(Walidacja!A2997=\"\",\"\",(IF(Walidacja!A2997,\"Poprawny\",\"Niepoprawny\")))","v":""}]
[null,null,{"$f":"IF(Walidacja!A2998=\"\",\"\",(IF(Walidacja!A2998,\"Poprawny\",\"Niepoprawny\")))","v":""}]
[null,null,{"$f":"IF(Walidacja!A2999=\"\",\"\",(IF(Walidacja!A2999,\"Poprawny\",\"Niepoprawny\")))","v":""}]
[null,null,{"$f":"IF(Walidacja!A3000=\"\",\"\",(IF(Walidacja!A3000,\"Poprawny\",\"Niepoprawny\")))","v":""}]
[null,null,{"$f":"IF(Walidacja!A3001=\"\",\"\",(IF(Walidacja!A3001,\"Poprawny\",\"Niepoprawny\")))","v":""}]
[null,null,{"$f":"IF(Walidacja!A3002=\"\",\"\",(IF(Walidacja!A3002,\"Poprawny\",\"Niepoprawny\")))","v":""}]
[null,null,{"$f":"IF(Walidacja!A3003=\"\",\"\",(IF(Walidacja!A3003,\"Poprawny\",\"Niepoprawny\")))","v":""}]
[null,null,{"$f":"IF(Walidacja!A3004=\"\",\"\",(IF(Walidacja!A3004,\"Poprawny\",\"Niepoprawny\")))","v":""}]
[null,null,{"$f":"IF(Walidacja!A3005=\"\",\"\",(IF(Walidacja!A3005,\"Poprawny\",\"Niepoprawny\")))","v":""}]
[null,null,{"$f":"IF(Walidacja!A3006=\"\",\"\",(IF(Walidacja!A3006,\"Poprawny\",\"Niepoprawny\")))","v":""}]
[null,null,{"$f":"IF(Walidacja!A3007=\"\",\"\",(IF(Walidacja!A3007,\"Poprawny\",\"Niepoprawny\")))","v":""}]

{"sheet":"Walidacja","index":1,"n_rows":3559,"n_cols":3,"rows_kept":3559,"cut":false,"hidden":false,"merged":[]}
[{"$f":"IF('Zgłoszenie Pacjenta'!A19=\"\",\"\",Sprawdz_pesel('Zgłoszenie Pacjenta'!A19))","v":""},null,"Tak"]
[{"$f":"IF('Zgłoszenie Pacjenta'!A20=\"\",\"\",Sprawdz_pesel('Zgłoszenie Pacjenta'!A20))","v":""},null,"Nie"]
[{"$f":"IF('Zgłoszenie Pacjenta'!A21=\"\",\"\",Sprawdz_pesel('Zgłoszenie Pacjenta'!A21))","v":""}]
[{"$f":"IF('Zgłoszenie Pacjenta'!A22=\"\",\"\",Sprawdz_pesel('Zgłoszenie Pacjenta'!A22))","v":""}]
[{"$f":"IF('Zgłoszenie Pacjenta'!A23=\"\",\"\",Sprawdz_pesel('Zgłoszenie Pacjenta'!A23))","v":""}]
[{"$f":"IF('Zgłoszenie Pacjenta'!A24=\"\",\"\",Sprawdz_pesel('Zgłoszenie Pacjenta'!A24))","v":""}]
[{"$f":"IF('Zgłoszenie Pacjenta'!A25=\"\",\"\",Sprawdz_pesel('Zgłoszenie Pacjenta'!A25))","v":""}]
[{"$f":"IF('Zgłoszenie Pacjenta'!A26=\"\",\"\",Sprawdz_pesel('Zgłoszenie Pacjenta'!A26))","v":""}]
[{"$f":"IF('Zgłoszenie Pacjenta'!A27=\"\",\"\",Sprawdz_pesel('Zgłoszenie Pacjenta'!A27))","v":""}]
[{"$f":"IF('Zgłoszenie Pacjenta'!A28=\"\",\"\",Sprawdz_pesel('Zgłoszenie Pacjenta'!A28))","v":""}]
[{"$f":"IF('Zgłoszenie Pacjenta'!A29=\"\",\"\",Sprawdz_pesel('Zgłoszenie Pacjenta'!A29))","v":""}]
[{"$f":"IF('Zgłoszenie Pacjenta'!A30=\"\",\"\",Sprawdz_pesel('Zgłoszenie Pacjenta'!A30))","v":""}]
[{"$f":"IF('Zgłoszenie Pacjenta'!A31=\"\",\"\",Sprawdz_pesel('Zgłoszenie Pacjenta'!A31))","v":""}]
[{"$f":"IF('Zgłoszenie Pacjenta'!A32=\"\",\"\",Sprawdz_pesel('Zgłoszenie Pacjenta'!A32))","v":""}]
[{"$f":"IF('Zgłoszenie Pacjenta'!A33=\"\",\"\",Sprawdz_pesel('Zgłoszenie Pacjenta'!A33))","v":""}]
[{"$f":"IF('Zgłoszenie Pacjenta'!A34=\"\",\"\",Sprawdz_pesel('Zgłoszenie Pacjenta'!A34))","v":""}]
[{"$f":"IF('Zgłoszenie Pacjenta'!A35=\"\",\"\",Sprawdz_pesel('Zgłoszenie Pacjenta'!A35))","v":""}]
[{"$f":"IF('Zgłoszenie Pacjenta'!A36=\"\",\"\",Sprawdz_pesel('Zgłoszenie Pacjenta'!A36))","v":""}]
[{"$f":"IF('Zgłoszenie Pacjenta'!A37=\"\",\"\",Sprawdz_pesel('Zgłoszenie Pacjenta'!A37))","v":""}]
[{"$f":"IF('Zgłoszenie Pacjenta'!A38=\"\",\"\",Sprawdz_pesel('Zgłoszenie Pacjenta'!A38))","v":""}]
[{"$f":"IF('Zgłoszenie Pacjenta'!A39=\"\",\"\",Sprawdz_pesel('Zgłoszenie Pacjenta'!A39))","v":""}]
[{"$f":"IF('Zgłoszenie Pacjenta'!A40=\"\",\"\",Sprawdz_pesel('Zgłoszenie Pacjenta'!A40))","v":""}]
[{"$f":"IF('Zgłoszenie Pacjenta'!A41=\"\",\"\",Sprawdz_pesel('Zgłoszenie Pacjenta'!A41))","v":""}]
[{"$f":"IF('Zgłoszenie Pacjenta'!A42=\"\",\"\",Sprawdz_pesel('Zgłoszenie Pacjenta'!A42))","v":""}]
[{"$f":"IF('Zgłoszenie Pacjenta'!A43=\"\",\"\",Sprawdz_pesel('Zgłoszenie Pacjenta'!A43))","v":""}]
[{"$f":"IF('Zgłoszenie Pacjenta'!A44=\"\",\"\",Sprawdz_pesel('Zgłoszenie Pacjenta'!A44))","v":""}]
[{"$f":"IF('Zgłoszenie Pacjenta'!A45=\"\",\"\",Sprawdz_pesel('Zgłoszenie Pacjenta'!A45))","v":""}]
[{"$f":"IF('Zgłoszenie Pacjenta'!A46=\"\",\"\",Sprawdz_pesel('Zgłoszenie Pacjenta'!A46))","v":""}]
[{"$f":"IF('Zgłoszenie Pacjenta'!A47=\"\",\"\",Sprawdz_pesel('Zgłoszenie Pacjenta'!A47))","v":""}]
[{"$f":"IF('Zgłoszenie Pacjenta'!A48=\"\",\"\",Sprawdz_pesel('Zgłoszenie Pacjenta'!A48))","v":""}]
[{"$f":"IF('Zgłoszenie Pacjenta'!A49=\"\",\"\",Sprawdz_pesel('Zgłoszenie Pacjenta'!A49))","v":""}]
[{"$f":"IF('Zgłoszenie Pacjenta'!A50=\"\",\"\",Sprawdz_pesel('Zgłoszenie Pacjenta'!A50))","v":""}]
[{"$f":"IF('Zgłoszenie Pacjenta'!A51=\"\",\"\",Sprawdz_pesel('Zgłoszenie Pacjenta'!A51))","v":""}]
[{"$f":"IF('Zgłoszenie Pacjenta'!A52=\"\",\"\",Sprawdz_pesel('Zgłoszenie Pacjenta'!A52))","v":""}]
[{"$f":"IF('Zgłoszenie Pacjenta'!A53=\"\",\"\",Sprawdz_pesel('Zgłoszenie Pacjenta'!A53))","v":""}]
[{"$f":"IF('Zgłoszenie Pacjenta'!A54=\"\",\"\",Sprawdz_pesel('Zgłoszenie Pacjenta'!A54))","v":""}]
[{"$f":"IF('Zgłoszenie Pacjenta'!A55=\"\",\"\",Sprawdz_pesel('Zgłoszenie Pacjenta'!A55))","v":""}]
[{"$f":"IF('Zgłoszenie Pacjenta'!A56=\"\",\"\",Sprawdz_pesel('Zgłoszenie Pacjenta'!A56))","v":""}]
[{"$f":"IF('Zgłoszenie Pacjenta'!A57=\"\",\"\",Sprawdz_pesel('Zgłoszenie Pacjenta'!A57))","v":""}]
[{"$f":"IF('Zgłoszenie Pacjenta'!A58=\"\",\"\",Sprawdz_pesel('Zgłoszenie Pacjenta'!A58))","v":""}]
[{"$f":"IF('Zgłoszenie Pacjenta'!A59=\"\",\"\",Sprawdz_pesel('Zgłoszenie Pacjenta'!A59))","v":""}]
[{"$f":"IF('Zgłoszenie Pacjenta'!A60=\"\",\"\",Sprawdz_pesel('Zgłoszenie Pacjenta'!A60))","v":""}]
[{"$f":"IF('Zgłoszenie Pacjenta'!A61=\"\",\"\",Sprawdz_pesel('Zgłoszenie Pacjenta'!A61))","v":""}]
[{"$f":"IF('Zgłoszenie Pacjenta'!A62=\"\",\"\",Sprawdz_pesel('Zgłoszenie Pacjenta'!A62))","v":""}]
[{"$f":"IF('Zgłoszenie Pacjenta'!A63=\"\",\"\",Sprawdz_pesel('Zgłoszenie Pacjenta'!A63))","v":""}]
[{"$f":"IF('Zgłoszenie Pacjenta'!A64=\"\",\"\",Sprawdz_pesel('Zgłoszenie Pacjenta'!A64))","v":""}]
[{"$f":"IF('Zgłoszenie Pacjenta'!A65=\"\",\"\",Sprawdz_pesel('Zgłoszenie Pacjenta'!A65))","v":""}]
[{"$f":"IF('Zgłoszenie Pacjenta'!A66=\"\",\"\",Sprawdz_pesel('Zgłoszenie Pacjenta'!A66))","v":""}]
[{"$f":"IF('Zgłoszenie Pacjenta'!A67=\"\",\"\",Sprawdz_pesel('Zgłoszenie Pacjenta'!A67))","v":""}]
[{"$f":"IF('Zgłoszenie Pacjenta'!A68=\"\",\"\",Sprawdz_pesel('Zgłoszenie Pacjenta'!A68))","v":""}]
[{"$f":"IF('Zgłoszenie Pacjenta'!A69=\"\",\"\",Sprawdz_pesel('Zgłoszenie Pacjenta'!A69))","v":""}]
[{"$f":"IF('Zgłoszenie Pacjenta'!A70=\"\",\"\",Sprawdz_pesel('Zgłoszenie Pacjenta'!A70))","v":""}]
[{"$f":"IF('Zgłoszenie Pacjenta'!A71=\"\",\"\",Sprawdz_pesel('Zgłoszenie Pacjenta'!A71))","v":""}]
[{"$f":"IF('Zgłoszenie Pacjenta'!A72=\"\",\"\",Sprawdz_pesel('Zgłoszenie Pacjenta'!A72))","v":""}]
[{"$f":"IF('Zgłoszenie Pacjenta'!A73=\"\",\"\",Sprawdz_pesel('Zgłoszenie Pacjenta'!A73))","v":""}]
[{"$f":"IF('Zgłoszenie Pacjenta'!A74=\"\",\"\",Sprawdz_pesel('Zgłoszenie Pacjenta'!A74))","v":""}]
[{"$f":"IF('Zgłoszenie Pacjenta'!A75=\"\",\"\",Sprawdz_pesel('Zgłoszenie Pacjenta'!A75))","v":""}]
[{"$f":"IF('Zgłoszenie Pacjenta'!A76=\"\",\"\",Sprawdz_pesel('Zgłoszenie Pacjenta'!A76))","v":""}]
[{"$f":"IF('Zgłoszenie Pacjenta'!A77=\"\",\"\",Sprawdz_pesel('Zgłoszenie Pacjenta'!A77))","v":""}]
[{"$f":"IF('Zgłoszenie Pacjenta'!A78=\"\",\"\",Sprawdz_pesel('Zgłoszenie Pacjenta'!A78))","v":""}]
[{"$f":"IF('Zgłoszenie Pacjenta'!A79=\"\",\"\",Sprawdz_pesel('Zgłoszenie Pacjenta'!A79))","v":""}]
[{"$f":"IF('Zgłoszenie Pacjenta'!A80=\"\",\"\",Sprawdz_pesel('Zgłoszenie Pacjenta'!A80))","v":""}]
[{"$f":"IF('Zgłoszenie Pacjenta'!A81=\"\",\"\",Sprawdz_pesel('Zgłoszenie Pacjenta'!A81))","v":""}]
[{"$f":"IF('Zgłoszenie Pacjenta'!A82=\"\",\"\",Sprawdz_pesel('Zgłoszenie Pacjenta'!A82))","v":""}]
[{"$f":"IF('Zgłoszenie Pacjenta'!A83=\"\",\"\",Sprawdz_pesel('Zgłoszenie Pacjenta'!A83))","v":""}]
[{"$f":"IF('Zgłoszenie Pacjenta'!A84=\"\",\"\",Sprawdz_pesel('Zgłoszenie Pacjenta'!A84))","v":""}]
[{"$f":"IF('Zgłoszenie Pacjenta'!A85=\"\",\"\",Sprawdz_pesel('Zgłoszenie Pacjenta'!A85))","v":""}]
[{"$f":"IF('Zgłoszenie Pacjenta'!A86=\"\",\"\",Sprawdz_pesel('Zgłoszenie Pacjenta'!A86))","v":""}]
[{"$f":"IF('Zgłoszenie Pacjenta'!A87=\"\",\"\",Sprawdz_pesel('Zgłoszenie Pacjenta'!A87))","v":""}]
[{"$f":"IF('Zgłoszenie Pacjenta'!A88=\"\",\"\",Sprawdz_pesel('Zgłoszenie Pacjenta'!A88))","v":""}]
[{"$f":"IF('Zgłoszenie Pacjenta'!A89=\"\",\"\",Sprawdz_pesel('Zgłoszenie Pacjenta'!A89))","v":""}]
[{"$f":"IF('Zgłoszenie Pacjenta'!A90=\"\",\"\",Sprawdz_pesel('Zgłoszenie Pacjenta'!A90))","v":""}]
[{"$f":"IF('Zgłoszenie Pacjenta'!A91=\"\",\"\",Sprawdz_pesel('Zgłoszenie Pacjenta'!A91))","v":""}]
[{"$f":"IF('Zgłoszenie Pacjenta'!A92=\"\",\"\",Sprawdz_pesel('Zgłoszenie Pacjenta'!A92))","v":""}]
[{"$f":"IF('Zgłoszenie Pacjenta'!A93=\"\",\"\",Sprawdz_pesel('Zgłoszenie Pacjenta'!A93))","v":""}]
[{"$f":"IF('Zgłoszenie Pacjenta'!A94=\"\",\"\",Sprawdz_pesel('Zgłoszenie Pacjenta'!A94))","v":""}]
[{"$f":"IF('Zgłoszenie Pacjenta'!A95=\"\",\"\",Sprawdz_pesel('Zgłoszenie Pacjenta'!A95))","v":""}]
[{"$f":"IF('Zgłoszenie Pacjenta'!A96=\"\",\"\",Sprawdz_pesel('Zgłoszenie Pacjenta'!A96))","v":""}]
[{"$f":"IF('Zgłoszenie Pacjenta'!A97=\"\",\"\",Sprawdz_pesel('Zgłoszenie Pacjenta'!A97))","v":""}]
[{"$f":"IF('Zgłoszenie Pacjenta'!A98=\"\",\"\",Sprawdz_pesel('Zgłoszenie Pacjenta'!A98))","v":""}]
[{"$f":"IF('Zgłoszenie Pacjenta'!A99=\"\",\"\",Sprawdz_pesel('Zgłoszenie Pacjenta'!A99))","v":""}]
[{"$f":"IF('Zgłoszenie Pacjenta'!A100=\"\",\"\",Sprawdz_pesel('Zgłoszenie Pacjenta'!A100))","v":""}]
[{"$f":"IF('Zgłoszenie Pacjenta'!A101=\"\",\"\",Sprawdz_pesel('Zgłoszenie Pacjenta'!A101))","v":""}]
[{"$f":"IF('Zgłoszenie Pacjenta'!A102=\"\",\"\",Sprawdz_pesel('Zgłoszenie Pacjenta'!A102))","v":""}]
[{"$f":"IF('Zgłoszenie Pacjenta'!A103=\"\",\"\",Sprawdz_pesel('Zgłoszenie Pacjenta'!A103))","v":""}]
[{"$f":"IF('Zgłoszenie Pacjenta'!A104=\"\",\"\",Sprawdz_pesel('Zgłoszenie Pacjenta'!A104))","v":""}]
[{"$f":"IF('Zgłoszenie Pacjenta'!A105=\"\",\"\",Sprawdz_pesel('Zgłoszenie Pacjenta'!A105))","v":""}]
[{"$f":"IF('Zgłoszenie Pacjenta'!A106=\"\",\"\",Sprawdz_pesel('Zgłoszenie Pacjenta'!A106))","v":""}]
[{"$f":"IF('Zgłoszenie Pacjenta'!A107=\"\",\"\",Sprawdz_pesel('Zgłoszenie Pacjenta'!A107))","v":""}]
[{"$f":"IF('Zgłoszenie Pacjenta'!A108=\"\",\"\",Sprawdz_pesel('Zgłoszenie Pacjenta'!A108))","v":""}]
[{"$f":"IF('Zgłoszenie Pacjenta'!A109=\"\",\"\",Sprawdz_pesel('Zgłoszenie Pacjenta'!A109))","v":""}]
[{"$f":"IF('Zgłoszenie Pacjenta'!A110=\"\",\"\",Sprawdz_pesel('Zgłoszenie Pacjenta'!A110))","v":""}]
[{"$f":"IF('Zgłoszenie Pacjenta'!A111=\"\",\"\",Sprawdz_pesel('Zgłoszenie Pacjenta'!A111))","v":""}]
[{"$f":"IF('Zgłoszenie Pacjenta'!A112=\"\",\"\",Sprawdz_pesel('Zgłoszenie Pacjenta'!A112))","v":""}]
[{"$f":"IF('Zgłoszenie Pacjenta'!A113=\"\",\"\",Sprawdz_pesel('Zgłoszenie Pacjenta'!A113))","v":""}]
[{"$f":"IF('Zgłoszenie Pacjenta'!A114=\"\",\"\",Sprawdz_pesel('Zgłoszenie Pacjenta'!A114))","v":""}]
[{"$f":"IF('Zgłoszenie Pacjenta'!A115=\"\",\"\",Sprawdz_pesel('Zgłoszenie Pacjenta'!A115))","v":""}]
[{"$f":"IF('Zgłoszenie Pacjenta'!A116=\"\",\"\",Sprawdz_pesel('Zgłoszenie Pacjenta'!A116))","v":""}]
[{"$f":"IF('Zgłoszenie Pacjenta'!A117=\"\",\"\",Sprawdz_pesel('Zgłoszenie Pacjenta'!A117))","v":""}]
[{"$f":"IF('Zgłoszenie Pacjenta'!A118=\"\",\"\",Sprawdz_pesel('Zgłoszenie Pacjenta'!A118))","v":""}]
[{"$f":"IF('Zgłoszenie Pacjenta'!A119=\"\",\"\",Sprawdz_pesel('Zgłoszenie Pacjenta'!A119))","v":""}]
[{"$f":"IF('Zgłoszenie Pacjenta'!A120=\"\",\"\",Sprawdz_pesel('Zgłoszenie Pacjenta'!A120))","v":""}]
[{"$f":"IF('Zgłoszenie Pacjenta'!A121=\"\",\"\",Sprawdz_pesel('Zgłoszenie Pacjenta'!A121))","v":""}]
[{"$f":"IF('Zgłoszenie Pacjenta'!A122=\"\",\"\",Sprawdz_pesel('Zgłoszenie Pacjenta'!A122))","v":""}]
[{"$f":"IF('Zgłoszenie Pacjenta'!A123=\"\",\"\",Sprawdz_pesel('Zgłoszenie Pacjenta'!A123))","v":""}]
[{"$f":"IF('Zgłoszenie Pacjenta'!A124=\"\",\"\",Sprawdz_pesel('Zgłoszenie Pacjenta'!A124))","v":""}]
[{"$f":"IF('Zgłoszenie Pacjenta'!A125=\"\",\"\",Sprawdz_pesel('Zgłoszenie Pacjenta'!A125))","v":""}]
[{"$f":"IF('Zgłoszenie Pacjenta'!A126=\"\",\"\",Sprawdz_pesel('Zgłoszenie Pacjenta'!A126))","v":""}]
[{"$f":"IF('Zgłoszenie Pacjenta'!A127=\"\",\"\",Sprawdz_pesel('Zgłoszenie Pacjenta'!A127))","v":""}]
[{"$f":"IF('Zgłoszenie Pacjenta'!A128=\"\",\"\",Sprawdz_pesel('Zgłoszenie Pacjenta'!A128))","v":""}]
[{"$f":"IF('Zgłoszenie Pacjenta'!A129=\"\",\"\",Sprawdz_pesel('Zgłoszenie Pacjenta'!A129))","v":""}]
[{"$f":"IF('Zgłoszenie Pacjenta'!A130=\"\",\"\",Sprawdz_pesel('Zgłoszenie Pacjenta'!A130))","v":""}]
[{"$f":"IF('Zgłoszenie Pacjenta'!A131=\"\",\"\",Sprawdz_pesel('Zgłoszenie Pacjenta'!A131))","v":""}]
[{"$f":"IF('Zgłoszenie Pacjenta'!A132=\"\",\"\",Sprawdz_pesel('Zgłoszenie Pacjenta'!A132))","v":""}]
[{"$f":"IF('Zgłoszenie Pacjenta'!A133=\"\",\"\",Sprawdz_pesel('Zgłoszenie Pacjenta'!A133))","v":""}]
[{"$f":"IF('Zgłoszenie Pacjenta'!A134=\"\",\"\",Sprawdz_pesel('Zgłoszenie Pacjenta'!A134))","v":""}]
[{"$f":"IF('Zgłoszenie Pacjenta'!A135=\"\",\"\",Sprawdz_pesel('Zgłoszenie Pacjenta'!A135))","v":""}]
[{"$f":"IF('Zgłoszenie Pacjenta'!A136=\"\",\"\",Sprawdz_pesel('Zgłoszenie Pacjenta'!A136))","v":""}]
[{"$f":"IF('Zgłoszenie Pacjenta'!A137=\"\",\"\",Sprawdz_pesel('Zgłoszenie Pacjenta'!A137))","v":""}]
[{"$f":"IF('Zgłoszenie Pacjenta'!A138=\"\",\"\",Sprawdz_pesel('Zgłoszenie Pacjenta'!A138))","v":""}]
[{"$f":"IF('Zgłoszenie Pacjenta'!A139=\"\",\"\",Sprawdz_pesel('Zgłoszenie Pacjenta'!A139))","v":""}]
[{"$f":"IF('Zgłoszenie Pacjenta'!A140=\"\",\"\",Sprawdz_pesel('Zgłoszenie Pacjenta'!A140))","v":""}]
[{"$f":"IF('Zgłoszenie Pacjenta'!A141=\"\",\"\",Sprawdz_pesel('Zgłoszenie Pacjenta'!A141))","v":""}]
[{"$f":"IF('Zgłoszenie Pacjenta'!A142=\"\",\"\",Sprawdz_pesel('Zgłoszenie Pacjenta'!A142))","v":""}]
[{"$f":"IF('Zgłoszenie Pacjenta'!A143=\"\",\"\",Sprawdz_pesel('Zgłoszenie Pacjenta'!A143))","v":""}]
[{"$f":"IF('Zgłoszenie Pacjenta'!A144=\"\",\"\",Sprawdz_pesel('Zgłoszenie Pacjenta'!A144))","v":""}]
[{"$f":"IF('Zgłoszenie Pacjenta'!A145=\"\",\"\",Sprawdz_pesel('Zgłoszenie Pacjenta'!A145))","v":""}]
[{"$f":"IF('Zgłoszenie Pacjenta'!A146=\"\",\"\",Sprawdz_pesel('Zgłoszenie Pacjenta'!A146))","v":""}]
[{"$f":"IF('Zgłoszenie Pacjenta'!A147=\"\",\"\",Sprawdz_pesel('Zgłoszenie Pacjenta'!A147))","v":""}]
[{"$f":"IF('Zgłoszenie Pacjenta'!A148=\"\",\"\",Sprawdz_pesel('Zgłoszenie Pacjenta'!A148))","v":""}]
[{"$f":"IF('Zgłoszenie Pacjenta'!A149=\"\",\"\",Sprawdz_pesel('Zgłoszenie Pacjenta'!A149))","v":""}]
[{"$f":"IF('Zgłoszenie Pacjenta'!A150=\"\",\"\",Sprawdz_pesel('Zgłoszenie Pacjenta'!A150))","v":""}]
[{"$f":"IF('Zgłoszenie Pacjenta'!A151=\"\",\"\",Sprawdz_pesel('Zgłoszenie Pacjenta'!A151))","v":""}]
[{"$f":"IF('Zgłoszenie Pacjenta'!A152=\"\",\"\",Sprawdz_pesel('Zgłoszenie Pacjenta'!A152))","v":""}]
[{"$f":"IF('Zgłoszenie Pacjenta'!A153=\"\",\"\",Sprawdz_pesel('Zgłoszenie Pacjenta'!A153))","v":""}]
[{"$f":"IF('Zgłoszenie Pacjenta'!A154=\"\",\"\",Sprawdz_pesel('Zgłoszenie Pacjenta'!A154))","v":""}]
[{"$f":"IF('Zgłoszenie Pacjenta'!A155=\"\",\"\",Sprawdz_pesel('Zgłoszenie Pacjenta'!A155))","v":""}]
[{"$f":"IF('Zgłoszenie Pacjenta'!A156=\"\",\"\",Sprawdz_pesel('Zgłoszenie Pacjenta'!A156))","v":""}]
[{"$f":"IF('Zgłoszenie Pacjenta'!A157=\"\",\"\",Sprawdz_pesel('Zgłoszenie Pacjenta'!A157))","v":""}]
[{"$f":"IF('Zgłoszenie Pacjenta'!A158=\"\",\"\",Sprawdz_pesel('Zgłoszenie Pacjenta'!A158))","v":""}]
[{"$f":"IF('Zgłoszenie Pacjenta'!A159=\"\",\"\",Sprawdz_pesel('Zgłoszenie Pacjenta'!A159))","v":""}]
[{"$f":"IF('Zgłoszenie Pacjenta'!A160=\"\",\"\",Sprawdz_pesel('Zgłoszenie Pacjenta'!A160))","v":""}]
[{"$f":"IF('Zgłoszenie Pacjenta'!A161=\"\",\"\",Sprawdz_pesel('Zgłoszenie Pacjenta'!A161))","v":""}]
[{"$f":"IF('Zgłoszenie Pacjenta'!A162=\"\",\"\",Sprawdz_pesel('Zgłoszenie Pacjenta'!A162))","v":""}]
[{"$f":"IF('Zgłoszenie Pacjenta'!A163=\"\",\"\",Sprawdz_pesel('Zgłoszenie Pacjenta'!A163))","v":""}]
[{"$f":"IF('Zgłoszenie Pacjenta'!A164=\"\",\"\",Sprawdz_pesel('Zgłoszenie Pacjenta'!A164))","v":""}]
[{"$f":"IF('Zgłoszenie Pacjenta'!A165=\"\",\"\",Sprawdz_pesel('Zgłoszenie Pacjenta'!A165))","v":""}]
[{"$f":"IF('Zgłoszenie Pacjenta'!A166=\"\",\"\",Sprawdz_pesel('Zgłoszenie Pacjenta'!A166))","v":""}]
[{"$f":"IF('Zgłoszenie Pacjenta'!A167=\"\",\"\",Sprawdz_pesel('Zgłoszenie Pacjenta'!A167))","v":""}]
[{"$f":"IF('Zgłoszenie Pacjenta'!A168=\"\",\"\",Sprawdz_pesel('Zgłoszenie Pacjenta'!A168))","v":""}]
[{"$f":"IF('Zgłoszenie Pacjenta'!A169=\"\",\"\",Sprawdz_pesel('Zgłoszenie Pacjenta'!A169))","v":""}]
[{"$f":"IF('Zgłoszenie Pacjenta'!A170=\"\",\"\",Sprawdz_pesel('Zgłoszenie Pacjenta'!A170))","v":""}]
[{"$f":"IF('Zgłoszenie Pacjenta'!A171=\"\",\"\",Sprawdz_pesel('Zgłoszenie Pacjenta'!A171))","v":""}]
[{"$f":"IF('Zgłoszenie Pacjenta'!A172=\"\",\"\",Sprawdz_pesel('Zgłoszenie Pacjenta'!A172))","v":""}]
[{"$f":"IF('Zgłoszenie Pacjenta'!A173=\"\",\"\",Sprawdz_pesel('Zgłoszenie Pacjenta'!A173))","v":""}]
[{"$f":"IF('Zgłoszenie Pacjenta'!A174=\"\",\"\",Sprawdz_pesel('Zgłoszenie Pacjenta'!A174))","v":""}]
[{"$f":"IF('Zgłoszenie Pacjenta'!A175=\"\",\"\",Sprawdz_pesel('Zgłoszenie Pacjenta'!A175))","v":""}]
[{"$f":"IF('Zgłoszenie Pacjenta'!A176=\"\",\"\",Sprawdz_pesel('Zgłoszenie Pacjenta'!A176))","v":""}]
[{"$f":"IF('Zgłoszenie Pacjenta'!A177=\"\",\"\",Sprawdz_pesel('Zgłoszenie Pacjenta'!A177))","v":""}]
[{"$f":"IF('Zgłoszenie Pacjenta'!A178=\"\",\"\",Sprawdz_pesel('Zgłoszenie Pacjenta'!A178))","v":""}]
[{"$f":"IF('Zgłoszenie Pacjenta'!A179=\"\",\"\",Sprawdz_pesel('Zgłoszenie Pacjenta'!A179))","v":""}]
[{"$f":"IF('Zgłoszenie Pacjenta'!A180=\"\",\"\",Sprawdz_pesel('Zgłoszenie Pacjenta'!A180))","v":""}]
[{"$f":"IF('Zgłoszenie Pacjenta'!A181=\"\",\"\",Sprawdz_pesel('Zgłoszenie Pacjenta'!A181))","v":""}]
[{"$f":"IF('Zgłoszenie Pacjenta'!A182=\"\",\"\",Sprawdz_pesel('Zgłoszenie Pacjenta'!A182))","v":""}]
[{"$f":"IF('Zgłoszenie Pacjenta'!A183=\"\",\"\",Sprawdz_pesel('Zgłoszenie Pacjenta'!A183))","v":""}]
[{"$f":"IF('Zgłoszenie Pacjenta'!A184=\"\",\"\",Sprawdz_pesel('Zgłoszenie Pacjenta'!A184))","v":""}]
[{"$f":"IF('Zgłoszenie Pacjenta'!A185=\"\",\"\",Sprawdz_pesel('Zgłoszenie Pacjenta'!A185))","v":""}]
[{"$f":"IF('Zgłoszenie Pacjenta'!A186=\"\",\"\",Sprawdz_pesel('Zgłoszenie Pacjenta'!A186))","v":""}]
[{"$f":"IF('Zgłoszenie Pacjenta'!A187=\"\",\"\",Sprawdz_pesel('Zgłoszenie Pacjenta'!A187))","v":""}]
[{"$f":"IF('Zgłoszenie Pacjenta'!A188=\"\",\"\",Sprawdz_pesel('Zgłoszenie Pacjenta'!A188))","v":""}]
[{"$f":"IF('Zgłoszenie Pacjenta'!A189=\"\",\"\",Sprawdz_pesel('Zgłoszenie Pacjenta'!A189))","v":""}]
[{"$f":"IF('Zgłoszenie Pacjenta'!A190=\"\",\"\",Sprawdz_pesel('Zgłoszenie Pacjenta'!A190))","v":""}]
[{"$f":"IF('Zgłoszenie Pacjenta'!A191=\"\",\"\",Sprawdz_pesel('Zgłoszenie Pacjenta'!A191))","v":""}]
[{"$f":"IF('Zgłoszenie Pacjenta'!A192=\"\",\"\",Sprawdz_pesel('Zgłoszenie Pacjenta'!A192))","v":""}]
[{"$f":"IF('Zgłoszenie Pacjenta'!A193=\"\",\"\",Sprawdz_pesel('Zgłoszenie Pacjenta'!A193))","v":""}]
[{"$f":"IF('Zgłoszenie Pacjenta'!A194=\"\",\"\",Sprawdz_pesel('Zgłoszenie Pacjenta'!A194))","v":""}]
[{"$f":"IF('Zgłoszenie Pacjenta'!A195=\"\",\"\",Sprawdz_pesel('Zgłoszenie Pacjenta'!A195))","v":""}]
[{"$f":"IF('Zgłoszenie Pacjenta'!A196=\"\",\"\",Sprawdz_pesel('Zgłoszenie Pacjenta'!A196))","v":""}]
[{"$f":"IF('Zgłoszenie Pacjenta'!A197=\"\",\"\",Sprawdz_pesel('Zgłoszenie Pacjenta'!A197))","v":""}]
[{"$f":"IF('Zgłoszenie Pacjenta'!A198=\"\",\"\",Sprawdz_pesel('Zgłoszenie Pacjenta'!A198))","v":""}]
[{"$f":"IF('Zgłoszenie Pacjenta'!A199=\"\",\"\",Sprawdz_pesel('Zgłoszenie Pacjenta'!A199))","v":""}]
[{"$f":"IF('Zgłoszenie Pacjenta'!A200=\"\",\"\",Sprawdz_pesel('Zgłoszenie Pacjenta'!A200))","v":""}]
[{"$f":"IF('Zgłoszenie Pacjenta'!A201=\"\",\"\",Sprawdz_pesel('Zgłoszenie Pacjenta'!A201))","v":""}]
[{"$f":"IF('Zgłoszenie Pacjenta'!A202=\"\",\"\",Sprawdz_pesel('Zgłoszenie Pacjenta'!A202))","v":""}]
[{"$f":"IF('Zgłoszenie Pacjenta'!A203=\"\",\"\",Sprawdz_pesel('Zgłoszenie Pacjenta'!A203))","v":""}]
[{"$f":"IF('Zgłoszenie Pacjenta'!A204=\"\",\"\",Sprawdz_pesel('Zgłoszenie Pacjenta'!A204))","v":""}]
[{"$f":"IF('Zgłoszenie Pacjenta'!A205=\"\",\"\",Sprawdz_pesel('Zgłoszenie Pacjenta'!A205))","v":""}]
[{"$f":"IF('Zgłoszenie Pacjenta'!A206=\"\",\"\",Sprawdz_pesel('Zgłoszenie Pacjenta'!A206))","v":""}]
[{"$f":"IF('Zgłoszenie Pacjenta'!A207=\"\",\"\",Sprawdz_pesel('Zgłoszenie Pacjenta'!A207))","v":""}]
[{"$f":"IF('Zgłoszenie Pacjenta'!A208=\"\",\"\",Sprawdz_pesel('Zgłoszenie Pacjenta'!A208))","v":""}]
[{"$f":"IF('Zgłoszenie Pacjenta'!A209=\"\",\"\",Sprawdz_pesel('Zgłoszenie Pacjenta'!A209))","v":""}]
[{"$f":"IF('Zgłoszenie Pacjenta'!A210=\"\",\"\",Sprawdz_pesel('Zgłoszenie Pacjenta'!A210))","v":""}]
[{"$f":"IF('Zgłoszenie Pacjenta'!A211=\"\",\"\",Sprawdz_pesel('Zgłoszenie Pacjenta'!A211))","v":""}]
[{"$f":"IF('Zgłoszenie Pacjenta'!A212=\"\",\"\",Sprawdz_pesel('Zgłoszenie Pacjenta'!A212))","v":""}]
[{"$f":"IF('Zgłoszenie Pacjenta'!A213=\"\",\"\",Sprawdz_pesel('Zgłoszenie Pacjenta'!A213))","v":""}]
[{"$f":"IF('Zgłoszenie Pacjenta'!A214=\"\",\"\",Sprawdz_pesel('Zgłoszenie Pacjenta'!A214))","v":""}]
[{"$f":"IF('Zgłoszenie Pacjenta'!A215=\"\",\"\",Sprawdz_pesel('Zgłoszenie Pacjenta'!A215))","v":""}]
[{"$f":"IF('Zgłoszenie Pacjenta'!A216=\"\",\"\",Sprawdz_pesel('Zgłoszenie Pacjenta'!A216))","v":""}]
[{"$f":"IF('Zgłoszenie Pacjenta'!A217=\"\",\"\",Sprawdz_pesel('Zgłoszenie Pacjenta'!A217))","v":""}]
[{"$f":"IF('Zgłoszenie Pacjenta'!A218=\"\",\"\",Sprawdz_pesel('Zgłoszenie Pacjenta'!A218))","v":""}]
[{"$f":"IF('Zgłoszenie Pacjenta'!A219=\"\",\"\",Sprawdz_pesel('Zgłoszenie Pacjenta'!A219))","v":""}]
[{"$f":"IF('Zgłoszenie Pacjenta'!A220=\"\",\"\",Sprawdz_pesel('Zgłoszenie Pacjenta'!A220))","v":""}]
[{"$f":"IF('Zgłoszenie Pacjenta'!A221=\"\",\"\",Sprawdz_pesel('Zgłoszenie Pacjenta'!A221))","v":""}]
[{"$f":"IF('Zgłoszenie Pacjenta'!A222=\"\",\"\",Sprawdz_pesel('Zgłoszenie Pacjenta'!A222))","v":""}]
[{"$f":"IF('Zgłoszenie Pacjenta'!A223=\"\",\"\",Sprawdz_pesel('Zgłoszenie Pacjenta'!A223))","v":""}]
[{"$f":"IF('Zgłoszenie Pacjenta'!A224=\"\",\"\",Sprawdz_pesel('Zgłoszenie Pacjenta'!A224))","v":""}]
[{"$f":"IF('Zgłoszenie Pacjenta'!A225=\"\",\"\",Sprawdz_pesel('Zgłoszenie Pacjenta'!A225))","v":""}]
[{"$f":"IF('Zgłoszenie Pacjenta'!A226=\"\",\"\",Sprawdz_pesel('Zgłoszenie Pacjenta'!A226))","v":""}]
[{"$f":"IF('Zgłoszenie Pacjenta'!A227=\"\",\"\",Sprawdz_pesel('Zgłoszenie Pacjenta'!A227))","v":""}]
[{"$f":"IF('Zgłoszenie Pacjenta'!A228=\"\",\"\",Sprawdz_pesel('Zgłoszenie Pacjenta'!A228))","v":""}]
[{"$f":"IF('Zgłoszenie Pacjenta'!A229=\"\",\"\",Sprawdz_pesel('Zgłoszenie Pacjenta'!A229))","v":""}]
[{"$f":"IF('Zgłoszenie Pacjenta'!A230=\"\",\"\",Sprawdz_pesel('Zgłoszenie Pacjenta'!A230))","v":""}]
[{"$f":"IF('Zgłoszenie Pacjenta'!A231=\"\",\"\",Sprawdz_pesel('Zgłoszenie Pacjenta'!A231))","v":""}]
[{"$f":"IF('Zgłoszenie Pacjenta'!A232=\"\",\"\",Sprawdz_pesel('Zgłoszenie Pacjenta'!A232))","v":""}]
[{"$f":"IF('Zgłoszenie Pacjenta'!A233=\"\",\"\",Sprawdz_pesel('Zgłoszenie Pacjenta'!A233))","v":""}]
[{"$f":"IF('Zgłoszenie Pacjenta'!A234=\"\",\"\",Sprawdz_pesel('Zgłoszenie Pacjenta'!A234))","v":""}]
[{"$f":"IF('Zgłoszenie Pacjenta'!A235=\"\",\"\",Sprawdz_pesel('Zgłoszenie Pacjenta'!A235))","v":""}]
[{"$f":"IF('Zgłoszenie Pacjenta'!A236=\"\",\"\",Sprawdz_pesel('Zgłoszenie Pacjenta'!A236))","v":""}]
[{"$f":"IF('Zgłoszenie Pacjenta'!A237=\"\",\"\",Sprawdz_pesel('Zgłoszenie Pacjenta'!A237))","v":""}]
[{"$f":"IF('Zgłoszenie Pacjenta'!A238=\"\",\"\",Sprawdz_pesel('Zgłoszenie Pacjenta'!A238))","v":""}]
[{"$f":"IF('Zgłoszenie Pacjenta'!A239=\"\",\"\",Sprawdz_pesel('Zgłoszenie Pacjenta'!A239))","v":""}]
[{"$f":"IF('Zgłoszenie Pacjenta'!A240=\"\",\"\",Sprawdz_pesel('Zgłoszenie Pacjenta'!A240))","v":""}]
[{"$f":"IF('Zgłoszenie Pacjenta'!A241=\"\",\"\",Sprawdz_pesel('Zgłoszenie Pacjenta'!A241))","v":""}]
[{"$f":"IF('Zgłoszenie Pacjenta'!A242=\"\",\"\",Sprawdz_pesel('Zgłoszenie Pacjenta'!A242))","v":""}]
[{"$f":"IF('Zgłoszenie Pacjenta'!A243=\"\",\"\",Sprawdz_pesel('Zgłoszenie Pacjenta'!A243))","v":""}]
[{"$f":"IF('Zgłoszenie Pacjenta'!A244=\"\",\"\",Sprawdz_pesel('Zgłoszenie Pacjenta'!A244))","v":""}]
[{"$f":"IF('Zgłoszenie Pacjenta'!A245=\"\",\"\",Sprawdz_pesel('Zgłoszenie Pacjenta'!A245))","v":""}]
[{"$f":"IF('Zgłoszenie Pacjenta'!A246=\"\",\"\",Sprawdz_pesel('Zgłoszenie Pacjenta'!A246))","v":""}]
[{"$f":"IF('Zgłoszenie Pacjenta'!A247=\"\",\"\",Sprawdz_pesel('Zgłoszenie Pacjenta'!A247))","v":""}]
[{"$f":"IF('Zgłoszenie Pacjenta'!A248=\"\",\"\",Sprawdz_pesel('Zgłoszenie Pacjenta'!A248))","v":""}]
[{"$f":"IF('Zgłoszenie Pacjenta'!A249=\"\",\"\",Sprawdz_pesel('Zgłoszenie Pacjenta'!A249))","v":""}]
[{"$f":"IF('Zgłoszenie Pacjenta'!A250=\"\",\"\",Sprawdz_pesel('Zgłoszenie Pacjenta'!A250))","v":""}]
[{"$f":"IF('Zgłoszenie Pacjenta'!A251=\"\",\"\",Sprawdz_pesel('Zgłoszenie Pacjenta'!A251))","v":""}]
[{"$f":"IF('Zgłoszenie Pacjenta'!A252=\"\",\"\",Sprawdz_pesel('Zgłoszenie Pacjenta'!A252))","v":""}]
[{"$f":"IF('Zgłoszenie Pacjenta'!A253=\"\",\"\",Sprawdz_pesel('Zgłoszenie Pacjenta'!A253))","v":""}]
[{"$f":"IF('Zgłoszenie Pacjenta'!A254=\"\",\"\",Sprawdz_pesel('Zgłoszenie Pacjenta'!A254))","v":""}]
[{"$f":"IF('Zgłoszenie Pacjenta'!A255=\"\",\"\",Sprawdz_pesel('Zgłoszenie Pacjenta'!A255))","v":""}]
[{"$f":"IF('Zgłoszenie Pacjenta'!A256=\"\",\"\",Sprawdz_pesel('Zgłoszenie Pacjenta'!A256))","v":""}]
[{"$f":"IF('Zgłoszenie Pacjenta'!A257=\"\",\"\",Sprawdz_pesel('Zgłoszenie Pacjenta'!A257))","v":""}]
[{"$f":"IF('Zgłoszenie Pacjenta'!A258=\"\",\"\",Sprawdz_pesel('Zgłoszenie Pacjenta'!A258))","v":""}]
[{"$f":"IF('Zgłoszenie Pacjenta'!A259=\"\",\"\",Sprawdz_pesel('Zgłoszenie Pacjenta'!A259))","v":""}]
[{"$f":"IF('Zgłoszenie Pacjenta'!A260=\"\",\"\",Sprawdz_pesel('Zgłoszenie Pacjenta'!A260))","v":""}]
[{"$f":"IF('Zgłoszenie Pacjenta'!A261=\"\",\"\",Sprawdz_pesel('Zgłoszenie Pacjenta'!A261))","v":""}]
[{"$f":"IF('Zgłoszenie Pacjenta'!A262=\"\",\"\",Sprawdz_pesel('Zgłoszenie Pacjenta'!A262))","v":""}]
[{"$f":"IF('Zgłoszenie Pacjenta'!A263=\"\",\"\",Sprawdz_pesel('Zgłoszenie Pacjenta'!A263))","v":""}]
[{"$f":"IF('Zgłoszenie Pacjenta'!A264=\"\",\"\",Sprawdz_pesel('Zgłoszenie Pacjenta'!A264))","v":""}]
[{"$f":"IF('Zgłoszenie Pacjenta'!A265=\"\",\"\",Sprawdz_pesel('Zgłoszenie Pacjenta'!A265))","v":""}]
[{"$f":"IF('Zgłoszenie Pacjenta'!A266=\"\",\"\",Sprawdz_pesel('Zgłoszenie Pacjenta'!A266))","v":""}]
[{"$f":"IF('Zgłoszenie Pacjenta'!A267=\"\",\"\",Sprawdz_pesel('Zgłoszenie Pacjenta'!A267))","v":""}]
[{"$f":"IF('Zgłoszenie Pacjenta'!A268=\"\",\"\",Sprawdz_pesel('Zgłoszenie Pacjenta'!A268))","v":""}]
[{"$f":"IF('Zgłoszenie Pacjenta'!A269=\"\",\"\",Sprawdz_pesel('Zgłoszenie Pacjenta'!A269))","v":""}]
[{"$f":"IF('Zgłoszenie Pacjenta'!A270=\"\",\"\",Sprawdz_pesel('Zgłoszenie Pacjenta'!A270))","v":""}]
[{"$f":"IF('Zgłoszenie Pacjenta'!A271=\"\",\"\",Sprawdz_pesel('Zgłoszenie Pacjenta'!A271))","v":""}]
[{"$f":"IF('Zgłoszenie Pacjenta'!A272=\"\",\"\",Sprawdz_pesel('Zgłoszenie Pacjenta'!A272))","v":""}]
[{"$f":"IF('Zgłoszenie Pacjenta'!A273=\"\",\"\",Sprawdz_pesel('Zgłoszenie Pacjenta'!A273))","v":""}]
[{"$f":"IF('Zgłoszenie Pacjenta'!A274=\"\",\"\",Sprawdz_pesel('Zgłoszenie Pacjenta'!A274))","v":""}]
[{"$f":"IF('Zgłoszenie Pacjenta'!A275=\"\",\"\",Sprawdz_pesel('Zgłoszenie Pacjenta'!A275))","v":""}]
[{"$f":"IF('Zgłoszenie Pacjenta'!A276=\"\",\"\",Sprawdz_pesel('Zgłoszenie Pacjenta'!A276))","v":""}]
[{"$f":"IF('Zgłoszenie Pacjenta'!A277=\"\",\"\",Sprawdz_pesel('Zgłoszenie Pacjenta'!A277))","v":""}]
[{"$f":"IF('Zgłoszenie Pacjenta'!A278=\"\",\"\",Sprawdz_pesel('Zgłoszenie Pacjenta'!A278))","v":""}]
[{"$f":"IF('Zgłoszenie Pacjenta'!A279=\"\",\"\",Sprawdz_pesel('Zgłoszenie Pacjenta'!A279))","v":""}]
[{"$f":"IF('Zgłoszenie Pacjenta'!A280=\"\",\"\",Sprawdz_pesel('Zgłoszenie Pacjenta'!A280))","v":""}]
[{"$f":"IF('Zgłoszenie Pacjenta'!A281=\"\",\"\",Sprawdz_pesel('Zgłoszenie Pacjenta'!A281))","v":""}]
[{"$f":"IF('Zgłoszenie Pacjenta'!A282=\"\",\"\",Sprawdz_pesel('Zgłoszenie Pacjenta'!A282))","v":""}]
[{"$f":"IF('Zgłoszenie Pacjenta'!A283=\"\",\"\",Sprawdz_pesel('Zgłoszenie Pacjenta'!A283))","v":""}]
[{"$f":"IF('Zgłoszenie Pacjenta'!A284=\"\",\"\",Sprawdz_pesel('Zgłoszenie Pacjenta'!A284))","v":""}]
[{"$f":"IF('Zgłoszenie Pacjenta'!A285=\"\",\"\",Sprawdz_pesel('Zgłoszenie Pacjenta'!A285))","v":""}]
[{"$f":"IF('Zgłoszenie Pacjenta'!A286=\"\",\"\",Sprawdz_pesel('Zgłoszenie Pacjenta'!A286))","v":""}]
[{"$f":"IF('Zgłoszenie Pacjenta'!A287=\"\",\"\",Sprawdz_pesel('Zgłoszenie Pacjenta'!A287))","v":""}]
[{"$f":"IF('Zgłoszenie Pacjenta'!A288=\"\",\"\",Sprawdz_pesel('Zgłoszenie Pacjenta'!A288))","v":""}]
[{"$f":"IF('Zgłoszenie Pacjenta'!A289=\"\",\"\",Sprawdz_pesel('Zgłoszenie Pacjenta'!A289))","v":""}]
[{"$f":"IF('Zgłoszenie Pacjenta'!A290=\"\",\"\",Sprawdz_pesel('Zgłoszenie Pacjenta'!A290))","v":""}]
[{"$f":"IF('Zgłoszenie Pacjenta'!A291=\"\",\"\",Sprawdz_pesel('Zgłoszenie Pacjenta'!A291))","v":""}]
[{"$f":"IF('Zgłoszenie Pacjenta'!A292=\"\",\"\",Sprawdz_pesel('Zgłoszenie Pacjenta'!A292))","v":""}]
[{"$f":"IF('Zgłoszenie Pacjenta'!A293=\"\",\"\",Sprawdz_pesel('Zgłoszenie Pacjenta'!A293))","v":""}]
[{"$f":"IF('Zgłoszenie Pacjenta'!A294=\"\",\"\",Sprawdz_pesel('Zgłoszenie Pacjenta'!A294))","v":""}]
[{"$f":"IF('Zgłoszenie Pacjenta'!A295=\"\",\"\",Sprawdz_pesel('Zgłoszenie Pacjenta'!A295))","v":""}]
[{"$f":"IF('Zgłoszenie Pacjenta'!A296=\"\",\"\",Sprawdz_pesel('Zgłoszenie Pacjenta'!A296))","v":""}]
[{"$f":"IF('Zgłoszenie Pacjenta'!A297=\"\",\"\",Sprawdz_pesel('Zgłoszenie Pacjenta'!A297))","v":""}]
[{"$f":"IF('Zgłoszenie Pacjenta'!A298=\"\",\"\",Sprawdz_pesel('Zgłoszenie Pacjenta'!A298))","v":""}]
[{"$f":"IF('Zgłoszenie Pacjenta'!A299=\"\",\"\",Sprawdz_pesel('Zgłoszenie Pacjenta'!A299))","v":""}]
[{"$f":"IF('Zgłoszenie Pacjenta'!A300=\"\",\"\",Sprawdz_pesel('Zgłoszenie Pacjenta'!A300))","v":""}]
[{"$f":"IF('Zgłoszenie Pacjenta'!A301=\"\",\"\",Sprawdz_pesel('Zgłoszenie Pacjenta'!A301))","v":""}]
[{"$f":"IF('Zgłoszenie Pacjenta'!A302=\"\",\"\",Sprawdz_pesel('Zgłoszenie Pacjenta'!A302))","v":""}]
[{"$f":"IF('Zgłoszenie Pacjenta'!A303=\"\",\"\",Sprawdz_pesel('Zgłoszenie Pacjenta'!A303))","v":""}]
[{"$f":"IF('Zgłoszenie Pacjenta'!A304=\"\",\"\",Sprawdz_pesel('Zgłoszenie Pacjenta'!A304))","v":""}]
[{"$f":"IF('Zgłoszenie Pacjenta'!A305=\"\",\"\",Sprawdz_pesel('Zgłoszenie Pacjenta'!A305))","v":""}]
[{"$f":"IF('Zgłoszenie Pacjenta'!A306=\"\",\"\",Sprawdz_pesel('Zgłoszenie Pacjenta'!A306))","v":""}]
[{"$f":"IF('Zgłoszenie Pacjenta'!A307=\"\",\"\",Sprawdz_pesel('Zgłoszenie Pacjenta'!A307))","v":""}]
[{"$f":"IF('Zgłoszenie Pacjenta'!A308=\"\",\"\",Sprawdz_pesel('Zgłoszenie Pacjenta'!A308))","v":""}]
[{"$f":"IF('Zgłoszenie Pacjenta'!A309=\"\",\"\",Sprawdz_pesel('Zgłoszenie Pacjenta'!A309))","v":""}]
[{"$f":"IF('Zgłoszenie Pacjenta'!A310=\"\",\"\",Sprawdz_pesel('Zgłoszenie Pacjenta'!A310))","v":""}]
[{"$f":"IF('Zgłoszenie Pacjenta'!A311=\"\",\"\",Sprawdz_pesel('Zgłoszenie Pacjenta'!A311))","v":""}]
[{"$f":"IF('Zgłoszenie Pacjenta'!A312=\"\",\"\",Sprawdz_pesel('Zgłoszenie Pacjenta'!A312))","v":""}]
[{"$f":"IF('Zgłoszenie Pacjenta'!A313=\"\",\"\",Sprawdz_pesel('Zgłoszenie Pacjenta'!A313))","v":""}]
[{"$f":"IF('Zgłoszenie Pacjenta'!A314=\"\",\"\",Sprawdz_pesel('Zgłoszenie Pacjenta'!A314))","v":""}]
[{"$f":"IF('Zgłoszenie Pacjenta'!A315=\"\",\"\",Sprawdz_pesel('Zgłoszenie Pacjenta'!A315))","v":""}]
[{"$f":"IF('Zgłoszenie Pacjenta'!A316=\"\",\"\",Sprawdz_pesel('Zgłoszenie Pacjenta'!A316))","v":""}]
[{"$f":"IF('Zgłoszenie Pacjenta'!A317=\"\",\"\",Sprawdz_pesel('Zgłoszenie Pacjenta'!A317))","v":""}]
[{"$f":"IF('Zgłoszenie Pacjenta'!A318=\"\",\"\",Sprawdz_pesel('Zgłoszenie Pacjenta'!A318))","v":""}]
[{"$f":"IF('Zgłoszenie Pacjenta'!A319=\"\",\"\",Sprawdz_pesel('Zgłoszenie Pacjenta'!A319))","v":""}]
[{"$f":"IF('Zgłoszenie Pacjenta'!A320=\"\",\"\",Sprawdz_pesel('Zgłoszenie Pacjenta'!A320))","v":""}]
[{"$f":"IF('Zgłoszenie Pacjenta'!A321=\"\",\"\",Sprawdz_pesel('Zgłoszenie Pacjenta'!A321))","v":""}]
[{"$f":"IF('Zgłoszenie Pacjenta'!A322=\"\",\"\",Sprawdz_pesel('Zgłoszenie Pacjenta'!A322))","v":""}]
[{"$f":"IF('Zgłoszenie Pacjenta'!A323=\"\",\"\",Sprawdz_pesel('Zgłoszenie Pacjenta'!A323))","v":""}]
[{"$f":"IF('Zgłoszenie Pacjenta'!A324=\"\",\"\",Sprawdz_pesel('Zgłoszenie Pacjenta'!A324))","v":""}]
[{"$f":"IF('Zgłoszenie Pacjenta'!A325=\"\",\"\",Sprawdz_pesel('Zgłoszenie Pacjenta'!A325))","v":""}]
[{"$f":"IF('Zgłoszenie Pacjenta'!A326=\"\",\"\",Sprawdz_pesel('Zgłoszenie Pacjenta'!A326))","v":""}]
[{"$f":"IF('Zgłoszenie Pacjenta'!A327=\"\",\"\",Sprawdz_pesel('Zgłoszenie Pacjenta'!A327))","v":""}]
[{"$f":"IF('Zgłoszenie Pacjenta'!A328=\"\",\"\",Sprawdz_pesel('Zgłoszenie Pacjenta'!A328))","v":""}]
[{"$f":"IF('Zgłoszenie Pacjenta'!A329=\"\",\"\",Sprawdz_pesel('Zgłoszenie Pacjenta'!A329))","v":""}]
[{"$f":"IF('Zgłoszenie Pacjenta'!A330=\"\",\"\",Sprawdz_pesel('Zgłoszenie Pacjenta'!A330))","v":""}]
[{"$f":"IF('Zgłoszenie Pacjenta'!A331=\"\",\"\",Sprawdz_pesel('Zgłoszenie Pacjenta'!A331))","v":""}]
[{"$f":"IF('Zgłoszenie Pacjenta'!A332=\"\",\"\",Sprawdz_pesel('Zgłoszenie Pacjenta'!A332))","v":""}]
[{"$f":"IF('Zgłoszenie Pacjenta'!A333=\"\",\"\",Sprawdz_pesel('Zgłoszenie Pacjenta'!A333))","v":""}]
[{"$f":"IF('Zgłoszenie Pacjenta'!A334=\"\",\"\",Sprawdz_pesel('Zgłoszenie Pacjenta'!A334))","v":""}]
[{"$f":"IF('Zgłoszenie Pacjenta'!A335=\"\",\"\",Sprawdz_pesel('Zgłoszenie Pacjenta'!A335))","v":""}]
[{"$f":"IF('Zgłoszenie Pacjenta'!A336=\"\",\"\",Sprawdz_pesel('Zgłoszenie Pacjenta'!A336))","v":""}]
[{"$f":"IF('Zgłoszenie Pacjenta'!A337=\"\",\"\",Sprawdz_pesel('Zgłoszenie Pacjenta'!A337))","v":""}]
[{"$f":"IF('Zgłoszenie Pacjenta'!A338=\"\",\"\",Sprawdz_pesel('Zgłoszenie Pacjenta'!A338))","v":""}]
[{"$f":"IF('Zgłoszenie Pacjenta'!A339=\"\",\"\",Sprawdz_pesel('Zgłoszenie Pacjenta'!A339))","v":""}]
[{"$f":"IF('Zgłoszenie Pacjenta'!A340=\"\",\"\",Sprawdz_pesel('Zgłoszenie Pacjenta'!A340))","v":""}]
[{"$f":"IF('Zgłoszenie Pacjenta'!A341=\"\",\"\",Sprawdz_pesel('Zgłoszenie Pacjenta'!A341))","v":""}]
[{"$f":"IF('Zgłoszenie Pacjenta'!A342=\"\",\"\",Sprawdz_pesel('Zgłoszenie Pacjenta'!A342))","v":""}]
[{"$f":"IF('Zgłoszenie Pacjenta'!A343=\"\",\"\",Sprawdz_pesel('Zgłoszenie Pacjenta'!A343))","v":""}]
[{"$f":"IF('Zgłoszenie Pacjenta'!A344=\"\",\"\",Sprawdz_pesel('Zgłoszenie Pacjenta'!A344))","v":""}]
[{"$f":"IF('Zgłoszenie Pacjenta'!A345=\"\",\"\",Sprawdz_pesel('Zgłoszenie Pacjenta'!A345))","v":""}]
[{"$f":"IF('Zgłoszenie Pacjenta'!A346=\"\",\"\",Sprawdz_pesel('Zgłoszenie Pacjenta'!A346))","v":""}]
[{"$f":"IF('Zgłoszenie Pacjenta'!A347=\"\",\"\",Sprawdz_pesel('Zgłoszenie Pacjenta'!A347))","v":""}]
[{"$f":"IF('Zgłoszenie Pacjenta'!A348=\"\",\"\",Sprawdz_pesel('Zgłoszenie Pacjenta'!A348))","v":""}]
[{"$f":"IF('Zgłoszenie Pacjenta'!A349=\"\",\"\",Sprawdz_pesel('Zgłoszenie Pacjenta'!A349))","v":""}]
[{"$f":"IF('Zgłoszenie Pacjenta'!A350=\"\",\"\",Sprawdz_pesel('Zgłoszenie Pacjenta'!A350))","v":""}]
[{"$f":"IF('Zgłoszenie Pacjenta'!A351=\"\",\"\",Sprawdz_pesel('Zgłoszenie Pacjenta'!A351))","v":""}]
[{"$f":"IF('Zgłoszenie Pacjenta'!A352=\"\",\"\",Sprawdz_pesel('Zgłoszenie Pacjenta'!A352))","v":""}]
[{"$f":"IF('Zgłoszenie Pacjenta'!A353=\"\",\"\",Sprawdz_pesel('Zgłoszenie Pacjenta'!A353))","v":""}]
[{"$f":"IF('Zgłoszenie Pacjenta'!A354=\"\",\"\",Sprawdz_pesel('Zgłoszenie Pacjenta'!A354))","v":""}]
[{"$f":"IF('Zgłoszenie Pacjenta'!A355=\"\",\"\",Sprawdz_pesel('Zgłoszenie Pacjenta'!A355))","v":""}]
[{"$f":"IF('Zgłoszenie Pacjenta'!A356=\"\",\"\",Sprawdz_pesel('Zgłoszenie Pacjenta'!A356))","v":""}]
[{"$f":"IF('Zgłoszenie Pacjenta'!A357=\"\",\"\",Sprawdz_pesel('Zgłoszenie Pacjenta'!A357))","v":""}]
[{"$f":"IF('Zgłoszenie Pacjenta'!A358=\"\",\"\",Sprawdz_pesel('Zgłoszenie Pacjenta'!A358))","v":""}]
[{"$f":"IF('Zgłoszenie Pacjenta'!A359=\"\",\"\",Sprawdz_pesel('Zgłoszenie Pacjenta'!A359))","v":""}]
[{"$f":"IF('Zgłoszenie Pacjenta'!A360=\"\",\"\",Sprawdz_pesel('Zgłoszenie Pacjenta'!A360))","v":""}]
[{"$f":"IF('Zgłoszenie Pacjenta'!A361=\"\",\"\",Sprawdz_pesel('Zgłoszenie Pacjenta'!A361))","v":""}]
[{"$f":"IF('Zgłoszenie Pacjenta'!A362=\"\",\"\",Sprawdz_pesel('Zgłoszenie Pacjenta'!A362))","v":""}]
[{"$f":"IF('Zgłoszenie Pacjenta'!A363=\"\",\"\",Sprawdz_pesel('Zgłoszenie Pacjenta'!A363))","v":""}]
[{"$f":"IF('Zgłoszenie Pacjenta'!A364=\"\",\"\",Sprawdz_pesel('Zgłoszenie Pacjenta'!A364))","v":""}]
[{"$f":"IF('Zgłoszenie Pacjenta'!A365=\"\",\"\",Sprawdz_pesel('Zgłoszenie Pacjenta'!A365))","v":""}]
[{"$f":"IF('Zgłoszenie Pacjenta'!A366=\"\",\"\",Sprawdz_pesel('Zgłoszenie Pacjenta'!A366))","v":""}]
[{"$f":"IF('Zgłoszenie Pacjenta'!A367=\"\",\"\",Sprawdz_pesel('Zgłoszenie Pacjenta'!A367))","v":""}]
[{"$f":"IF('Zgłoszenie Pacjenta'!A368=\"\",\"\",Sprawdz_pesel('Zgłoszenie Pacjenta'!A368))","v":""}]
[{"$f":"IF('Zgłoszenie Pacjenta'!A369=\"\",\"\",Sprawdz_pesel('Zgłoszenie Pacjenta'!A369))","v":""}]
[{"$f":"IF('Zgłoszenie Pacjenta'!A370=\"\",\"\",Sprawdz_pesel('Zgłoszenie Pacjenta'!A370))","v":""}]
[{"$f":"IF('Zgłoszenie Pacjenta'!A371=\"\",\"\",Sprawdz_pesel('Zgłoszenie Pacjenta'!A371))","v":""}]
[{"$f":"IF('Zgłoszenie Pacjenta'!A372=\"\",\"\",Sprawdz_pesel('Zgłoszenie Pacjenta'!A372))","v":""}]
[{"$f":"IF('Zgłoszenie Pacjenta'!A373=\"\",\"\",Sprawdz_pesel('Zgłoszenie Pacjenta'!A373))","v":""}]
[{"$f":"IF('Zgłoszenie Pacjenta'!A374=\"\",\"\",Sprawdz_pesel('Zgłoszenie Pacjenta'!A374))","v":""}]
[{"$f":"IF('Zgłoszenie Pacjenta'!A375=\"\",\"\",Sprawdz_pesel('Zgłoszenie Pacjenta'!A375))","v":""}]
[{"$f":"IF('Zgłoszenie Pacjenta'!A376=\"\",\"\",Sprawdz_pesel('Zgłoszenie Pacjenta'!A376))","v":""}]
[{"$f":"IF('Zgłoszenie Pacjenta'!A377=\"\",\"\",Sprawdz_pesel('Zgłoszenie Pacjenta'!A377))","v":""}]
[{"$f":"IF('Zgłoszenie Pacjenta'!A378=\"\",\"\",Sprawdz_pesel('Zgłoszenie Pacjenta'!A378))","v":""}]
[{"$f":"IF('Zgłoszenie Pacjenta'!A379=\"\",\"\",Sprawdz_pesel('Zgłoszenie Pacjenta'!A379))","v":""}]
[{"$f":"IF('Zgłoszenie Pacjenta'!A380=\"\",\"\",Sprawdz_pesel('Zgłoszenie Pacjenta'!A380))","v":""}]
[{"$f":"IF('Zgłoszenie Pacjenta'!A381=\"\",\"\",Sprawdz_pesel('Zgłoszenie Pacjenta'!A381))","v":""}]
[{"$f":"IF('Zgłoszenie Pacjenta'!A382=\"\",\"\",Sprawdz_pesel('Zgłoszenie Pacjenta'!A382))","v":""}]
[{"$f":"IF('Zgłoszenie Pacjenta'!A383=\"\",\"\",Sprawdz_pesel('Zgłoszenie Pacjenta'!A383))","v":""}]
[{"$f":"IF('Zgłoszenie Pacjenta'!A384=\"\",\"\",Sprawdz_pesel('Zgłoszenie Pacjenta'!A384))","v":""}]
[{"$f":"IF('Zgłoszenie Pacjenta'!A385=\"\",\"\",Sprawdz_pesel('Zgłoszenie Pacjenta'!A385))","v":""}]
[{"$f":"IF('Zgłoszenie Pacjenta'!A386=\"\",\"\",Sprawdz_pesel('Zgłoszenie Pacjenta'!A386))","v":""}]
[{"$f":"IF('Zgłoszenie Pacjenta'!A387=\"\",\"\",Sprawdz_pesel('Zgłoszenie Pacjenta'!A387))","v":""}]
[{"$f":"IF('Zgłoszenie Pacjenta'!A388=\"\",\"\",Sprawdz_pesel('Zgłoszenie Pacjenta'!A388))","v":""}]
[{"$f":"IF('Zgłoszenie Pacjenta'!A389=\"\",\"\",Sprawdz_pesel('Zgłoszenie Pacjenta'!A389))","v":""}]
[{"$f":"IF('Zgłoszenie Pacjenta'!A390=\"\",\"\",Sprawdz_pesel('Zgłoszenie Pacjenta'!A390))","v":""}]
[{"$f":"IF('Zgłoszenie Pacjenta'!A391=\"\",\"\",Sprawdz_pesel('Zgłoszenie Pacjenta'!A391))","v":""}]
[{"$f":"IF('Zgłoszenie Pacjenta'!A392=\"\",\"\",Sprawdz_pesel('Zgłoszenie Pacjenta'!A392))","v":""}]
[{"$f":"IF('Zgłoszenie Pacjenta'!A393=\"\",\"\",Sprawdz_pesel('Zgłoszenie Pacjenta'!A393))","v":""}]
[{"$f":"IF('Zgłoszenie Pacjenta'!A394=\"\",\"\",Sprawdz_pesel('Zgłoszenie Pacjenta'!A394))","v":""}]
[{"$f":"IF('Zgłoszenie Pacjenta'!A395=\"\",\"\",Sprawdz_pesel('Zgłoszenie Pacjenta'!A395))","v":""}]
[{"$f":"IF('Zgłoszenie Pacjenta'!A396=\"\",\"\",Sprawdz_pesel('Zgłoszenie Pacjenta'!A396))","v":""}]
[{"$f":"IF('Zgłoszenie Pacjenta'!A397=\"\",\"\",Sprawdz_pesel('Zgłoszenie Pacjenta'!A397))","v":""}]
[{"$f":"IF('Zgłoszenie Pacjenta'!A398=\"\",\"\",Sprawdz_pesel('Zgłoszenie Pacjenta'!A398))","v":""}]
[{"$f":"IF('Zgłoszenie Pacjenta'!A399=\"\",\"\",Sprawdz_pesel('Zgłoszenie Pacjenta'!A399))","v":""}]
[{"$f":"IF('Zgłoszenie Pacjenta'!A400=\"\",\"\",Sprawdz_pesel('Zgłoszenie Pacjenta'!A400))","v":""}]
[{"$f":"IF('Zgłoszenie Pacjenta'!A401=\"\",\"\",Sprawdz_pesel('Zgłoszenie Pacjenta'!A401))","v":""}]
[{"$f":"IF('Zgłoszenie Pacjenta'!A402=\"\",\"\",Sprawdz_pesel('Zgłoszenie Pacjenta'!A402))","v":""}]
[{"$f":"IF('Zgłoszenie Pacjenta'!A403=\"\",\"\",Sprawdz_pesel('Zgłoszenie Pacjenta'!A403))","v":""}]
[{"$f":"IF('Zgłoszenie Pacjenta'!A404=\"\",\"\",Sprawdz_pesel('Zgłoszenie Pacjenta'!A404))","v":""}]
[{"$f":"IF('Zgłoszenie Pacjenta'!A405=\"\",\"\",Sprawdz_pesel('Zgłoszenie Pacjenta'!A405))","v":""}]
[{"$f":"IF('Zgłoszenie Pacjenta'!A406=\"\",\"\",Sprawdz_pesel('Zgłoszenie Pacjenta'!A406))","v":""}]
[{"$f":"IF('Zgłoszenie Pacjenta'!A407=\"\",\"\",Sprawdz_pesel('Zgłoszenie Pacjenta'!A407))","v":""}]
[{"$f":"IF('Zgłoszenie Pacjenta'!A408=\"\",\"\",Sprawdz_pesel('Zgłoszenie Pacjenta'!A408))","v":""}]
[{"$f":"IF('Zgłoszenie Pacjenta'!A409=\"\",\"\",Sprawdz_pesel('Zgłoszenie Pacjenta'!A409))","v":""}]
[{"$f":"IF('Zgłoszenie Pacjenta'!A410=\"\",\"\",Sprawdz_pesel('Zgłoszenie Pacjenta'!A410))","v":""}]
[{"$f":"IF('Zgłoszenie Pacjenta'!A411=\"\",\"\",Sprawdz_pesel('Zgłoszenie Pacjenta'!A411))","v":""}]
[{"$f":"IF('Zgłoszenie Pacjenta'!A412=\"\",\"\",Sprawdz_pesel('Zgłoszenie Pacjenta'!A412))","v":""}]
[{"$f":"IF('Zgłoszenie Pacjenta'!A413=\"\",\"\",Sprawdz_pesel('Zgłoszenie Pacjenta'!A413))","v":""}]
[{"$f":"IF('Zgłoszenie Pacjenta'!A414=\"\",\"\",Sprawdz_pesel('Zgłoszenie Pacjenta'!A414))","v":""}]
[{"$f":"IF('Zgłoszenie Pacjenta'!A415=\"\",\"\",Sprawdz_pesel('Zgłoszenie Pacjenta'!A415))","v":""}]
[{"$f":"IF('Zgłoszenie Pacjenta'!A416=\"\",\"\",Sprawdz_pesel('Zgłoszenie Pacjenta'!A416))","v":""}]
[{"$f":"IF('Zgłoszenie Pacjenta'!A417=\"\",\"\",Sprawdz_pesel('Zgłoszenie Pacjenta'!A417))","v":""}]
[{"$f":"IF('Zgłoszenie Pacjenta'!A418=\"\",\"\",Sprawdz_pesel('Zgłoszenie Pacjenta'!A418))","v":""}]
[{"$f":"IF('Zgłoszenie Pacjenta'!A419=\"\",\"\",Sprawdz_pesel('Zgłoszenie Pacjenta'!A419))","v":""}]
[{"$f":"IF('Zgłoszenie Pacjenta'!A420=\"\",\"\",Sprawdz_pesel('Zgłoszenie Pacjenta'!A420))","v":""}]
[{"$f":"IF('Zgłoszenie Pacjenta'!A421=\"\",\"\",Sprawdz_pesel('Zgłoszenie Pacjenta'!A421))","v":""}]
[{"$f":"IF('Zgłoszenie Pacjenta'!A422=\"\",\"\",Sprawdz_pesel('Zgłoszenie Pacjenta'!A422))","v":""}]
[{"$f":"IF('Zgłoszenie Pacjenta'!A423=\"\",\"\",Sprawdz_pesel('Zgłoszenie Pacjenta'!A423))","v":""}]
[{"$f":"IF('Zgłoszenie Pacjenta'!A424=\"\",\"\",Sprawdz_pesel('Zgłoszenie Pacjenta'!A424))","v":""}]
[{"$f":"IF('Zgłoszenie Pacjenta'!A425=\"\",\"\",Sprawdz_pesel('Zgłoszenie Pacjenta'!A425))","v":""}]
[{"$f":"IF('Zgłoszenie Pacjenta'!A426=\"\",\"\",Sprawdz_pesel('Zgłoszenie Pacjenta'!A426))","v":""}]
[{"$f":"IF('Zgłoszenie Pacjenta'!A427=\"\",\"\",Sprawdz_pesel('Zgłoszenie Pacjenta'!A427))","v":""}]
[{"$f":"IF('Zgłoszenie Pacjenta'!A428=\"\",\"\",Sprawdz_pesel('Zgłoszenie Pacjenta'!A428))","v":""}]
[{"$f":"IF('Zgłoszenie Pacjenta'!A429=\"\",\"\",Sprawdz_pesel('Zgłoszenie Pacjenta'!A429))","v":""}]
[{"$f":"IF('Zgłoszenie Pacjenta'!A430=\"\",\"\",Sprawdz_pesel('Zgłoszenie Pacjenta'!A430))","v":""}]
[{"$f":"IF('Zgłoszenie Pacjenta'!A431=\"\",\"\",Sprawdz_pesel('Zgłoszenie Pacjenta'!A431))","v":""}]
[{"$f":"IF('Zgłoszenie Pacjenta'!A432=\"\",\"\",Sprawdz_pesel('Zgłoszenie Pacjenta'!A432))","v":""}]
[{"$f":"IF('Zgłoszenie Pacjenta'!A433=\"\",\"\",Sprawdz_pesel('Zgłoszenie Pacjenta'!A433))","v":""}]
[{"$f":"IF('Zgłoszenie Pacjenta'!A434=\"\",\"\",Sprawdz_pesel('Zgłoszenie Pacjenta'!A434))","v":""}]
[{"$f":"IF('Zgłoszenie Pacjenta'!A435=\"\",\"\",Sprawdz_pesel('Zgłoszenie Pacjenta'!A435))","v":""}]
[{"$f":"IF('Zgłoszenie Pacjenta'!A436=\"\",\"\",Sprawdz_pesel('Zgłoszenie Pacjenta'!A436))","v":""}]
[{"$f":"IF('Zgłoszenie Pacjenta'!A437=\"\",\"\",Sprawdz_pesel('Zgłoszenie Pacjenta'!A437))","v":""}]
[{"$f":"IF('Zgłoszenie Pacjenta'!A438=\"\",\"\",Sprawdz_pesel('Zgłoszenie Pacjenta'!A438))","v":""}]
[{"$f":"IF('Zgłoszenie Pacjenta'!A439=\"\",\"\",Sprawdz_pesel('Zgłoszenie Pacjenta'!A439))","v":""}]
[{"$f":"IF('Zgłoszenie Pacjenta'!A440=\"\",\"\",Sprawdz_pesel('Zgłoszenie Pacjenta'!A440))","v":""}]
[{"$f":"IF('Zgłoszenie Pacjenta'!A441=\"\",\"\",Sprawdz_pesel('Zgłoszenie Pacjenta'!A441))","v":""}]
[{"$f":"IF('Zgłoszenie Pacjenta'!A442=\"\",\"\",Sprawdz_pesel('Zgłoszenie Pacjenta'!A442))","v":""}]
[{"$f":"IF('Zgłoszenie Pacjenta'!A443=\"\",\"\",Sprawdz_pesel('Zgłoszenie Pacjenta'!A443))","v":""}]
[{"$f":"IF('Zgłoszenie Pacjenta'!A444=\"\",\"\",Sprawdz_pesel('Zgłoszenie Pacjenta'!A444))","v":""}]
[{"$f":"IF('Zgłoszenie Pacjenta'!A445=\"\",\"\",Sprawdz_pesel('Zgłoszenie Pacjenta'!A445))","v":""}]
[{"$f":"IF('Zgłoszenie Pacjenta'!A446=\"\",\"\",Sprawdz_pesel('Zgłoszenie Pacjenta'!A446))","v":""}]
[{"$f":"IF('Zgłoszenie Pacjenta'!A447=\"\",\"\",Sprawdz_pesel('Zgłoszenie Pacjenta'!A447))","v":""}]
[{"$f":"IF('Zgłoszenie Pacjenta'!A448=\"\",\"\",Sprawdz_pesel('Zgłoszenie Pacjenta'!A448))","v":""}]
[{"$f":"IF('Zgłoszenie Pacjenta'!A449=\"\",\"\",Sprawdz_pesel('Zgłoszenie Pacjenta'!A449))","v":""}]
[{"$f":"IF('Zgłoszenie Pacjenta'!A450=\"\",\"\",Sprawdz_pesel('Zgłoszenie Pacjenta'!A450))","v":""}]
[{"$f":"IF('Zgłoszenie Pacjenta'!A451=\"\",\"\",Sprawdz_pesel('Zgłoszenie Pacjenta'!A451))","v":""}]
[{"$f":"IF('Zgłoszenie Pacjenta'!A452=\"\",\"\",Sprawdz_pesel('Zgłoszenie Pacjenta'!A452))","v":""}]
[{"$f":"IF('Zgłoszenie Pacjenta'!A453=\"\",\"\",Sprawdz_pesel('Zgłoszenie Pacjenta'!A453))","v":""}]
[{"$f":"IF('Zgłoszenie Pacjenta'!A454=\"\",\"\",Sprawdz_pesel('Zgłoszenie Pacjenta'!A454))","v":""}]
[{"$f":"IF('Zgłoszenie Pacjenta'!A455=\"\",\"\",Sprawdz_pesel('Zgłoszenie Pacjenta'!A455))","v":""}]
[{"$f":"IF('Zgłoszenie Pacjenta'!A456=\"\",\"\",Sprawdz_pesel('Zgłoszenie Pacjenta'!A456))","v":""}]
[{"$f":"IF('Zgłoszenie Pacjenta'!A457=\"\",\"\",Sprawdz_pesel('Zgłoszenie Pacjenta'!A457))","v":""}]
[{"$f":"IF('Zgłoszenie Pacjenta'!A458=\"\",\"\",Sprawdz_pesel('Zgłoszenie Pacjenta'!A458))","v":""}]
[{"$f":"IF('Zgłoszenie Pacjenta'!A459=\"\",\"\",Sprawdz_pesel('Zgłoszenie Pacjenta'!A459))","v":""}]
[{"$f":"IF('Zgłoszenie Pacjenta'!A460=\"\",\"\",Sprawdz_pesel('Zgłoszenie Pacjenta'!A460))","v":""}]
[{"$f":"IF('Zgłoszenie Pacjenta'!A461=\"\",\"\",Sprawdz_pesel('Zgłoszenie Pacjenta'!A461))","v":""}]
[{"$f":"IF('Zgłoszenie Pacjenta'!A462=\"\",\"\",Sprawdz_pesel('Zgłoszenie Pacjenta'!A462))","v":""}]
[{"$f":"IF('Zgłoszenie Pacjenta'!A463=\"\",\"\",Sprawdz_pesel('Zgłoszenie Pacjenta'!A463))","v":""}]
[{"$f":"IF('Zgłoszenie Pacjenta'!A464=\"\",\"\",Sprawdz_pesel('Zgłoszenie Pacjenta'!A464))","v":""}]
[{"$f":"IF('Zgłoszenie Pacjenta'!A465=\"\",\"\",Sprawdz_pesel('Zgłoszenie Pacjenta'!A465))","v":""}]
[{"$f":"IF('Zgłoszenie Pacjenta'!A466=\"\",\"\",Sprawdz_pesel('Zgłoszenie Pacjenta'!A466))","v":""}]
[{"$f":"IF('Zgłoszenie Pacjenta'!A467=\"\",\"\",Sprawdz_pesel('Zgłoszenie Pacjenta'!A467))","v":""}]
[{"$f":"IF('Zgłoszenie Pacjenta'!A468=\"\",\"\",Sprawdz_pesel('Zgłoszenie Pacjenta'!A468))","v":""}]
[{"$f":"IF('Zgłoszenie Pacjenta'!A469=\"\",\"\",Sprawdz_pesel('Zgłoszenie Pacjenta'!A469))","v":""}]
[{"$f":"IF('Zgłoszenie Pacjenta'!A470=\"\",\"\",Sprawdz_pesel('Zgłoszenie Pacjenta'!A470))","v":""}]
[{"$f":"IF('Zgłoszenie Pacjenta'!A471=\"\",\"\",Sprawdz_pesel('Zgłoszenie Pacjenta'!A471))","v":""}]
[{"$f":"IF('Zgłoszenie Pacjenta'!A472=\"\",\"\",Sprawdz_pesel('Zgłoszenie Pacjenta'!A472))","v":""}]
[{"$f":"IF('Zgłoszenie Pacjenta'!A473=\"\",\"\",Sprawdz_pesel('Zgłoszenie Pacjenta'!A473))","v":""}]
[{"$f":"IF('Zgłoszenie Pacjenta'!A474=\"\",\"\",Sprawdz_pesel('Zgłoszenie Pacjenta'!A474))","v":""}]
[{"$f":"IF('Zgłoszenie Pacjenta'!A475=\"\",\"\",Sprawdz_pesel('Zgłoszenie Pacjenta'!A475))","v":""}]
[{"$f":"IF('Zgłoszenie Pacjenta'!A476=\"\",\"\",Sprawdz_pesel('Zgłoszenie Pacjenta'!A476))","v":""}]
[{"$f":"IF('Zgłoszenie Pacjenta'!A477=\"\",\"\",Sprawdz_pesel('Zgłoszenie Pacjenta'!A477))","v":""}]
[{"$f":"IF('Zgłoszenie Pacjenta'!A478=\"\",\"\",Sprawdz_pesel('Zgłoszenie Pacjenta'!A478))","v":""}]
[{"$f":"IF('Zgłoszenie Pacjenta'!A479=\"\",\"\",Sprawdz_pesel('Zgłoszenie Pacjenta'!A479))","v":""}]
[{"$f":"IF('Zgłoszenie Pacjenta'!A480=\"\",\"\",Sprawdz_pesel('Zgłoszenie Pacjenta'!A480))","v":""}]
[{"$f":"IF('Zgłoszenie Pacjenta'!A481=\"\",\"\",Sprawdz_pesel('Zgłoszenie Pacjenta'!A481))","v":""}]
[{"$f":"IF('Zgłoszenie Pacjenta'!A482=\"\",\"\",Sprawdz_pesel('Zgłoszenie Pacjenta'!A482))","v":""}]
[{"$f":"IF('Zgłoszenie Pacjenta'!A483=\"\",\"\",Sprawdz_pesel('Zgłoszenie Pacjenta'!A483))","v":""}]
[{"$f":"IF('Zgłoszenie Pacjenta'!A484=\"\",\"\",Sprawdz_pesel('Zgłoszenie Pacjenta'!A484))","v":""}]
[{"$f":"IF('Zgłoszenie Pacjenta'!A485=\"\",\"\",Sprawdz_pesel('Zgłoszenie Pacjenta'!A485))","v":""}]
[{"$f":"IF('Zgłoszenie Pacjenta'!A486=\"\",\"\",Sprawdz_pesel('Zgłoszenie Pacjenta'!A486))","v":""}]
[{"$f":"IF('Zgłoszenie Pacjenta'!A487=\"\",\"\",Sprawdz_pesel('Zgłoszenie Pacjenta'!A487))","v":""}]
[{"$f":"IF('Zgłoszenie Pacjenta'!A488=\"\",\"\",Sprawdz_pesel('Zgłoszenie Pacjenta'!A488))","v":""}]
[{"$f":"IF('Zgłoszenie Pacjenta'!A489=\"\",\"\",Sprawdz_pesel('Zgłoszenie Pacjenta'!A489))","v":""}]
[{"$f":"IF('Zgłoszenie Pacjenta'!A490=\"\",\"\",Sprawdz_pesel('Zgłoszenie Pacjenta'!A490))","v":""}]
[{"$f":"IF('Zgłoszenie Pacjenta'!A491=\"\",\"\",Sprawdz_pesel('Zgłoszenie Pacjenta'!A491))","v":""}]
[{"$f":"IF('Zgłoszenie Pacjenta'!A492=\"\",\"\",Sprawdz_pesel('Zgłoszenie Pacjenta'!A492))","v":""}]
[{"$f":"IF('Zgłoszenie Pacjenta'!A493=\"\",\"\",Sprawdz_pesel('Zgłoszenie Pacjenta'!A493))","v":""}]
[{"$f":"IF('Zgłoszenie Pacjenta'!A494=\"\",\"\",Sprawdz_pesel('Zgłoszenie Pacjenta'!A494))","v":""}]
[{"$f":"IF('Zgłoszenie Pacjenta'!A495=\"\",\"\",Sprawdz_pesel('Zgłoszenie Pacjenta'!A495))","v":""}]
[{"$f":"IF('Zgłoszenie Pacjenta'!A496=\"\",\"\",Sprawdz_pesel('Zgłoszenie Pacjenta'!A496))","v":""}]
[{"$f":"IF('Zgłoszenie Pacjenta'!A497=\"\",\"\",Sprawdz_pesel('Zgłoszenie Pacjenta'!A497))","v":""}]
[{"$f":"IF('Zgłoszenie Pacjenta'!A498=\"\",\"\",Sprawdz_pesel('Zgłoszenie Pacjenta'!A498))","v":""}]
[{"$f":"IF('Zgłoszenie Pacjenta'!A499=\"\",\"\",Sprawdz_pesel('Zgłoszenie Pacjenta'!A499))","v":""}]
[{"$f":"IF('Zgłoszenie Pacjenta'!A500=\"\",\"\",Sprawdz_pesel('Zgłoszenie Pacjenta'!A500))","v":""}]
[{"$f":"IF('Zgłoszenie Pacjenta'!A501=\"\",\"\",Sprawdz_pesel('Zgłoszenie Pacjenta'!A501))","v":""}]
[{"$f":"IF('Zgłoszenie Pacjenta'!A502=\"\",\"\",Sprawdz_pesel('Zgłoszenie Pacjenta'!A502))","v":""}]
[{"$f":"IF('Zgłoszenie Pacjenta'!A503=\"\",\"\",Sprawdz_pesel('Zgłoszenie Pacjenta'!A503))","v":""}]
[{"$f":"IF('Zgłoszenie Pacjenta'!A504=\"\",\"\",Sprawdz_pesel('Zgłoszenie Pacjenta'!A504))","v":""}]
[{"$f":"IF('Zgłoszenie Pacjenta'!A505=\"\",\"\",Sprawdz_pesel('Zgłoszenie Pacjenta'!A505))","v":""}]
[{"$f":"IF('Zgłoszenie Pacjenta'!A506=\"\",\"\",Sprawdz_pesel('Zgłoszenie Pacjenta'!A506))","v":""}]
[{"$f":"IF('Zgłoszenie Pacjenta'!A507=\"\",\"\",Sprawdz_pesel('Zgłoszenie Pacjenta'!A507))","v":""}]
[{"$f":"IF('Zgłoszenie Pacjenta'!A508=\"\",\"\",Sprawdz_pesel('Zgłoszenie Pacjenta'!A508))","v":""}]
[{"$f":"IF('Zgłoszenie Pacjenta'!A509=\"\",\"\",Sprawdz_pesel('Zgłoszenie Pacjenta'!A509))","v":""}]
[{"$f":"IF('Zgłoszenie Pacjenta'!A510=\"\",\"\",Sprawdz_pesel('Zgłoszenie Pacjenta'!A510))","v":""}]
[{"$f":"IF('Zgłoszenie Pacjenta'!A511=\"\",\"\",Sprawdz_pesel('Zgłoszenie Pacjenta'!A511))","v":""}]
[{"$f":"IF('Zgłoszenie Pacjenta'!A512=\"\",\"\",Sprawdz_pesel('Zgłoszenie Pacjenta'!A512))","v":""}]
[{"$f":"IF('Zgłoszenie Pacjenta'!A513=\"\",\"\",Sprawdz_pesel('Zgłoszenie Pacjenta'!A513))","v":""}]
[{"$f":"IF('Zgłoszenie Pacjenta'!A514=\"\",\"\",Sprawdz_pesel('Zgłoszenie Pacjenta'!A514))","v":""}]
[{"$f":"IF('Zgłoszenie Pacjenta'!A515=\"\",\"\",Sprawdz_pesel('Zgłoszenie Pacjenta'!A515))","v":""}]
[{"$f":"IF('Zgłoszenie Pacjenta'!A516=\"\",\"\",Sprawdz_pesel('Zgłoszenie Pacjenta'!A516))","v":""}]
[{"$f":"IF('Zgłoszenie Pacjenta'!A517=\"\",\"\",Sprawdz_pesel('Zgłoszenie Pacjenta'!A517))","v":""}]
[{"$f":"IF('Zgłoszenie Pacjenta'!A518=\"\",\"\",Sprawdz_pesel('Zgłoszenie Pacjenta'!A518))","v":""}]
[{"$f":"IF('Zgłoszenie Pacjenta'!A519=\"\",\"\",Sprawdz_pesel('Zgłoszenie Pacjenta'!A519))","v":""}]
[{"$f":"IF('Zgłoszenie Pacjenta'!A520=\"\",\"\",Sprawdz_pesel('Zgłoszenie Pacjenta'!A520))","v":""}]
[{"$f":"IF('Zgłoszenie Pacjenta'!A521=\"\",\"\",Sprawdz_pesel('Zgłoszenie Pacjenta'!A521))","v":""}]
[{"$f":"IF('Zgłoszenie Pacjenta'!A522=\"\",\"\",Sprawdz_pesel('Zgłoszenie Pacjenta'!A522))","v":""}]
[{"$f":"IF('Zgłoszenie Pacjenta'!A523=\"\",\"\",Sprawdz_pesel('Zgłoszenie Pacjenta'!A523))","v":""}]
[{"$f":"IF('Zgłoszenie Pacjenta'!A524=\"\",\"\",Sprawdz_pesel('Zgłoszenie Pacjenta'!A524))","v":""}]
[{"$f":"IF('Zgłoszenie Pacjenta'!A525=\"\",\"\",Sprawdz_pesel('Zgłoszenie Pacjenta'!A525))","v":""}]
[{"$f":"IF('Zgłoszenie Pacjenta'!A526=\"\",\"\",Sprawdz_pesel('Zgłoszenie Pacjenta'!A526))","v":""}]
[{"$f":"IF('Zgłoszenie Pacjenta'!A527=\"\",\"\",Sprawdz_pesel('Zgłoszenie Pacjenta'!A527))","v":""}]
[{"$f":"IF('Zgłoszenie Pacjenta'!A528=\"\",\"\",Sprawdz_pesel('Zgłoszenie Pacjenta'!A528))","v":""}]
[{"$f":"IF('Zgłoszenie Pacjenta'!A529=\"\",\"\",Sprawdz_pesel('Zgłoszenie Pacjenta'!A529))","v":""}]
[{"$f":"IF('Zgłoszenie Pacjenta'!A530=\"\",\"\",Sprawdz_pesel('Zgłoszenie Pacjenta'!A530))","v":""}]
[{"$f":"IF('Zgłoszenie Pacjenta'!A531=\"\",\"\",Sprawdz_pesel('Zgłoszenie Pacjenta'!A531))","v":""}]
[{"$f":"IF('Zgłoszenie Pacjenta'!A532=\"\",\"\",Sprawdz_pesel('Zgłoszenie Pacjenta'!A532))","v":""}]
[{"$f":"IF('Zgłoszenie Pacjenta'!A533=\"\",\"\",Sprawdz_pesel('Zgłoszenie Pacjenta'!A533))","v":""}]
[{"$f":"IF('Zgłoszenie Pacjenta'!A534=\"\",\"\",Sprawdz_pesel('Zgłoszenie Pacjenta'!A534))","v":""}]
[{"$f":"IF('Zgłoszenie Pacjenta'!A535=\"\",\"\",Sprawdz_pesel('Zgłoszenie Pacjenta'!A535))","v":""}]
[{"$f":"IF('Zgłoszenie Pacjenta'!A536=\"\",\"\",Sprawdz_pesel('Zgłoszenie Pacjenta'!A536))","v":""}]
[{"$f":"IF('Zgłoszenie Pacjenta'!A537=\"\",\"\",Sprawdz_pesel('Zgłoszenie Pacjenta'!A537))","v":""}]
[{"$f":"IF('Zgłoszenie Pacjenta'!A538=\"\",\"\",Sprawdz_pesel('Zgłoszenie Pacjenta'!A538))","v":""}]
[{"$f":"IF('Zgłoszenie Pacjenta'!A539=\"\",\"\",Sprawdz_pesel('Zgłoszenie Pacjenta'!A539))","v":""}]
[{"$f":"IF('Zgłoszenie Pacjenta'!A540=\"\",\"\",Sprawdz_pesel('Zgłoszenie Pacjenta'!A540))","v":""}]
[{"$f":"IF('Zgłoszenie Pacjenta'!A541=\"\",\"\",Sprawdz_pesel('Zgłoszenie Pacjenta'!A541))","v":""}]
[{"$f":"IF('Zgłoszenie Pacjenta'!A542=\"\",\"\",Sprawdz_pesel('Zgłoszenie Pacjenta'!A542))","v":""}]
[{"$f":"IF('Zgłoszenie Pacjenta'!A543=\"\",\"\",Sprawdz_pesel('Zgłoszenie Pacjenta'!A543))","v":""}]
[{"$f":"IF('Zgłoszenie Pacjenta'!A544=\"\",\"\",Sprawdz_pesel('Zgłoszenie Pacjenta'!A544))","v":""}]
[{"$f":"IF('Zgłoszenie Pacjenta'!A545=\"\",\"\",Sprawdz_pesel('Zgłoszenie Pacjenta'!A545))","v":""}]
[{"$f":"IF('Zgłoszenie Pacjenta'!A546=\"\",\"\",Sprawdz_pesel('Zgłoszenie Pacjenta'!A546))","v":""}]
[{"$f":"IF('Zgłoszenie Pacjenta'!A547=\"\",\"\",Sprawdz_pesel('Zgłoszenie Pacjenta'!A547))","v":""}]
[{"$f":"IF('Zgłoszenie Pacjenta'!A548=\"\",\"\",Sprawdz_pesel('Zgłoszenie Pacjenta'!A548))","v":""}]
[{"$f":"IF('Zgłoszenie Pacjenta'!A549=\"\",\"\",Sprawdz_pesel('Zgłoszenie Pacjenta'!A549))","v":""}]
[{"$f":"IF('Zgłoszenie Pacjenta'!A550=\"\",\"\",Sprawdz_pesel('Zgłoszenie Pacjenta'!A550))","v":""}]
[{"$f":"IF('Zgłoszenie Pacjenta'!A551=\"\",\"\",Sprawdz_pesel('Zgłoszenie Pacjenta'!A551))","v":""}]
[{"$f":"IF('Zgłoszenie Pacjenta'!A552=\"\",\"\",Sprawdz_pesel('Zgłoszenie Pacjenta'!A552))","v":""}]
[{"$f":"IF('Zgłoszenie Pacjenta'!A553=\"\",\"\",Sprawdz_pesel('Zgłoszenie Pacjenta'!A553))","v":""}]
[{"$f":"IF('Zgłoszenie Pacjenta'!A554=\"\",\"\",Sprawdz_pesel('Zgłoszenie Pacjenta'!A554))","v":""}]
[{"$f":"IF('Zgłoszenie Pacjenta'!A555=\"\",\"\",Sprawdz_pesel('Zgłoszenie Pacjenta'!A555))","v":""}]
[{"$f":"IF('Zgłoszenie Pacjenta'!A556=\"\",\"\",Sprawdz_pesel('Zgłoszenie Pacjenta'!A556))","v":""}]
[{"$f":"IF('Zgłoszenie Pacjenta'!A557=\"\",\"\",Sprawdz_pesel('Zgłoszenie Pacjenta'!A557))","v":""}]
[{"$f":"IF('Zgłoszenie Pacjenta'!A558=\"\",\"\",Sprawdz_pesel('Zgłoszenie Pacjenta'!A558))","v":""}]
[{"$f":"IF('Zgłoszenie Pacjenta'!A559=\"\",\"\",Sprawdz_pesel('Zgłoszenie Pacjenta'!A559))","v":""}]
[{"$f":"IF('Zgłoszenie Pacjenta'!A560=\"\",\"\",Sprawdz_pesel('Zgłoszenie Pacjenta'!A560))","v":""}]
[{"$f":"IF('Zgłoszenie Pacjenta'!A561=\"\",\"\",Sprawdz_pesel('Zgłoszenie Pacjenta'!A561))","v":""}]
[{"$f":"IF('Zgłoszenie Pacjenta'!A562=\"\",\"\",Sprawdz_pesel('Zgłoszenie Pacjenta'!A562))","v":""}]
[{"$f":"IF('Zgłoszenie Pacjenta'!A563=\"\",\"\",Sprawdz_pesel('Zgłoszenie Pacjenta'!A563))","v":""}]
[{"$f":"IF('Zgłoszenie Pacjenta'!A564=\"\",\"\",Sprawdz_pesel('Zgłoszenie Pacjenta'!A564))","v":""}]
[{"$f":"IF('Zgłoszenie Pacjenta'!A565=\"\",\"\",Sprawdz_pesel('Zgłoszenie Pacjenta'!A565))","v":""}]
[{"$f":"IF('Zgłoszenie Pacjenta'!A566=\"\",\"\",Sprawdz_pesel('Zgłoszenie Pacjenta'!A566))","v":""}]
[{"$f":"IF('Zgłoszenie Pacjenta'!A567=\"\",\"\",Sprawdz_pesel('Zgłoszenie Pacjenta'!A567))","v":""}]
[{"$f":"IF('Zgłoszenie Pacjenta'!A568=\"\",\"\",Sprawdz_pesel('Zgłoszenie Pacjenta'!A568))","v":""}]
[{"$f":"IF('Zgłoszenie Pacjenta'!A569=\"\",\"\",Sprawdz_pesel('Zgłoszenie Pacjenta'!A569))","v":""}]
[{"$f":"IF('Zgłoszenie Pacjenta'!A570=\"\",\"\",Sprawdz_pesel('Zgłoszenie Pacjenta'!A570))","v":""}]
[{"$f":"IF('Zgłoszenie Pacjenta'!A571=\"\",\"\",Sprawdz_pesel('Zgłoszenie Pacjenta'!A571))","v":""}]
[{"$f":"IF('Zgłoszenie Pacjenta'!A572=\"\",\"\",Sprawdz_pesel('Zgłoszenie Pacjenta'!A572))","v":""}]
[{"$f":"IF('Zgłoszenie Pacjenta'!A573=\"\",\"\",Sprawdz_pesel('Zgłoszenie Pacjenta'!A573))","v":""}]
[{"$f":"IF('Zgłoszenie Pacjenta'!A574=\"\",\"\",Sprawdz_pesel('Zgłoszenie Pacjenta'!A574))","v":""}]
[{"$f":"IF('Zgłoszenie Pacjenta'!A575=\"\",\"\",Sprawdz_pesel('Zgłoszenie Pacjenta'!A575))","v":""}]
[{"$f":"IF('Zgłoszenie Pacjenta'!A576=\"\",\"\",Sprawdz_pesel('Zgłoszenie Pacjenta'!A576))","v":""}]
[{"$f":"IF('Zgłoszenie Pacjenta'!A577=\"\",\"\",Sprawdz_pesel('Zgłoszenie Pacjenta'!A577))","v":""}]
[{"$f":"IF('Zgłoszenie Pacjenta'!A578=\"\",\"\",Sprawdz_pesel('Zgłoszenie Pacjenta'!A578))","v":""}]
[{"$f":"IF('Zgłoszenie Pacjenta'!A579=\"\",\"\",Sprawdz_pesel('Zgłoszenie Pacjenta'!A579))","v":""}]
[{"$f":"IF('Zgłoszenie Pacjenta'!A580=\"\",\"\",Sprawdz_pesel('Zgłoszenie Pacjenta'!A580))","v":""}]
[{"$f":"IF('Zgłoszenie Pacjenta'!A581=\"\",\"\",Sprawdz_pesel('Zgłoszenie Pacjenta'!A581))","v":""}]
[{"$f":"IF('Zgłoszenie Pacjenta'!A582=\"\",\"\",Sprawdz_pesel('Zgłoszenie Pacjenta'!A582))","v":""}]
[{"$f":"IF('Zgłoszenie Pacjenta'!A583=\"\",\"\",Sprawdz_pesel('Zgłoszenie Pacjenta'!A583))","v":""}]
[{"$f":"IF('Zgłoszenie Pacjenta'!A584=\"\",\"\",Sprawdz_pesel('Zgłoszenie Pacjenta'!A584))","v":""}]
[{"$f":"IF('Zgłoszenie Pacjenta'!A585=\"\",\"\",Sprawdz_pesel('Zgłoszenie Pacjenta'!A585))","v":""}]
[{"$f":"IF('Zgłoszenie Pacjenta'!A586=\"\",\"\",Sprawdz_pesel('Zgłoszenie Pacjenta'!A586))","v":""}]
[{"$f":"IF('Zgłoszenie Pacjenta'!A587=\"\",\"\",Sprawdz_pesel('Zgłoszenie Pacjenta'!A587))","v":""}]
[{"$f":"IF('Zgłoszenie Pacjenta'!A588=\"\",\"\",Sprawdz_pesel('Zgłoszenie Pacjenta'!A588))","v":""}]
[{"$f":"IF('Zgłoszenie Pacjenta'!A589=\"\",\"\",Sprawdz_pesel('Zgłoszenie Pacjenta'!A589))","v":""}]
[{"$f":"IF('Zgłoszenie Pacjenta'!A590=\"\",\"\",Sprawdz_pesel('Zgłoszenie Pacjenta'!A590))","v":""}]
[{"$f":"IF('Zgłoszenie Pacjenta'!A591=\"\",\"\",Sprawdz_pesel('Zgłoszenie Pacjenta'!A591))","v":""}]
[{"$f":"IF('Zgłoszenie Pacjenta'!A592=\"\",\"\",Sprawdz_pesel('Zgłoszenie Pacjenta'!A592))","v":""}]
[{"$f":"IF('Zgłoszenie Pacjenta'!A593=\"\",\"\",Sprawdz_pesel('Zgłoszenie Pacjenta'!A593))","v":""}]
[{"$f":"IF('Zgłoszenie Pacjenta'!A594=\"\",\"\",Sprawdz_pesel('Zgłoszenie Pacjenta'!A594))","v":""}]
[{"$f":"IF('Zgłoszenie Pacjenta'!A595=\"\",\"\",Sprawdz_pesel('Zgłoszenie Pacjenta'!A595))","v":""}]
[{"$f":"IF('Zgłoszenie Pacjenta'!A596=\"\",\"\",Sprawdz_pesel('Zgłoszenie Pacjenta'!A596))","v":""}]
[{"$f":"IF('Zgłoszenie Pacjenta'!A597=\"\",\"\",Sprawdz_pesel('Zgłoszenie Pacjenta'!A597))","v":""}]
[{"$f":"IF('Zgłoszenie Pacjenta'!A598=\"\",\"\",Sprawdz_pesel('Zgłoszenie Pacjenta'!A598))","v":""}]
[{"$f":"IF('Zgłoszenie Pacjenta'!A599=\"\",\"\",Sprawdz_pesel('Zgłoszenie Pacjenta'!A599))","v":""}]
[{"$f":"IF('Zgłoszenie Pacjenta'!A600=\"\",\"\",Sprawdz_pesel('Zgłoszenie Pacjenta'!A600))","v":""}]
[{"$f":"IF('Zgłoszenie Pacjenta'!A601=\"\",\"\",Sprawdz_pesel('Zgłoszenie Pacjenta'!A601))","v":""}]
[{"$f":"IF('Zgłoszenie Pacjenta'!A602=\"\",\"\",Sprawdz_pesel('Zgłoszenie Pacjenta'!A602))","v":""}]
[{"$f":"IF('Zgłoszenie Pacjenta'!A603=\"\",\"\",Sprawdz_pesel('Zgłoszenie Pacjenta'!A603))","v":""}]
[{"$f":"IF('Zgłoszenie Pacjenta'!A604=\"\",\"\",Sprawdz_pesel('Zgłoszenie Pacjenta'!A604))","v":""}]
[{"$f":"IF('Zgłoszenie Pacjenta'!A605=\"\",\"\",Sprawdz_pesel('Zgłoszenie Pacjenta'!A605))","v":""}]
[{"$f":"IF('Zgłoszenie Pacjenta'!A606=\"\",\"\",Sprawdz_pesel('Zgłoszenie Pacjenta'!A606))","v":""}]
[{"$f":"IF('Zgłoszenie Pacjenta'!A607=\"\",\"\",Sprawdz_pesel('Zgłoszenie Pacjenta'!A607))","v":""}]
[{"$f":"IF('Zgłoszenie Pacjenta'!A608=\"\",\"\",Sprawdz_pesel('Zgłoszenie Pacjenta'!A608))","v":""}]
[{"$f":"IF('Zgłoszenie Pacjenta'!A609=\"\",\"\",Sprawdz_pesel('Zgłoszenie Pacjenta'!A609))","v":""}]
[{"$f":"IF('Zgłoszenie Pacjenta'!A610=\"\",\"\",Sprawdz_pesel('Zgłoszenie Pacjenta'!A610))","v":""}]
[{"$f":"IF('Zgłoszenie Pacjenta'!A611=\"\",\"\",Sprawdz_pesel('Zgłoszenie Pacjenta'!A611))","v":""}]
[{"$f":"IF('Zgłoszenie Pacjenta'!A612=\"\",\"\",Sprawdz_pesel('Zgłoszenie Pacjenta'!A612))","v":""}]
[{"$f":"IF('Zgłoszenie Pacjenta'!A613=\"\",\"\",Sprawdz_pesel('Zgłoszenie Pacjenta'!A613))","v":""}]
[{"$f":"IF('Zgłoszenie Pacjenta'!A614=\"\",\"\",Sprawdz_pesel('Zgłoszenie Pacjenta'!A614))","v":""}]
[{"$f":"IF('Zgłoszenie Pacjenta'!A615=\"\",\"\",Sprawdz_pesel('Zgłoszenie Pacjenta'!A615))","v":""}]
[{"$f":"IF('Zgłoszenie Pacjenta'!A616=\"\",\"\",Sprawdz_pesel('Zgłoszenie Pacjenta'!A616))","v":""}]
[{"$f":"IF('Zgłoszenie Pacjenta'!A617=\"\",\"\",Sprawdz_pesel('Zgłoszenie Pacjenta'!A617))","v":""}]
[{"$f":"IF('Zgłoszenie Pacjenta'!A618=\"\",\"\",Sprawdz_pesel('Zgłoszenie Pacjenta'!A618))","v":""}]
[{"$f":"IF('Zgłoszenie Pacjenta'!A619=\"\",\"\",Sprawdz_pesel('Zgłoszenie Pacjenta'!A619))","v":""}]
[{"$f":"IF('Zgłoszenie Pacjenta'!A620=\"\",\"\",Sprawdz_pesel('Zgłoszenie Pacjenta'!A620))","v":""}]
[{"$f":"IF('Zgłoszenie Pacjenta'!A621=\"\",\"\",Sprawdz_pesel('Zgłoszenie Pacjenta'!A621))","v":""}]
[{"$f":"IF('Zgłoszenie Pacjenta'!A622=\"\",\"\",Sprawdz_pesel('Zgłoszenie Pacjenta'!A622))","v":""}]
[{"$f":"IF('Zgłoszenie Pacjenta'!A623=\"\",\"\",Sprawdz_pesel('Zgłoszenie Pacjenta'!A623))","v":""}]
[{"$f":"IF('Zgłoszenie Pacjenta'!A624=\"\",\"\",Sprawdz_pesel('Zgłoszenie Pacjenta'!A624))","v":""}]
[{"$f":"IF('Zgłoszenie Pacjenta'!A625=\"\",\"\",Sprawdz_pesel('Zgłoszenie Pacjenta'!A625))","v":""}]
[{"$f":"IF('Zgłoszenie Pacjenta'!A626=\"\",\"\",Sprawdz_pesel('Zgłoszenie Pacjenta'!A626))","v":""}]
[{"$f":"IF('Zgłoszenie Pacjenta'!A627=\"\",\"\",Sprawdz_pesel('Zgłoszenie Pacjenta'!A627))","v":""}]
[{"$f":"IF('Zgłoszenie Pacjenta'!A628=\"\",\"\",Sprawdz_pesel('Zgłoszenie Pacjenta'!A628))","v":""}]
[{"$f":"IF('Zgłoszenie Pacjenta'!A629=\"\",\"\",Sprawdz_pesel('Zgłoszenie Pacjenta'!A629))","v":""}]
[{"$f":"IF('Zgłoszenie Pacjenta'!A630=\"\",\"\",Sprawdz_pesel('Zgłoszenie Pacjenta'!A630))","v":""}]
[{"$f":"IF('Zgłoszenie Pacjenta'!A631=\"\",\"\",Sprawdz_pesel('Zgłoszenie Pacjenta'!A631))","v":""}]
[{"$f":"IF('Zgłoszenie Pacjenta'!A632=\"\",\"\",Sprawdz_pesel('Zgłoszenie Pacjenta'!A632))","v":""}]
[{"$f":"IF('Zgłoszenie Pacjenta'!A633=\"\",\"\",Sprawdz_pesel('Zgłoszenie Pacjenta'!A633))","v":""}]
[{"$f":"IF('Zgłoszenie Pacjenta'!A634=\"\",\"\",Sprawdz_pesel('Zgłoszenie Pacjenta'!A634))","v":""}]
[{"$f":"IF('Zgłoszenie Pacjenta'!A635=\"\",\"\",Sprawdz_pesel('Zgłoszenie Pacjenta'!A635))","v":""}]
[{"$f":"IF('Zgłoszenie Pacjenta'!A636=\"\",\"\",Sprawdz_pesel('Zgłoszenie Pacjenta'!A636))","v":""}]
[{"$f":"IF('Zgłoszenie Pacjenta'!A637=\"\",\"\",Sprawdz_pesel('Zgłoszenie Pacjenta'!A637))","v":""}]
[{"$f":"IF('Zgłoszenie Pacjenta'!A638=\"\",\"\",Sprawdz_pesel('Zgłoszenie Pacjenta'!A638))","v":""}]
[{"$f":"IF('Zgłoszenie Pacjenta'!A639=\"\",\"\",Sprawdz_pesel('Zgłoszenie Pacjenta'!A639))","v":""}]
[{"$f":"IF('Zgłoszenie Pacjenta'!A640=\"\",\"\",Sprawdz_pesel('Zgłoszenie Pacjenta'!A640))","v":""}]
[{"$f":"IF('Zgłoszenie Pacjenta'!A641=\"\",\"\",Sprawdz_pesel('Zgłoszenie Pacjenta'!A641))","v":""}]
[{"$f":"IF('Zgłoszenie Pacjenta'!A642=\"\",\"\",Sprawdz_pesel('Zgłoszenie Pacjenta'!A642))","v":""}]
[{"$f":"IF('Zgłoszenie Pacjenta'!A643=\"\",\"\",Sprawdz_pesel('Zgłoszenie Pacjenta'!A643))","v":""}]
[{"$f":"IF('Zgłoszenie Pacjenta'!A644=\"\",\"\",Sprawdz_pesel('Zgłoszenie Pacjenta'!A644))","v":""}]
[{"$f":"IF('Zgłoszenie Pacjenta'!A645=\"\",\"\",Sprawdz_pesel('Zgłoszenie Pacjenta'!A645))","v":""}]
[{"$f":"IF('Zgłoszenie Pacjenta'!A646=\"\",\"\",Sprawdz_pesel('Zgłoszenie Pacjenta'!A646))","v":""}]
[{"$f":"IF('Zgłoszenie Pacjenta'!A647=\"\",\"\",Sprawdz_pesel('Zgłoszenie Pacjenta'!A647))","v":""}]
[{"$f":"IF('Zgłoszenie Pacjenta'!A648=\"\",\"\",Sprawdz_pesel('Zgłoszenie Pacjenta'!A648))","v":""}]
[{"$f":"IF('Zgłoszenie Pacjenta'!A649=\"\",\"\",Sprawdz_pesel('Zgłoszenie Pacjenta'!A649))","v":""}]
[{"$f":"IF('Zgłoszenie Pacjenta'!A650=\"\",\"\",Sprawdz_pesel('Zgłoszenie Pacjenta'!A650))","v":""}]
[{"$f":"IF('Zgłoszenie Pacjenta'!A651=\"\",\"\",Sprawdz_pesel('Zgłoszenie Pacjenta'!A651))","v":""}]
[{"$f":"IF('Zgłoszenie Pacjenta'!A652=\"\",\"\",Sprawdz_pesel('Zgłoszenie Pacjenta'!A652))","v":""}]
[{"$f":"IF('Zgłoszenie Pacjenta'!A653=\"\",\"\",Sprawdz_pesel('Zgłoszenie Pacjenta'!A653))","v":""}]
[{"$f":"IF('Zgłoszenie Pacjenta'!A654=\"\",\"\",Sprawdz_pesel('Zgłoszenie Pacjenta'!A654))","v":""}]
[{"$f":"IF('Zgłoszenie Pacjenta'!A655=\"\",\"\",Sprawdz_pesel('Zgłoszenie Pacjenta'!A655))","v":""}]
[{"$f":"IF('Zgłoszenie Pacjenta'!A656=\"\",\"\",Sprawdz_pesel('Zgłoszenie Pacjenta'!A656))","v":""}]
[{"$f":"IF('Zgłoszenie Pacjenta'!A657=\"\",\"\",Sprawdz_pesel('Zgłoszenie Pacjenta'!A657))","v":""}]
[{"$f":"IF('Zgłoszenie Pacjenta'!A658=\"\",\"\",Sprawdz_pesel('Zgłoszenie Pacjenta'!A658))","v":""}]
[{"$f":"IF('Zgłoszenie Pacjenta'!A659=\"\",\"\",Sprawdz_pesel('Zgłoszenie Pacjenta'!A659))","v":""}]
[{"$f":"IF('Zgłoszenie Pacjenta'!A660=\"\",\"\",Sprawdz_pesel('Zgłoszenie Pacjenta'!A660))","v":""}]
[{"$f":"IF('Zgłoszenie Pacjenta'!A661=\"\",\"\",Sprawdz_pesel('Zgłoszenie Pacjenta'!A661))","v":""}]
[{"$f":"IF('Zgłoszenie Pacjenta'!A662=\"\",\"\",Sprawdz_pesel('Zgłoszenie Pacjenta'!A662))","v":""}]
[{"$f":"IF('Zgłoszenie Pacjenta'!A663=\"\",\"\",Sprawdz_pesel('Zgłoszenie Pacjenta'!A663))","v":""}]
[{"$f":"IF('Zgłoszenie Pacjenta'!A664=\"\",\"\",Sprawdz_pesel('Zgłoszenie Pacjenta'!A664))","v":""}]
[{"$f":"IF('Zgłoszenie Pacjenta'!A665=\"\",\"\",Sprawdz_pesel('Zgłoszenie Pacjenta'!A665))","v":""}]
[{"$f":"IF('Zgłoszenie Pacjenta'!A666=\"\",\"\",Sprawdz_pesel('Zgłoszenie Pacjenta'!A666))","v":""}]
[{"$f":"IF('Zgłoszenie Pacjenta'!A667=\"\",\"\",Sprawdz_pesel('Zgłoszenie Pacjenta'!A667))","v":""}]
[{"$f":"IF('Zgłoszenie Pacjenta'!A668=\"\",\"\",Sprawdz_pesel('Zgłoszenie Pacjenta'!A668))","v":""}]
[{"$f":"IF('Zgłoszenie Pacjenta'!A669=\"\",\"\",Sprawdz_pesel('Zgłoszenie Pacjenta'!A669))","v":""}]
[{"$f":"IF('Zgłoszenie Pacjenta'!A670=\"\",\"\",Sprawdz_pesel('Zgłoszenie Pacjenta'!A670))","v":""}]
[{"$f":"IF('Zgłoszenie Pacjenta'!A671=\"\",\"\",Sprawdz_pesel('Zgłoszenie Pacjenta'!A671))","v":""}]
[{"$f":"IF('Zgłoszenie Pacjenta'!A672=\"\",\"\",Sprawdz_pesel('Zgłoszenie Pacjenta'!A672))","v":""}]
[{"$f":"IF('Zgłoszenie Pacjenta'!A673=\"\",\"\",Sprawdz_pesel('Zgłoszenie Pacjenta'!A673))","v":""}]
[{"$f":"IF('Zgłoszenie Pacjenta'!A674=\"\",\"\",Sprawdz_pesel('Zgłoszenie Pacjenta'!A674))","v":""}]
[{"$f":"IF('Zgłoszenie Pacjenta'!A675=\"\",\"\",Sprawdz_pesel('Zgłoszenie Pacjenta'!A675))","v":""}]
[{"$f":"IF('Zgłoszenie Pacjenta'!A676=\"\",\"\",Sprawdz_pesel('Zgłoszenie Pacjenta'!A676))","v":""}]
[{"$f":"IF('Zgłoszenie Pacjenta'!A677=\"\",\"\",Sprawdz_pesel('Zgłoszenie Pacjenta'!A677))","v":""}]
[{"$f":"IF('Zgłoszenie Pacjenta'!A678=\"\",\"\",Sprawdz_pesel('Zgłoszenie Pacjenta'!A678))","v":""}]
[{"$f":"IF('Zgłoszenie Pacjenta'!A679=\"\",\"\",Sprawdz_pesel('Zgłoszenie Pacjenta'!A679))","v":""}]
[{"$f":"IF('Zgłoszenie Pacjenta'!A680=\"\",\"\",Sprawdz_pesel('Zgłoszenie Pacjenta'!A680))","v":""}]
[{"$f":"IF('Zgłoszenie Pacjenta'!A681=\"\",\"\",Sprawdz_pesel('Zgłoszenie Pacjenta'!A681))","v":""}]
[{"$f":"IF('Zgłoszenie Pacjenta'!A682=\"\",\"\",Sprawdz_pesel('Zgłoszenie Pacjenta'!A682))","v":""}]
[{"$f":"IF('Zgłoszenie Pacjenta'!A683=\"\",\"\",Sprawdz_pesel('Zgłoszenie Pacjenta'!A683))","v":""}]
[{"$f":"IF('Zgłoszenie Pacjenta'!A684=\"\",\"\",Sprawdz_pesel('Zgłoszenie Pacjenta'!A684))","v":""}]
[{"$f":"IF('Zgłoszenie Pacjenta'!A685=\"\",\"\",Sprawdz_pesel('Zgłoszenie Pacjenta'!A685))","v":""}]
[{"$f":"IF('Zgłoszenie Pacjenta'!A686=\"\",\"\",Sprawdz_pesel('Zgłoszenie Pacjenta'!A686))","v":""}]
[{"$f":"IF('Zgłoszenie Pacjenta'!A687=\"\",\"\",Sprawdz_pesel('Zgłoszenie Pacjenta'!A687))","v":""}]
[{"$f":"IF('Zgłoszenie Pacjenta'!A688=\"\",\"\",Sprawdz_pesel('Zgłoszenie Pacjenta'!A688))","v":""}]
[{"$f":"IF('Zgłoszenie Pacjenta'!A689=\"\",\"\",Sprawdz_pesel('Zgłoszenie Pacjenta'!A689))","v":""}]
[{"$f":"IF('Zgłoszenie Pacjenta'!A690=\"\",\"\",Sprawdz_pesel('Zgłoszenie Pacjenta'!A690))","v":""}]
[{"$f":"IF('Zgłoszenie Pacjenta'!A691=\"\",\"\",Sprawdz_pesel('Zgłoszenie Pacjenta'!A691))","v":""}]
[{"$f":"IF('Zgłoszenie Pacjenta'!A692=\"\",\"\",Sprawdz_pesel('Zgłoszenie Pacjenta'!A692))","v":""}]
[{"$f":"IF('Zgłoszenie Pacjenta'!A693=\"\",\"\",Sprawdz_pesel('Zgłoszenie Pacjenta'!A693))","v":""}]
[{"$f":"IF('Zgłoszenie Pacjenta'!A694=\"\",\"\",Sprawdz_pesel('Zgłoszenie Pacjenta'!A694))","v":""}]
[{"$f":"IF('Zgłoszenie Pacjenta'!A695=\"\",\"\",Sprawdz_pesel('Zgłoszenie Pacjenta'!A695))","v":""}]
[{"$f":"IF('Zgłoszenie Pacjenta'!A696=\"\",\"\",Sprawdz_pesel('Zgłoszenie Pacjenta'!A696))","v":""}]
[{"$f":"IF('Zgłoszenie Pacjenta'!A697=\"\",\"\",Sprawdz_pesel('Zgłoszenie Pacjenta'!A697))","v":""}]
[{"$f":"IF('Zgłoszenie Pacjenta'!A698=\"\",\"\",Sprawdz_pesel('Zgłoszenie Pacjenta'!A698))","v":""}]
[{"$f":"IF('Zgłoszenie Pacjenta'!A699=\"\",\"\",Sprawdz_pesel('Zgłoszenie Pacjenta'!A699))","v":""}]
[{"$f":"IF('Zgłoszenie Pacjenta'!A700=\"\",\"\",Sprawdz_pesel('Zgłoszenie Pacjenta'!A700))","v":""}]
[{"$f":"IF('Zgłoszenie Pacjenta'!A701=\"\",\"\",Sprawdz_pesel('Zgłoszenie Pacjenta'!A701))","v":""}]
[{"$f":"IF('Zgłoszenie Pacjenta'!A702=\"\",\"\",Sprawdz_pesel('Zgłoszenie Pacjenta'!A702))","v":""}]
[{"$f":"IF('Zgłoszenie Pacjenta'!A703=\"\",\"\",Sprawdz_pesel('Zgłoszenie Pacjenta'!A703))","v":""}]
[{"$f":"IF('Zgłoszenie Pacjenta'!A704=\"\",\"\",Sprawdz_pesel('Zgłoszenie Pacjenta'!A704))","v":""}]
[{"$f":"IF('Zgłoszenie Pacjenta'!A705=\"\",\"\",Sprawdz_pesel('Zgłoszenie Pacjenta'!A705))","v":""}]
[{"$f":"IF('Zgłoszenie Pacjenta'!A706=\"\",\"\",Sprawdz_pesel('Zgłoszenie Pacjenta'!A706))","v":""}]
[{"$f":"IF('Zgłoszenie Pacjenta'!A707=\"\",\"\",Sprawdz_pesel('Zgłoszenie Pacjenta'!A707))","v":""}]
[{"$f":"IF('Zgłoszenie Pacjenta'!A708=\"\",\"\",Sprawdz_pesel('Zgłoszenie Pacjenta'!A708))","v":""}]
[{"$f":"IF('Zgłoszenie Pacjenta'!A709=\"\",\"\",Sprawdz_pesel('Zgłoszenie Pacjenta'!A709))","v":""}]
[{"$f":"IF('Zgłoszenie Pacjenta'!A710=\"\",\"\",Sprawdz_pesel('Zgłoszenie Pacjenta'!A710))","v":""}]
[{"$f":"IF('Zgłoszenie Pacjenta'!A711=\"\",\"\",Sprawdz_pesel('Zgłoszenie Pacjenta'!A711))","v":""}]
[{"$f":"IF('Zgłoszenie Pacjenta'!A712=\"\",\"\",Sprawdz_pesel('Zgłoszenie Pacjenta'!A712))","v":""}]
[{"$f":"IF('Zgłoszenie Pacjenta'!A713=\"\",\"\",Sprawdz_pesel('Zgłoszenie Pacjenta'!A713))","v":""}]
[{"$f":"IF('Zgłoszenie Pacjenta'!A714=\"\",\"\",Sprawdz_pesel('Zgłoszenie Pacjenta'!A714))","v":""}]
[{"$f":"IF('Zgłoszenie Pacjenta'!A715=\"\",\"\",Sprawdz_pesel('Zgłoszenie Pacjenta'!A715))","v":""}]
[{"$f":"IF('Zgłoszenie Pacjenta'!A716=\"\",\"\",Sprawdz_pesel('Zgłoszenie Pacjenta'!A716))","v":""}]
[{"$f":"IF('Zgłoszenie Pacjenta'!A717=\"\",\"\",Sprawdz_pesel('Zgłoszenie Pacjenta'!A717))","v":""}]
[{"$f":"IF('Zgłoszenie Pacjenta'!A718=\"\",\"\",Sprawdz_pesel('Zgłoszenie Pacjenta'!A718))","v":""}]
[{"$f":"IF('Zgłoszenie Pacjenta'!A719=\"\",\"\",Sprawdz_pesel('Zgłoszenie Pacjenta'!A719))","v":""}]
[{"$f":"IF('Zgłoszenie Pacjenta'!A720=\"\",\"\",Sprawdz_pesel('Zgłoszenie Pacjenta'!A720))","v":""}]
[{"$f":"IF('Zgłoszenie Pacjenta'!A721=\"\",\"\",Sprawdz_pesel('Zgłoszenie Pacjenta'!A721))","v":""}]
[{"$f":"IF('Zgłoszenie Pacjenta'!A722=\"\",\"\",Sprawdz_pesel('Zgłoszenie Pacjenta'!A722))","v":""}]
[{"$f":"IF('Zgłoszenie Pacjenta'!A723=\"\",\"\",Sprawdz_pesel('Zgłoszenie Pacjenta'!A723))","v":""}]
[{"$f":"IF('Zgłoszenie Pacjenta'!A724=\"\",\"\",Sprawdz_pesel('Zgłoszenie Pacjenta'!A724))","v":""}]
[{"$f":"IF('Zgłoszenie Pacjenta'!A725=\"\",\"\",Sprawdz_pesel('Zgłoszenie Pacjenta'!A725))","v":""}]
[{"$f":"IF('Zgłoszenie Pacjenta'!A726=\"\",\"\",Sprawdz_pesel('Zgłoszenie Pacjenta'!A726))","v":""}]
[{"$f":"IF('Zgłoszenie Pacjenta'!A727=\"\",\"\",Sprawdz_pesel('Zgłoszenie Pacjenta'!A727))","v":""}]
[{"$f":"IF('Zgłoszenie Pacjenta'!A728=\"\",\"\",Sprawdz_pesel('Zgłoszenie Pacjenta'!A728))","v":""}]
[{"$f":"IF('Zgłoszenie Pacjenta'!A729=\"\",\"\",Sprawdz_pesel('Zgłoszenie Pacjenta'!A729))","v":""}]
[{"$f":"IF('Zgłoszenie Pacjenta'!A730=\"\",\"\",Sprawdz_pesel('Zgłoszenie Pacjenta'!A730))","v":""}]
[{"$f":"IF('Zgłoszenie Pacjenta'!A731=\"\",\"\",Sprawdz_pesel('Zgłoszenie Pacjenta'!A731))","v":""}]
[{"$f":"IF('Zgłoszenie Pacjenta'!A732=\"\",\"\",Sprawdz_pesel('Zgłoszenie Pacjenta'!A732))","v":""}]
[{"$f":"IF('Zgłoszenie Pacjenta'!A733=\"\",\"\",Sprawdz_pesel('Zgłoszenie Pacjenta'!A733))","v":""}]
[{"$f":"IF('Zgłoszenie Pacjenta'!A734=\"\",\"\",Sprawdz_pesel('Zgłoszenie Pacjenta'!A734))","v":""}]
[{"$f":"IF('Zgłoszenie Pacjenta'!A735=\"\",\"\",Sprawdz_pesel('Zgłoszenie Pacjenta'!A735))","v":""}]
[{"$f":"IF('Zgłoszenie Pacjenta'!A736=\"\",\"\",Sprawdz_pesel('Zgłoszenie Pacjenta'!A736))","v":""}]
[{"$f":"IF('Zgłoszenie Pacjenta'!A737=\"\",\"\",Sprawdz_pesel('Zgłoszenie Pacjenta'!A737))","v":""}]
[{"$f":"IF('Zgłoszenie Pacjenta'!A738=\"\",\"\",Sprawdz_pesel('Zgłoszenie Pacjenta'!A738))","v":""}]
[{"$f":"IF('Zgłoszenie Pacjenta'!A739=\"\",\"\",Sprawdz_pesel('Zgłoszenie Pacjenta'!A739))","v":""}]
[{"$f":"IF('Zgłoszenie Pacjenta'!A740=\"\",\"\",Sprawdz_pesel('Zgłoszenie Pacjenta'!A740))","v":""}]
[{"$f":"IF('Zgłoszenie Pacjenta'!A741=\"\",\"\",Sprawdz_pesel('Zgłoszenie Pacjenta'!A741))","v":""}]
[{"$f":"IF('Zgłoszenie Pacjenta'!A742=\"\",\"\",Sprawdz_pesel('Zgłoszenie Pacjenta'!A742))","v":""}]
[{"$f":"IF('Zgłoszenie Pacjenta'!A743=\"\",\"\",Sprawdz_pesel('Zgłoszenie Pacjenta'!A743))","v":""}]
[{"$f":"IF('Zgłoszenie Pacjenta'!A744=\"\",\"\",Sprawdz_pesel('Zgłoszenie Pacjenta'!A744))","v":""}]
[{"$f":"IF('Zgłoszenie Pacjenta'!A745=\"\",\"\",Sprawdz_pesel('Zgłoszenie Pacjenta'!A745))","v":""}]
[{"$f":"IF('Zgłoszenie Pacjenta'!A746=\"\",\"\",Sprawdz_pesel('Zgłoszenie Pacjenta'!A746))","v":""}]
[{"$f":"IF('Zgłoszenie Pacjenta'!A747=\"\",\"\",Sprawdz_pesel('Zgłoszenie Pacjenta'!A747))","v":""}]
[{"$f":"IF('Zgłoszenie Pacjenta'!A748=\"\",\"\",Sprawdz_pesel('Zgłoszenie Pacjenta'!A748))","v":""}]
[{"$f":"IF('Zgłoszenie Pacjenta'!A749=\"\",\"\",Sprawdz_pesel('Zgłoszenie Pacjenta'!A749))","v":""}]
[{"$f":"IF('Zgłoszenie Pacjenta'!A750=\"\",\"\",Sprawdz_pesel('Zgłoszenie Pacjenta'!A750))","v":""}]
[{"$f":"IF('Zgłoszenie Pacjenta'!A751=\"\",\"\",Sprawdz_pesel('Zgłoszenie Pacjenta'!A751))","v":""}]
[{"$f":"IF('Zgłoszenie Pacjenta'!A752=\"\",\"\",Sprawdz_pesel('Zgłoszenie Pacjenta'!A752))","v":""}]
[{"$f":"IF('Zgłoszenie Pacjenta'!A753=\"\",\"\",Sprawdz_pesel('Zgłoszenie Pacjenta'!A753))","v":""}]
[{"$f":"IF('Zgłoszenie Pacjenta'!A754=\"\",\"\",Sprawdz_pesel('Zgłoszenie Pacjenta'!A754))","v":""}]
[{"$f":"IF('Zgłoszenie Pacjenta'!A755=\"\",\"\",Sprawdz_pesel('Zgłoszenie Pacjenta'!A755))","v":""}]
[{"$f":"IF('Zgłoszenie Pacjenta'!A756=\"\",\"\",Sprawdz_pesel('Zgłoszenie Pacjenta'!A756))","v":""}]
[{"$f":"IF('Zgłoszenie Pacjenta'!A757=\"\",\"\",Sprawdz_pesel('Zgłoszenie Pacjenta'!A757))","v":""}]
[{"$f":"IF('Zgłoszenie Pacjenta'!A758=\"\",\"\",Sprawdz_pesel('Zgłoszenie Pacjenta'!A758))","v":""}]
[{"$f":"IF('Zgłoszenie Pacjenta'!A759=\"\",\"\",Sprawdz_pesel('Zgłoszenie Pacjenta'!A759))","v":""}]
[{"$f":"IF('Zgłoszenie Pacjenta'!A760=\"\",\"\",Sprawdz_pesel('Zgłoszenie Pacjenta'!A760))","v":""}]
[{"$f":"IF('Zgłoszenie Pacjenta'!A761=\"\",\"\",Sprawdz_pesel('Zgłoszenie Pacjenta'!A761))","v":""}]
[{"$f":"IF('Zgłoszenie Pacjenta'!A762=\"\",\"\",Sprawdz_pesel('Zgłoszenie Pacjenta'!A762))","v":""}]
[{"$f":"IF('Zgłoszenie Pacjenta'!A763=\"\",\"\",Sprawdz_pesel('Zgłoszenie Pacjenta'!A763))","v":""}]
[{"$f":"IF('Zgłoszenie Pacjenta'!A764=\"\",\"\",Sprawdz_pesel('Zgłoszenie Pacjenta'!A764))","v":""}]
[{"$f":"IF('Zgłoszenie Pacjenta'!A765=\"\",\"\",Sprawdz_pesel('Zgłoszenie Pacjenta'!A765))","v":""}]
[{"$f":"IF('Zgłoszenie Pacjenta'!A766=\"\",\"\",Sprawdz_pesel('Zgłoszenie Pacjenta'!A766))","v":""}]
[{"$f":"IF('Zgłoszenie Pacjenta'!A767=\"\",\"\",Sprawdz_pesel('Zgłoszenie Pacjenta'!A767))","v":""}]
[{"$f":"IF('Zgłoszenie Pacjenta'!A768=\"\",\"\",Sprawdz_pesel('Zgłoszenie Pacjenta'!A768))","v":""}]
[{"$f":"IF('Zgłoszenie Pacjenta'!A769=\"\",\"\",Sprawdz_pesel('Zgłoszenie Pacjenta'!A769))","v":""}]
[{"$f":"IF('Zgłoszenie Pacjenta'!A770=\"\",\"\",Sprawdz_pesel('Zgłoszenie Pacjenta'!A770))","v":""}]
[{"$f":"IF('Zgłoszenie Pacjenta'!A771=\"\",\"\",Sprawdz_pesel('Zgłoszenie Pacjenta'!A771))","v":""}]
[{"$f":"IF('Zgłoszenie Pacjenta'!A772=\"\",\"\",Sprawdz_pesel('Zgłoszenie Pacjenta'!A772))","v":""}]
[{"$f":"IF('Zgłoszenie Pacjenta'!A773=\"\",\"\",Sprawdz_pesel('Zgłoszenie Pacjenta'!A773))","v":""}]
[{"$f":"IF('Zgłoszenie Pacjenta'!A774=\"\",\"\",Sprawdz_pesel('Zgłoszenie Pacjenta'!A774))","v":""}]
[{"$f":"IF('Zgłoszenie Pacjenta'!A775=\"\",\"\",Sprawdz_pesel('Zgłoszenie Pacjenta'!A775))","v":""}]
[{"$f":"IF('Zgłoszenie Pacjenta'!A776=\"\",\"\",Sprawdz_pesel('Zgłoszenie Pacjenta'!A776))","v":""}]
[{"$f":"IF('Zgłoszenie Pacjenta'!A777=\"\",\"\",Sprawdz_pesel('Zgłoszenie Pacjenta'!A777))","v":""}]
[{"$f":"IF('Zgłoszenie Pacjenta'!A778=\"\",\"\",Sprawdz_pesel('Zgłoszenie Pacjenta'!A778))","v":""}]
[{"$f":"IF('Zgłoszenie Pacjenta'!A779=\"\",\"\",Sprawdz_pesel('Zgłoszenie Pacjenta'!A779))","v":""}]
[{"$f":"IF('Zgłoszenie Pacjenta'!A780=\"\",\"\",Sprawdz_pesel('Zgłoszenie Pacjenta'!A780))","v":""}]
[{"$f":"IF('Zgłoszenie Pacjenta'!A781=\"\",\"\",Sprawdz_pesel('Zgłoszenie Pacjenta'!A781))","v":""}]
[{"$f":"IF('Zgłoszenie Pacjenta'!A782=\"\",\"\",Sprawdz_pesel('Zgłoszenie Pacjenta'!A782))","v":""}]
[{"$f":"IF('Zgłoszenie Pacjenta'!A783=\"\",\"\",Sprawdz_pesel('Zgłoszenie Pacjenta'!A783))","v":""}]
[{"$f":"IF('Zgłoszenie Pacjenta'!A784=\"\",\"\",Sprawdz_pesel('Zgłoszenie Pacjenta'!A784))","v":""}]
[{"$f":"IF('Zgłoszenie Pacjenta'!A785=\"\",\"\",Sprawdz_pesel('Zgłoszenie Pacjenta'!A785))","v":""}]
[{"$f":"IF('Zgłoszenie Pacjenta'!A786=\"\",\"\",Sprawdz_pesel('Zgłoszenie Pacjenta'!A786))","v":""}]
[{"$f":"IF('Zgłoszenie Pacjenta'!A787=\"\",\"\",Sprawdz_pesel('Zgłoszenie Pacjenta'!A787))","v":""}]
[{"$f":"IF('Zgłoszenie Pacjenta'!A788=\"\",\"\",Sprawdz_pesel('Zgłoszenie Pacjenta'!A788))","v":""}]
[{"$f":"IF('Zgłoszenie Pacjenta'!A789=\"\",\"\",Sprawdz_pesel('Zgłoszenie Pacjenta'!A789))","v":""}]
[{"$f":"IF('Zgłoszenie Pacjenta'!A790=\"\",\"\",Sprawdz_pesel('Zgłoszenie Pacjenta'!A790))","v":""}]
[{"$f":"IF('Zgłoszenie Pacjenta'!A791=\"\",\"\",Sprawdz_pesel('Zgłoszenie Pacjenta'!A791))","v":""}]
[{"$f":"IF('Zgłoszenie Pacjenta'!A792=\"\",\"\",Sprawdz_pesel('Zgłoszenie Pacjenta'!A792))","v":""}]
[{"$f":"IF('Zgłoszenie Pacjenta'!A793=\"\",\"\",Sprawdz_pesel('Zgłoszenie Pacjenta'!A793))","v":""}]
[{"$f":"IF('Zgłoszenie Pacjenta'!A794=\"\",\"\",Sprawdz_pesel('Zgłoszenie Pacjenta'!A794))","v":""}]
[{"$f":"IF('Zgłoszenie Pacjenta'!A795=\"\",\"\",Sprawdz_pesel('Zgłoszenie Pacjenta'!A795))","v":""}]
[{"$f":"IF('Zgłoszenie Pacjenta'!A796=\"\",\"\",Sprawdz_pesel('Zgłoszenie Pacjenta'!A796))","v":""}]
[{"$f":"IF('Zgłoszenie Pacjenta'!A797=\"\",\"\",Sprawdz_pesel('Zgłoszenie Pacjenta'!A797))","v":""}]
[{"$f":"IF('Zgłoszenie Pacjenta'!A798=\"\",\"\",Sprawdz_pesel('Zgłoszenie Pacjenta'!A798))","v":""}]
[{"$f":"IF('Zgłoszenie Pacjenta'!A799=\"\",\"\",Sprawdz_pesel('Zgłoszenie Pacjenta'!A799))","v":""}]
[{"$f":"IF('Zgłoszenie Pacjenta'!A800=\"\",\"\",Sprawdz_pesel('Zgłoszenie Pacjenta'!A800))","v":""}]
[{"$f":"IF('Zgłoszenie Pacjenta'!A801=\"\",\"\",Sprawdz_pesel('Zgłoszenie Pacjenta'!A801))","v":""}]
[{"$f":"IF('Zgłoszenie Pacjenta'!A802=\"\",\"\",Sprawdz_pesel('Zgłoszenie Pacjenta'!A802))","v":""}]
[{"$f":"IF('Zgłoszenie Pacjenta'!A803=\"\",\"\",Sprawdz_pesel('Zgłoszenie Pacjenta'!A803))","v":""}]
[{"$f":"IF('Zgłoszenie Pacjenta'!A804=\"\",\"\",Sprawdz_pesel('Zgłoszenie Pacjenta'!A804))","v":""}]
[{"$f":"IF('Zgłoszenie Pacjenta'!A805=\"\",\"\",Sprawdz_pesel('Zgłoszenie Pacjenta'!A805))","v":""}]
[{"$f":"IF('Zgłoszenie Pacjenta'!A806=\"\",\"\",Sprawdz_pesel('Zgłoszenie Pacjenta'!A806))","v":""}]
[{"$f":"IF('Zgłoszenie Pacjenta'!A807=\"\",\"\",Sprawdz_pesel('Zgłoszenie Pacjenta'!A807))","v":""}]
[{"$f":"IF('Zgłoszenie Pacjenta'!A808=\"\",\"\",Sprawdz_pesel('Zgłoszenie Pacjenta'!A808))","v":""}]
[{"$f":"IF('Zgłoszenie Pacjenta'!A809=\"\",\"\",Sprawdz_pesel('Zgłoszenie Pacjenta'!A809))","v":""}]
[{"$f":"IF('Zgłoszenie Pacjenta'!A810=\"\",\"\",Sprawdz_pesel('Zgłoszenie Pacjenta'!A810))","v":""}]
[{"$f":"IF('Zgłoszenie Pacjenta'!A811=\"\",\"\",Sprawdz_pesel('Zgłoszenie Pacjenta'!A811))","v":""}]
[{"$f":"IF('Zgłoszenie Pacjenta'!A812=\"\",\"\",Sprawdz_pesel('Zgłoszenie Pacjenta'!A812))","v":""}]
[{"$f":"IF('Zgłoszenie Pacjenta'!A813=\"\",\"\",Sprawdz_pesel('Zgłoszenie Pacjenta'!A813))","v":""}]
[{"$f":"IF('Zgłoszenie Pacjenta'!A814=\"\",\"\",Sprawdz_pesel('Zgłoszenie Pacjenta'!A814))","v":""}]
[{"$f":"IF('Zgłoszenie Pacjenta'!A815=\"\",\"\",Sprawdz_pesel('Zgłoszenie Pacjenta'!A815))","v":""}]
[{"$f":"IF('Zgłoszenie Pacjenta'!A816=\"\",\"\",Sprawdz_pesel('Zgłoszenie Pacjenta'!A816))","v":""}]
[{"$f":"IF('Zgłoszenie Pacjenta'!A817=\"\",\"\",Sprawdz_pesel('Zgłoszenie Pacjenta'!A817))","v":""}]
[{"$f":"IF('Zgłoszenie Pacjenta'!A818=\"\",\"\",Sprawdz_pesel('Zgłoszenie Pacjenta'!A818))","v":""}]
[{"$f":"IF('Zgłoszenie Pacjenta'!A819=\"\",\"\",Sprawdz_pesel('Zgłoszenie Pacjenta'!A819))","v":""}]
[{"$f":"IF('Zgłoszenie Pacjenta'!A820=\"\",\"\",Sprawdz_pesel('Zgłoszenie Pacjenta'!A820))","v":""}]
[{"$f":"IF('Zgłoszenie Pacjenta'!A821=\"\",\"\",Sprawdz_pesel('Zgłoszenie Pacjenta'!A821))","v":""}]
[{"$f":"IF('Zgłoszenie Pacjenta'!A822=\"\",\"\",Sprawdz_pesel('Zgłoszenie Pacjenta'!A822))","v":""}]
[{"$f":"IF('Zgłoszenie Pacjenta'!A823=\"\",\"\",Sprawdz_pesel('Zgłoszenie Pacjenta'!A823))","v":""}]
[{"$f":"IF('Zgłoszenie Pacjenta'!A824=\"\",\"\",Sprawdz_pesel('Zgłoszenie Pacjenta'!A824))","v":""}]
[{"$f":"IF('Zgłoszenie Pacjenta'!A825=\"\",\"\",Sprawdz_pesel('Zgłoszenie Pacjenta'!A825))","v":""}]
[{"$f":"IF('Zgłoszenie Pacjenta'!A826=\"\",\"\",Sprawdz_pesel('Zgłoszenie Pacjenta'!A826))","v":""}]
[{"$f":"IF('Zgłoszenie Pacjenta'!A827=\"\",\"\",Sprawdz_pesel('Zgłoszenie Pacjenta'!A827))","v":""}]
[{"$f":"IF('Zgłoszenie Pacjenta'!A828=\"\",\"\",Sprawdz_pesel('Zgłoszenie Pacjenta'!A828))","v":""}]
[{"$f":"IF('Zgłoszenie Pacjenta'!A829=\"\",\"\",Sprawdz_pesel('Zgłoszenie Pacjenta'!A829))","v":""}]
[{"$f":"IF('Zgłoszenie Pacjenta'!A830=\"\",\"\",Sprawdz_pesel('Zgłoszenie Pacjenta'!A830))","v":""}]
[{"$f":"IF('Zgłoszenie Pacjenta'!A831=\"\",\"\",Sprawdz_pesel('Zgłoszenie Pacjenta'!A831))","v":""}]
[{"$f":"IF('Zgłoszenie Pacjenta'!A832=\"\",\"\",Sprawdz_pesel('Zgłoszenie Pacjenta'!A832))","v":""}]
[{"$f":"IF('Zgłoszenie Pacjenta'!A833=\"\",\"\",Sprawdz_pesel('Zgłoszenie Pacjenta'!A833))","v":""}]
[{"$f":"IF('Zgłoszenie Pacjenta'!A834=\"\",\"\",Sprawdz_pesel('Zgłoszenie Pacjenta'!A834))","v":""}]
[{"$f":"IF('Zgłoszenie Pacjenta'!A835=\"\",\"\",Sprawdz_pesel('Zgłoszenie Pacjenta'!A835))","v":""}]
[{"$f":"IF('Zgłoszenie Pacjenta'!A836=\"\",\"\",Sprawdz_pesel('Zgłoszenie Pacjenta'!A836))","v":""}]
[{"$f":"IF('Zgłoszenie Pacjenta'!A837=\"\",\"\",Sprawdz_pesel('Zgłoszenie Pacjenta'!A837))","v":""}]
[{"$f":"IF('Zgłoszenie Pacjenta'!A838=\"\",\"\",Sprawdz_pesel('Zgłoszenie Pacjenta'!A838))","v":""}]
[{"$f":"IF('Zgłoszenie Pacjenta'!A839=\"\",\"\",Sprawdz_pesel('Zgłoszenie Pacjenta'!A839))","v":""}]
[{"$f":"IF('Zgłoszenie Pacjenta'!A840=\"\",\"\",Sprawdz_pesel('Zgłoszenie Pacjenta'!A840))","v":""}]
[{"$f":"IF('Zgłoszenie Pacjenta'!A841=\"\",\"\",Sprawdz_pesel('Zgłoszenie Pacjenta'!A841))","v":""}]
[{"$f":"IF('Zgłoszenie Pacjenta'!A842=\"\",\"\",Sprawdz_pesel('Zgłoszenie Pacjenta'!A842))","v":""}]
[{"$f":"IF('Zgłoszenie Pacjenta'!A843=\"\",\"\",Sprawdz_pesel('Zgłoszenie Pacjenta'!A843))","v":""}]
[{"$f":"IF('Zgłoszenie Pacjenta'!A844=\"\",\"\",Sprawdz_pesel('Zgłoszenie Pacjenta'!A844))","v":""}]
[{"$f":"IF('Zgłoszenie Pacjenta'!A845=\"\",\"\",Sprawdz_pesel('Zgłoszenie Pacjenta'!A845))","v":""}]
[{"$f":"IF('Zgłoszenie Pacjenta'!A846=\"\",\"\",Sprawdz_pesel('Zgłoszenie Pacjenta'!A846))","v":""}]
[{"$f":"IF('Zgłoszenie Pacjenta'!A847=\"\",\"\",Sprawdz_pesel('Zgłoszenie Pacjenta'!A847))","v":""}]
[{"$f":"IF('Zgłoszenie Pacjenta'!A848=\"\",\"\",Sprawdz_pesel('Zgłoszenie Pacjenta'!A848))","v":""}]
[{"$f":"IF('Zgłoszenie Pacjenta'!A849=\"\",\"\",Sprawdz_pesel('Zgłoszenie Pacjenta'!A849))","v":""}]
[{"$f":"IF('Zgłoszenie Pacjenta'!A850=\"\",\"\",Sprawdz_pesel('Zgłoszenie Pacjenta'!A850))","v":""}]
[{"$f":"IF('Zgłoszenie Pacjenta'!A851=\"\",\"\",Sprawdz_pesel('Zgłoszenie Pacjenta'!A851))","v":""}]
[{"$f":"IF('Zgłoszenie Pacjenta'!A852=\"\",\"\",Sprawdz_pesel('Zgłoszenie Pacjenta'!A852))","v":""}]
[{"$f":"IF('Zgłoszenie Pacjenta'!A853=\"\",\"\",Sprawdz_pesel('Zgłoszenie Pacjenta'!A853))","v":""}]
[{"$f":"IF('Zgłoszenie Pacjenta'!A854=\"\",\"\",Sprawdz_pesel('Zgłoszenie Pacjenta'!A854))","v":""}]
[{"$f":"IF('Zgłoszenie Pacjenta'!A855=\"\",\"\",Sprawdz_pesel('Zgłoszenie Pacjenta'!A855))","v":""}]
[{"$f":"IF('Zgłoszenie Pacjenta'!A856=\"\",\"\",Sprawdz_pesel('Zgłoszenie Pacjenta'!A856))","v":""}]
[{"$f":"IF('Zgłoszenie Pacjenta'!A857=\"\",\"\",Sprawdz_pesel('Zgłoszenie Pacjenta'!A857))","v":""}]
[{"$f":"IF('Zgłoszenie Pacjenta'!A858=\"\",\"\",Sprawdz_pesel('Zgłoszenie Pacjenta'!A858))","v":""}]
[{"$f":"IF('Zgłoszenie Pacjenta'!A859=\"\",\"\",Sprawdz_pesel('Zgłoszenie Pacjenta'!A859))","v":""}]
[{"$f":"IF('Zgłoszenie Pacjenta'!A860=\"\",\"\",Sprawdz_pesel('Zgłoszenie Pacjenta'!A860))","v":""}]
[{"$f":"IF('Zgłoszenie Pacjenta'!A861=\"\",\"\",Sprawdz_pesel('Zgłoszenie Pacjenta'!A861))","v":""}]
[{"$f":"IF('Zgłoszenie Pacjenta'!A862=\"\",\"\",Sprawdz_pesel('Zgłoszenie Pacjenta'!A862))","v":""}]
[{"$f":"IF('Zgłoszenie Pacjenta'!A863=\"\",\"\",Sprawdz_pesel('Zgłoszenie Pacjenta'!A863))","v":""}]
[{"$f":"IF('Zgłoszenie Pacjenta'!A864=\"\",\"\",Sprawdz_pesel('Zgłoszenie Pacjenta'!A864))","v":""}]
[{"$f":"IF('Zgłoszenie Pacjenta'!A865=\"\",\"\",Sprawdz_pesel('Zgłoszenie Pacjenta'!A865))","v":""}]
[{"$f":"IF('Zgłoszenie Pacjenta'!A866=\"\",\"\",Sprawdz_pesel('Zgłoszenie Pacjenta'!A866))","v":""}]
[{"$f":"IF('Zgłoszenie Pacjenta'!A867=\"\",\"\",Sprawdz_pesel('Zgłoszenie Pacjenta'!A867))","v":""}]
[{"$f":"IF('Zgłoszenie Pacjenta'!A868=\"\",\"\",Sprawdz_pesel('Zgłoszenie Pacjenta'!A868))","v":""}]
[{"$f":"IF('Zgłoszenie Pacjenta'!A869=\"\",\"\",Sprawdz_pesel('Zgłoszenie Pacjenta'!A869))","v":""}]
[{"$f":"IF('Zgłoszenie Pacjenta'!A870=\"\",\"\",Sprawdz_pesel('Zgłoszenie Pacjenta'!A870))","v":""}]
[{"$f":"IF('Zgłoszenie Pacjenta'!A871=\"\",\"\",Sprawdz_pesel('Zgłoszenie Pacjenta'!A871))","v":""}]
[{"$f":"IF('Zgłoszenie Pacjenta'!A872=\"\",\"\",Sprawdz_pesel('Zgłoszenie Pacjenta'!A872))","v":""}]
[{"$f":"IF('Zgłoszenie Pacjenta'!A873=\"\",\"\",Sprawdz_pesel('Zgłoszenie Pacjenta'!A873))","v":""}]
[{"$f":"IF('Zgłoszenie Pacjenta'!A874=\"\",\"\",Sprawdz_pesel('Zgłoszenie Pacjenta'!A874))","v":""}]
[{"$f":"IF('Zgłoszenie Pacjenta'!A875=\"\",\"\",Sprawdz_pesel('Zgłoszenie Pacjenta'!A875))","v":""}]
[{"$f":"IF('Zgłoszenie Pacjenta'!A876=\"\",\"\",Sprawdz_pesel('Zgłoszenie Pacjenta'!A876))","v":""}]
[{"$f":"IF('Zgłoszenie Pacjenta'!A877=\"\",\"\",Sprawdz_pesel('Zgłoszenie Pacjenta'!A877))","v":""}]
[{"$f":"IF('Zgłoszenie Pacjenta'!A878=\"\",\"\",Sprawdz_pesel('Zgłoszenie Pacjenta'!A878))","v":""}]
[{"$f":"IF('Zgłoszenie Pacjenta'!A879=\"\",\"\",Sprawdz_pesel('Zgłoszenie Pacjenta'!A879))","v":""}]
[{"$f":"IF('Zgłoszenie Pacjenta'!A880=\"\",\"\",Sprawdz_pesel('Zgłoszenie Pacjenta'!A880))","v":""}]
[{"$f":"IF('Zgłoszenie Pacjenta'!A881=\"\",\"\",Sprawdz_pesel('Zgłoszenie Pacjenta'!A881))","v":""}]
[{"$f":"IF('Zgłoszenie Pacjenta'!A882=\"\",\"\",Sprawdz_pesel('Zgłoszenie Pacjenta'!A882))","v":""}]
[{"$f":"IF('Zgłoszenie Pacjenta'!A883=\"\",\"\",Sprawdz_pesel('Zgłoszenie Pacjenta'!A883))","v":""}]
[{"$f":"IF('Zgłoszenie Pacjenta'!A884=\"\",\"\",Sprawdz_pesel('Zgłoszenie Pacjenta'!A884))","v":""}]
[{"$f":"IF('Zgłoszenie Pacjenta'!A885=\"\",\"\",Sprawdz_pesel('Zgłoszenie Pacjenta'!A885))","v":""}]
[{"$f":"IF('Zgłoszenie Pacjenta'!A886=\"\",\"\",Sprawdz_pesel('Zgłoszenie Pacjenta'!A886))","v":""}]
[{"$f":"IF('Zgłoszenie Pacjenta'!A887=\"\",\"\",Sprawdz_pesel('Zgłoszenie Pacjenta'!A887))","v":""}]
[{"$f":"IF('Zgłoszenie Pacjenta'!A888=\"\",\"\",Sprawdz_pesel('Zgłoszenie Pacjenta'!A888))","v":""}]
[{"$f":"IF('Zgłoszenie Pacjenta'!A889=\"\",\"\",Sprawdz_pesel('Zgłoszenie Pacjenta'!A889))","v":""}]
[{"$f":"IF('Zgłoszenie Pacjenta'!A890=\"\",\"\",Sprawdz_pesel('Zgłoszenie Pacjenta'!A890))","v":""}]
[{"$f":"IF('Zgłoszenie Pacjenta'!A891=\"\",\"\",Sprawdz_pesel('Zgłoszenie Pacjenta'!A891))","v":""}]
[{"$f":"IF('Zgłoszenie Pacjenta'!A892=\"\",\"\",Sprawdz_pesel('Zgłoszenie Pacjenta'!A892))","v":""}]
[{"$f":"IF('Zgłoszenie Pacjenta'!A893=\"\",\"\",Sprawdz_pesel('Zgłoszenie Pacjenta'!A893))","v":""}]
[{"$f":"IF('Zgłoszenie Pacjenta'!A894=\"\",\"\",Sprawdz_pesel('Zgłoszenie Pacjenta'!A894))","v":""}]
[{"$f":"IF('Zgłoszenie Pacjenta'!A895=\"\",\"\",Sprawdz_pesel('Zgłoszenie Pacjenta'!A895))","v":""}]
[{"$f":"IF('Zgłoszenie Pacjenta'!A896=\"\",\"\",Sprawdz_pesel('Zgłoszenie Pacjenta'!A896))","v":""}]
[{"$f":"IF('Zgłoszenie Pacjenta'!A897=\"\",\"\",Sprawdz_pesel('Zgłoszenie Pacjenta'!A897))","v":""}]
[{"$f":"IF('Zgłoszenie Pacjenta'!A898=\"\",\"\",Sprawdz_pesel('Zgłoszenie Pacjenta'!A898))","v":""}]
[{"$f":"IF('Zgłoszenie Pacjenta'!A899=\"\",\"\",Sprawdz_pesel('Zgłoszenie Pacjenta'!A899))","v":""}]
[{"$f":"IF('Zgłoszenie Pacjenta'!A900=\"\",\"\",Sprawdz_pesel('Zgłoszenie Pacjenta'!A900))","v":""}]
[{"$f":"IF('Zgłoszenie Pacjenta'!A901=\"\",\"\",Sprawdz_pesel('Zgłoszenie Pacjenta'!A901))","v":""}]
[{"$f":"IF('Zgłoszenie Pacjenta'!A902=\"\",\"\",Sprawdz_pesel('Zgłoszenie Pacjenta'!A902))","v":""}]
[{"$f":"IF('Zgłoszenie Pacjenta'!A903=\"\",\"\",Sprawdz_pesel('Zgłoszenie Pacjenta'!A903))","v":""}]
[{"$f":"IF('Zgłoszenie Pacjenta'!A904=\"\",\"\",Sprawdz_pesel('Zgłoszenie Pacjenta'!A904))","v":""}]
[{"$f":"IF('Zgłoszenie Pacjenta'!A905=\"\",\"\",Sprawdz_pesel('Zgłoszenie Pacjenta'!A905))","v":""}]
[{"$f":"IF('Zgłoszenie Pacjenta'!A906=\"\",\"\",Sprawdz_pesel('Zgłoszenie Pacjenta'!A906))","v":""}]
[{"$f":"IF('Zgłoszenie Pacjenta'!A907=\"\",\"\",Sprawdz_pesel('Zgłoszenie Pacjenta'!A907))","v":""}]
[{"$f":"IF('Zgłoszenie Pacjenta'!A908=\"\",\"\",Sprawdz_pesel('Zgłoszenie Pacjenta'!A908))","v":""}]
[{"$f":"IF('Zgłoszenie Pacjenta'!A909=\"\",\"\",Sprawdz_pesel('Zgłoszenie Pacjenta'!A909))","v":""}]
[{"$f":"IF('Zgłoszenie Pacjenta'!A910=\"\",\"\",Sprawdz_pesel('Zgłoszenie Pacjenta'!A910))","v":""}]
[{"$f":"IF('Zgłoszenie Pacjenta'!A911=\"\",\"\",Sprawdz_pesel('Zgłoszenie Pacjenta'!A911))","v":""}]
[{"$f":"IF('Zgłoszenie Pacjenta'!A912=\"\",\"\",Sprawdz_pesel('Zgłoszenie Pacjenta'!A912))","v":""}]
[{"$f":"IF('Zgłoszenie Pacjenta'!A913=\"\",\"\",Sprawdz_pesel('Zgłoszenie Pacjenta'!A913))","v":""}]
[{"$f":"IF('Zgłoszenie Pacjenta'!A914=\"\",\"\",Sprawdz_pesel('Zgłoszenie Pacjenta'!A914))","v":""}]
[{"$f":"IF('Zgłoszenie Pacjenta'!A915=\"\",\"\",Sprawdz_pesel('Zgłoszenie Pacjenta'!A915))","v":""}]
[{"$f":"IF('Zgłoszenie Pacjenta'!A916=\"\",\"\",Sprawdz_pesel('Zgłoszenie Pacjenta'!A916))","v":""}]
[{"$f":"IF('Zgłoszenie Pacjenta'!A917=\"\",\"\",Sprawdz_pesel('Zgłoszenie Pacjenta'!A917))","v":""}]
[{"$f":"IF('Zgłoszenie Pacjenta'!A918=\"\",\"\",Sprawdz_pesel('Zgłoszenie Pacjenta'!A918))","v":""}]
[{"$f":"IF('Zgłoszenie Pacjenta'!A919=\"\",\"\",Sprawdz_pesel('Zgłoszenie Pacjenta'!A919))","v":""}]
[{"$f":"IF('Zgłoszenie Pacjenta'!A920=\"\",\"\",Sprawdz_pesel('Zgłoszenie Pacjenta'!A920))","v":""}]
[{"$f":"IF('Zgłoszenie Pacjenta'!A921=\"\",\"\",Sprawdz_pesel('Zgłoszenie Pacjenta'!A921))","v":""}]
[{"$f":"IF('Zgłoszenie Pacjenta'!A922=\"\",\"\",Sprawdz_pesel('Zgłoszenie Pacjenta'!A922))","v":""}]
[{"$f":"IF('Zgłoszenie Pacjenta'!A923=\"\",\"\",Sprawdz_pesel('Zgłoszenie Pacjenta'!A923))","v":""}]
[{"$f":"IF('Zgłoszenie Pacjenta'!A924=\"\",\"\",Sprawdz_pesel('Zgłoszenie Pacjenta'!A924))","v":""}]
[{"$f":"IF('Zgłoszenie Pacjenta'!A925=\"\",\"\",Sprawdz_pesel('Zgłoszenie Pacjenta'!A925))","v":""}]
[{"$f":"IF('Zgłoszenie Pacjenta'!A926=\"\",\"\",Sprawdz_pesel('Zgłoszenie Pacjenta'!A926))","v":""}]
[{"$f":"IF('Zgłoszenie Pacjenta'!A927=\"\",\"\",Sprawdz_pesel('Zgłoszenie Pacjenta'!A927))","v":""}]
[{"$f":"IF('Zgłoszenie Pacjenta'!A928=\"\",\"\",Sprawdz_pesel('Zgłoszenie Pacjenta'!A928))","v":""}]
[{"$f":"IF('Zgłoszenie Pacjenta'!A929=\"\",\"\",Sprawdz_pesel('Zgłoszenie Pacjenta'!A929))","v":""}]
[{"$f":"IF('Zgłoszenie Pacjenta'!A930=\"\",\"\",Sprawdz_pesel('Zgłoszenie Pacjenta'!A930))","v":""}]
[{"$f":"IF('Zgłoszenie Pacjenta'!A931=\"\",\"\",Sprawdz_pesel('Zgłoszenie Pacjenta'!A931))","v":""}]
[{"$f":"IF('Zgłoszenie Pacjenta'!A932=\"\",\"\",Sprawdz_pesel('Zgłoszenie Pacjenta'!A932))","v":""}]
[{"$f":"IF('Zgłoszenie Pacjenta'!A933=\"\",\"\",Sprawdz_pesel('Zgłoszenie Pacjenta'!A933))","v":""}]
[{"$f":"IF('Zgłoszenie Pacjenta'!A934=\"\",\"\",Sprawdz_pesel('Zgłoszenie Pacjenta'!A934))","v":""}]
[{"$f":"IF('Zgłoszenie Pacjenta'!A935=\"\",\"\",Sprawdz_pesel('Zgłoszenie Pacjenta'!A935))","v":""}]
[{"$f":"IF('Zgłoszenie Pacjenta'!A936=\"\",\"\",Sprawdz_pesel('Zgłoszenie Pacjenta'!A936))","v":""}]
[{"$f":"IF('Zgłoszenie Pacjenta'!A937=\"\",\"\",Sprawdz_pesel('Zgłoszenie Pacjenta'!A937))","v":""}]
[{"$f":"IF('Zgłoszenie Pacjenta'!A938=\"\",\"\",Sprawdz_pesel('Zgłoszenie Pacjenta'!A938))","v":""}]
[{"$f":"IF('Zgłoszenie Pacjenta'!A939=\"\",\"\",Sprawdz_pesel('Zgłoszenie Pacjenta'!A939))","v":""}]
[{"$f":"IF('Zgłoszenie Pacjenta'!A940=\"\",\"\",Sprawdz_pesel('Zgłoszenie Pacjenta'!A940))","v":""}]
[{"$f":"IF('Zgłoszenie Pacjenta'!A941=\"\",\"\",Sprawdz_pesel('Zgłoszenie Pacjenta'!A941))","v":""}]
[{"$f":"IF('Zgłoszenie Pacjenta'!A942=\"\",\"\",Sprawdz_pesel('Zgłoszenie Pacjenta'!A942))","v":""}]
[{"$f":"IF('Zgłoszenie Pacjenta'!A943=\"\",\"\",Sprawdz_pesel('Zgłoszenie Pacjenta'!A943))","v":""}]
[{"$f":"IF('Zgłoszenie Pacjenta'!A944=\"\",\"\",Sprawdz_pesel('Zgłoszenie Pacjenta'!A944))","v":""}]
[{"$f":"IF('Zgłoszenie Pacjenta'!A945=\"\",\"\",Sprawdz_pesel('Zgłoszenie Pacjenta'!A945))","v":""}]
[{"$f":"IF('Zgłoszenie Pacjenta'!A946=\"\",\"\",Sprawdz_pesel('Zgłoszenie Pacjenta'!A946))","v":""}]
[{"$f":"IF('Zgłoszenie Pacjenta'!A947=\"\",\"\",Sprawdz_pesel('Zgłoszenie Pacjenta'!A947))","v":""}]
[{"$f":"IF('Zgłoszenie Pacjenta'!A948=\"\",\"\",Sprawdz_pesel('Zgłoszenie Pacjenta'!A948))","v":""}]
[{"$f":"IF('Zgłoszenie Pacjenta'!A949=\"\",\"\",Sprawdz_pesel('Zgłoszenie Pacjenta'!A949))","v":""}]
[{"$f":"IF('Zgłoszenie Pacjenta'!A950=\"\",\"\",Sprawdz_pesel('Zgłoszenie Pacjenta'!A950))","v":""}]
[{"$f":"IF('Zgłoszenie Pacjenta'!A951=\"\",\"\",Sprawdz_pesel('Zgłoszenie Pacjenta'!A951))","v":""}]
[{"$f":"IF('Zgłoszenie Pacjenta'!A952=\"\",\"\",Sprawdz_pesel('Zgłoszenie Pacjenta'!A952))","v":""}]
[{"$f":"IF('Zgłoszenie Pacjenta'!A953=\"\",\"\",Sprawdz_pesel('Zgłoszenie Pacjenta'!A953))","v":""}]
[{"$f":"IF('Zgłoszenie Pacjenta'!A954=\"\",\"\",Sprawdz_pesel('Zgłoszenie Pacjenta'!A954))","v":""}]
[{"$f":"IF('Zgłoszenie Pacjenta'!A955=\"\",\"\",Sprawdz_pesel('Zgłoszenie Pacjenta'!A955))","v":""}]
[{"$f":"IF('Zgłoszenie Pacjenta'!A956=\"\",\"\",Sprawdz_pesel('Zgłoszenie Pacjenta'!A956))","v":""}]
[{"$f":"IF('Zgłoszenie Pacjenta'!A957=\"\",\"\",Sprawdz_pesel('Zgłoszenie Pacjenta'!A957))","v":""}]
[{"$f":"IF('Zgłoszenie Pacjenta'!A958=\"\",\"\",Sprawdz_pesel('Zgłoszenie Pacjenta'!A958))","v":""}]
[{"$f":"IF('Zgłoszenie Pacjenta'!A959=\"\",\"\",Sprawdz_pesel('Zgłoszenie Pacjenta'!A959))","v":""}]
[{"$f":"IF('Zgłoszenie Pacjenta'!A960=\"\",\"\",Sprawdz_pesel('Zgłoszenie Pacjenta'!A960))","v":""}]
[{"$f":"IF('Zgłoszenie Pacjenta'!A961=\"\",\"\",Sprawdz_pesel('Zgłoszenie Pacjenta'!A961))","v":""}]
[{"$f":"IF('Zgłoszenie Pacjenta'!A962=\"\",\"\",Sprawdz_pesel('Zgłoszenie Pacjenta'!A962))","v":""}]
[{"$f":"IF('Zgłoszenie Pacjenta'!A963=\"\",\"\",Sprawdz_pesel('Zgłoszenie Pacjenta'!A963))","v":""}]
[{"$f":"IF('Zgłoszenie Pacjenta'!A964=\"\",\"\",Sprawdz_pesel('Zgłoszenie Pacjenta'!A964))","v":""}]
[{"$f":"IF('Zgłoszenie Pacjenta'!A965=\"\",\"\",Sprawdz_pesel('Zgłoszenie Pacjenta'!A965))","v":""}]
[{"$f":"IF('Zgłoszenie Pacjenta'!A966=\"\",\"\",Sprawdz_pesel('Zgłoszenie Pacjenta'!A966))","v":""}]
[{"$f":"IF('Zgłoszenie Pacjenta'!A967=\"\",\"\",Sprawdz_pesel('Zgłoszenie Pacjenta'!A967))","v":""}]
[{"$f":"IF('Zgłoszenie Pacjenta'!A968=\"\",\"\",Sprawdz_pesel('Zgłoszenie Pacjenta'!A968))","v":""}]
[{"$f":"IF('Zgłoszenie Pacjenta'!A969=\"\",\"\",Sprawdz_pesel('Zgłoszenie Pacjenta'!A969))","v":""}]
[{"$f":"IF('Zgłoszenie Pacjenta'!A970=\"\",\"\",Sprawdz_pesel('Zgłoszenie Pacjenta'!A970))","v":""}]
[{"$f":"IF('Zgłoszenie Pacjenta'!A971=\"\",\"\",Sprawdz_pesel('Zgłoszenie Pacjenta'!A971))","v":""}]
[{"$f":"IF('Zgłoszenie Pacjenta'!A972=\"\",\"\",Sprawdz_pesel('Zgłoszenie Pacjenta'!A972))","v":""}]
[{"$f":"IF('Zgłoszenie Pacjenta'!A973=\"\",\"\",Sprawdz_pesel('Zgłoszenie Pacjenta'!A973))","v":""}]
[{"$f":"IF('Zgłoszenie Pacjenta'!A974=\"\",\"\",Sprawdz_pesel('Zgłoszenie Pacjenta'!A974))","v":""}]
[{"$f":"IF('Zgłoszenie Pacjenta'!A975=\"\",\"\",Sprawdz_pesel('Zgłoszenie Pacjenta'!A975))","v":""}]
[{"$f":"IF('Zgłoszenie Pacjenta'!A976=\"\",\"\",Sprawdz_pesel('Zgłoszenie Pacjenta'!A976))","v":""}]
[{"$f":"IF('Zgłoszenie Pacjenta'!A977=\"\",\"\",Sprawdz_pesel('Zgłoszenie Pacjenta'!A977))","v":""}]
[{"$f":"IF('Zgłoszenie Pacjenta'!A978=\"\",\"\",Sprawdz_pesel('Zgłoszenie Pacjenta'!A978))","v":""}]
[{"$f":"IF('Zgłoszenie Pacjenta'!A979=\"\",\"\",Sprawdz_pesel('Zgłoszenie Pacjenta'!A979))","v":""}]
[{"$f":"IF('Zgłoszenie Pacjenta'!A980=\"\",\"\",Sprawdz_pesel('Zgłoszenie Pacjenta'!A980))","v":""}]
[{"$f":"IF('Zgłoszenie Pacjenta'!A981=\"\",\"\",Sprawdz_pesel('Zgłoszenie Pacjenta'!A981))","v":""}]
[{"$f":"IF('Zgłoszenie Pacjenta'!A982=\"\",\"\",Sprawdz_pesel('Zgłoszenie Pacjenta'!A982))","v":""}]
[{"$f":"IF('Zgłoszenie Pacjenta'!A983=\"\",\"\",Sprawdz_pesel('Zgłoszenie Pacjenta'!A983))","v":""}]
[{"$f":"IF('Zgłoszenie Pacjenta'!A984=\"\",\"\",Sprawdz_pesel('Zgłoszenie Pacjenta'!A984))","v":""}]
[{"$f":"IF('Zgłoszenie Pacjenta'!A985=\"\",\"\",Sprawdz_pesel('Zgłoszenie Pacjenta'!A985))","v":""}]
[{"$f":"IF('Zgłoszenie Pacjenta'!A986=\"\",\"\",Sprawdz_pesel('Zgłoszenie Pacjenta'!A986))","v":""}]
[{"$f":"IF('Zgłoszenie Pacjenta'!A987=\"\",\"\",Sprawdz_pesel('Zgłoszenie Pacjenta'!A987))","v":""}]
[{"$f":"IF('Zgłoszenie Pacjenta'!A988=\"\",\"\",Sprawdz_pesel('Zgłoszenie Pacjenta'!A988))","v":""}]
[{"$f":"IF('Zgłoszenie Pacjenta'!A989=\"\",\"\",Sprawdz_pesel('Zgłoszenie Pacjenta'!A989))","v":""}]
[{"$f":"IF('Zgłoszenie Pacjenta'!A990=\"\",\"\",Sprawdz_pesel('Zgłoszenie Pacjenta'!A990))","v":""}]
[{"$f":"IF('Zgłoszenie Pacjenta'!A991=\"\",\"\",Sprawdz_pesel('Zgłoszenie Pacjenta'!A991))","v":""}]
[{"$f":"IF('Zgłoszenie Pacjenta'!A992=\"\",\"\",Sprawdz_pesel('Zgłoszenie Pacjenta'!A992))","v":""}]
[{"$f":"IF('Zgłoszenie Pacjenta'!A993=\"\",\"\",Sprawdz_pesel('Zgłoszenie Pacjenta'!A993))","v":""}]
[{"$f":"IF('Zgłoszenie Pacjenta'!A994=\"\",\"\",Sprawdz_pesel('Zgłoszenie Pacjenta'!A994))","v":""}]
[{"$f":"IF('Zgłoszenie Pacjenta'!A995=\"\",\"\",Sprawdz_pesel('Zgłoszenie Pacjenta'!A995))","v":""}]
[{"$f":"IF('Zgłoszenie Pacjenta'!A996=\"\",\"\",Sprawdz_pesel('Zgłoszenie Pacjenta'!A996))","v":""}]
[{"$f":"IF('Zgłoszenie Pacjenta'!A997=\"\",\"\",Sprawdz_pesel('Zgłoszenie Pacjenta'!A997))","v":""}]
[{"$f":"IF('Zgłoszenie Pacjenta'!A998=\"\",\"\",Sprawdz_pesel('Zgłoszenie Pacjenta'!A998))","v":""}]
[{"$f":"IF('Zgłoszenie Pacjenta'!A999=\"\",\"\",Sprawdz_pesel('Zgłoszenie Pacjenta'!A999))","v":""}]
[{"$f":"IF('Zgłoszenie Pacjenta'!A1000=\"\",\"\",Sprawdz_pesel('Zgłoszenie Pacjenta'!A1000))","v":""}]
[{"$f":"IF('Zgłoszenie Pacjenta'!A1001=\"\",\"\",Sprawdz_pesel('Zgłoszenie Pacjenta'!A1001))","v":""}]
[{"$f":"IF('Zgłoszenie Pacjenta'!A1002=\"\",\"\",Sprawdz_pesel('Zgłoszenie Pacjenta'!A1002))","v":""}]
[{"$f":"IF('Zgłoszenie Pacjenta'!A1003=\"\",\"\",Sprawdz_pesel('Zgłoszenie Pacjenta'!A1003))","v":""}]
[{"$f":"IF('Zgłoszenie Pacjenta'!A1004=\"\",\"\",Sprawdz_pesel('Zgłoszenie Pacjenta'!A1004))","v":""}]
[{"$f":"IF('Zgłoszenie Pacjenta'!A1005=\"\",\"\",Sprawdz_pesel('Zgłoszenie Pacjenta'!A1005))","v":""}]
[{"$f":"IF('Zgłoszenie Pacjenta'!A1006=\"\",\"\",Sprawdz_pesel('Zgłoszenie Pacjenta'!A1006))","v":""}]
[{"$f":"IF('Zgłoszenie Pacjenta'!A1007=\"\",\"\",Sprawdz_pesel('Zgłoszenie Pacjenta'!A1007))","v":""}]
[{"$f":"IF('Zgłoszenie Pacjenta'!A1008=\"\",\"\",Sprawdz_pesel('Zgłoszenie Pacjenta'!A1008))","v":""}]
[{"$f":"IF('Zgłoszenie Pacjenta'!A1009=\"\",\"\",Sprawdz_pesel('Zgłoszenie Pacjenta'!A1009))","v":""}]
[{"$f":"IF('Zgłoszenie Pacjenta'!A1010=\"\",\"\",Sprawdz_pesel('Zgłoszenie Pacjenta'!A1010))","v":""}]
[{"$f":"IF('Zgłoszenie Pacjenta'!A1011=\"\",\"\",Sprawdz_pesel('Zgłoszenie Pacjenta'!A1011))","v":""}]
[{"$f":"IF('Zgłoszenie Pacjenta'!A1012=\"\",\"\",Sprawdz_pesel('Zgłoszenie Pacjenta'!A1012))","v":""}]
[{"$f":"IF('Zgłoszenie Pacjenta'!A1013=\"\",\"\",Sprawdz_pesel('Zgłoszenie Pacjenta'!A1013))","v":""}]
[{"$f":"IF('Zgłoszenie Pacjenta'!A1014=\"\",\"\",Sprawdz_pesel('Zgłoszenie Pacjenta'!A1014))","v":""}]
[{"$f":"IF('Zgłoszenie Pacjenta'!A1015=\"\",\"\",Sprawdz_pesel('Zgłoszenie Pacjenta'!A1015))","v":""}]
[{"$f":"IF('Zgłoszenie Pacjenta'!A1016=\"\",\"\",Sprawdz_pesel('Zgłoszenie Pacjenta'!A1016))","v":""}]
[{"$f":"IF('Zgłoszenie Pacjenta'!A1017=\"\",\"\",Sprawdz_pesel('Zgłoszenie Pacjenta'!A1017))","v":""}]
[{"$f":"IF('Zgłoszenie Pacjenta'!A1018=\"\",\"\",Sprawdz_pesel('Zgłoszenie Pacjenta'!A1018))","v":""}]
[{"$f":"IF('Zgłoszenie Pacjenta'!A1019=\"\",\"\",Sprawdz_pesel('Zgłoszenie Pacjenta'!A1019))","v":""}]
[{"$f":"IF('Zgłoszenie Pacjenta'!A1020=\"\",\"\",Sprawdz_pesel('Zgłoszenie Pacjenta'!A1020))","v":""}]
[{"$f":"IF('Zgłoszenie Pacjenta'!A1021=\"\",\"\",Sprawdz_pesel('Zgłoszenie Pacjenta'!A1021))","v":""}]
[{"$f":"IF('Zgłoszenie Pacjenta'!A1022=\"\",\"\",Sprawdz_pesel('Zgłoszenie Pacjenta'!A1022))","v":""}]
[{"$f":"IF('Zgłoszenie Pacjenta'!A1023=\"\",\"\",Sprawdz_pesel('Zgłoszenie Pacjenta'!A1023))","v":""}]
[{"$f":"IF('Zgłoszenie Pacjenta'!A1024=\"\",\"\",Sprawdz_pesel('Zgłoszenie Pacjenta'!A1024))","v":""}]
[{"$f":"IF('Zgłoszenie Pacjenta'!A1025=\"\",\"\",Sprawdz_pesel('Zgłoszenie Pacjenta'!A1025))","v":""}]
[{"$f":"IF('Zgłoszenie Pacjenta'!A1026=\"\",\"\",Sprawdz_pesel('Zgłoszenie Pacjenta'!A1026))","v":""}]
[{"$f":"IF('Zgłoszenie Pacjenta'!A1027=\"\",\"\",Sprawdz_pesel('Zgłoszenie Pacjenta'!A1027))","v":""}]
[{"$f":"IF('Zgłoszenie Pacjenta'!A1028=\"\",\"\",Sprawdz_pesel('Zgłoszenie Pacjenta'!A1028))","v":""}]
[{"$f":"IF('Zgłoszenie Pacjenta'!A1029=\"\",\"\",Sprawdz_pesel('Zgłoszenie Pacjenta'!A1029))","v":""}]
[{"$f":"IF('Zgłoszenie Pacjenta'!A1030=\"\",\"\",Sprawdz_pesel('Zgłoszenie Pacjenta'!A1030))","v":""}]
[{"$f":"IF('Zgłoszenie Pacjenta'!A1031=\"\",\"\",Sprawdz_pesel('Zgłoszenie Pacjenta'!A1031))","v":""}]
[{"$f":"IF('Zgłoszenie Pacjenta'!A1032=\"\",\"\",Sprawdz_pesel('Zgłoszenie Pacjenta'!A1032))","v":""}]
[{"$f":"IF('Zgłoszenie Pacjenta'!A1033=\"\",\"\",Sprawdz_pesel('Zgłoszenie Pacjenta'!A1033))","v":""}]
[{"$f":"IF('Zgłoszenie Pacjenta'!A1034=\"\",\"\",Sprawdz_pesel('Zgłoszenie Pacjenta'!A1034))","v":""}]
[{"$f":"IF('Zgłoszenie Pacjenta'!A1035=\"\",\"\",Sprawdz_pesel('Zgłoszenie Pacjenta'!A1035))","v":""}]
[{"$f":"IF('Zgłoszenie Pacjenta'!A1036=\"\",\"\",Sprawdz_pesel('Zgłoszenie Pacjenta'!A1036))","v":""}]
[{"$f":"IF('Zgłoszenie Pacjenta'!A1037=\"\",\"\",Sprawdz_pesel('Zgłoszenie Pacjenta'!A1037))","v":""}]
[{"$f":"IF('Zgłoszenie Pacjenta'!A1038=\"\",\"\",Sprawdz_pesel('Zgłoszenie Pacjenta'!A1038))","v":""}]
[{"$f":"IF('Zgłoszenie Pacjenta'!A1039=\"\",\"\",Sprawdz_pesel('Zgłoszenie Pacjenta'!A1039))","v":""}]
[{"$f":"IF('Zgłoszenie Pacjenta'!A1040=\"\",\"\",Sprawdz_pesel('Zgłoszenie Pacjenta'!A1040))","v":""}]
[{"$f":"IF('Zgłoszenie Pacjenta'!A1041=\"\",\"\",Sprawdz_pesel('Zgłoszenie Pacjenta'!A1041))","v":""}]
[{"$f":"IF('Zgłoszenie Pacjenta'!A1042=\"\",\"\",Sprawdz_pesel('Zgłoszenie Pacjenta'!A1042))","v":""}]
[{"$f":"IF('Zgłoszenie Pacjenta'!A1043=\"\",\"\",Sprawdz_pesel('Zgłoszenie Pacjenta'!A1043))","v":""}]
[{"$f":"IF('Zgłoszenie Pacjenta'!A1044=\"\",\"\",Sprawdz_pesel('Zgłoszenie Pacjenta'!A1044))","v":""}]
[{"$f":"IF('Zgłoszenie Pacjenta'!A1045=\"\",\"\",Sprawdz_pesel('Zgłoszenie Pacjenta'!A1045))","v":""}]
[{"$f":"IF('Zgłoszenie Pacjenta'!A1046=\"\",\"\",Sprawdz_pesel('Zgłoszenie Pacjenta'!A1046))","v":""}]
[{"$f":"IF('Zgłoszenie Pacjenta'!A1047=\"\",\"\",Sprawdz_pesel('Zgłoszenie Pacjenta'!A1047))","v":""}]
[{"$f":"IF('Zgłoszenie Pacjenta'!A1048=\"\",\"\",Sprawdz_pesel('Zgłoszenie Pacjenta'!A1048))","v":""}]
[{"$f":"IF('Zgłoszenie Pacjenta'!A1049=\"\",\"\",Sprawdz_pesel('Zgłoszenie Pacjenta'!A1049))","v":""}]
[{"$f":"IF('Zgłoszenie Pacjenta'!A1050=\"\",\"\",Sprawdz_pesel('Zgłoszenie Pacjenta'!A1050))","v":""}]
[{"$f":"IF('Zgłoszenie Pacjenta'!A1051=\"\",\"\",Sprawdz_pesel('Zgłoszenie Pacjenta'!A1051))","v":""}]
[{"$f":"IF('Zgłoszenie Pacjenta'!A1052=\"\",\"\",Sprawdz_pesel('Zgłoszenie Pacjenta'!A1052))","v":""}]
[{"$f":"IF('Zgłoszenie Pacjenta'!A1053=\"\",\"\",Sprawdz_pesel('Zgłoszenie Pacjenta'!A1053))","v":""}]
[{"$f":"IF('Zgłoszenie Pacjenta'!A1054=\"\",\"\",Sprawdz_pesel('Zgłoszenie Pacjenta'!A1054))","v":""}]
[{"$f":"IF('Zgłoszenie Pacjenta'!A1055=\"\",\"\",Sprawdz_pesel('Zgłoszenie Pacjenta'!A1055))","v":""}]
[{"$f":"IF('Zgłoszenie Pacjenta'!A1056=\"\",\"\",Sprawdz_pesel('Zgłoszenie Pacjenta'!A1056))","v":""}]
[{"$f":"IF('Zgłoszenie Pacjenta'!A1057=\"\",\"\",Sprawdz_pesel('Zgłoszenie Pacjenta'!A1057))","v":""}]
[{"$f":"IF('Zgłoszenie Pacjenta'!A1058=\"\",\"\",Sprawdz_pesel('Zgłoszenie Pacjenta'!A1058))","v":""}]
[{"$f":"IF('Zgłoszenie Pacjenta'!A1059=\"\",\"\",Sprawdz_pesel('Zgłoszenie Pacjenta'!A1059))","v":""}]
[{"$f":"IF('Zgłoszenie Pacjenta'!A1060=\"\",\"\",Sprawdz_pesel('Zgłoszenie Pacjenta'!A1060))","v":""}]
[{"$f":"IF('Zgłoszenie Pacjenta'!A1061=\"\",\"\",Sprawdz_pesel('Zgłoszenie Pacjenta'!A1061))","v":""}]
[{"$f":"IF('Zgłoszenie Pacjenta'!A1062=\"\",\"\",Sprawdz_pesel('Zgłoszenie Pacjenta'!A1062))","v":""}]
[{"$f":"IF('Zgłoszenie Pacjenta'!A1063=\"\",\"\",Sprawdz_pesel('Zgłoszenie Pacjenta'!A1063))","v":""}]
[{"$f":"IF('Zgłoszenie Pacjenta'!A1064=\"\",\"\",Sprawdz_pesel('Zgłoszenie Pacjenta'!A1064))","v":""}]
[{"$f":"IF('Zgłoszenie Pacjenta'!A1065=\"\",\"\",Sprawdz_pesel('Zgłoszenie Pacjenta'!A1065))","v":""}]
[{"$f":"IF('Zgłoszenie Pacjenta'!A1066=\"\",\"\",Sprawdz_pesel('Zgłoszenie Pacjenta'!A1066))","v":""}]
[{"$f":"IF('Zgłoszenie Pacjenta'!A1067=\"\",\"\",Sprawdz_pesel('Zgłoszenie Pacjenta'!A1067))","v":""}]
[{"$f":"IF('Zgłoszenie Pacjenta'!A1068=\"\",\"\",Sprawdz_pesel('Zgłoszenie Pacjenta'!A1068))","v":""}]
[{"$f":"IF('Zgłoszenie Pacjenta'!A1069=\"\",\"\",Sprawdz_pesel('Zgłoszenie Pacjenta'!A1069))","v":""}]
[{"$f":"IF('Zgłoszenie Pacjenta'!A1070=\"\",\"\",Sprawdz_pesel('Zgłoszenie Pacjenta'!A1070))","v":""}]
[{"$f":"IF('Zgłoszenie Pacjenta'!A1071=\"\",\"\",Sprawdz_pesel('Zgłoszenie Pacjenta'!A1071))","v":""}]
[{"$f":"IF('Zgłoszenie Pacjenta'!A1072=\"\",\"\",Sprawdz_pesel('Zgłoszenie Pacjenta'!A1072))","v":""}]
[{"$f":"IF('Zgłoszenie Pacjenta'!A1073=\"\",\"\",Sprawdz_pesel('Zgłoszenie Pacjenta'!A1073))","v":""}]
[{"$f":"IF('Zgłoszenie Pacjenta'!A1074=\"\",\"\",Sprawdz_pesel('Zgłoszenie Pacjenta'!A1074))","v":""}]
[{"$f":"IF('Zgłoszenie Pacjenta'!A1075=\"\",\"\",Sprawdz_pesel('Zgłoszenie Pacjenta'!A1075))","v":""}]
[{"$f":"IF('Zgłoszenie Pacjenta'!A1076=\"\",\"\",Sprawdz_pesel('Zgłoszenie Pacjenta'!A1076))","v":""}]
[{"$f":"IF('Zgłoszenie Pacjenta'!A1077=\"\",\"\",Sprawdz_pesel('Zgłoszenie Pacjenta'!A1077))","v":""}]
[{"$f":"IF('Zgłoszenie Pacjenta'!A1078=\"\",\"\",Sprawdz_pesel('Zgłoszenie Pacjenta'!A1078))","v":""}]
[{"$f":"IF('Zgłoszenie Pacjenta'!A1079=\"\",\"\",Sprawdz_pesel('Zgłoszenie Pacjenta'!A1079))","v":""}]
[{"$f":"IF('Zgłoszenie Pacjenta'!A1080=\"\",\"\",Sprawdz_pesel('Zgłoszenie Pacjenta'!A1080))","v":""}]
[{"$f":"IF('Zgłoszenie Pacjenta'!A1081=\"\",\"\",Sprawdz_pesel('Zgłoszenie Pacjenta'!A1081))","v":""}]
[{"$f":"IF('Zgłoszenie Pacjenta'!A1082=\"\",\"\",Sprawdz_pesel('Zgłoszenie Pacjenta'!A1082))","v":""}]
[{"$f":"IF('Zgłoszenie Pacjenta'!A1083=\"\",\"\",Sprawdz_pesel('Zgłoszenie Pacjenta'!A1083))","v":""}]
[{"$f":"IF('Zgłoszenie Pacjenta'!A1084=\"\",\"\",Sprawdz_pesel('Zgłoszenie Pacjenta'!A1084))","v":""}]
[{"$f":"IF('Zgłoszenie Pacjenta'!A1085=\"\",\"\",Sprawdz_pesel('Zgłoszenie Pacjenta'!A1085))","v":""}]
[{"$f":"IF('Zgłoszenie Pacjenta'!A1086=\"\",\"\",Sprawdz_pesel('Zgłoszenie Pacjenta'!A1086))","v":""}]
[{"$f":"IF('Zgłoszenie Pacjenta'!A1087=\"\",\"\",Sprawdz_pesel('Zgłoszenie Pacjenta'!A1087))","v":""}]
[{"$f":"IF('Zgłoszenie Pacjenta'!A1088=\"\",\"\",Sprawdz_pesel('Zgłoszenie Pacjenta'!A1088))","v":""}]
[{"$f":"IF('Zgłoszenie Pacjenta'!A1089=\"\",\"\",Sprawdz_pesel('Zgłoszenie Pacjenta'!A1089))","v":""}]
[{"$f":"IF('Zgłoszenie Pacjenta'!A1090=\"\",\"\",Sprawdz_pesel('Zgłoszenie Pacjenta'!A1090))","v":""}]
[{"$f":"IF('Zgłoszenie Pacjenta'!A1091=\"\",\"\",Sprawdz_pesel('Zgłoszenie Pacjenta'!A1091))","v":""}]
[{"$f":"IF('Zgłoszenie Pacjenta'!A1092=\"\",\"\",Sprawdz_pesel('Zgłoszenie Pacjenta'!A1092))","v":""}]
[{"$f":"IF('Zgłoszenie Pacjenta'!A1093=\"\",\"\",Sprawdz_pesel('Zgłoszenie Pacjenta'!A1093))","v":""}]
[{"$f":"IF('Zgłoszenie Pacjenta'!A1094=\"\",\"\",Sprawdz_pesel('Zgłoszenie Pacjenta'!A1094))","v":""}]
[{"$f":"IF('Zgłoszenie Pacjenta'!A1095=\"\",\"\",Sprawdz_pesel('Zgłoszenie Pacjenta'!A1095))","v":""}]
[{"$f":"IF('Zgłoszenie Pacjenta'!A1096=\"\",\"\",Sprawdz_pesel('Zgłoszenie Pacjenta'!A1096))","v":""}]
[{"$f":"IF('Zgłoszenie Pacjenta'!A1097=\"\",\"\",Sprawdz_pesel('Zgłoszenie Pacjenta'!A1097))","v":""}]
[{"$f":"IF('Zgłoszenie Pacjenta'!A1098=\"\",\"\",Sprawdz_pesel('Zgłoszenie Pacjenta'!A1098))","v":""}]
[{"$f":"IF('Zgłoszenie Pacjenta'!A1099=\"\",\"\",Sprawdz_pesel('Zgłoszenie Pacjenta'!A1099))","v":""}]
[{"$f":"IF('Zgłoszenie Pacjenta'!A1100=\"\",\"\",Sprawdz_pesel('Zgłoszenie Pacjenta'!A1100))","v":""}]
[{"$f":"IF('Zgłoszenie Pacjenta'!A1101=\"\",\"\",Sprawdz_pesel('Zgłoszenie Pacjenta'!A1101))","v":""}]
[{"$f":"IF('Zgłoszenie Pacjenta'!A1102=\"\",\"\",Sprawdz_pesel('Zgłoszenie Pacjenta'!A1102))","v":""}]
[{"$f":"IF('Zgłoszenie Pacjenta'!A1103=\"\",\"\",Sprawdz_pesel('Zgłoszenie Pacjenta'!A1103))","v":""}]
[{"$f":"IF('Zgłoszenie Pacjenta'!A1104=\"\",\"\",Sprawdz_pesel('Zgłoszenie Pacjenta'!A1104))","v":""}]
[{"$f":"IF('Zgłoszenie Pacjenta'!A1105=\"\",\"\",Sprawdz_pesel('Zgłoszenie Pacjenta'!A1105))","v":""}]
[{"$f":"IF('Zgłoszenie Pacjenta'!A1106=\"\",\"\",Sprawdz_pesel('Zgłoszenie Pacjenta'!A1106))","v":""}]
[{"$f":"IF('Zgłoszenie Pacjenta'!A1107=\"\",\"\",Sprawdz_pesel('Zgłoszenie Pacjenta'!A1107))","v":""}]
[{"$f":"IF('Zgłoszenie Pacjenta'!A1108=\"\",\"\",Sprawdz_pesel('Zgłoszenie Pacjenta'!A1108))","v":""}]
[{"$f":"IF('Zgłoszenie Pacjenta'!A1109=\"\",\"\",Sprawdz_pesel('Zgłoszenie Pacjenta'!A1109))","v":""}]
[{"$f":"IF('Zgłoszenie Pacjenta'!A1110=\"\",\"\",Sprawdz_pesel('Zgłoszenie Pacjenta'!A1110))","v":""}]
[{"$f":"IF('Zgłoszenie Pacjenta'!A1111=\"\",\"\",Sprawdz_pesel('Zgłoszenie Pacjenta'!A1111))","v":""}]
[{"$f":"IF('Zgłoszenie Pacjenta'!A1112=\"\",\"\",Sprawdz_pesel('Zgłoszenie Pacjenta'!A1112))","v":""}]
[{"$f":"IF('Zgłoszenie Pacjenta'!A1113=\"\",\"\",Sprawdz_pesel('Zgłoszenie Pacjenta'!A1113))","v":""}]
[{"$f":"IF('Zgłoszenie Pacjenta'!A1114=\"\",\"\",Sprawdz_pesel('Zgłoszenie Pacjenta'!A1114))","v":""}]
[{"$f":"IF('Zgłoszenie Pacjenta'!A1115=\"\",\"\",Sprawdz_pesel('Zgłoszenie Pacjenta'!A1115))","v":""}]
[{"$f":"IF('Zgłoszenie Pacjenta'!A1116=\"\",\"\",Sprawdz_pesel('Zgłoszenie Pacjenta'!A1116))","v":""}]
[{"$f":"IF('Zgłoszenie Pacjenta'!A1117=\"\",\"\",Sprawdz_pesel('Zgłoszenie Pacjenta'!A1117))","v":""}]
[{"$f":"IF('Zgłoszenie Pacjenta'!A1118=\"\",\"\",Sprawdz_pesel('Zgłoszenie Pacjenta'!A1118))","v":""}]
[{"$f":"IF('Zgłoszenie Pacjenta'!A1119=\"\",\"\",Sprawdz_pesel('Zgłoszenie Pacjenta'!A1119))","v":""}]
[{"$f":"IF('Zgłoszenie Pacjenta'!A1120=\"\",\"\",Sprawdz_pesel('Zgłoszenie Pacjenta'!A1120))","v":""}]
[{"$f":"IF('Zgłoszenie Pacjenta'!A1121=\"\",\"\",Sprawdz_pesel('Zgłoszenie Pacjenta'!A1121))","v":""}]
[{"$f":"IF('Zgłoszenie Pacjenta'!A1122=\"\",\"\",Sprawdz_pesel('Zgłoszenie Pacjenta'!A1122))","v":""}]
[{"$f":"IF('Zgłoszenie Pacjenta'!A1123=\"\",\"\",Sprawdz_pesel('Zgłoszenie Pacjenta'!A1123))","v":""}]
[{"$f":"IF('Zgłoszenie Pacjenta'!A1124=\"\",\"\",Sprawdz_pesel('Zgłoszenie Pacjenta'!A1124))","v":""}]
[{"$f":"IF('Zgłoszenie Pacjenta'!A1125=\"\",\"\",Sprawdz_pesel('Zgłoszenie Pacjenta'!A1125))","v":""}]
[{"$f":"IF('Zgłoszenie Pacjenta'!A1126=\"\",\"\",Sprawdz_pesel('Zgłoszenie Pacjenta'!A1126))","v":""}]
[{"$f":"IF('Zgłoszenie Pacjenta'!A1127=\"\",\"\",Sprawdz_pesel('Zgłoszenie Pacjenta'!A1127))","v":""}]
[{"$f":"IF('Zgłoszenie Pacjenta'!A1128=\"\",\"\",Sprawdz_pesel('Zgłoszenie Pacjenta'!A1128))","v":""}]
[{"$f":"IF('Zgłoszenie Pacjenta'!A1129=\"\",\"\",Sprawdz_pesel('Zgłoszenie Pacjenta'!A1129))","v":""}]
[{"$f":"IF('Zgłoszenie Pacjenta'!A1130=\"\",\"\",Sprawdz_pesel('Zgłoszenie Pacjenta'!A1130))","v":""}]
[{"$f":"IF('Zgłoszenie Pacjenta'!A1131=\"\",\"\",Sprawdz_pesel('Zgłoszenie Pacjenta'!A1131))","v":""}]
[{"$f":"IF('Zgłoszenie Pacjenta'!A1132=\"\",\"\",Sprawdz_pesel('Zgłoszenie Pacjenta'!A1132))","v":""}]
[{"$f":"IF('Zgłoszenie Pacjenta'!A1133=\"\",\"\",Sprawdz_pesel('Zgłoszenie Pacjenta'!A1133))","v":""}]
[{"$f":"IF('Zgłoszenie Pacjenta'!A1134=\"\",\"\",Sprawdz_pesel('Zgłoszenie Pacjenta'!A1134))","v":""}]
[{"$f":"IF('Zgłoszenie Pacjenta'!A1135=\"\",\"\",Sprawdz_pesel('Zgłoszenie Pacjenta'!A1135))","v":""}]
[{"$f":"IF('Zgłoszenie Pacjenta'!A1136=\"\",\"\",Sprawdz_pesel('Zgłoszenie Pacjenta'!A1136))","v":""}]
[{"$f":"IF('Zgłoszenie Pacjenta'!A1137=\"\",\"\",Sprawdz_pesel('Zgłoszenie Pacjenta'!A1137))","v":""}]
[{"$f":"IF('Zgłoszenie Pacjenta'!A1138=\"\",\"\",Sprawdz_pesel('Zgłoszenie Pacjenta'!A1138))","v":""}]
[{"$f":"IF('Zgłoszenie Pacjenta'!A1139=\"\",\"\",Sprawdz_pesel('Zgłoszenie Pacjenta'!A1139))","v":""}]
[{"$f":"IF('Zgłoszenie Pacjenta'!A1140=\"\",\"\",Sprawdz_pesel('Zgłoszenie Pacjenta'!A1140))","v":""}]
[{"$f":"IF('Zgłoszenie Pacjenta'!A1141=\"\",\"\",Sprawdz_pesel('Zgłoszenie Pacjenta'!A1141))","v":""}]
[{"$f":"IF('Zgłoszenie Pacjenta'!A1142=\"\",\"\",Sprawdz_pesel('Zgłoszenie Pacjenta'!A1142))","v":""}]
[{"$f":"IF('Zgłoszenie Pacjenta'!A1143=\"\",\"\",Sprawdz_pesel('Zgłoszenie Pacjenta'!A1143))","v":""}]
[{"$f":"IF('Zgłoszenie Pacjenta'!A1144=\"\",\"\",Sprawdz_pesel('Zgłoszenie Pacjenta'!A1144))","v":""}]
[{"$f":"IF('Zgłoszenie Pacjenta'!A1145=\"\",\"\",Sprawdz_pesel('Zgłoszenie Pacjenta'!A1145))","v":""}]
[{"$f":"IF('Zgłoszenie Pacjenta'!A1146=\"\",\"\",Sprawdz_pesel('Zgłoszenie Pacjenta'!A1146))","v":""}]
[{"$f":"IF('Zgłoszenie Pacjenta'!A1147=\"\",\"\",Sprawdz_pesel('Zgłoszenie Pacjenta'!A1147))","v":""}]
[{"$f":"IF('Zgłoszenie Pacjenta'!A1148=\"\",\"\",Sprawdz_pesel('Zgłoszenie Pacjenta'!A1148))","v":""}]
[{"$f":"IF('Zgłoszenie Pacjenta'!A1149=\"\",\"\",Sprawdz_pesel('Zgłoszenie Pacjenta'!A1149))","v":""}]
[{"$f":"IF('Zgłoszenie Pacjenta'!A1150=\"\",\"\",Sprawdz_pesel('Zgłoszenie Pacjenta'!A1150))","v":""}]
[{"$f":"IF('Zgłoszenie Pacjenta'!A1151=\"\",\"\",Sprawdz_pesel('Zgłoszenie Pacjenta'!A1151))","v":""}]
[{"$f":"IF('Zgłoszenie Pacjenta'!A1152=\"\",\"\",Sprawdz_pesel('Zgłoszenie Pacjenta'!A1152))","v":""}]
[{"$f":"IF('Zgłoszenie Pacjenta'!A1153=\"\",\"\",Sprawdz_pesel('Zgłoszenie Pacjenta'!A1153))","v":""}]
[{"$f":"IF('Zgłoszenie Pacjenta'!A1154=\"\",\"\",Sprawdz_pesel('Zgłoszenie Pacjenta'!A1154))","v":""}]
[{"$f":"IF('Zgłoszenie Pacjenta'!A1155=\"\",\"\",Sprawdz_pesel('Zgłoszenie Pacjenta'!A1155))","v":""}]
[{"$f":"IF('Zgłoszenie Pacjenta'!A1156=\"\",\"\",Sprawdz_pesel('Zgłoszenie Pacjenta'!A1156))","v":""}]
[{"$f":"IF('Zgłoszenie Pacjenta'!A1157=\"\",\"\",Sprawdz_pesel('Zgłoszenie Pacjenta'!A1157))","v":""}]
[{"$f":"IF('Zgłoszenie Pacjenta'!A1158=\"\",\"\",Sprawdz_pesel('Zgłoszenie Pacjenta'!A1158))","v":""}]
[{"$f":"IF('Zgłoszenie Pacjenta'!A1159=\"\",\"\",Sprawdz_pesel('Zgłoszenie Pacjenta'!A1159))","v":""}]
[{"$f":"IF('Zgłoszenie Pacjenta'!A1160=\"\",\"\",Sprawdz_pesel('Zgłoszenie Pacjenta'!A1160))","v":""}]
[{"$f":"IF('Zgłoszenie Pacjenta'!A1161=\"\",\"\",Sprawdz_pesel('Zgłoszenie Pacjenta'!A1161))","v":""}]
[{"$f":"IF('Zgłoszenie Pacjenta'!A1162=\"\",\"\",Sprawdz_pesel('Zgłoszenie Pacjenta'!A1162))","v":""}]
[{"$f":"IF('Zgłoszenie Pacjenta'!A1163=\"\",\"\",Sprawdz_pesel('Zgłoszenie Pacjenta'!A1163))","v":""}]
[{"$f":"IF('Zgłoszenie Pacjenta'!A1164=\"\",\"\",Sprawdz_pesel('Zgłoszenie Pacjenta'!A1164))","v":""}]
[{"$f":"IF('Zgłoszenie Pacjenta'!A1165=\"\",\"\",Sprawdz_pesel('Zgłoszenie Pacjenta'!A1165))","v":""}]
[{"$f":"IF('Zgłoszenie Pacjenta'!A1166=\"\",\"\",Sprawdz_pesel('Zgłoszenie Pacjenta'!A1166))","v":""}]
[{"$f":"IF('Zgłoszenie Pacjenta'!A1167=\"\",\"\",Sprawdz_pesel('Zgłoszenie Pacjenta'!A1167))","v":""}]
[{"$f":"IF('Zgłoszenie Pacjenta'!A1168=\"\",\"\",Sprawdz_pesel('Zgłoszenie Pacjenta'!A1168))","v":""}]
[{"$f":"IF('Zgłoszenie Pacjenta'!A1169=\"\",\"\",Sprawdz_pesel('Zgłoszenie Pacjenta'!A1169))","v":""}]
[{"$f":"IF('Zgłoszenie Pacjenta'!A1170=\"\",\"\",Sprawdz_pesel('Zgłoszenie Pacjenta'!A1170))","v":""}]
[{"$f":"IF('Zgłoszenie Pacjenta'!A1171=\"\",\"\",Sprawdz_pesel('Zgłoszenie Pacjenta'!A1171))","v":""}]
[{"$f":"IF('Zgłoszenie Pacjenta'!A1172=\"\",\"\",Sprawdz_pesel('Zgłoszenie Pacjenta'!A1172))","v":""}]
[{"$f":"IF('Zgłoszenie Pacjenta'!A1173=\"\",\"\",Sprawdz_pesel('Zgłoszenie Pacjenta'!A1173))","v":""}]
[{"$f":"IF('Zgłoszenie Pacjenta'!A1174=\"\",\"\",Sprawdz_pesel('Zgłoszenie Pacjenta'!A1174))","v":""}]
[{"$f":"IF('Zgłoszenie Pacjenta'!A1175=\"\",\"\",Sprawdz_pesel('Zgłoszenie Pacjenta'!A1175))","v":""}]
[{"$f":"IF('Zgłoszenie Pacjenta'!A1176=\"\",\"\",Sprawdz_pesel('Zgłoszenie Pacjenta'!A1176))","v":""}]
[{"$f":"IF('Zgłoszenie Pacjenta'!A1177=\"\",\"\",Sprawdz_pesel('Zgłoszenie Pacjenta'!A1177))","v":""}]
[{"$f":"IF('Zgłoszenie Pacjenta'!A1178=\"\",\"\",Sprawdz_pesel('Zgłoszenie Pacjenta'!A1178))","v":""}]
[{"$f":"IF('Zgłoszenie Pacjenta'!A1179=\"\",\"\",Sprawdz_pesel('Zgłoszenie Pacjenta'!A1179))","v":""}]
[{"$f":"IF('Zgłoszenie Pacjenta'!A1180=\"\",\"\",Sprawdz_pesel('Zgłoszenie Pacjenta'!A1180))","v":""}]
[{"$f":"IF('Zgłoszenie Pacjenta'!A1181=\"\",\"\",Sprawdz_pesel('Zgłoszenie Pacjenta'!A1181))","v":""}]
[{"$f":"IF('Zgłoszenie Pacjenta'!A1182=\"\",\"\",Sprawdz_pesel('Zgłoszenie Pacjenta'!A1182))","v":""}]
[{"$f":"IF('Zgłoszenie Pacjenta'!A1183=\"\",\"\",Sprawdz_pesel('Zgłoszenie Pacjenta'!A1183))","v":""}]
[{"$f":"IF('Zgłoszenie Pacjenta'!A1184=\"\",\"\",Sprawdz_pesel('Zgłoszenie Pacjenta'!A1184))","v":""}]
[{"$f":"IF('Zgłoszenie Pacjenta'!A1185=\"\",\"\",Sprawdz_pesel('Zgłoszenie Pacjenta'!A1185))","v":""}]
[{"$f":"IF('Zgłoszenie Pacjenta'!A1186=\"\",\"\",Sprawdz_pesel('Zgłoszenie Pacjenta'!A1186))","v":""}]
[{"$f":"IF('Zgłoszenie Pacjenta'!A1187=\"\",\"\",Sprawdz_pesel('Zgłoszenie Pacjenta'!A1187))","v":""}]
[{"$f":"IF('Zgłoszenie Pacjenta'!A1188=\"\",\"\",Sprawdz_pesel('Zgłoszenie Pacjenta'!A1188))","v":""}]
[{"$f":"IF('Zgłoszenie Pacjenta'!A1189=\"\",\"\",Sprawdz_pesel('Zgłoszenie Pacjenta'!A1189))","v":""}]
[{"$f":"IF('Zgłoszenie Pacjenta'!A1190=\"\",\"\",Sprawdz_pesel('Zgłoszenie Pacjenta'!A1190))","v":""}]
[{"$f":"IF('Zgłoszenie Pacjenta'!A1191=\"\",\"\",Sprawdz_pesel('Zgłoszenie Pacjenta'!A1191))","v":""}]
[{"$f":"IF('Zgłoszenie Pacjenta'!A1192=\"\",\"\",Sprawdz_pesel('Zgłoszenie Pacjenta'!A1192))","v":""}]
[{"$f":"IF('Zgłoszenie Pacjenta'!A1193=\"\",\"\",Sprawdz_pesel('Zgłoszenie Pacjenta'!A1193))","v":""}]
[{"$f":"IF('Zgłoszenie Pacjenta'!A1194=\"\",\"\",Sprawdz_pesel('Zgłoszenie Pacjenta'!A1194))","v":""}]
[{"$f":"IF('Zgłoszenie Pacjenta'!A1195=\"\",\"\",Sprawdz_pesel('Zgłoszenie Pacjenta'!A1195))","v":""}]
[{"$f":"IF('Zgłoszenie Pacjenta'!A1196=\"\",\"\",Sprawdz_pesel('Zgłoszenie Pacjenta'!A1196))","v":""}]
[{"$f":"IF('Zgłoszenie Pacjenta'!A1197=\"\",\"\",Sprawdz_pesel('Zgłoszenie Pacjenta'!A1197))","v":""}]
[{"$f":"IF('Zgłoszenie Pacjenta'!A1198=\"\",\"\",Sprawdz_pesel('Zgłoszenie Pacjenta'!A1198))","v":""}]
[{"$f":"IF('Zgłoszenie Pacjenta'!A1199=\"\",\"\",Sprawdz_pesel('Zgłoszenie Pacjenta'!A1199))","v":""}]
[{"$f":"IF('Zgłoszenie Pacjenta'!A1200=\"\",\"\",Sprawdz_pesel('Zgłoszenie Pacjenta'!A1200))","v":""}]
[{"$f":"IF('Zgłoszenie Pacjenta'!A1201=\"\",\"\",Sprawdz_pesel('Zgłoszenie Pacjenta'!A1201))","v":""}]
[{"$f":"IF('Zgłoszenie Pacjenta'!A1202=\"\",\"\",Sprawdz_pesel('Zgłoszenie Pacjenta'!A1202))","v":""}]
[{"$f":"IF('Zgłoszenie Pacjenta'!A1203=\"\",\"\",Sprawdz_pesel('Zgłoszenie Pacjenta'!A1203))","v":""}]
[{"$f":"IF('Zgłoszenie Pacjenta'!A1204=\"\",\"\",Sprawdz_pesel('Zgłoszenie Pacjenta'!A1204))","v":""}]
[{"$f":"IF('Zgłoszenie Pacjenta'!A1205=\"\",\"\",Sprawdz_pesel('Zgłoszenie Pacjenta'!A1205))","v":""}]
[{"$f":"IF('Zgłoszenie Pacjenta'!A1206=\"\",\"\",Sprawdz_pesel('Zgłoszenie Pacjenta'!A1206))","v":""}]
[{"$f":"IF('Zgłoszenie Pacjenta'!A1207=\"\",\"\",Sprawdz_pesel('Zgłoszenie Pacjenta'!A1207))","v":""}]
[{"$f":"IF('Zgłoszenie Pacjenta'!A1208=\"\",\"\",Sprawdz_pesel('Zgłoszenie Pacjenta'!A1208))","v":""}]
[{"$f":"IF('Zgłoszenie Pacjenta'!A1209=\"\",\"\",Sprawdz_pesel('Zgłoszenie Pacjenta'!A1209))","v":""}]
[{"$f":"IF('Zgłoszenie Pacjenta'!A1210=\"\",\"\",Sprawdz_pesel('Zgłoszenie Pacjenta'!A1210))","v":""}]
[{"$f":"IF('Zgłoszenie Pacjenta'!A1211=\"\",\"\",Sprawdz_pesel('Zgłoszenie Pacjenta'!A1211))","v":""}]
[{"$f":"IF('Zgłoszenie Pacjenta'!A1212=\"\",\"\",Sprawdz_pesel('Zgłoszenie Pacjenta'!A1212))","v":""}]
[{"$f":"IF('Zgłoszenie Pacjenta'!A1213=\"\",\"\",Sprawdz_pesel('Zgłoszenie Pacjenta'!A1213))","v":""}]
[{"$f":"IF('Zgłoszenie Pacjenta'!A1214=\"\",\"\",Sprawdz_pesel('Zgłoszenie Pacjenta'!A1214))","v":""}]
[{"$f":"IF('Zgłoszenie Pacjenta'!A1215=\"\",\"\",Sprawdz_pesel('Zgłoszenie Pacjenta'!A1215))","v":""}]
[{"$f":"IF('Zgłoszenie Pacjenta'!A1216=\"\",\"\",Sprawdz_pesel('Zgłoszenie Pacjenta'!A1216))","v":""}]
[{"$f":"IF('Zgłoszenie Pacjenta'!A1217=\"\",\"\",Sprawdz_pesel('Zgłoszenie Pacjenta'!A1217))","v":""}]
[{"$f":"IF('Zgłoszenie Pacjenta'!A1218=\"\",\"\",Sprawdz_pesel('Zgłoszenie Pacjenta'!A1218))","v":""}]
[{"$f":"IF('Zgłoszenie Pacjenta'!A1219=\"\",\"\",Sprawdz_pesel('Zgłoszenie Pacjenta'!A1219))","v":""}]
[{"$f":"IF('Zgłoszenie Pacjenta'!A1220=\"\",\"\",Sprawdz_pesel('Zgłoszenie Pacjenta'!A1220))","v":""}]
[{"$f":"IF('Zgłoszenie Pacjenta'!A1221=\"\",\"\",Sprawdz_pesel('Zgłoszenie Pacjenta'!A1221))","v":""}]
[{"$f":"IF('Zgłoszenie Pacjenta'!A1222=\"\",\"\",Sprawdz_pesel('Zgłoszenie Pacjenta'!A1222))","v":""}]
[{"$f":"IF('Zgłoszenie Pacjenta'!A1223=\"\",\"\",Sprawdz_pesel('Zgłoszenie Pacjenta'!A1223))","v":""}]
[{"$f":"IF('Zgłoszenie Pacjenta'!A1224=\"\",\"\",Sprawdz_pesel('Zgłoszenie Pacjenta'!A1224))","v":""}]
[{"$f":"IF('Zgłoszenie Pacjenta'!A1225=\"\",\"\",Sprawdz_pesel('Zgłoszenie Pacjenta'!A1225))","v":""}]
[{"$f":"IF('Zgłoszenie Pacjenta'!A1226=\"\",\"\",Sprawdz_pesel('Zgłoszenie Pacjenta'!A1226))","v":""}]
[{"$f":"IF('Zgłoszenie Pacjenta'!A1227=\"\",\"\",Sprawdz_pesel('Zgłoszenie Pacjenta'!A1227))","v":""}]
[{"$f":"IF('Zgłoszenie Pacjenta'!A1228=\"\",\"\",Sprawdz_pesel('Zgłoszenie Pacjenta'!A1228))","v":""}]
[{"$f":"IF('Zgłoszenie Pacjenta'!A1229=\"\",\"\",Sprawdz_pesel('Zgłoszenie Pacjenta'!A1229))","v":""}]
[{"$f":"IF('Zgłoszenie Pacjenta'!A1230=\"\",\"\",Sprawdz_pesel('Zgłoszenie Pacjenta'!A1230))","v":""}]
[{"$f":"IF('Zgłoszenie Pacjenta'!A1231=\"\",\"\",Sprawdz_pesel('Zgłoszenie Pacjenta'!A1231))","v":""}]
[{"$f":"IF('Zgłoszenie Pacjenta'!A1232=\"\",\"\",Sprawdz_pesel('Zgłoszenie Pacjenta'!A1232))","v":""}]
[{"$f":"IF('Zgłoszenie Pacjenta'!A1233=\"\",\"\",Sprawdz_pesel('Zgłoszenie Pacjenta'!A1233))","v":""}]
[{"$f":"IF('Zgłoszenie Pacjenta'!A1234=\"\",\"\",Sprawdz_pesel('Zgłoszenie Pacjenta'!A1234))","v":""}]
[{"$f":"IF('Zgłoszenie Pacjenta'!A1235=\"\",\"\",Sprawdz_pesel('Zgłoszenie Pacjenta'!A1235))","v":""}]
[{"$f":"IF('Zgłoszenie Pacjenta'!A1236=\"\",\"\",Sprawdz_pesel('Zgłoszenie Pacjenta'!A1236))","v":""}]
[{"$f":"IF('Zgłoszenie Pacjenta'!A1237=\"\",\"\",Sprawdz_pesel('Zgłoszenie Pacjenta'!A1237))","v":""}]
[{"$f":"IF('Zgłoszenie Pacjenta'!A1238=\"\",\"\",Sprawdz_pesel('Zgłoszenie Pacjenta'!A1238))","v":""}]
[{"$f":"IF('Zgłoszenie Pacjenta'!A1239=\"\",\"\",Sprawdz_pesel('Zgłoszenie Pacjenta'!A1239))","v":""}]
[{"$f":"IF('Zgłoszenie Pacjenta'!A1240=\"\",\"\",Sprawdz_pesel('Zgłoszenie Pacjenta'!A1240))","v":""}]
[{"$f":"IF('Zgłoszenie Pacjenta'!A1241=\"\",\"\",Sprawdz_pesel('Zgłoszenie Pacjenta'!A1241))","v":""}]
[{"$f":"IF('Zgłoszenie Pacjenta'!A1242=\"\",\"\",Sprawdz_pesel('Zgłoszenie Pacjenta'!A1242))","v":""}]
[{"$f":"IF('Zgłoszenie Pacjenta'!A1243=\"\",\"\",Sprawdz_pesel('Zgłoszenie Pacjenta'!A1243))","v":""}]
[{"$f":"IF('Zgłoszenie Pacjenta'!A1244=\"\",\"\",Sprawdz_pesel('Zgłoszenie Pacjenta'!A1244))","v":""}]
[{"$f":"IF('Zgłoszenie Pacjenta'!A1245=\"\",\"\",Sprawdz_pesel('Zgłoszenie Pacjenta'!A1245))","v":""}]
[{"$f":"IF('Zgłoszenie Pacjenta'!A1246=\"\",\"\",Sprawdz_pesel('Zgłoszenie Pacjenta'!A1246))","v":""}]
[{"$f":"IF('Zgłoszenie Pacjenta'!A1247=\"\",\"\",Sprawdz_pesel('Zgłoszenie Pacjenta'!A1247))","v":""}]
[{"$f":"IF('Zgłoszenie Pacjenta'!A1248=\"\",\"\",Sprawdz_pesel('Zgłoszenie Pacjenta'!A1248))","v":""}]
[{"$f":"IF('Zgłoszenie Pacjenta'!A1249=\"\",\"\",Sprawdz_pesel('Zgłoszenie Pacjenta'!A1249))","v":""}]
[{"$f":"IF('Zgłoszenie Pacjenta'!A1250=\"\",\"\",Sprawdz_pesel('Zgłoszenie Pacjenta'!A1250))","v":""}]
[{"$f":"IF('Zgłoszenie Pacjenta'!A1251=\"\",\"\",Sprawdz_pesel('Zgłoszenie Pacjenta'!A1251))","v":""}]
[{"$f":"IF('Zgłoszenie Pacjenta'!A1252=\"\",\"\",Sprawdz_pesel('Zgłoszenie Pacjenta'!A1252))","v":""}]
[{"$f":"IF('Zgłoszenie Pacjenta'!A1253=\"\",\"\",Sprawdz_pesel('Zgłoszenie Pacjenta'!A1253))","v":""}]
[{"$f":"IF('Zgłoszenie Pacjenta'!A1254=\"\",\"\",Sprawdz_pesel('Zgłoszenie Pacjenta'!A1254))","v":""}]
[{"$f":"IF('Zgłoszenie Pacjenta'!A1255=\"\",\"\",Sprawdz_pesel('Zgłoszenie Pacjenta'!A1255))","v":""}]
[{"$f":"IF('Zgłoszenie Pacjenta'!A1256=\"\",\"\",Sprawdz_pesel('Zgłoszenie Pacjenta'!A1256))","v":""}]
[{"$f":"IF('Zgłoszenie Pacjenta'!A1257=\"\",\"\",Sprawdz_pesel('Zgłoszenie Pacjenta'!A1257))","v":""}]
[{"$f":"IF('Zgłoszenie Pacjenta'!A1258=\"\",\"\",Sprawdz_pesel('Zgłoszenie Pacjenta'!A1258))","v":""}]
[{"$f":"IF('Zgłoszenie Pacjenta'!A1259=\"\",\"\",Sprawdz_pesel('Zgłoszenie Pacjenta'!A1259))","v":""}]
[{"$f":"IF('Zgłoszenie Pacjenta'!A1260=\"\",\"\",Sprawdz_pesel('Zgłoszenie Pacjenta'!A1260))","v":""}]
[{"$f":"IF('Zgłoszenie Pacjenta'!A1261=\"\",\"\",Sprawdz_pesel('Zgłoszenie Pacjenta'!A1261))","v":""}]
[{"$f":"IF('Zgłoszenie Pacjenta'!A1262=\"\",\"\",Sprawdz_pesel('Zgłoszenie Pacjenta'!A1262))","v":""}]
[{"$f":"IF('Zgłoszenie Pacjenta'!A1263=\"\",\"\",Sprawdz_pesel('Zgłoszenie Pacjenta'!A1263))","v":""}]
[{"$f":"IF('Zgłoszenie Pacjenta'!A1264=\"\",\"\",Sprawdz_pesel('Zgłoszenie Pacjenta'!A1264))","v":""}]
[{"$f":"IF('Zgłoszenie Pacjenta'!A1265=\"\",\"\",Sprawdz_pesel('Zgłoszenie Pacjenta'!A1265))","v":""}]
[{"$f":"IF('Zgłoszenie Pacjenta'!A1266=\"\",\"\",Sprawdz_pesel('Zgłoszenie Pacjenta'!A1266))","v":""}]
[{"$f":"IF('Zgłoszenie Pacjenta'!A1267=\"\",\"\",Sprawdz_pesel('Zgłoszenie Pacjenta'!A1267))","v":""}]
[{"$f":"IF('Zgłoszenie Pacjenta'!A1268=\"\",\"\",Sprawdz_pesel('Zgłoszenie Pacjenta'!A1268))","v":""}]
[{"$f":"IF('Zgłoszenie Pacjenta'!A1269=\"\",\"\",Sprawdz_pesel('Zgłoszenie Pacjenta'!A1269))","v":""}]
[{"$f":"IF('Zgłoszenie Pacjenta'!A1270=\"\",\"\",Sprawdz_pesel('Zgłoszenie Pacjenta'!A1270))","v":""}]
[{"$f":"IF('Zgłoszenie Pacjenta'!A1271=\"\",\"\",Sprawdz_pesel('Zgłoszenie Pacjenta'!A1271))","v":""}]
[{"$f":"IF('Zgłoszenie Pacjenta'!A1272=\"\",\"\",Sprawdz_pesel('Zgłoszenie Pacjenta'!A1272))","v":""}]
[{"$f":"IF('Zgłoszenie Pacjenta'!A1273=\"\",\"\",Sprawdz_pesel('Zgłoszenie Pacjenta'!A1273))","v":""}]
[{"$f":"IF('Zgłoszenie Pacjenta'!A1274=\"\",\"\",Sprawdz_pesel('Zgłoszenie Pacjenta'!A1274))","v":""}]
[{"$f":"IF('Zgłoszenie Pacjenta'!A1275=\"\",\"\",Sprawdz_pesel('Zgłoszenie Pacjenta'!A1275))","v":""}]
[{"$f":"IF('Zgłoszenie Pacjenta'!A1276=\"\",\"\",Sprawdz_pesel('Zgłoszenie Pacjenta'!A1276))","v":""}]
[{"$f":"IF('Zgłoszenie Pacjenta'!A1277=\"\",\"\",Sprawdz_pesel('Zgłoszenie Pacjenta'!A1277))","v":""}]
[{"$f":"IF('Zgłoszenie Pacjenta'!A1278=\"\",\"\",Sprawdz_pesel('Zgłoszenie Pacjenta'!A1278))","v":""}]
[{"$f":"IF('Zgłoszenie Pacjenta'!A1279=\"\",\"\",Sprawdz_pesel('Zgłoszenie Pacjenta'!A1279))","v":""}]
[{"$f":"IF('Zgłoszenie Pacjenta'!A1280=\"\",\"\",Sprawdz_pesel('Zgłoszenie Pacjenta'!A1280))","v":""}]
[{"$f":"IF('Zgłoszenie Pacjenta'!A1281=\"\",\"\",Sprawdz_pesel('Zgłoszenie Pacjenta'!A1281))","v":""}]
[{"$f":"IF('Zgłoszenie Pacjenta'!A1282=\"\",\"\",Sprawdz_pesel('Zgłoszenie Pacjenta'!A1282))","v":""}]
[{"$f":"IF('Zgłoszenie Pacjenta'!A1283=\"\",\"\",Sprawdz_pesel('Zgłoszenie Pacjenta'!A1283))","v":""}]
[{"$f":"IF('Zgłoszenie Pacjenta'!A1284=\"\",\"\",Sprawdz_pesel('Zgłoszenie Pacjenta'!A1284))","v":""}]
[{"$f":"IF('Zgłoszenie Pacjenta'!A1285=\"\",\"\",Sprawdz_pesel('Zgłoszenie Pacjenta'!A1285))","v":""}]
[{"$f":"IF('Zgłoszenie Pacjenta'!A1286=\"\",\"\",Sprawdz_pesel('Zgłoszenie Pacjenta'!A1286))","v":""}]
[{"$f":"IF('Zgłoszenie Pacjenta'!A1287=\"\",\"\",Sprawdz_pesel('Zgłoszenie Pacjenta'!A1287))","v":""}]
[{"$f":"IF('Zgłoszenie Pacjenta'!A1288=\"\",\"\",Sprawdz_pesel('Zgłoszenie Pacjenta'!A1288))","v":""}]
[{"$f":"IF('Zgłoszenie Pacjenta'!A1289=\"\",\"\",Sprawdz_pesel('Zgłoszenie Pacjenta'!A1289))","v":""}]
[{"$f":"IF('Zgłoszenie Pacjenta'!A1290=\"\",\"\",Sprawdz_pesel('Zgłoszenie Pacjenta'!A1290))","v":""}]
[{"$f":"IF('Zgłoszenie Pacjenta'!A1291=\"\",\"\",Sprawdz_pesel('Zgłoszenie Pacjenta'!A1291))","v":""}]
[{"$f":"IF('Zgłoszenie Pacjenta'!A1292=\"\",\"\",Sprawdz_pesel('Zgłoszenie Pacjenta'!A1292))","v":""}]
[{"$f":"IF('Zgłoszenie Pacjenta'!A1293=\"\",\"\",Sprawdz_pesel('Zgłoszenie Pacjenta'!A1293))","v":""}]
[{"$f":"IF('Zgłoszenie Pacjenta'!A1294=\"\",\"\",Sprawdz_pesel('Zgłoszenie Pacjenta'!A1294))","v":""}]
[{"$f":"IF('Zgłoszenie Pacjenta'!A1295=\"\",\"\",Sprawdz_pesel('Zgłoszenie Pacjenta'!A1295))","v":""}]
[{"$f":"IF('Zgłoszenie Pacjenta'!A1296=\"\",\"\",Sprawdz_pesel('Zgłoszenie Pacjenta'!A1296))","v":""}]
[{"$f":"IF('Zgłoszenie Pacjenta'!A1297=\"\",\"\",Sprawdz_pesel('Zgłoszenie Pacjenta'!A1297))","v":""}]
[{"$f":"IF('Zgłoszenie Pacjenta'!A1298=\"\",\"\",Sprawdz_pesel('Zgłoszenie Pacjenta'!A1298))","v":""}]
[{"$f":"IF('Zgłoszenie Pacjenta'!A1299=\"\",\"\",Sprawdz_pesel('Zgłoszenie Pacjenta'!A1299))","v":""}]
[{"$f":"IF('Zgłoszenie Pacjenta'!A1300=\"\",\"\",Sprawdz_pesel('Zgłoszenie Pacjenta'!A1300))","v":""}]
[{"$f":"IF('Zgłoszenie Pacjenta'!A1301=\"\",\"\",Sprawdz_pesel('Zgłoszenie Pacjenta'!A1301))","v":""}]
[{"$f":"IF('Zgłoszenie Pacjenta'!A1302=\"\",\"\",Sprawdz_pesel('Zgłoszenie Pacjenta'!A1302))","v":""}]
[{"$f":"IF('Zgłoszenie Pacjenta'!A1303=\"\",\"\",Sprawdz_pesel('Zgłoszenie Pacjenta'!A1303))","v":""}]
[{"$f":"IF('Zgłoszenie Pacjenta'!A1304=\"\",\"\",Sprawdz_pesel('Zgłoszenie Pacjenta'!A1304))","v":""}]
[{"$f":"IF('Zgłoszenie Pacjenta'!A1305=\"\",\"\",Sprawdz_pesel('Zgłoszenie Pacjenta'!A1305))","v":""}]
[{"$f":"IF('Zgłoszenie Pacjenta'!A1306=\"\",\"\",Sprawdz_pesel('Zgłoszenie Pacjenta'!A1306))","v":""}]
[{"$f":"IF('Zgłoszenie Pacjenta'!A1307=\"\",\"\",Sprawdz_pesel('Zgłoszenie Pacjenta'!A1307))","v":""}]
[{"$f":"IF('Zgłoszenie Pacjenta'!A1308=\"\",\"\",Sprawdz_pesel('Zgłoszenie Pacjenta'!A1308))","v":""}]
[{"$f":"IF('Zgłoszenie Pacjenta'!A1309=\"\",\"\",Sprawdz_pesel('Zgłoszenie Pacjenta'!A1309))","v":""}]
[{"$f":"IF('Zgłoszenie Pacjenta'!A1310=\"\",\"\",Sprawdz_pesel('Zgłoszenie Pacjenta'!A1310))","v":""}]
[{"$f":"IF('Zgłoszenie Pacjenta'!A1311=\"\",\"\",Sprawdz_pesel('Zgłoszenie Pacjenta'!A1311))","v":""}]
[{"$f":"IF('Zgłoszenie Pacjenta'!A1312=\"\",\"\",Sprawdz_pesel('Zgłoszenie Pacjenta'!A1312))","v":""}]
[{"$f":"IF('Zgłoszenie Pacjenta'!A1313=\"\",\"\",Sprawdz_pesel('Zgłoszenie Pacjenta'!A1313))","v":""}]
[{"$f":"IF('Zgłoszenie Pacjenta'!A1314=\"\",\"\",Sprawdz_pesel('Zgłoszenie Pacjenta'!A1314))","v":""}]
[{"$f":"IF('Zgłoszenie Pacjenta'!A1315=\"\",\"\",Sprawdz_pesel('Zgłoszenie Pacjenta'!A1315))","v":""}]
[{"$f":"IF('Zgłoszenie Pacjenta'!A1316=\"\",\"\",Sprawdz_pesel('Zgłoszenie Pacjenta'!A1316))","v":""}]
[{"$f":"IF('Zgłoszenie Pacjenta'!A1317=\"\",\"\",Sprawdz_pesel('Zgłoszenie Pacjenta'!A1317))","v":""}]
[{"$f":"IF('Zgłoszenie Pacjenta'!A1318=\"\",\"\",Sprawdz_pesel('Zgłoszenie Pacjenta'!A1318))","v":""}]
[{"$f":"IF('Zgłoszenie Pacjenta'!A1319=\"\",\"\",Sprawdz_pesel('Zgłoszenie Pacjenta'!A1319))","v":""}]
[{"$f":"IF('Zgłoszenie Pacjenta'!A1320=\"\",\"\",Sprawdz_pesel('Zgłoszenie Pacjenta'!A1320))","v":""}]
[{"$f":"IF('Zgłoszenie Pacjenta'!A1321=\"\",\"\",Sprawdz_pesel('Zgłoszenie Pacjenta'!A1321))","v":""}]
[{"$f":"IF('Zgłoszenie Pacjenta'!A1322=\"\",\"\",Sprawdz_pesel('Zgłoszenie Pacjenta'!A1322))","v":""}]
[{"$f":"IF('Zgłoszenie Pacjenta'!A1323=\"\",\"\",Sprawdz_pesel('Zgłoszenie Pacjenta'!A1323))","v":""}]
[{"$f":"IF('Zgłoszenie Pacjenta'!A1324=\"\",\"\",Sprawdz_pesel('Zgłoszenie Pacjenta'!A1324))","v":""}]
[{"$f":"IF('Zgłoszenie Pacjenta'!A1325=\"\",\"\",Sprawdz_pesel('Zgłoszenie Pacjenta'!A1325))","v":""}]
[{"$f":"IF('Zgłoszenie Pacjenta'!A1326=\"\",\"\",Sprawdz_pesel('Zgłoszenie Pacjenta'!A1326))","v":""}]
[{"$f":"IF('Zgłoszenie Pacjenta'!A1327=\"\",\"\",Sprawdz_pesel('Zgłoszenie Pacjenta'!A1327))","v":""}]
[{"$f":"IF('Zgłoszenie Pacjenta'!A1328=\"\",\"\",Sprawdz_pesel('Zgłoszenie Pacjenta'!A1328))","v":""}]
[{"$f":"IF('Zgłoszenie Pacjenta'!A1329=\"\",\"\",Sprawdz_pesel('Zgłoszenie Pacjenta'!A1329))","v":""}]
[{"$f":"IF('Zgłoszenie Pacjenta'!A1330=\"\",\"\",Sprawdz_pesel('Zgłoszenie Pacjenta'!A1330))","v":""}]
[{"$f":"IF('Zgłoszenie Pacjenta'!A1331=\"\",\"\",Sprawdz_pesel('Zgłoszenie Pacjenta'!A1331))","v":""}]
[{"$f":"IF('Zgłoszenie Pacjenta'!A1332=\"\",\"\",Sprawdz_pesel('Zgłoszenie Pacjenta'!A1332))","v":""}]
[{"$f":"IF('Zgłoszenie Pacjenta'!A1333=\"\",\"\",Sprawdz_pesel('Zgłoszenie Pacjenta'!A1333))","v":""}]
[{"$f":"IF('Zgłoszenie Pacjenta'!A1334=\"\",\"\",Sprawdz_pesel('Zgłoszenie Pacjenta'!A1334))","v":""}]
[{"$f":"IF('Zgłoszenie Pacjenta'!A1335=\"\",\"\",Sprawdz_pesel('Zgłoszenie Pacjenta'!A1335))","v":""}]
[{"$f":"IF('Zgłoszenie Pacjenta'!A1336=\"\",\"\",Sprawdz_pesel('Zgłoszenie Pacjenta'!A1336))","v":""}]
[{"$f":"IF('Zgłoszenie Pacjenta'!A1337=\"\",\"\",Sprawdz_pesel('Zgłoszenie Pacjenta'!A1337))","v":""}]
[{"$f":"IF('Zgłoszenie Pacjenta'!A1338=\"\",\"\",Sprawdz_pesel('Zgłoszenie Pacjenta'!A1338))","v":""}]
[{"$f":"IF('Zgłoszenie Pacjenta'!A1339=\"\",\"\",Sprawdz_pesel('Zgłoszenie Pacjenta'!A1339))","v":""}]
[{"$f":"IF('Zgłoszenie Pacjenta'!A1340=\"\",\"\",Sprawdz_pesel('Zgłoszenie Pacjenta'!A1340))","v":""}]
[{"$f":"IF('Zgłoszenie Pacjenta'!A1341=\"\",\"\",Sprawdz_pesel('Zgłoszenie Pacjenta'!A1341))","v":""}]
[{"$f":"IF('Zgłoszenie Pacjenta'!A1342=\"\",\"\",Sprawdz_pesel('Zgłoszenie Pacjenta'!A1342))","v":""}]
[{"$f":"IF('Zgłoszenie Pacjenta'!A1343=\"\",\"\",Sprawdz_pesel('Zgłoszenie Pacjenta'!A1343))","v":""}]
[{"$f":"IF('Zgłoszenie Pacjenta'!A1344=\"\",\"\",Sprawdz_pesel('Zgłoszenie Pacjenta'!A1344))","v":""}]
[{"$f":"IF('Zgłoszenie Pacjenta'!A1345=\"\",\"\",Sprawdz_pesel('Zgłoszenie Pacjenta'!A1345))","v":""}]
[{"$f":"IF('Zgłoszenie Pacjenta'!A1346=\"\",\"\",Sprawdz_pesel('Zgłoszenie Pacjenta'!A1346))","v":""}]
[{"$f":"IF('Zgłoszenie Pacjenta'!A1347=\"\",\"\",Sprawdz_pesel('Zgłoszenie Pacjenta'!A1347))","v":""}]
[{"$f":"IF('Zgłoszenie Pacjenta'!A1348=\"\",\"\",Sprawdz_pesel('Zgłoszenie Pacjenta'!A1348))","v":""}]
[{"$f":"IF('Zgłoszenie Pacjenta'!A1349=\"\",\"\",Sprawdz_pesel('Zgłoszenie Pacjenta'!A1349))","v":""}]
[{"$f":"IF('Zgłoszenie Pacjenta'!A1350=\"\",\"\",Sprawdz_pesel('Zgłoszenie Pacjenta'!A1350))","v":""}]
[{"$f":"IF('Zgłoszenie Pacjenta'!A1351=\"\",\"\",Sprawdz_pesel('Zgłoszenie Pacjenta'!A1351))","v":""}]
[{"$f":"IF('Zgłoszenie Pacjenta'!A1352=\"\",\"\",Sprawdz_pesel('Zgłoszenie Pacjenta'!A1352))","v":""}]
[{"$f":"IF('Zgłoszenie Pacjenta'!A1353=\"\",\"\",Sprawdz_pesel('Zgłoszenie Pacjenta'!A1353))","v":""}]
[{"$f":"IF('Zgłoszenie Pacjenta'!A1354=\"\",\"\",Sprawdz_pesel('Zgłoszenie Pacjenta'!A1354))","v":""}]
[{"$f":"IF('Zgłoszenie Pacjenta'!A1355=\"\",\"\",Sprawdz_pesel('Zgłoszenie Pacjenta'!A1355))","v":""}]
[{"$f":"IF('Zgłoszenie Pacjenta'!A1356=\"\",\"\",Sprawdz_pesel('Zgłoszenie Pacjenta'!A1356))","v":""}]
[{"$f":"IF('Zgłoszenie Pacjenta'!A1357=\"\",\"\",Sprawdz_pesel('Zgłoszenie Pacjenta'!A1357))","v":""}]
[{"$f":"IF('Zgłoszenie Pacjenta'!A1358=\"\",\"\",Sprawdz_pesel('Zgłoszenie Pacjenta'!A1358))","v":""}]
[{"$f":"IF('Zgłoszenie Pacjenta'!A1359=\"\",\"\",Sprawdz_pesel('Zgłoszenie Pacjenta'!A1359))","v":""}]
[{"$f":"IF('Zgłoszenie Pacjenta'!A1360=\"\",\"\",Sprawdz_pesel('Zgłoszenie Pacjenta'!A1360))","v":""}]
[{"$f":"IF('Zgłoszenie Pacjenta'!A1361=\"\",\"\",Sprawdz_pesel('Zgłoszenie Pacjenta'!A1361))","v":""}]
[{"$f":"IF('Zgłoszenie Pacjenta'!A1362=\"\",\"\",Sprawdz_pesel('Zgłoszenie Pacjenta'!A1362))","v":""}]
[{"$f":"IF('Zgłoszenie Pacjenta'!A1363=\"\",\"\",Sprawdz_pesel('Zgłoszenie Pacjenta'!A1363))","v":""}]
[{"$f":"IF('Zgłoszenie Pacjenta'!A1364=\"\",\"\",Sprawdz_pesel('Zgłoszenie Pacjenta'!A1364))","v":""}]
[{"$f":"IF('Zgłoszenie Pacjenta'!A1365=\"\",\"\",Sprawdz_pesel('Zgłoszenie Pacjenta'!A1365))","v":""}]
[{"$f":"IF('Zgłoszenie Pacjenta'!A1366=\"\",\"\",Sprawdz_pesel('Zgłoszenie Pacjenta'!A1366))","v":""}]
[{"$f":"IF('Zgłoszenie Pacjenta'!A1367=\"\",\"\",Sprawdz_pesel('Zgłoszenie Pacjenta'!A1367))","v":""}]
[{"$f":"IF('Zgłoszenie Pacjenta'!A1368=\"\",\"\",Sprawdz_pesel('Zgłoszenie Pacjenta'!A1368))","v":""}]
[{"$f":"IF('Zgłoszenie Pacjenta'!A1369=\"\",\"\",Sprawdz_pesel('Zgłoszenie Pacjenta'!A1369))","v":""}]
[{"$f":"IF('Zgłoszenie Pacjenta'!A1370=\"\",\"\",Sprawdz_pesel('Zgłoszenie Pacjenta'!A1370))","v":""}]
[{"$f":"IF('Zgłoszenie Pacjenta'!A1371=\"\",\"\",Sprawdz_pesel('Zgłoszenie Pacjenta'!A1371))","v":""}]
[{"$f":"IF('Zgłoszenie Pacjenta'!A1372=\"\",\"\",Sprawdz_pesel('Zgłoszenie Pacjenta'!A1372))","v":""}]
[{"$f":"IF('Zgłoszenie Pacjenta'!A1373=\"\",\"\",Sprawdz_pesel('Zgłoszenie Pacjenta'!A1373))","v":""}]
[{"$f":"IF('Zgłoszenie Pacjenta'!A1374=\"\",\"\",Sprawdz_pesel('Zgłoszenie Pacjenta'!A1374))","v":""}]
[{"$f":"IF('Zgłoszenie Pacjenta'!A1375=\"\",\"\",Sprawdz_pesel('Zgłoszenie Pacjenta'!A1375))","v":""}]
[{"$f":"IF('Zgłoszenie Pacjenta'!A1376=\"\",\"\",Sprawdz_pesel('Zgłoszenie Pacjenta'!A1376))","v":""}]
[{"$f":"IF('Zgłoszenie Pacjenta'!A1377=\"\",\"\",Sprawdz_pesel('Zgłoszenie Pacjenta'!A1377))","v":""}]
[{"$f":"IF('Zgłoszenie Pacjenta'!A1378=\"\",\"\",Sprawdz_pesel('Zgłoszenie Pacjenta'!A1378))","v":""}]
[{"$f":"IF('Zgłoszenie Pacjenta'!A1379=\"\",\"\",Sprawdz_pesel('Zgłoszenie Pacjenta'!A1379))","v":""}]
[{"$f":"IF('Zgłoszenie Pacjenta'!A1380=\"\",\"\",Sprawdz_pesel('Zgłoszenie Pacjenta'!A1380))","v":""}]
[{"$f":"IF('Zgłoszenie Pacjenta'!A1381=\"\",\"\",Sprawdz_pesel('Zgłoszenie Pacjenta'!A1381))","v":""}]
[{"$f":"IF('Zgłoszenie Pacjenta'!A1382=\"\",\"\",Sprawdz_pesel('Zgłoszenie Pacjenta'!A1382))","v":""}]
[{"$f":"IF('Zgłoszenie Pacjenta'!A1383=\"\",\"\",Sprawdz_pesel('Zgłoszenie Pacjenta'!A1383))","v":""}]
[{"$f":"IF('Zgłoszenie Pacjenta'!A1384=\"\",\"\",Sprawdz_pesel('Zgłoszenie Pacjenta'!A1384))","v":""}]
[{"$f":"IF('Zgłoszenie Pacjenta'!A1385=\"\",\"\",Sprawdz_pesel('Zgłoszenie Pacjenta'!A1385))","v":""}]
[{"$f":"IF('Zgłoszenie Pacjenta'!A1386=\"\",\"\",Sprawdz_pesel('Zgłoszenie Pacjenta'!A1386))","v":""}]
[{"$f":"IF('Zgłoszenie Pacjenta'!A1387=\"\",\"\",Sprawdz_pesel('Zgłoszenie Pacjenta'!A1387))","v":""}]
[{"$f":"IF('Zgłoszenie Pacjenta'!A1388=\"\",\"\",Sprawdz_pesel('Zgłoszenie Pacjenta'!A1388))","v":""}]
[{"$f":"IF('Zgłoszenie Pacjenta'!A1389=\"\",\"\",Sprawdz_pesel('Zgłoszenie Pacjenta'!A1389))","v":""}]
[{"$f":"IF('Zgłoszenie Pacjenta'!A1390=\"\",\"\",Sprawdz_pesel('Zgłoszenie Pacjenta'!A1390))","v":""}]
[{"$f":"IF('Zgłoszenie Pacjenta'!A1391=\"\",\"\",Sprawdz_pesel('Zgłoszenie Pacjenta'!A1391))","v":""}]
[{"$f":"IF('Zgłoszenie Pacjenta'!A1392=\"\",\"\",Sprawdz_pesel('Zgłoszenie Pacjenta'!A1392))","v":""}]
[{"$f":"IF('Zgłoszenie Pacjenta'!A1393=\"\",\"\",Sprawdz_pesel('Zgłoszenie Pacjenta'!A1393))","v":""}]
[{"$f":"IF('Zgłoszenie Pacjenta'!A1394=\"\",\"\",Sprawdz_pesel('Zgłoszenie Pacjenta'!A1394))","v":""}]
[{"$f":"IF('Zgłoszenie Pacjenta'!A1395=\"\",\"\",Sprawdz_pesel('Zgłoszenie Pacjenta'!A1395))","v":""}]
[{"$f":"IF('Zgłoszenie Pacjenta'!A1396=\"\",\"\",Sprawdz_pesel('Zgłoszenie Pacjenta'!A1396))","v":""}]
[{"$f":"IF('Zgłoszenie Pacjenta'!A1397=\"\",\"\",Sprawdz_pesel('Zgłoszenie Pacjenta'!A1397))","v":""}]
[{"$f":"IF('Zgłoszenie Pacjenta'!A1398=\"\",\"\",Sprawdz_pesel('Zgłoszenie Pacjenta'!A1398))","v":""}]
[{"$f":"IF('Zgłoszenie Pacjenta'!A1399=\"\",\"\",Sprawdz_pesel('Zgłoszenie Pacjenta'!A1399))","v":""}]
[{"$f":"IF('Zgłoszenie Pacjenta'!A1400=\"\",\"\",Sprawdz_pesel('Zgłoszenie Pacjenta'!A1400))","v":""}]
[{"$f":"IF('Zgłoszenie Pacjenta'!A1401=\"\",\"\",Sprawdz_pesel('Zgłoszenie Pacjenta'!A1401))","v":""}]
[{"$f":"IF('Zgłoszenie Pacjenta'!A1402=\"\",\"\",Sprawdz_pesel('Zgłoszenie Pacjenta'!A1402))","v":""}]
[{"$f":"IF('Zgłoszenie Pacjenta'!A1403=\"\",\"\",Sprawdz_pesel('Zgłoszenie Pacjenta'!A1403))","v":""}]
[{"$f":"IF('Zgłoszenie Pacjenta'!A1404=\"\",\"\",Sprawdz_pesel('Zgłoszenie Pacjenta'!A1404))","v":""}]
[{"$f":"IF('Zgłoszenie Pacjenta'!A1405=\"\",\"\",Sprawdz_pesel('Zgłoszenie Pacjenta'!A1405))","v":""}]
[{"$f":"IF('Zgłoszenie Pacjenta'!A1406=\"\",\"\",Sprawdz_pesel('Zgłoszenie Pacjenta'!A1406))","v":""}]
[{"$f":"IF('Zgłoszenie Pacjenta'!A1407=\"\",\"\",Sprawdz_pesel('Zgłoszenie Pacjenta'!A1407))","v":""}]
[{"$f":"IF('Zgłoszenie Pacjenta'!A1408=\"\",\"\",Sprawdz_pesel('Zgłoszenie Pacjenta'!A1408))","v":""}]
[{"$f":"IF('Zgłoszenie Pacjenta'!A1409=\"\",\"\",Sprawdz_pesel('Zgłoszenie Pacjenta'!A1409))","v":""}]
[{"$f":"IF('Zgłoszenie Pacjenta'!A1410=\"\",\"\",Sprawdz_pesel('Zgłoszenie Pacjenta'!A1410))","v":""}]
[{"$f":"IF('Zgłoszenie Pacjenta'!A1411=\"\",\"\",Sprawdz_pesel('Zgłoszenie Pacjenta'!A1411))","v":""}]
[{"$f":"IF('Zgłoszenie Pacjenta'!A1412=\"\",\"\",Sprawdz_pesel('Zgłoszenie Pacjenta'!A1412))","v":""}]
[{"$f":"IF('Zgłoszenie Pacjenta'!A1413=\"\",\"\",Sprawdz_pesel('Zgłoszenie Pacjenta'!A1413))","v":""}]
[{"$f":"IF('Zgłoszenie Pacjenta'!A1414=\"\",\"\",Sprawdz_pesel('Zgłoszenie Pacjenta'!A1414))","v":""}]
[{"$f":"IF('Zgłoszenie Pacjenta'!A1415=\"\",\"\",Sprawdz_pesel('Zgłoszenie Pacjenta'!A1415))","v":""}]
[{"$f":"IF('Zgłoszenie Pacjenta'!A1416=\"\",\"\",Sprawdz_pesel('Zgłoszenie Pacjenta'!A1416))","v":""}]
[{"$f":"IF('Zgłoszenie Pacjenta'!A1417=\"\",\"\",Sprawdz_pesel('Zgłoszenie Pacjenta'!A1417))","v":""}]
[{"$f":"IF('Zgłoszenie Pacjenta'!A1418=\"\",\"\",Sprawdz_pesel('Zgłoszenie Pacjenta'!A1418))","v":""}]
[{"$f":"IF('Zgłoszenie Pacjenta'!A1419=\"\",\"\",Sprawdz_pesel('Zgłoszenie Pacjenta'!A1419))","v":""}]
[{"$f":"IF('Zgłoszenie Pacjenta'!A1420=\"\",\"\",Sprawdz_pesel('Zgłoszenie Pacjenta'!A1420))","v":""}]
[{"$f":"IF('Zgłoszenie Pacjenta'!A1421=\"\",\"\",Sprawdz_pesel('Zgłoszenie Pacjenta'!A1421))","v":""}]
[{"$f":"IF('Zgłoszenie Pacjenta'!A1422=\"\",\"\",Sprawdz_pesel('Zgłoszenie Pacjenta'!A1422))","v":""}]
[{"$f":"IF('Zgłoszenie Pacjenta'!A1423=\"\",\"\",Sprawdz_pesel('Zgłoszenie Pacjenta'!A1423))","v":""}]
[{"$f":"IF('Zgłoszenie Pacjenta'!A1424=\"\",\"\",Sprawdz_pesel('Zgłoszenie Pacjenta'!A1424))","v":""}]
[{"$f":"IF('Zgłoszenie Pacjenta'!A1425=\"\",\"\",Sprawdz_pesel('Zgłoszenie Pacjenta'!A1425))","v":""}]
[{"$f":"IF('Zgłoszenie Pacjenta'!A1426=\"\",\"\",Sprawdz_pesel('Zgłoszenie Pacjenta'!A1426))","v":""}]
[{"$f":"IF('Zgłoszenie Pacjenta'!A1427=\"\",\"\",Sprawdz_pesel('Zgłoszenie Pacjenta'!A1427))","v":""}]
[{"$f":"IF('Zgłoszenie Pacjenta'!A1428=\"\",\"\",Sprawdz_pesel('Zgłoszenie Pacjenta'!A1428))","v":""}]
[{"$f":"IF('Zgłoszenie Pacjenta'!A1429=\"\",\"\",Sprawdz_pesel('Zgłoszenie Pacjenta'!A1429))","v":""}]
[{"$f":"IF('Zgłoszenie Pacjenta'!A1430=\"\",\"\",Sprawdz_pesel('Zgłoszenie Pacjenta'!A1430))","v":""}]
[{"$f":"IF('Zgłoszenie Pacjenta'!A1431=\"\",\"\",Sprawdz_pesel('Zgłoszenie Pacjenta'!A1431))","v":""}]
[{"$f":"IF('Zgłoszenie Pacjenta'!A1432=\"\",\"\",Sprawdz_pesel('Zgłoszenie Pacjenta'!A1432))","v":""}]
[{"$f":"IF('Zgłoszenie Pacjenta'!A1433=\"\",\"\",Sprawdz_pesel('Zgłoszenie Pacjenta'!A1433))","v":""}]
[{"$f":"IF('Zgłoszenie Pacjenta'!A1434=\"\",\"\",Sprawdz_pesel('Zgłoszenie Pacjenta'!A1434))","v":""}]
[{"$f":"IF('Zgłoszenie Pacjenta'!A1435=\"\",\"\",Sprawdz_pesel('Zgłoszenie Pacjenta'!A1435))","v":""}]
[{"$f":"IF('Zgłoszenie Pacjenta'!A1436=\"\",\"\",Sprawdz_pesel('Zgłoszenie Pacjenta'!A1436))","v":""}]
[{"$f":"IF('Zgłoszenie Pacjenta'!A1437=\"\",\"\",Sprawdz_pesel('Zgłoszenie Pacjenta'!A1437))","v":""}]
[{"$f":"IF('Zgłoszenie Pacjenta'!A1438=\"\",\"\",Sprawdz_pesel('Zgłoszenie Pacjenta'!A1438))","v":""}]
[{"$f":"IF('Zgłoszenie Pacjenta'!A1439=\"\",\"\",Sprawdz_pesel('Zgłoszenie Pacjenta'!A1439))","v":""}]
[{"$f":"IF('Zgłoszenie Pacjenta'!A1440=\"\",\"\",Sprawdz_pesel('Zgłoszenie Pacjenta'!A1440))","v":""}]
[{"$f":"IF('Zgłoszenie Pacjenta'!A1441=\"\",\"\",Sprawdz_pesel('Zgłoszenie Pacjenta'!A1441))","v":""}]
[{"$f":"IF('Zgłoszenie Pacjenta'!A1442=\"\",\"\",Sprawdz_pesel('Zgłoszenie Pacjenta'!A1442))","v":""}]
[{"$f":"IF('Zgłoszenie Pacjenta'!A1443=\"\",\"\",Sprawdz_pesel('Zgłoszenie Pacjenta'!A1443))","v":""}]
[{"$f":"IF('Zgłoszenie Pacjenta'!A1444=\"\",\"\",Sprawdz_pesel('Zgłoszenie Pacjenta'!A1444))","v":""}]
[{"$f":"IF('Zgłoszenie Pacjenta'!A1445=\"\",\"\",Sprawdz_pesel('Zgłoszenie Pacjenta'!A1445))","v":""}]
[{"$f":"IF('Zgłoszenie Pacjenta'!A1446=\"\",\"\",Sprawdz_pesel('Zgłoszenie Pacjenta'!A1446))","v":""}]
[{"$f":"IF('Zgłoszenie Pacjenta'!A1447=\"\",\"\",Sprawdz_pesel('Zgłoszenie Pacjenta'!A1447))","v":""}]
[{"$f":"IF('Zgłoszenie Pacjenta'!A1448=\"\",\"\",Sprawdz_pesel('Zgłoszenie Pacjenta'!A1448))","v":""}]
[{"$f":"IF('Zgłoszenie Pacjenta'!A1449=\"\",\"\",Sprawdz_pesel('Zgłoszenie Pacjenta'!A1449))","v":""}]
[{"$f":"IF('Zgłoszenie Pacjenta'!A1450=\"\",\"\",Sprawdz_pesel('Zgłoszenie Pacjenta'!A1450))","v":""}]
[{"$f":"IF('Zgłoszenie Pacjenta'!A1451=\"\",\"\",Sprawdz_pesel('Zgłoszenie Pacjenta'!A1451))","v":""}]
[{"$f":"IF('Zgłoszenie Pacjenta'!A1452=\"\",\"\",Sprawdz_pesel('Zgłoszenie Pacjenta'!A1452))","v":""}]
[{"$f":"IF('Zgłoszenie Pacjenta'!A1453=\"\",\"\",Sprawdz_pesel('Zgłoszenie Pacjenta'!A1453))","v":""}]
[{"$f":"IF('Zgłoszenie Pacjenta'!A1454=\"\",\"\",Sprawdz_pesel('Zgłoszenie Pacjenta'!A1454))","v":""}]
[{"$f":"IF('Zgłoszenie Pacjenta'!A1455=\"\",\"\",Sprawdz_pesel('Zgłoszenie Pacjenta'!A1455))","v":""}]
[{"$f":"IF('Zgłoszenie Pacjenta'!A1456=\"\",\"\",Sprawdz_pesel('Zgłoszenie Pacjenta'!A1456))","v":""}]
[{"$f":"IF('Zgłoszenie Pacjenta'!A1457=\"\",\"\",Sprawdz_pesel('Zgłoszenie Pacjenta'!A1457))","v":""}]
[{"$f":"IF('Zgłoszenie Pacjenta'!A1458=\"\",\"\",Sprawdz_pesel('Zgłoszenie Pacjenta'!A1458))","v":""}]
[{"$f":"IF('Zgłoszenie Pacjenta'!A1459=\"\",\"\",Sprawdz_pesel('Zgłoszenie Pacjenta'!A1459))","v":""}]
[{"$f":"IF('Zgłoszenie Pacjenta'!A1460=\"\",\"\",Sprawdz_pesel('Zgłoszenie Pacjenta'!A1460))","v":""}]
[{"$f":"IF('Zgłoszenie Pacjenta'!A1461=\"\",\"\",Sprawdz_pesel('Zgłoszenie Pacjenta'!A1461))","v":""}]
[{"$f":"IF('Zgłoszenie Pacjenta'!A1462=\"\",\"\",Sprawdz_pesel('Zgłoszenie Pacjenta'!A1462))","v":""}]
[{"$f":"IF('Zgłoszenie Pacjenta'!A1463=\"\",\"\",Sprawdz_pesel('Zgłoszenie Pacjenta'!A1463))","v":""}]
[{"$f":"IF('Zgłoszenie Pacjenta'!A1464=\"\",\"\",Sprawdz_pesel('Zgłoszenie Pacjenta'!A1464))","v":""}]
[{"$f":"IF('Zgłoszenie Pacjenta'!A1465=\"\",\"\",Sprawdz_pesel('Zgłoszenie Pacjenta'!A1465))","v":""}]
[{"$f":"IF('Zgłoszenie Pacjenta'!A1466=\"\",\"\",Sprawdz_pesel('Zgłoszenie Pacjenta'!A1466))","v":""}]
[{"$f":"IF('Zgłoszenie Pacjenta'!A1467=\"\",\"\",Sprawdz_pesel('Zgłoszenie Pacjenta'!A1467))","v":""}]
[{"$f":"IF('Zgłoszenie Pacjenta'!A1468=\"\",\"\",Sprawdz_pesel('Zgłoszenie Pacjenta'!A1468))","v":""}]
[{"$f":"IF('Zgłoszenie Pacjenta'!A1469=\"\",\"\",Sprawdz_pesel('Zgłoszenie Pacjenta'!A1469))","v":""}]
[{"$f":"IF('Zgłoszenie Pacjenta'!A1470=\"\",\"\",Sprawdz_pesel('Zgłoszenie Pacjenta'!A1470))","v":""}]
[{"$f":"IF('Zgłoszenie Pacjenta'!A1471=\"\",\"\",Sprawdz_pesel('Zgłoszenie Pacjenta'!A1471))","v":""}]
[{"$f":"IF('Zgłoszenie Pacjenta'!A1472=\"\",\"\",Sprawdz_pesel('Zgłoszenie Pacjenta'!A1472))","v":""}]
[{"$f":"IF('Zgłoszenie Pacjenta'!A1473=\"\",\"\",Sprawdz_pesel('Zgłoszenie Pacjenta'!A1473))","v":""}]
[{"$f":"IF('Zgłoszenie Pacjenta'!A1474=\"\",\"\",Sprawdz_pesel('Zgłoszenie Pacjenta'!A1474))","v":""}]
[{"$f":"IF('Zgłoszenie Pacjenta'!A1475=\"\",\"\",Sprawdz_pesel('Zgłoszenie Pacjenta'!A1475))","v":""}]
[{"$f":"IF('Zgłoszenie Pacjenta'!A1476=\"\",\"\",Sprawdz_pesel('Zgłoszenie Pacjenta'!A1476))","v":""}]
[{"$f":"IF('Zgłoszenie Pacjenta'!A1477=\"\",\"\",Sprawdz_pesel('Zgłoszenie Pacjenta'!A1477))","v":""}]
[{"$f":"IF('Zgłoszenie Pacjenta'!A1478=\"\",\"\",Sprawdz_pesel('Zgłoszenie Pacjenta'!A1478))","v":""}]
[{"$f":"IF('Zgłoszenie Pacjenta'!A1479=\"\",\"\",Sprawdz_pesel('Zgłoszenie Pacjenta'!A1479))","v":""}]
[{"$f":"IF('Zgłoszenie Pacjenta'!A1480=\"\",\"\",Sprawdz_pesel('Zgłoszenie Pacjenta'!A1480))","v":""}]
[{"$f":"IF('Zgłoszenie Pacjenta'!A1481=\"\",\"\",Sprawdz_pesel('Zgłoszenie Pacjenta'!A1481))","v":""}]
[{"$f":"IF('Zgłoszenie Pacjenta'!A1482=\"\",\"\",Sprawdz_pesel('Zgłoszenie Pacjenta'!A1482))","v":""}]
[{"$f":"IF('Zgłoszenie Pacjenta'!A1483=\"\",\"\",Sprawdz_pesel('Zgłoszenie Pacjenta'!A1483))","v":""}]
[{"$f":"IF('Zgłoszenie Pacjenta'!A1484=\"\",\"\",Sprawdz_pesel('Zgłoszenie Pacjenta'!A1484))","v":""}]
[{"$f":"IF('Zgłoszenie Pacjenta'!A1485=\"\",\"\",Sprawdz_pesel('Zgłoszenie Pacjenta'!A1485))","v":""}]
[{"$f":"IF('Zgłoszenie Pacjenta'!A1486=\"\",\"\",Sprawdz_pesel('Zgłoszenie Pacjenta'!A1486))","v":""}]
[{"$f":"IF('Zgłoszenie Pacjenta'!A1487=\"\",\"\",Sprawdz_pesel('Zgłoszenie Pacjenta'!A1487))","v":""}]
[{"$f":"IF('Zgłoszenie Pacjenta'!A1488=\"\",\"\",Sprawdz_pesel('Zgłoszenie Pacjenta'!A1488))","v":""}]
[{"$f":"IF('Zgłoszenie Pacjenta'!A1489=\"\",\"\",Sprawdz_pesel('Zgłoszenie Pacjenta'!A1489))","v":""}]
[{"$f":"IF('Zgłoszenie Pacjenta'!A1490=\"\",\"\",Sprawdz_pesel('Zgłoszenie Pacjenta'!A1490))","v":""}]
[{"$f":"IF('Zgłoszenie Pacjenta'!A1491=\"\",\"\",Sprawdz_pesel('Zgłoszenie Pacjenta'!A1491))","v":""}]
[{"$f":"IF('Zgłoszenie Pacjenta'!A1492=\"\",\"\",Sprawdz_pesel('Zgłoszenie Pacjenta'!A1492))","v":""}]
[{"$f":"IF('Zgłoszenie Pacjenta'!A1493=\"\",\"\",Sprawdz_pesel('Zgłoszenie Pacjenta'!A1493))","v":""}]
[{"$f":"IF('Zgłoszenie Pacjenta'!A1494=\"\",\"\",Sprawdz_pesel('Zgłoszenie Pacjenta'!A1494))","v":""}]
[{"$f":"IF('Zgłoszenie Pacjenta'!A1495=\"\",\"\",Sprawdz_pesel('Zgłoszenie Pacjenta'!A1495))","v":""}]
[{"$f":"IF('Zgłoszenie Pacjenta'!A1496=\"\",\"\",Sprawdz_pesel('Zgłoszenie Pacjenta'!A1496))","v":""}]
[{"$f":"IF('Zgłoszenie Pacjenta'!A1497=\"\",\"\",Sprawdz_pesel('Zgłoszenie Pacjenta'!A1497))","v":""}]
[{"$f":"IF('Zgłoszenie Pacjenta'!A1498=\"\",\"\",Sprawdz_pesel('Zgłoszenie Pacjenta'!A1498))","v":""}]
[{"$f":"IF('Zgłoszenie Pacjenta'!A1499=\"\",\"\",Sprawdz_pesel('Zgłoszenie Pacjenta'!A1499))","v":""}]
[{"$f":"IF('Zgłoszenie Pacjenta'!A1500=\"\",\"\",Sprawdz_pesel('Zgłoszenie Pacjenta'!A1500))","v":""}]
[{"$f":"IF('Zgłoszenie Pacjenta'!A1501=\"\",\"\",Sprawdz_pesel('Zgłoszenie Pacjenta'!A1501))","v":""}]
[{"$f":"IF('Zgłoszenie Pacjenta'!A1502=\"\",\"\",Sprawdz_pesel('Zgłoszenie Pacjenta'!A1502))","v":""}]
[{"$f":"IF('Zgłoszenie Pacjenta'!A1503=\"\",\"\",Sprawdz_pesel('Zgłoszenie Pacjenta'!A1503))","v":""}]
[{"$f":"IF('Zgłoszenie Pacjenta'!A1504=\"\",\"\",Sprawdz_pesel('Zgłoszenie Pacjenta'!A1504))","v":""}]
[{"$f":"IF('Zgłoszenie Pacjenta'!A1505=\"\",\"\",Sprawdz_pesel('Zgłoszenie Pacjenta'!A1505))","v":""}]
[{"$f":"IF('Zgłoszenie Pacjenta'!A1506=\"\",\"\",Sprawdz_pesel('Zgłoszenie Pacjenta'!A1506))","v":""}]
[{"$f":"IF('Zgłoszenie Pacjenta'!A1507=\"\",\"\",Sprawdz_pesel('Zgłoszenie Pacjenta'!A1507))","v":""}]
[{"$f":"IF('Zgłoszenie Pacjenta'!A1508=\"\",\"\",Sprawdz_pesel('Zgłoszenie Pacjenta'!A1508))","v":""}]
[{"$f":"IF('Zgłoszenie Pacjenta'!A1509=\"\",\"\",Sprawdz_pesel('Zgłoszenie Pacjenta'!A1509))","v":""}]
[{"$f":"IF('Zgłoszenie Pacjenta'!A1510=\"\",\"\",Sprawdz_pesel('Zgłoszenie Pacjenta'!A1510))","v":""}]
[{"$f":"IF('Zgłoszenie Pacjenta'!A1511=\"\",\"\",Sprawdz_pesel('Zgłoszenie Pacjenta'!A1511))","v":""}]
[{"$f":"IF('Zgłoszenie Pacjenta'!A1512=\"\",\"\",Sprawdz_pesel('Zgłoszenie Pacjenta'!A1512))","v":""}]
[{"$f":"IF('Zgłoszenie Pacjenta'!A1513=\"\",\"\",Sprawdz_pesel('Zgłoszenie Pacjenta'!A1513))","v":""}]
[{"$f":"IF('Zgłoszenie Pacjenta'!A1514=\"\",\"\",Sprawdz_pesel('Zgłoszenie Pacjenta'!A1514))","v":""}]
[{"$f":"IF('Zgłoszenie Pacjenta'!A1515=\"\",\"\",Sprawdz_pesel('Zgłoszenie Pacjenta'!A1515))","v":""}]
[{"$f":"IF('Zgłoszenie Pacjenta'!A1516=\"\",\"\",Sprawdz_pesel('Zgłoszenie Pacjenta'!A1516))","v":""}]
[{"$f":"IF('Zgłoszenie Pacjenta'!A1517=\"\",\"\",Sprawdz_pesel('Zgłoszenie Pacjenta'!A1517))","v":""}]
[{"$f":"IF('Zgłoszenie Pacjenta'!A1518=\"\",\"\",Sprawdz_pesel('Zgłoszenie Pacjenta'!A1518))","v":""}]
[{"$f":"IF('Zgłoszenie Pacjenta'!A1519=\"\",\"\",Sprawdz_pesel('Zgłoszenie Pacjenta'!A1519))","v":""}]
[{"$f":"IF('Zgłoszenie Pacjenta'!A1520=\"\",\"\",Sprawdz_pesel('Zgłoszenie Pacjenta'!A1520))","v":""}]
[{"$f":"IF('Zgłoszenie Pacjenta'!A1521=\"\",\"\",Sprawdz_pesel('Zgłoszenie Pacjenta'!A1521))","v":""}]
[{"$f":"IF('Zgłoszenie Pacjenta'!A1522=\"\",\"\",Sprawdz_pesel('Zgłoszenie Pacjenta'!A1522))","v":""}]
[{"$f":"IF('Zgłoszenie Pacjenta'!A1523=\"\",\"\",Sprawdz_pesel('Zgłoszenie Pacjenta'!A1523))","v":""}]
[{"$f":"IF('Zgłoszenie Pacjenta'!A1524=\"\",\"\",Sprawdz_pesel('Zgłoszenie Pacjenta'!A1524))","v":""}]
[{"$f":"IF('Zgłoszenie Pacjenta'!A1525=\"\",\"\",Sprawdz_pesel('Zgłoszenie Pacjenta'!A1525))","v":""}]
[{"$f":"IF('Zgłoszenie Pacjenta'!A1526=\"\",\"\",Sprawdz_pesel('Zgłoszenie Pacjenta'!A1526))","v":""}]
[{"$f":"IF('Zgłoszenie Pacjenta'!A1527=\"\",\"\",Sprawdz_pesel('Zgłoszenie Pacjenta'!A1527))","v":""}]
[{"$f":"IF('Zgłoszenie Pacjenta'!A1528=\"\",\"\",Sprawdz_pesel('Zgłoszenie Pacjenta'!A1528))","v":""}]
[{"$f":"IF('Zgłoszenie Pacjenta'!A1529=\"\",\"\",Sprawdz_pesel('Zgłoszenie Pacjenta'!A1529))","v":""}]
[{"$f":"IF('Zgłoszenie Pacjenta'!A1530=\"\",\"\",Sprawdz_pesel('Zgłoszenie Pacjenta'!A1530))","v":""}]
[{"$f":"IF('Zgłoszenie Pacjenta'!A1531=\"\",\"\",Sprawdz_pesel('Zgłoszenie Pacjenta'!A1531))","v":""}]
[{"$f":"IF('Zgłoszenie Pacjenta'!A1532=\"\",\"\",Sprawdz_pesel('Zgłoszenie Pacjenta'!A1532))","v":""}]
[{"$f":"IF('Zgłoszenie Pacjenta'!A1533=\"\",\"\",Sprawdz_pesel('Zgłoszenie Pacjenta'!A1533))","v":""}]
[{"$f":"IF('Zgłoszenie Pacjenta'!A1534=\"\",\"\",Sprawdz_pesel('Zgłoszenie Pacjenta'!A1534))","v":""}]
[{"$f":"IF('Zgłoszenie Pacjenta'!A1535=\"\",\"\",Sprawdz_pesel('Zgłoszenie Pacjenta'!A1535))","v":""}]
[{"$f":"IF('Zgłoszenie Pacjenta'!A1536=\"\",\"\",Sprawdz_pesel('Zgłoszenie Pacjenta'!A1536))","v":""}]
[{"$f":"IF('Zgłoszenie Pacjenta'!A1537=\"\",\"\",Sprawdz_pesel('Zgłoszenie Pacjenta'!A1537))","v":""}]
[{"$f":"IF('Zgłoszenie Pacjenta'!A1538=\"\",\"\",Sprawdz_pesel('Zgłoszenie Pacjenta'!A1538))","v":""}]
[{"$f":"IF('Zgłoszenie Pacjenta'!A1539=\"\",\"\",Sprawdz_pesel('Zgłoszenie Pacjenta'!A1539))","v":""}]
[{"$f":"IF('Zgłoszenie Pacjenta'!A1540=\"\",\"\",Sprawdz_pesel('Zgłoszenie Pacjenta'!A1540))","v":""}]
[{"$f":"IF('Zgłoszenie Pacjenta'!A1541=\"\",\"\",Sprawdz_pesel('Zgłoszenie Pacjenta'!A1541))","v":""}]
[{"$f":"IF('Zgłoszenie Pacjenta'!A1542=\"\",\"\",Sprawdz_pesel('Zgłoszenie Pacjenta'!A1542))","v":""}]
[{"$f":"IF('Zgłoszenie Pacjenta'!A1543=\"\",\"\",Sprawdz_pesel('Zgłoszenie Pacjenta'!A1543))","v":""}]
[{"$f":"IF('Zgłoszenie Pacjenta'!A1544=\"\",\"\",Sprawdz_pesel('Zgłoszenie Pacjenta'!A1544))","v":""}]
[{"$f":"IF('Zgłoszenie Pacjenta'!A1545=\"\",\"\",Sprawdz_pesel('Zgłoszenie Pacjenta'!A1545))","v":""}]
[{"$f":"IF('Zgłoszenie Pacjenta'!A1546=\"\",\"\",Sprawdz_pesel('Zgłoszenie Pacjenta'!A1546))","v":""}]
[{"$f":"IF('Zgłoszenie Pacjenta'!A1547=\"\",\"\",Sprawdz_pesel('Zgłoszenie Pacjenta'!A1547))","v":""}]
[{"$f":"IF('Zgłoszenie Pacjenta'!A1548=\"\",\"\",Sprawdz_pesel('Zgłoszenie Pacjenta'!A1548))","v":""}]
[{"$f":"IF('Zgłoszenie Pacjenta'!A1549=\"\",\"\",Sprawdz_pesel('Zgłoszenie Pacjenta'!A1549))","v":""}]
[{"$f":"IF('Zgłoszenie Pacjenta'!A1550=\"\",\"\",Sprawdz_pesel('Zgłoszenie Pacjenta'!A1550))","v":""}]
[{"$f":"IF('Zgłoszenie Pacjenta'!A1551=\"\",\"\",Sprawdz_pesel('Zgłoszenie Pacjenta'!A1551))","v":""}]
[{"$f":"IF('Zgłoszenie Pacjenta'!A1552=\"\",\"\",Sprawdz_pesel('Zgłoszenie Pacjenta'!A1552))","v":""}]
[{"$f":"IF('Zgłoszenie Pacjenta'!A1553=\"\",\"\",Sprawdz_pesel('Zgłoszenie Pacjenta'!A1553))","v":""}]
[{"$f":"IF('Zgłoszenie Pacjenta'!A1554=\"\",\"\",Sprawdz_pesel('Zgłoszenie Pacjenta'!A1554))","v":""}]
[{"$f":"IF('Zgłoszenie Pacjenta'!A1555=\"\",\"\",Sprawdz_pesel('Zgłoszenie Pacjenta'!A1555))","v":""}]
[{"$f":"IF('Zgłoszenie Pacjenta'!A1556=\"\",\"\",Sprawdz_pesel('Zgłoszenie Pacjenta'!A1556))","v":""}]
[{"$f":"IF('Zgłoszenie Pacjenta'!A1557=\"\",\"\",Sprawdz_pesel('Zgłoszenie Pacjenta'!A1557))","v":""}]
[{"$f":"IF('Zgłoszenie Pacjenta'!A1558=\"\",\"\",Sprawdz_pesel('Zgłoszenie Pacjenta'!A1558))","v":""}]
[{"$f":"IF('Zgłoszenie Pacjenta'!A1559=\"\",\"\",Sprawdz_pesel('Zgłoszenie Pacjenta'!A1559))","v":""}]
[{"$f":"IF('Zgłoszenie Pacjenta'!A1560=\"\",\"\",Sprawdz_pesel('Zgłoszenie Pacjenta'!A1560))","v":""}]
[{"$f":"IF('Zgłoszenie Pacjenta'!A1561=\"\",\"\",Sprawdz_pesel('Zgłoszenie Pacjenta'!A1561))","v":""}]
[{"$f":"IF('Zgłoszenie Pacjenta'!A1562=\"\",\"\",Sprawdz_pesel('Zgłoszenie Pacjenta'!A1562))","v":""}]
[{"$f":"IF('Zgłoszenie Pacjenta'!A1563=\"\",\"\",Sprawdz_pesel('Zgłoszenie Pacjenta'!A1563))","v":""}]
[{"$f":"IF('Zgłoszenie Pacjenta'!A1564=\"\",\"\",Sprawdz_pesel('Zgłoszenie Pacjenta'!A1564))","v":""}]
[{"$f":"IF('Zgłoszenie Pacjenta'!A1565=\"\",\"\",Sprawdz_pesel('Zgłoszenie Pacjenta'!A1565))","v":""}]
[{"$f":"IF('Zgłoszenie Pacjenta'!A1566=\"\",\"\",Sprawdz_pesel('Zgłoszenie Pacjenta'!A1566))","v":""}]
[{"$f":"IF('Zgłoszenie Pacjenta'!A1567=\"\",\"\",Sprawdz_pesel('Zgłoszenie Pacjenta'!A1567))","v":""}]
[{"$f":"IF('Zgłoszenie Pacjenta'!A1568=\"\",\"\",Sprawdz_pesel('Zgłoszenie Pacjenta'!A1568))","v":""}]
[{"$f":"IF('Zgłoszenie Pacjenta'!A1569=\"\",\"\",Sprawdz_pesel('Zgłoszenie Pacjenta'!A1569))","v":""}]
[{"$f":"IF('Zgłoszenie Pacjenta'!A1570=\"\",\"\",Sprawdz_pesel('Zgłoszenie Pacjenta'!A1570))","v":""}]
[{"$f":"IF('Zgłoszenie Pacjenta'!A1571=\"\",\"\",Sprawdz_pesel('Zgłoszenie Pacjenta'!A1571))","v":""}]
[{"$f":"IF('Zgłoszenie Pacjenta'!A1572=\"\",\"\",Sprawdz_pesel('Zgłoszenie Pacjenta'!A1572))","v":""}]
[{"$f":"IF('Zgłoszenie Pacjenta'!A1573=\"\",\"\",Sprawdz_pesel('Zgłoszenie Pacjenta'!A1573))","v":""}]
[{"$f":"IF('Zgłoszenie Pacjenta'!A1574=\"\",\"\",Sprawdz_pesel('Zgłoszenie Pacjenta'!A1574))","v":""}]
[{"$f":"IF('Zgłoszenie Pacjenta'!A1575=\"\",\"\",Sprawdz_pesel('Zgłoszenie Pacjenta'!A1575))","v":""}]
[{"$f":"IF('Zgłoszenie Pacjenta'!A1576=\"\",\"\",Sprawdz_pesel('Zgłoszenie Pacjenta'!A1576))","v":""}]
[{"$f":"IF('Zgłoszenie Pacjenta'!A1577=\"\",\"\",Sprawdz_pesel('Zgłoszenie Pacjenta'!A1577))","v":""}]
[{"$f":"IF('Zgłoszenie Pacjenta'!A1578=\"\",\"\",Sprawdz_pesel('Zgłoszenie Pacjenta'!A1578))","v":""}]
[{"$f":"IF('Zgłoszenie Pacjenta'!A1579=\"\",\"\",Sprawdz_pesel('Zgłoszenie Pacjenta'!A1579))","v":""}]
[{"$f":"IF('Zgłoszenie Pacjenta'!A1580=\"\",\"\",Sprawdz_pesel('Zgłoszenie Pacjenta'!A1580))","v":""}]
[{"$f":"IF('Zgłoszenie Pacjenta'!A1581=\"\",\"\",Sprawdz_pesel('Zgłoszenie Pacjenta'!A1581))","v":""}]
[{"$f":"IF('Zgłoszenie Pacjenta'!A1582=\"\",\"\",Sprawdz_pesel('Zgłoszenie Pacjenta'!A1582))","v":""}]
[{"$f":"IF('Zgłoszenie Pacjenta'!A1583=\"\",\"\",Sprawdz_pesel('Zgłoszenie Pacjenta'!A1583))","v":""}]
[{"$f":"IF('Zgłoszenie Pacjenta'!A1584=\"\",\"\",Sprawdz_pesel('Zgłoszenie Pacjenta'!A1584))","v":""}]
[{"$f":"IF('Zgłoszenie Pacjenta'!A1585=\"\",\"\",Sprawdz_pesel('Zgłoszenie Pacjenta'!A1585))","v":""}]
[{"$f":"IF('Zgłoszenie Pacjenta'!A1586=\"\",\"\",Sprawdz_pesel('Zgłoszenie Pacjenta'!A1586))","v":""}]
[{"$f":"IF('Zgłoszenie Pacjenta'!A1587=\"\",\"\",Sprawdz_pesel('Zgłoszenie Pacjenta'!A1587))","v":""}]
[{"$f":"IF('Zgłoszenie Pacjenta'!A1588=\"\",\"\",Sprawdz_pesel('Zgłoszenie Pacjenta'!A1588))","v":""}]
[{"$f":"IF('Zgłoszenie Pacjenta'!A1589=\"\",\"\",Sprawdz_pesel('Zgłoszenie Pacjenta'!A1589))","v":""}]
[{"$f":"IF('Zgłoszenie Pacjenta'!A1590=\"\",\"\",Sprawdz_pesel('Zgłoszenie Pacjenta'!A1590))","v":""}]
[{"$f":"IF('Zgłoszenie Pacjenta'!A1591=\"\",\"\",Sprawdz_pesel('Zgłoszenie Pacjenta'!A1591))","v":""}]
[{"$f":"IF('Zgłoszenie Pacjenta'!A1592=\"\",\"\",Sprawdz_pesel('Zgłoszenie Pacjenta'!A1592))","v":""}]
[{"$f":"IF('Zgłoszenie Pacjenta'!A1593=\"\",\"\",Sprawdz_pesel('Zgłoszenie Pacjenta'!A1593))","v":""}]
[{"$f":"IF('Zgłoszenie Pacjenta'!A1594=\"\",\"\",Sprawdz_pesel('Zgłoszenie Pacjenta'!A1594))","v":""}]
[{"$f":"IF('Zgłoszenie Pacjenta'!A1595=\"\",\"\",Sprawdz_pesel('Zgłoszenie Pacjenta'!A1595))","v":""}]
[{"$f":"IF('Zgłoszenie Pacjenta'!A1596=\"\",\"\",Sprawdz_pesel('Zgłoszenie Pacjenta'!A1596))","v":""}]
[{"$f":"IF('Zgłoszenie Pacjenta'!A1597=\"\",\"\",Sprawdz_pesel('Zgłoszenie Pacjenta'!A1597))","v":""}]
[{"$f":"IF('Zgłoszenie Pacjenta'!A1598=\"\",\"\",Sprawdz_pesel('Zgłoszenie Pacjenta'!A1598))","v":""}]
[{"$f":"IF('Zgłoszenie Pacjenta'!A1599=\"\",\"\",Sprawdz_pesel('Zgłoszenie Pacjenta'!A1599))","v":""}]
[{"$f":"IF('Zgłoszenie Pacjenta'!A1600=\"\",\"\",Sprawdz_pesel('Zgłoszenie Pacjenta'!A1600))","v":""}]
[{"$f":"IF('Zgłoszenie Pacjenta'!A1601=\"\",\"\",Sprawdz_pesel('Zgłoszenie Pacjenta'!A1601))","v":""}]
[{"$f":"IF('Zgłoszenie Pacjenta'!A1602=\"\",\"\",Sprawdz_pesel('Zgłoszenie Pacjenta'!A1602))","v":""}]
[{"$f":"IF('Zgłoszenie Pacjenta'!A1603=\"\",\"\",Sprawdz_pesel('Zgłoszenie Pacjenta'!A1603))","v":""}]
[{"$f":"IF('Zgłoszenie Pacjenta'!A1604=\"\",\"\",Sprawdz_pesel('Zgłoszenie Pacjenta'!A1604))","v":""}]
[{"$f":"IF('Zgłoszenie Pacjenta'!A1605=\"\",\"\",Sprawdz_pesel('Zgłoszenie Pacjenta'!A1605))","v":""}]
[{"$f":"IF('Zgłoszenie Pacjenta'!A1606=\"\",\"\",Sprawdz_pesel('Zgłoszenie Pacjenta'!A1606))","v":""}]
[{"$f":"IF('Zgłoszenie Pacjenta'!A1607=\"\",\"\",Sprawdz_pesel('Zgłoszenie Pacjenta'!A1607))","v":""}]
[{"$f":"IF('Zgłoszenie Pacjenta'!A1608=\"\",\"\",Sprawdz_pesel('Zgłoszenie Pacjenta'!A1608))","v":""}]
[{"$f":"IF('Zgłoszenie Pacjenta'!A1609=\"\",\"\",Sprawdz_pesel('Zgłoszenie Pacjenta'!A1609))","v":""}]
[{"$f":"IF('Zgłoszenie Pacjenta'!A1610=\"\",\"\",Sprawdz_pesel('Zgłoszenie Pacjenta'!A1610))","v":""}]
[{"$f":"IF('Zgłoszenie Pacjenta'!A1611=\"\",\"\",Sprawdz_pesel('Zgłoszenie Pacjenta'!A1611))","v":""}]
[{"$f":"IF('Zgłoszenie Pacjenta'!A1612=\"\",\"\",Sprawdz_pesel('Zgłoszenie Pacjenta'!A1612))","v":""}]
[{"$f":"IF('Zgłoszenie Pacjenta'!A1613=\"\",\"\",Sprawdz_pesel('Zgłoszenie Pacjenta'!A1613))","v":""}]
[{"$f":"IF('Zgłoszenie Pacjenta'!A1614=\"\",\"\",Sprawdz_pesel('Zgłoszenie Pacjenta'!A1614))","v":""}]
[{"$f":"IF('Zgłoszenie Pacjenta'!A1615=\"\",\"\",Sprawdz_pesel('Zgłoszenie Pacjenta'!A1615))","v":""}]
[{"$f":"IF('Zgłoszenie Pacjenta'!A1616=\"\",\"\",Sprawdz_pesel('Zgłoszenie Pacjenta'!A1616))","v":""}]
[{"$f":"IF('Zgłoszenie Pacjenta'!A1617=\"\",\"\",Sprawdz_pesel('Zgłoszenie Pacjenta'!A1617))","v":""}]
[{"$f":"IF('Zgłoszenie Pacjenta'!A1618=\"\",\"\",Sprawdz_pesel('Zgłoszenie Pacjenta'!A1618))","v":""}]
[{"$f":"IF('Zgłoszenie Pacjenta'!A1619=\"\",\"\",Sprawdz_pesel('Zgłoszenie Pacjenta'!A1619))","v":""}]
[{"$f":"IF('Zgłoszenie Pacjenta'!A1620=\"\",\"\",Sprawdz_pesel('Zgłoszenie Pacjenta'!A1620))","v":""}]
[{"$f":"IF('Zgłoszenie Pacjenta'!A1621=\"\",\"\",Sprawdz_pesel('Zgłoszenie Pacjenta'!A1621))","v":""}]
[{"$f":"IF('Zgłoszenie Pacjenta'!A1622=\"\",\"\",Sprawdz_pesel('Zgłoszenie Pacjenta'!A1622))","v":""}]
[{"$f":"IF('Zgłoszenie Pacjenta'!A1623=\"\",\"\",Sprawdz_pesel('Zgłoszenie Pacjenta'!A1623))","v":""}]
[{"$f":"IF('Zgłoszenie Pacjenta'!A1624=\"\",\"\",Sprawdz_pesel('Zgłoszenie Pacjenta'!A1624))","v":""}]
[{"$f":"IF('Zgłoszenie Pacjenta'!A1625=\"\",\"\",Sprawdz_pesel('Zgłoszenie Pacjenta'!A1625))","v":""}]
[{"$f":"IF('Zgłoszenie Pacjenta'!A1626=\"\",\"\",Sprawdz_pesel('Zgłoszenie Pacjenta'!A1626))","v":""}]
[{"$f":"IF('Zgłoszenie Pacjenta'!A1627=\"\",\"\",Sprawdz_pesel('Zgłoszenie Pacjenta'!A1627))","v":""}]
[{"$f":"IF('Zgłoszenie Pacjenta'!A1628=\"\",\"\",Sprawdz_pesel('Zgłoszenie Pacjenta'!A1628))","v":""}]
[{"$f":"IF('Zgłoszenie Pacjenta'!A1629=\"\",\"\",Sprawdz_pesel('Zgłoszenie Pacjenta'!A1629))","v":""}]
[{"$f":"IF('Zgłoszenie Pacjenta'!A1630=\"\",\"\",Sprawdz_pesel('Zgłoszenie Pacjenta'!A1630))","v":""}]
[{"$f":"IF('Zgłoszenie Pacjenta'!A1631=\"\",\"\",Sprawdz_pesel('Zgłoszenie Pacjenta'!A1631))","v":""}]
[{"$f":"IF('Zgłoszenie Pacjenta'!A1632=\"\",\"\",Sprawdz_pesel('Zgłoszenie Pacjenta'!A1632))","v":""}]
[{"$f":"IF('Zgłoszenie Pacjenta'!A1633=\"\",\"\",Sprawdz_pesel('Zgłoszenie Pacjenta'!A1633))","v":""}]
[{"$f":"IF('Zgłoszenie Pacjenta'!A1634=\"\",\"\",Sprawdz_pesel('Zgłoszenie Pacjenta'!A1634))","v":""}]
[{"$f":"IF('Zgłoszenie Pacjenta'!A1635=\"\",\"\",Sprawdz_pesel('Zgłoszenie Pacjenta'!A1635))","v":""}]
[{"$f":"IF('Zgłoszenie Pacjenta'!A1636=\"\",\"\",Sprawdz_pesel('Zgłoszenie Pacjenta'!A1636))","v":""}]
[{"$f":"IF('Zgłoszenie Pacjenta'!A1637=\"\",\"\",Sprawdz_pesel('Zgłoszenie Pacjenta'!A1637))","v":""}]
[{"$f":"IF('Zgłoszenie Pacjenta'!A1638=\"\",\"\",Sprawdz_pesel('Zgłoszenie Pacjenta'!A1638))","v":""}]
[{"$f":"IF('Zgłoszenie Pacjenta'!A1639=\"\",\"\",Sprawdz_pesel('Zgłoszenie Pacjenta'!A1639))","v":""}]
[{"$f":"IF('Zgłoszenie Pacjenta'!A1640=\"\",\"\",Sprawdz_pesel('Zgłoszenie Pacjenta'!A1640))","v":""}]
[{"$f":"IF('Zgłoszenie Pacjenta'!A1641=\"\",\"\",Sprawdz_pesel('Zgłoszenie Pacjenta'!A1641))","v":""}]
[{"$f":"IF('Zgłoszenie Pacjenta'!A1642=\"\",\"\",Sprawdz_pesel('Zgłoszenie Pacjenta'!A1642))","v":""}]
[{"$f":"IF('Zgłoszenie Pacjenta'!A1643=\"\",\"\",Sprawdz_pesel('Zgłoszenie Pacjenta'!A1643))","v":""}]
[{"$f":"IF('Zgłoszenie Pacjenta'!A1644=\"\",\"\",Sprawdz_pesel('Zgłoszenie Pacjenta'!A1644))","v":""}]
[{"$f":"IF('Zgłoszenie Pacjenta'!A1645=\"\",\"\",Sprawdz_pesel('Zgłoszenie Pacjenta'!A1645))","v":""}]
[{"$f":"IF('Zgłoszenie Pacjenta'!A1646=\"\",\"\",Sprawdz_pesel('Zgłoszenie Pacjenta'!A1646))","v":""}]
[{"$f":"IF('Zgłoszenie Pacjenta'!A1647=\"\",\"\",Sprawdz_pesel('Zgłoszenie Pacjenta'!A1647))","v":""}]
[{"$f":"IF('Zgłoszenie Pacjenta'!A1648=\"\",\"\",Sprawdz_pesel('Zgłoszenie Pacjenta'!A1648))","v":""}]
[{"$f":"IF('Zgłoszenie Pacjenta'!A1649=\"\",\"\",Sprawdz_pesel('Zgłoszenie Pacjenta'!A1649))","v":""}]
[{"$f":"IF('Zgłoszenie Pacjenta'!A1650=\"\",\"\",Sprawdz_pesel('Zgłoszenie Pacjenta'!A1650))","v":""}]
[{"$f":"IF('Zgłoszenie Pacjenta'!A1651=\"\",\"\",Sprawdz_pesel('Zgłoszenie Pacjenta'!A1651))","v":""}]
[{"$f":"IF('Zgłoszenie Pacjenta'!A1652=\"\",\"\",Sprawdz_pesel('Zgłoszenie Pacjenta'!A1652))","v":""}]
[{"$f":"IF('Zgłoszenie Pacjenta'!A1653=\"\",\"\",Sprawdz_pesel('Zgłoszenie Pacjenta'!A1653))","v":""}]
[{"$f":"IF('Zgłoszenie Pacjenta'!A1654=\"\",\"\",Sprawdz_pesel('Zgłoszenie Pacjenta'!A1654))","v":""}]
[{"$f":"IF('Zgłoszenie Pacjenta'!A1655=\"\",\"\",Sprawdz_pesel('Zgłoszenie Pacjenta'!A1655))","v":""}]
[{"$f":"IF('Zgłoszenie Pacjenta'!A1656=\"\",\"\",Sprawdz_pesel('Zgłoszenie Pacjenta'!A1656))","v":""}]
[{"$f":"IF('Zgłoszenie Pacjenta'!A1657=\"\",\"\",Sprawdz_pesel('Zgłoszenie Pacjenta'!A1657))","v":""}]
[{"$f":"IF('Zgłoszenie Pacjenta'!A1658=\"\",\"\",Sprawdz_pesel('Zgłoszenie Pacjenta'!A1658))","v":""}]
[{"$f":"IF('Zgłoszenie Pacjenta'!A1659=\"\",\"\",Sprawdz_pesel('Zgłoszenie Pacjenta'!A1659))","v":""}]
[{"$f":"IF('Zgłoszenie Pacjenta'!A1660=\"\",\"\",Sprawdz_pesel('Zgłoszenie Pacjenta'!A1660))","v":""}]
[{"$f":"IF('Zgłoszenie Pacjenta'!A1661=\"\",\"\",Sprawdz_pesel('Zgłoszenie Pacjenta'!A1661))","v":""}]
[{"$f":"IF('Zgłoszenie Pacjenta'!A1662=\"\",\"\",Sprawdz_pesel('Zgłoszenie Pacjenta'!A1662))","v":""}]
[{"$f":"IF('Zgłoszenie Pacjenta'!A1663=\"\",\"\",Sprawdz_pesel('Zgłoszenie Pacjenta'!A1663))","v":""}]
[{"$f":"IF('Zgłoszenie Pacjenta'!A1664=\"\",\"\",Sprawdz_pesel('Zgłoszenie Pacjenta'!A1664))","v":""}]
[{"$f":"IF('Zgłoszenie Pacjenta'!A1665=\"\",\"\",Sprawdz_pesel('Zgłoszenie Pacjenta'!A1665))","v":""}]
[{"$f":"IF('Zgłoszenie Pacjenta'!A1666=\"\",\"\",Sprawdz_pesel('Zgłoszenie Pacjenta'!A1666))","v":""}]
[{"$f":"IF('Zgłoszenie Pacjenta'!A1667=\"\",\"\",Sprawdz_pesel('Zgłoszenie Pacjenta'!A1667))","v":""}]
[{"$f":"IF('Zgłoszenie Pacjenta'!A1668=\"\",\"\",Sprawdz_pesel('Zgłoszenie Pacjenta'!A1668))","v":""}]
[{"$f":"IF('Zgłoszenie Pacjenta'!A1669=\"\",\"\",Sprawdz_pesel('Zgłoszenie Pacjenta'!A1669))","v":""}]
[{"$f":"IF('Zgłoszenie Pacjenta'!A1670=\"\",\"\",Sprawdz_pesel('Zgłoszenie Pacjenta'!A1670))","v":""}]
[{"$f":"IF('Zgłoszenie Pacjenta'!A1671=\"\",\"\",Sprawdz_pesel('Zgłoszenie Pacjenta'!A1671))","v":""}]
[{"$f":"IF('Zgłoszenie Pacjenta'!A1672=\"\",\"\",Sprawdz_pesel('Zgłoszenie Pacjenta'!A1672))","v":""}]
[{"$f":"IF('Zgłoszenie Pacjenta'!A1673=\"\",\"\",Sprawdz_pesel('Zgłoszenie Pacjenta'!A1673))","v":""}]
[{"$f":"IF('Zgłoszenie Pacjenta'!A1674=\"\",\"\",Sprawdz_pesel('Zgłoszenie Pacjenta'!A1674))","v":""}]
[{"$f":"IF('Zgłoszenie Pacjenta'!A1675=\"\",\"\",Sprawdz_pesel('Zgłoszenie Pacjenta'!A1675))","v":""}]
[{"$f":"IF('Zgłoszenie Pacjenta'!A1676=\"\",\"\",Sprawdz_pesel('Zgłoszenie Pacjenta'!A1676))","v":""}]
[{"$f":"IF('Zgłoszenie Pacjenta'!A1677=\"\",\"\",Sprawdz_pesel('Zgłoszenie Pacjenta'!A1677))","v":""}]
[{"$f":"IF('Zgłoszenie Pacjenta'!A1678=\"\",\"\",Sprawdz_pesel('Zgłoszenie Pacjenta'!A1678))","v":""}]
[{"$f":"IF('Zgłoszenie Pacjenta'!A1679=\"\",\"\",Sprawdz_pesel('Zgłoszenie Pacjenta'!A1679))","v":""}]
[{"$f":"IF('Zgłoszenie Pacjenta'!A1680=\"\",\"\",Sprawdz_pesel('Zgłoszenie Pacjenta'!A1680))","v":""}]
[{"$f":"IF('Zgłoszenie Pacjenta'!A1681=\"\",\"\",Sprawdz_pesel('Zgłoszenie Pacjenta'!A1681))","v":""}]
[{"$f":"IF('Zgłoszenie Pacjenta'!A1682=\"\",\"\",Sprawdz_pesel('Zgłoszenie Pacjenta'!A1682))","v":""}]
[{"$f":"IF('Zgłoszenie Pacjenta'!A1683=\"\",\"\",Sprawdz_pesel('Zgłoszenie Pacjenta'!A1683))","v":""}]
[{"$f":"IF('Zgłoszenie Pacjenta'!A1684=\"\",\"\",Sprawdz_pesel('Zgłoszenie Pacjenta'!A1684))","v":""}]
[{"$f":"IF('Zgłoszenie Pacjenta'!A1685=\"\",\"\",Sprawdz_pesel('Zgłoszenie Pacjenta'!A1685))","v":""}]
[{"$f":"IF('Zgłoszenie Pacjenta'!A1686=\"\",\"\",Sprawdz_pesel('Zgłoszenie Pacjenta'!A1686))","v":""}]
[{"$f":"IF('Zgłoszenie Pacjenta'!A1687=\"\",\"\",Sprawdz_pesel('Zgłoszenie Pacjenta'!A1687))","v":""}]
[{"$f":"IF('Zgłoszenie Pacjenta'!A1688=\"\",\"\",Sprawdz_pesel('Zgłoszenie Pacjenta'!A1688))","v":""}]
[{"$f":"IF('Zgłoszenie Pacjenta'!A1689=\"\",\"\",Sprawdz_pesel('Zgłoszenie Pacjenta'!A1689))","v":""}]
[{"$f":"IF('Zgłoszenie Pacjenta'!A1690=\"\",\"\",Sprawdz_pesel('Zgłoszenie Pacjenta'!A1690))","v":""}]
[{"$f":"IF('Zgłoszenie Pacjenta'!A1691=\"\",\"\",Sprawdz_pesel('Zgłoszenie Pacjenta'!A1691))","v":""}]
[{"$f":"IF('Zgłoszenie Pacjenta'!A1692=\"\",\"\",Sprawdz_pesel('Zgłoszenie Pacjenta'!A1692))","v":""}]
[{"$f":"IF('Zgłoszenie Pacjenta'!A1693=\"\",\"\",Sprawdz_pesel('Zgłoszenie Pacjenta'!A1693))","v":""}]
[{"$f":"IF('Zgłoszenie Pacjenta'!A1694=\"\",\"\",Sprawdz_pesel('Zgłoszenie Pacjenta'!A1694))","v":""}]
[{"$f":"IF('Zgłoszenie Pacjenta'!A1695=\"\",\"\",Sprawdz_pesel('Zgłoszenie Pacjenta'!A1695))","v":""}]
[{"$f":"IF('Zgłoszenie Pacjenta'!A1696=\"\",\"\",Sprawdz_pesel('Zgłoszenie Pacjenta'!A1696))","v":""}]
[{"$f":"IF('Zgłoszenie Pacjenta'!A1697=\"\",\"\",Sprawdz_pesel('Zgłoszenie Pacjenta'!A1697))","v":""}]
[{"$f":"IF('Zgłoszenie Pacjenta'!A1698=\"\",\"\",Sprawdz_pesel('Zgłoszenie Pacjenta'!A1698))","v":""}]
[{"$f":"IF('Zgłoszenie Pacjenta'!A1699=\"\",\"\",Sprawdz_pesel('Zgłoszenie Pacjenta'!A1699))","v":""}]
[{"$f":"IF('Zgłoszenie Pacjenta'!A1700=\"\",\"\",Sprawdz_pesel('Zgłoszenie Pacjenta'!A1700))","v":""}]
[{"$f":"IF('Zgłoszenie Pacjenta'!A1701=\"\",\"\",Sprawdz_pesel('Zgłoszenie Pacjenta'!A1701))","v":""}]
[{"$f":"IF('Zgłoszenie Pacjenta'!A1702=\"\",\"\",Sprawdz_pesel('Zgłoszenie Pacjenta'!A1702))","v":""}]
[{"$f":"IF('Zgłoszenie Pacjenta'!A1703=\"\",\"\",Sprawdz_pesel('Zgłoszenie Pacjenta'!A1703))","v":""}]
[{"$f":"IF('Zgłoszenie Pacjenta'!A1704=\"\",\"\",Sprawdz_pesel('Zgłoszenie Pacjenta'!A1704))","v":""}]
[{"$f":"IF('Zgłoszenie Pacjenta'!A1705=\"\",\"\",Sprawdz_pesel('Zgłoszenie Pacjenta'!A1705))","v":""}]
[{"$f":"IF('Zgłoszenie Pacjenta'!A1706=\"\",\"\",Sprawdz_pesel('Zgłoszenie Pacjenta'!A1706))","v":""}]
[{"$f":"IF('Zgłoszenie Pacjenta'!A1707=\"\",\"\",Sprawdz_pesel('Zgłoszenie Pacjenta'!A1707))","v":""}]
[{"$f":"IF('Zgłoszenie Pacjenta'!A1708=\"\",\"\",Sprawdz_pesel('Zgłoszenie Pacjenta'!A1708))","v":""}]
[{"$f":"IF('Zgłoszenie Pacjenta'!A1709=\"\",\"\",Sprawdz_pesel('Zgłoszenie Pacjenta'!A1709))","v":""}]
[{"$f":"IF('Zgłoszenie Pacjenta'!A1710=\"\",\"\",Sprawdz_pesel('Zgłoszenie Pacjenta'!A1710))","v":""}]
[{"$f":"IF('Zgłoszenie Pacjenta'!A1711=\"\",\"\",Sprawdz_pesel('Zgłoszenie Pacjenta'!A1711))","v":""}]
[{"$f":"IF('Zgłoszenie Pacjenta'!A1712=\"\",\"\",Sprawdz_pesel('Zgłoszenie Pacjenta'!A1712))","v":""}]
[{"$f":"IF('Zgłoszenie Pacjenta'!A1713=\"\",\"\",Sprawdz_pesel('Zgłoszenie Pacjenta'!A1713))","v":""}]
[{"$f":"IF('Zgłoszenie Pacjenta'!A1714=\"\",\"\",Sprawdz_pesel('Zgłoszenie Pacjenta'!A1714))","v":""}]
[{"$f":"IF('Zgłoszenie Pacjenta'!A1715=\"\",\"\",Sprawdz_pesel('Zgłoszenie Pacjenta'!A1715))","v":""}]
[{"$f":"IF('Zgłoszenie Pacjenta'!A1716=\"\",\"\",Sprawdz_pesel('Zgłoszenie Pacjenta'!A1716))","v":""}]
[{"$f":"IF('Zgłoszenie Pacjenta'!A1717=\"\",\"\",Sprawdz_pesel('Zgłoszenie Pacjenta'!A1717))","v":""}]
[{"$f":"IF('Zgłoszenie Pacjenta'!A1718=\"\",\"\",Sprawdz_pesel('Zgłoszenie Pacjenta'!A1718))","v":""}]
[{"$f":"IF('Zgłoszenie Pacjenta'!A1719=\"\",\"\",Sprawdz_pesel('Zgłoszenie Pacjenta'!A1719))","v":""}]
[{"$f":"IF('Zgłoszenie Pacjenta'!A1720=\"\",\"\",Sprawdz_pesel('Zgłoszenie Pacjenta'!A1720))","v":""}]
[{"$f":"IF('Zgłoszenie Pacjenta'!A1721=\"\",\"\",Sprawdz_pesel('Zgłoszenie Pacjenta'!A1721))","v":""}]
[{"$f":"IF('Zgłoszenie Pacjenta'!A1722=\"\",\"\",Sprawdz_pesel('Zgłoszenie Pacjenta'!A1722))","v":""}]
[{"$f":"IF('Zgłoszenie Pacjenta'!A1723=\"\",\"\",Sprawdz_pesel('Zgłoszenie Pacjenta'!A1723))","v":""}]
[{"$f":"IF('Zgłoszenie Pacjenta'!A1724=\"\",\"\",Sprawdz_pesel('Zgłoszenie Pacjenta'!A1724))","v":""}]
[{"$f":"IF('Zgłoszenie Pacjenta'!A1725=\"\",\"\",Sprawdz_pesel('Zgłoszenie Pacjenta'!A1725))","v":""}]
[{"$f":"IF('Zgłoszenie Pacjenta'!A1726=\"\",\"\",Sprawdz_pesel('Zgłoszenie Pacjenta'!A1726))","v":""}]
[{"$f":"IF('Zgłoszenie Pacjenta'!A1727=\"\",\"\",Sprawdz_pesel('Zgłoszenie Pacjenta'!A1727))","v":""}]
[{"$f":"IF('Zgłoszenie Pacjenta'!A1728=\"\",\"\",Sprawdz_pesel('Zgłoszenie Pacjenta'!A1728))","v":""}]
[{"$f":"IF('Zgłoszenie Pacjenta'!A1729=\"\",\"\",Sprawdz_pesel('Zgłoszenie Pacjenta'!A1729))","v":""}]
[{"$f":"IF('Zgłoszenie Pacjenta'!A1730=\"\",\"\",Sprawdz_pesel('Zgłoszenie Pacjenta'!A1730))","v":""}]
[{"$f":"IF('Zgłoszenie Pacjenta'!A1731=\"\",\"\",Sprawdz_pesel('Zgłoszenie Pacjenta'!A1731))","v":""}]
[{"$f":"IF('Zgłoszenie Pacjenta'!A1732=\"\",\"\",Sprawdz_pesel('Zgłoszenie Pacjenta'!A1732))","v":""}]
[{"$f":"IF('Zgłoszenie Pacjenta'!A1733=\"\",\"\",Sprawdz_pesel('Zgłoszenie Pacjenta'!A1733))","v":""}]
[{"$f":"IF('Zgłoszenie Pacjenta'!A1734=\"\",\"\",Sprawdz_pesel('Zgłoszenie Pacjenta'!A1734))","v":""}]
[{"$f":"IF('Zgłoszenie Pacjenta'!A1735=\"\",\"\",Sprawdz_pesel('Zgłoszenie Pacjenta'!A1735))","v":""}]
[{"$f":"IF('Zgłoszenie Pacjenta'!A1736=\"\",\"\",Sprawdz_pesel('Zgłoszenie Pacjenta'!A1736))","v":""}]
[{"$f":"IF('Zgłoszenie Pacjenta'!A1737=\"\",\"\",Sprawdz_pesel('Zgłoszenie Pacjenta'!A1737))","v":""}]
[{"$f":"IF('Zgłoszenie Pacjenta'!A1738=\"\",\"\",Sprawdz_pesel('Zgłoszenie Pacjenta'!A1738))","v":""}]
[{"$f":"IF('Zgłoszenie Pacjenta'!A1739=\"\",\"\",Sprawdz_pesel('Zgłoszenie Pacjenta'!A1739))","v":""}]
[{"$f":"IF('Zgłoszenie Pacjenta'!A1740=\"\",\"\",Sprawdz_pesel('Zgłoszenie Pacjenta'!A1740))","v":""}]
[{"$f":"IF('Zgłoszenie Pacjenta'!A1741=\"\",\"\",Sprawdz_pesel('Zgłoszenie Pacjenta'!A1741))","v":""}]
[{"$f":"IF('Zgłoszenie Pacjenta'!A1742=\"\",\"\",Sprawdz_pesel('Zgłoszenie Pacjenta'!A1742))","v":""}]
[{"$f":"IF('Zgłoszenie Pacjenta'!A1743=\"\",\"\",Sprawdz_pesel('Zgłoszenie Pacjenta'!A1743))","v":""}]
[{"$f":"IF('Zgłoszenie Pacjenta'!A1744=\"\",\"\",Sprawdz_pesel('Zgłoszenie Pacjenta'!A1744))","v":""}]
[{"$f":"IF('Zgłoszenie Pacjenta'!A1745=\"\",\"\",Sprawdz_pesel('Zgłoszenie Pacjenta'!A1745))","v":""}]
[{"$f":"IF('Zgłoszenie Pacjenta'!A1746=\"\",\"\",Sprawdz_pesel('Zgłoszenie Pacjenta'!A1746))","v":""}]
[{"$f":"IF('Zgłoszenie Pacjenta'!A1747=\"\",\"\",Sprawdz_pesel('Zgłoszenie Pacjenta'!A1747))","v":""}]
[{"$f":"IF('Zgłoszenie Pacjenta'!A1748=\"\",\"\",Sprawdz_pesel('Zgłoszenie Pacjenta'!A1748))","v":""}]
[{"$f":"IF('Zgłoszenie Pacjenta'!A1749=\"\",\"\",Sprawdz_pesel('Zgłoszenie Pacjenta'!A1749))","v":""}]
[{"$f":"IF('Zgłoszenie Pacjenta'!A1750=\"\",\"\",Sprawdz_pesel('Zgłoszenie Pacjenta'!A1750))","v":""}]
[{"$f":"IF('Zgłoszenie Pacjenta'!A1751=\"\",\"\",Sprawdz_pesel('Zgłoszenie Pacjenta'!A1751))","v":""}]
[{"$f":"IF('Zgłoszenie Pacjenta'!A1752=\"\",\"\",Sprawdz_pesel('Zgłoszenie Pacjenta'!A1752))","v":""}]
[{"$f":"IF('Zgłoszenie Pacjenta'!A1753=\"\",\"\",Sprawdz_pesel('Zgłoszenie Pacjenta'!A1753))","v":""}]
[{"$f":"IF('Zgłoszenie Pacjenta'!A1754=\"\",\"\",Sprawdz_pesel('Zgłoszenie Pacjenta'!A1754))","v":""}]
[{"$f":"IF('Zgłoszenie Pacjenta'!A1755=\"\",\"\",Sprawdz_pesel('Zgłoszenie Pacjenta'!A1755))","v":""}]
[{"$f":"IF('Zgłoszenie Pacjenta'!A1756=\"\",\"\",Sprawdz_pesel('Zgłoszenie Pacjenta'!A1756))","v":""}]
[{"$f":"IF('Zgłoszenie Pacjenta'!A1757=\"\",\"\",Sprawdz_pesel('Zgłoszenie Pacjenta'!A1757))","v":""}]
[{"$f":"IF('Zgłoszenie Pacjenta'!A1758=\"\",\"\",Sprawdz_pesel('Zgłoszenie Pacjenta'!A1758))","v":""}]
[{"$f":"IF('Zgłoszenie Pacjenta'!A1759=\"\",\"\",Sprawdz_pesel('Zgłoszenie Pacjenta'!A1759))","v":""}]
[{"$f":"IF('Zgłoszenie Pacjenta'!A1760=\"\",\"\",Sprawdz_pesel('Zgłoszenie Pacjenta'!A1760))","v":""}]
[{"$f":"IF('Zgłoszenie Pacjenta'!A1761=\"\",\"\",Sprawdz_pesel('Zgłoszenie Pacjenta'!A1761))","v":""}]
[{"$f":"IF('Zgłoszenie Pacjenta'!A1762=\"\",\"\",Sprawdz_pesel('Zgłoszenie Pacjenta'!A1762))","v":""}]
[{"$f":"IF('Zgłoszenie Pacjenta'!A1763=\"\",\"\",Sprawdz_pesel('Zgłoszenie Pacjenta'!A1763))","v":""}]
[{"$f":"IF('Zgłoszenie Pacjenta'!A1764=\"\",\"\",Sprawdz_pesel('Zgłoszenie Pacjenta'!A1764))","v":""}]
[{"$f":"IF('Zgłoszenie Pacjenta'!A1765=\"\",\"\",Sprawdz_pesel('Zgłoszenie Pacjenta'!A1765))","v":""}]
[{"$f":"IF('Zgłoszenie Pacjenta'!A1766=\"\",\"\",Sprawdz_pesel('Zgłoszenie Pacjenta'!A1766))","v":""}]
[{"$f":"IF('Zgłoszenie Pacjenta'!A1767=\"\",\"\",Sprawdz_pesel('Zgłoszenie Pacjenta'!A1767))","v":""}]
[{"$f":"IF('Zgłoszenie Pacjenta'!A1768=\"\",\"\",Sprawdz_pesel('Zgłoszenie Pacjenta'!A1768))","v":""}]
[{"$f":"IF('Zgłoszenie Pacjenta'!A1769=\"\",\"\",Sprawdz_pesel('Zgłoszenie Pacjenta'!A1769))","v":""}]
[{"$f":"IF('Zgłoszenie Pacjenta'!A1770=\"\",\"\",Sprawdz_pesel('Zgłoszenie Pacjenta'!A1770))","v":""}]
[{"$f":"IF('Zgłoszenie Pacjenta'!A1771=\"\",\"\",Sprawdz_pesel('Zgłoszenie Pacjenta'!A1771))","v":""}]
[{"$f":"IF('Zgłoszenie Pacjenta'!A1772=\"\",\"\",Sprawdz_pesel('Zgłoszenie Pacjenta'!A1772))","v":""}]
[{"$f":"IF('Zgłoszenie Pacjenta'!A1773=\"\",\"\",Sprawdz_pesel('Zgłoszenie Pacjenta'!A1773))","v":""}]
[{"$f":"IF('Zgłoszenie Pacjenta'!A1774=\"\",\"\",Sprawdz_pesel('Zgłoszenie Pacjenta'!A1774))","v":""}]
[{"$f":"IF('Zgłoszenie Pacjenta'!A1775=\"\",\"\",Sprawdz_pesel('Zgłoszenie Pacjenta'!A1775))","v":""}]
[{"$f":"IF('Zgłoszenie Pacjenta'!A1776=\"\",\"\",Sprawdz_pesel('Zgłoszenie Pacjenta'!A1776))","v":""}]
[{"$f":"IF('Zgłoszenie Pacjenta'!A1777=\"\",\"\",Sprawdz_pesel('Zgłoszenie Pacjenta'!A1777))","v":""}]
[{"$f":"IF('Zgłoszenie Pacjenta'!A1778=\"\",\"\",Sprawdz_pesel('Zgłoszenie Pacjenta'!A1778))","v":""}]
[{"$f":"IF('Zgłoszenie Pacjenta'!A1779=\"\",\"\",Sprawdz_pesel('Zgłoszenie Pacjenta'!A1779))","v":""}]
[{"$f":"IF('Zgłoszenie Pacjenta'!A1780=\"\",\"\",Sprawdz_pesel('Zgłoszenie Pacjenta'!A1780))","v":""}]
[{"$f":"IF('Zgłoszenie Pacjenta'!A1781=\"\",\"\",Sprawdz_pesel('Zgłoszenie Pacjenta'!A1781))","v":""}]
[{"$f":"IF('Zgłoszenie Pacjenta'!A1782=\"\",\"\",Sprawdz_pesel('Zgłoszenie Pacjenta'!A1782))","v":""}]
[{"$f":"IF('Zgłoszenie Pacjenta'!A1783=\"\",\"\",Sprawdz_pesel('Zgłoszenie Pacjenta'!A1783))","v":""}]
[{"$f":"IF('Zgłoszenie Pacjenta'!A1784=\"\",\"\",Sprawdz_pesel('Zgłoszenie Pacjenta'!A1784))","v":""}]
[{"$f":"IF('Zgłoszenie Pacjenta'!A1785=\"\",\"\",Sprawdz_pesel('Zgłoszenie Pacjenta'!A1785))","v":""}]
[{"$f":"IF('Zgłoszenie Pacjenta'!A1786=\"\",\"\",Sprawdz_pesel('Zgłoszenie Pacjenta'!A1786))","v":""}]
[{"$f":"IF('Zgłoszenie Pacjenta'!A1787=\"\",\"\",Sprawdz_pesel('Zgłoszenie Pacjenta'!A1787))","v":""}]
[{"$f":"IF('Zgłoszenie Pacjenta'!A1788=\"\",\"\",Sprawdz_pesel('Zgłoszenie Pacjenta'!A1788))","v":""}]
[{"$f":"IF('Zgłoszenie Pacjenta'!A1789=\"\",\"\",Sprawdz_pesel('Zgłoszenie Pacjenta'!A1789))","v":""}]
[{"$f":"IF('Zgłoszenie Pacjenta'!A1790=\"\",\"\",Sprawdz_pesel('Zgłoszenie Pacjenta'!A1790))","v":""}]
[{"$f":"IF('Zgłoszenie Pacjenta'!A1791=\"\",\"\",Sprawdz_pesel('Zgłoszenie Pacjenta'!A1791))","v":""}]
[{"$f":"IF('Zgłoszenie Pacjenta'!A1792=\"\",\"\",Sprawdz_pesel('Zgłoszenie Pacjenta'!A1792))","v":""}]
[{"$f":"IF('Zgłoszenie Pacjenta'!A1793=\"\",\"\",Sprawdz_pesel('Zgłoszenie Pacjenta'!A1793))","v":""}]
[{"$f":"IF('Zgłoszenie Pacjenta'!A1794=\"\",\"\",Sprawdz_pesel('Zgłoszenie Pacjenta'!A1794))","v":""}]
[{"$f":"IF('Zgłoszenie Pacjenta'!A1795=\"\",\"\",Sprawdz_pesel('Zgłoszenie Pacjenta'!A1795))","v":""}]
[{"$f":"IF('Zgłoszenie Pacjenta'!A1796=\"\",\"\",Sprawdz_pesel('Zgłoszenie Pacjenta'!A1796))","v":""}]
[{"$f":"IF('Zgłoszenie Pacjenta'!A1797=\"\",\"\",Sprawdz_pesel('Zgłoszenie Pacjenta'!A1797))","v":""}]
[{"$f":"IF('Zgłoszenie Pacjenta'!A1798=\"\",\"\",Sprawdz_pesel('Zgłoszenie Pacjenta'!A1798))","v":""}]
[{"$f":"IF('Zgłoszenie Pacjenta'!A1799=\"\",\"\",Sprawdz_pesel('Zgłoszenie Pacjenta'!A1799))","v":""}]
[{"$f":"IF('Zgłoszenie Pacjenta'!A1800=\"\",\"\",Sprawdz_pesel('Zgłoszenie Pacjenta'!A1800))","v":""}]
[{"$f":"IF('Zgłoszenie Pacjenta'!A1801=\"\",\"\",Sprawdz_pesel('Zgłoszenie Pacjenta'!A1801))","v":""}]
[{"$f":"IF('Zgłoszenie Pacjenta'!A1802=\"\",\"\",Sprawdz_pesel('Zgłoszenie Pacjenta'!A1802))","v":""}]
[{"$f":"IF('Zgłoszenie Pacjenta'!A1803=\"\",\"\",Sprawdz_pesel('Zgłoszenie Pacjenta'!A1803))","v":""}]
[{"$f":"IF('Zgłoszenie Pacjenta'!A1804=\"\",\"\",Sprawdz_pesel('Zgłoszenie Pacjenta'!A1804))","v":""}]
[{"$f":"IF('Zgłoszenie Pacjenta'!A1805=\"\",\"\",Sprawdz_pesel('Zgłoszenie Pacjenta'!A1805))","v":""}]
[{"$f":"IF('Zgłoszenie Pacjenta'!A1806=\"\",\"\",Sprawdz_pesel('Zgłoszenie Pacjenta'!A1806))","v":""}]
[{"$f":"IF('Zgłoszenie Pacjenta'!A1807=\"\",\"\",Sprawdz_pesel('Zgłoszenie Pacjenta'!A1807))","v":""}]
[{"$f":"IF('Zgłoszenie Pacjenta'!A1808=\"\",\"\",Sprawdz_pesel('Zgłoszenie Pacjenta'!A1808))","v":""}]
[{"$f":"IF('Zgłoszenie Pacjenta'!A1809=\"\",\"\",Sprawdz_pesel('Zgłoszenie Pacjenta'!A1809))","v":""}]
[{"$f":"IF('Zgłoszenie Pacjenta'!A1810=\"\",\"\",Sprawdz_pesel('Zgłoszenie Pacjenta'!A1810))","v":""}]
[{"$f":"IF('Zgłoszenie Pacjenta'!A1811=\"\",\"\",Sprawdz_pesel('Zgłoszenie Pacjenta'!A1811))","v":""}]
[{"$f":"IF('Zgłoszenie Pacjenta'!A1812=\"\",\"\",Sprawdz_pesel('Zgłoszenie Pacjenta'!A1812))","v":""}]
[{"$f":"IF('Zgłoszenie Pacjenta'!A1813=\"\",\"\",Sprawdz_pesel('Zgłoszenie Pacjenta'!A1813))","v":""}]
[{"$f":"IF('Zgłoszenie Pacjenta'!A1814=\"\",\"\",Sprawdz_pesel('Zgłoszenie Pacjenta'!A1814))","v":""}]
[{"$f":"IF('Zgłoszenie Pacjenta'!A1815=\"\",\"\",Sprawdz_pesel('Zgłoszenie Pacjenta'!A1815))","v":""}]
[{"$f":"IF('Zgłoszenie Pacjenta'!A1816=\"\",\"\",Sprawdz_pesel('Zgłoszenie Pacjenta'!A1816))","v":""}]
[{"$f":"IF('Zgłoszenie Pacjenta'!A1817=\"\",\"\",Sprawdz_pesel('Zgłoszenie Pacjenta'!A1817))","v":""}]
[{"$f":"IF('Zgłoszenie Pacjenta'!A1818=\"\",\"\",Sprawdz_pesel('Zgłoszenie Pacjenta'!A1818))","v":""}]
[{"$f":"IF('Zgłoszenie Pacjenta'!A1819=\"\",\"\",Sprawdz_pesel('Zgłoszenie Pacjenta'!A1819))","v":""}]
[{"$f":"IF('Zgłoszenie Pacjenta'!A1820=\"\",\"\",Sprawdz_pesel('Zgłoszenie Pacjenta'!A1820))","v":""}]
[{"$f":"IF('Zgłoszenie Pacjenta'!A1821=\"\",\"\",Sprawdz_pesel('Zgłoszenie Pacjenta'!A1821))","v":""}]
[{"$f":"IF('Zgłoszenie Pacjenta'!A1822=\"\",\"\",Sprawdz_pesel('Zgłoszenie Pacjenta'!A1822))","v":""}]
[{"$f":"IF('Zgłoszenie Pacjenta'!A1823=\"\",\"\",Sprawdz_pesel('Zgłoszenie Pacjenta'!A1823))","v":""}]
[{"$f":"IF('Zgłoszenie Pacjenta'!A1824=\"\",\"\",Sprawdz_pesel('Zgłoszenie Pacjenta'!A1824))","v":""}]
[{"$f":"IF('Zgłoszenie Pacjenta'!A1825=\"\",\"\",Sprawdz_pesel('Zgłoszenie Pacjenta'!A1825))","v":""}]
[{"$f":"IF('Zgłoszenie Pacjenta'!A1826=\"\",\"\",Sprawdz_pesel('Zgłoszenie Pacjenta'!A1826))","v":""}]
[{"$f":"IF('Zgłoszenie Pacjenta'!A1827=\"\",\"\",Sprawdz_pesel('Zgłoszenie Pacjenta'!A1827))","v":""}]
[{"$f":"IF('Zgłoszenie Pacjenta'!A1828=\"\",\"\",Sprawdz_pesel('Zgłoszenie Pacjenta'!A1828))","v":""}]
[{"$f":"IF('Zgłoszenie Pacjenta'!A1829=\"\",\"\",Sprawdz_pesel('Zgłoszenie Pacjenta'!A1829))","v":""}]
[{"$f":"IF('Zgłoszenie Pacjenta'!A1830=\"\",\"\",Sprawdz_pesel('Zgłoszenie Pacjenta'!A1830))","v":""}]
[{"$f":"IF('Zgłoszenie Pacjenta'!A1831=\"\",\"\",Sprawdz_pesel('Zgłoszenie Pacjenta'!A1831))","v":""}]
[{"$f":"IF('Zgłoszenie Pacjenta'!A1832=\"\",\"\",Sprawdz_pesel('Zgłoszenie Pacjenta'!A1832))","v":""}]
[{"$f":"IF('Zgłoszenie Pacjenta'!A1833=\"\",\"\",Sprawdz_pesel('Zgłoszenie Pacjenta'!A1833))","v":""}]
[{"$f":"IF('Zgłoszenie Pacjenta'!A1834=\"\",\"\",Sprawdz_pesel('Zgłoszenie Pacjenta'!A1834))","v":""}]
[{"$f":"IF('Zgłoszenie Pacjenta'!A1835=\"\",\"\",Sprawdz_pesel('Zgłoszenie Pacjenta'!A1835))","v":""}]
[{"$f":"IF('Zgłoszenie Pacjenta'!A1836=\"\",\"\",Sprawdz_pesel('Zgłoszenie Pacjenta'!A1836))","v":""}]
[{"$f":"IF('Zgłoszenie Pacjenta'!A1837=\"\",\"\",Sprawdz_pesel('Zgłoszenie Pacjenta'!A1837))","v":""}]
[{"$f":"IF('Zgłoszenie Pacjenta'!A1838=\"\",\"\",Sprawdz_pesel('Zgłoszenie Pacjenta'!A1838))","v":""}]
[{"$f":"IF('Zgłoszenie Pacjenta'!A1839=\"\",\"\",Sprawdz_pesel('Zgłoszenie Pacjenta'!A1839))","v":""}]
[{"$f":"IF('Zgłoszenie Pacjenta'!A1840=\"\",\"\",Sprawdz_pesel('Zgłoszenie Pacjenta'!A1840))","v":""}]
[{"$f":"IF('Zgłoszenie Pacjenta'!A1841=\"\",\"\",Sprawdz_pesel('Zgłoszenie Pacjenta'!A1841))","v":""}]
[{"$f":"IF('Zgłoszenie Pacjenta'!A1842=\"\",\"\",Sprawdz_pesel('Zgłoszenie Pacjenta'!A1842))","v":""}]
[{"$f":"IF('Zgłoszenie Pacjenta'!A1843=\"\",\"\",Sprawdz_pesel('Zgłoszenie Pacjenta'!A1843))","v":""}]
[{"$f":"IF('Zgłoszenie Pacjenta'!A1844=\"\",\"\",Sprawdz_pesel('Zgłoszenie Pacjenta'!A1844))","v":""}]
[{"$f":"IF('Zgłoszenie Pacjenta'!A1845=\"\",\"\",Sprawdz_pesel('Zgłoszenie Pacjenta'!A1845))","v":""}]
[{"$f":"IF('Zgłoszenie Pacjenta'!A1846=\"\",\"\",Sprawdz_pesel('Zgłoszenie Pacjenta'!A1846))","v":""}]
[{"$f":"IF('Zgłoszenie Pacjenta'!A1847=\"\",\"\",Sprawdz_pesel('Zgłoszenie Pacjenta'!A1847))","v":""}]
[{"$f":"IF('Zgłoszenie Pacjenta'!A1848=\"\",\"\",Sprawdz_pesel('Zgłoszenie Pacjenta'!A1848))","v":""}]
[{"$f":"IF('Zgłoszenie Pacjenta'!A1849=\"\",\"\",Sprawdz_pesel('Zgłoszenie Pacjenta'!A1849))","v":""}]
[{"$f":"IF('Zgłoszenie Pacjenta'!A1850=\"\",\"\",Sprawdz_pesel('Zgłoszenie Pacjenta'!A1850))","v":""}]
[{"$f":"IF('Zgłoszenie Pacjenta'!A1851=\"\",\"\",Sprawdz_pesel('Zgłoszenie Pacjenta'!A1851))","v":""}]
[{"$f":"IF('Zgłoszenie Pacjenta'!A1852=\"\",\"\",Sprawdz_pesel('Zgłoszenie Pacjenta'!A1852))","v":""}]
[{"$f":"IF('Zgłoszenie Pacjenta'!A1853=\"\",\"\",Sprawdz_pesel('Zgłoszenie Pacjenta'!A1853))","v":""}]
[{"$f":"IF('Zgłoszenie Pacjenta'!A1854=\"\",\"\",Sprawdz_pesel('Zgłoszenie Pacjenta'!A1854))","v":""}]
[{"$f":"IF('Zgłoszenie Pacjenta'!A1855=\"\",\"\",Sprawdz_pesel('Zgłoszenie Pacjenta'!A1855))","v":""}]
[{"$f":"IF('Zgłoszenie Pacjenta'!A1856=\"\",\"\",Sprawdz_pesel('Zgłoszenie Pacjenta'!A1856))","v":""}]
[{"$f":"IF('Zgłoszenie Pacjenta'!A1857=\"\",\"\",Sprawdz_pesel('Zgłoszenie Pacjenta'!A1857))","v":""}]
[{"$f":"IF('Zgłoszenie Pacjenta'!A1858=\"\",\"\",Sprawdz_pesel('Zgłoszenie Pacjenta'!A1858))","v":""}]
[{"$f":"IF('Zgłoszenie Pacjenta'!A1859=\"\",\"\",Sprawdz_pesel('Zgłoszenie Pacjenta'!A1859))","v":""}]
[{"$f":"IF('Zgłoszenie Pacjenta'!A1860=\"\",\"\",Sprawdz_pesel('Zgłoszenie Pacjenta'!A1860))","v":""}]
[{"$f":"IF('Zgłoszenie Pacjenta'!A1861=\"\",\"\",Sprawdz_pesel('Zgłoszenie Pacjenta'!A1861))","v":""}]
[{"$f":"IF('Zgłoszenie Pacjenta'!A1862=\"\",\"\",Sprawdz_pesel('Zgłoszenie Pacjenta'!A1862))","v":""}]
[{"$f":"IF('Zgłoszenie Pacjenta'!A1863=\"\",\"\",Sprawdz_pesel('Zgłoszenie Pacjenta'!A1863))","v":""}]
[{"$f":"IF('Zgłoszenie Pacjenta'!A1864=\"\",\"\",Sprawdz_pesel('Zgłoszenie Pacjenta'!A1864))","v":""}]
[{"$f":"IF('Zgłoszenie Pacjenta'!A1865=\"\",\"\",Sprawdz_pesel('Zgłoszenie Pacjenta'!A1865))","v":""}]
[{"$f":"IF('Zgłoszenie Pacjenta'!A1866=\"\",\"\",Sprawdz_pesel('Zgłoszenie Pacjenta'!A1866))","v":""}]
[{"$f":"IF('Zgłoszenie Pacjenta'!A1867=\"\",\"\",Sprawdz_pesel('Zgłoszenie Pacjenta'!A1867))","v":""}]
[{"$f":"IF('Zgłoszenie Pacjenta'!A1868=\"\",\"\",Sprawdz_pesel('Zgłoszenie Pacjenta'!A1868))","v":""}]
[{"$f":"IF('Zgłoszenie Pacjenta'!A1869=\"\",\"\",Sprawdz_pesel('Zgłoszenie Pacjenta'!A1869))","v":""}]
[{"$f":"IF('Zgłoszenie Pacjenta'!A1870=\"\",\"\",Sprawdz_pesel('Zgłoszenie Pacjenta'!A1870))","v":""}]
[{"$f":"IF('Zgłoszenie Pacjenta'!A1871=\"\",\"\",Sprawdz_pesel('Zgłoszenie Pacjenta'!A1871))","v":""}]
[{"$f":"IF('Zgłoszenie Pacjenta'!A1872=\"\",\"\",Sprawdz_pesel('Zgłoszenie Pacjenta'!A1872))","v":""}]
[{"$f":"IF('Zgłoszenie Pacjenta'!A1873=\"\",\"\",Sprawdz_pesel('Zgłoszenie Pacjenta'!A1873))","v":""}]
[{"$f":"IF('Zgłoszenie Pacjenta'!A1874=\"\",\"\",Sprawdz_pesel('Zgłoszenie Pacjenta'!A1874))","v":""}]
[{"$f":"IF('Zgłoszenie Pacjenta'!A1875=\"\",\"\",Sprawdz_pesel('Zgłoszenie Pacjenta'!A1875))","v":""}]
[{"$f":"IF('Zgłoszenie Pacjenta'!A1876=\"\",\"\",Sprawdz_pesel('Zgłoszenie Pacjenta'!A1876))","v":""}]
[{"$f":"IF('Zgłoszenie Pacjenta'!A1877=\"\",\"\",Sprawdz_pesel('Zgłoszenie Pacjenta'!A1877))","v":""}]
[{"$f":"IF('Zgłoszenie Pacjenta'!A1878=\"\",\"\",Sprawdz_pesel('Zgłoszenie Pacjenta'!A1878))","v":""}]
[{"$f":"IF('Zgłoszenie Pacjenta'!A1879=\"\",\"\",Sprawdz_pesel('Zgłoszenie Pacjenta'!A1879))","v":""}]
[{"$f":"IF('Zgłoszenie Pacjenta'!A1880=\"\",\"\",Sprawdz_pesel('Zgłoszenie Pacjenta'!A1880))","v":""}]
[{"$f":"IF('Zgłoszenie Pacjenta'!A1881=\"\",\"\",Sprawdz_pesel('Zgłoszenie Pacjenta'!A1881))","v":""}]
[{"$f":"IF('Zgłoszenie Pacjenta'!A1882=\"\",\"\",Sprawdz_pesel('Zgłoszenie Pacjenta'!A1882))","v":""}]
[{"$f":"IF('Zgłoszenie Pacjenta'!A1883=\"\",\"\",Sprawdz_pesel('Zgłoszenie Pacjenta'!A1883))","v":""}]
[{"$f":"IF('Zgłoszenie Pacjenta'!A1884=\"\",\"\",Sprawdz_pesel('Zgłoszenie Pacjenta'!A1884))","v":""}]
[{"$f":"IF('Zgłoszenie Pacjenta'!A1885=\"\",\"\",Sprawdz_pesel('Zgłoszenie Pacjenta'!A1885))","v":""}]
[{"$f":"IF('Zgłoszenie Pacjenta'!A1886=\"\",\"\",Sprawdz_pesel('Zgłoszenie Pacjenta'!A1886))","v":""}]
[{"$f":"IF('Zgłoszenie Pacjenta'!A1887=\"\",\"\",Sprawdz_pesel('Zgłoszenie Pacjenta'!A1887))","v":""}]
[{"$f":"IF('Zgłoszenie Pacjenta'!A1888=\"\",\"\",Sprawdz_pesel('Zgłoszenie Pacjenta'!A1888))","v":""}]
[{"$f":"IF('Zgłoszenie Pacjenta'!A1889=\"\",\"\",Sprawdz_pesel('Zgłoszenie Pacjenta'!A1889))","v":""}]
[{"$f":"IF('Zgłoszenie Pacjenta'!A1890=\"\",\"\",Sprawdz_pesel('Zgłoszenie Pacjenta'!A1890))","v":""}]
[{"$f":"IF('Zgłoszenie Pacjenta'!A1891=\"\",\"\",Sprawdz_pesel('Zgłoszenie Pacjenta'!A1891))","v":""}]
[{"$f":"IF('Zgłoszenie Pacjenta'!A1892=\"\",\"\",Sprawdz_pesel('Zgłoszenie Pacjenta'!A1892))","v":""}]
[{"$f":"IF('Zgłoszenie Pacjenta'!A1893=\"\",\"\",Sprawdz_pesel('Zgłoszenie Pacjenta'!A1893))","v":""}]
[{"$f":"IF('Zgłoszenie Pacjenta'!A1894=\"\",\"\",Sprawdz_pesel('Zgłoszenie Pacjenta'!A1894))","v":""}]
[{"$f":"IF('Zgłoszenie Pacjenta'!A1895=\"\",\"\",Sprawdz_pesel('Zgłoszenie Pacjenta'!A1895))","v":""}]
[{"$f":"IF('Zgłoszenie Pacjenta'!A1896=\"\",\"\",Sprawdz_pesel('Zgłoszenie Pacjenta'!A1896))","v":""}]
[{"$f":"IF('Zgłoszenie Pacjenta'!A1897=\"\",\"\",Sprawdz_pesel('Zgłoszenie Pacjenta'!A1897))","v":""}]
[{"$f":"IF('Zgłoszenie Pacjenta'!A1898=\"\",\"\",Sprawdz_pesel('Zgłoszenie Pacjenta'!A1898))","v":""}]
[{"$f":"IF('Zgłoszenie Pacjenta'!A1899=\"\",\"\",Sprawdz_pesel('Zgłoszenie Pacjenta'!A1899))","v":""}]
[{"$f":"IF('Zgłoszenie Pacjenta'!A1900=\"\",\"\",Sprawdz_pesel('Zgłoszenie Pacjenta'!A1900))","v":""}]
[{"$f":"IF('Zgłoszenie Pacjenta'!A1901=\"\",\"\",Sprawdz_pesel('Zgłoszenie Pacjenta'!A1901))","v":""}]
[{"$f":"IF('Zgłoszenie Pacjenta'!A1902=\"\",\"\",Sprawdz_pesel('Zgłoszenie Pacjenta'!A1902))","v":""}]
[{"$f":"IF('Zgłoszenie Pacjenta'!A1903=\"\",\"\",Sprawdz_pesel('Zgłoszenie Pacjenta'!A1903))","v":""}]
[{"$f":"IF('Zgłoszenie Pacjenta'!A1904=\"\",\"\",Sprawdz_pesel('Zgłoszenie Pacjenta'!A1904))","v":""}]
[{"$f":"IF('Zgłoszenie Pacjenta'!A1905=\"\",\"\",Sprawdz_pesel('Zgłoszenie Pacjenta'!A1905))","v":""}]
[{"$f":"IF('Zgłoszenie Pacjenta'!A1906=\"\",\"\",Sprawdz_pesel('Zgłoszenie Pacjenta'!A1906))","v":""}]
[{"$f":"IF('Zgłoszenie Pacjenta'!A1907=\"\",\"\",Sprawdz_pesel('Zgłoszenie Pacjenta'!A1907))","v":""}]
[{"$f":"IF('Zgłoszenie Pacjenta'!A1908=\"\",\"\",Sprawdz_pesel('Zgłoszenie Pacjenta'!A1908))","v":""}]
[{"$f":"IF('Zgłoszenie Pacjenta'!A1909=\"\",\"\",Sprawdz_pesel('Zgłoszenie Pacjenta'!A1909))","v":""}]
[{"$f":"IF('Zgłoszenie Pacjenta'!A1910=\"\",\"\",Sprawdz_pesel('Zgłoszenie Pacjenta'!A1910))","v":""}]
[{"$f":"IF('Zgłoszenie Pacjenta'!A1911=\"\",\"\",Sprawdz_pesel('Zgłoszenie Pacjenta'!A1911))","v":""}]
[{"$f":"IF('Zgłoszenie Pacjenta'!A1912=\"\",\"\",Sprawdz_pesel('Zgłoszenie Pacjenta'!A1912))","v":""}]
[{"$f":"IF('Zgłoszenie Pacjenta'!A1913=\"\",\"\",Sprawdz_pesel('Zgłoszenie Pacjenta'!A1913))","v":""}]
[{"$f":"IF('Zgłoszenie Pacjenta'!A1914=\"\",\"\",Sprawdz_pesel('Zgłoszenie Pacjenta'!A1914))","v":""}]
[{"$f":"IF('Zgłoszenie Pacjenta'!A1915=\"\",\"\",Sprawdz_pesel('Zgłoszenie Pacjenta'!A1915))","v":""}]
[{"$f":"IF('Zgłoszenie Pacjenta'!A1916=\"\",\"\",Sprawdz_pesel('Zgłoszenie Pacjenta'!A1916))","v":""}]
[{"$f":"IF('Zgłoszenie Pacjenta'!A1917=\"\",\"\",Sprawdz_pesel('Zgłoszenie Pacjenta'!A1917))","v":""}]
[{"$f":"IF('Zgłoszenie Pacjenta'!A1918=\"\",\"\",Sprawdz_pesel('Zgłoszenie Pacjenta'!A1918))","v":""}]
[{"$f":"IF('Zgłoszenie Pacjenta'!A1919=\"\",\"\",Sprawdz_pesel('Zgłoszenie Pacjenta'!A1919))","v":""}]
[{"$f":"IF('Zgłoszenie Pacjenta'!A1920=\"\",\"\",Sprawdz_pesel('Zgłoszenie Pacjenta'!A1920))","v":""}]
[{"$f":"IF('Zgłoszenie Pacjenta'!A1921=\"\",\"\",Sprawdz_pesel('Zgłoszenie Pacjenta'!A1921))","v":""}]
[{"$f":"IF('Zgłoszenie Pacjenta'!A1922=\"\",\"\",Sprawdz_pesel('Zgłoszenie Pacjenta'!A1922))","v":""}]
[{"$f":"IF('Zgłoszenie Pacjenta'!A1923=\"\",\"\",Sprawdz_pesel('Zgłoszenie Pacjenta'!A1923))","v":""}]
[{"$f":"IF('Zgłoszenie Pacjenta'!A1924=\"\",\"\",Sprawdz_pesel('Zgłoszenie Pacjenta'!A1924))","v":""}]
[{"$f":"IF('Zgłoszenie Pacjenta'!A1925=\"\",\"\",Sprawdz_pesel('Zgłoszenie Pacjenta'!A1925))","v":""}]
[{"$f":"IF('Zgłoszenie Pacjenta'!A1926=\"\",\"\",Sprawdz_pesel('Zgłoszenie Pacjenta'!A1926))","v":""}]
[{"$f":"IF('Zgłoszenie Pacjenta'!A1927=\"\",\"\",Sprawdz_pesel('Zgłoszenie Pacjenta'!A1927))","v":""}]
[{"$f":"IF('Zgłoszenie Pacjenta'!A1928=\"\",\"\",Sprawdz_pesel('Zgłoszenie Pacjenta'!A1928))","v":""}]
[{"$f":"IF('Zgłoszenie Pacjenta'!A1929=\"\",\"\",Sprawdz_pesel('Zgłoszenie Pacjenta'!A1929))","v":""}]
[{"$f":"IF('Zgłoszenie Pacjenta'!A1930=\"\",\"\",Sprawdz_pesel('Zgłoszenie Pacjenta'!A1930))","v":""}]
[{"$f":"IF('Zgłoszenie Pacjenta'!A1931=\"\",\"\",Sprawdz_pesel('Zgłoszenie Pacjenta'!A1931))","v":""}]
[{"$f":"IF('Zgłoszenie Pacjenta'!A1932=\"\",\"\",Sprawdz_pesel('Zgłoszenie Pacjenta'!A1932))","v":""}]
[{"$f":"IF('Zgłoszenie Pacjenta'!A1933=\"\",\"\",Sprawdz_pesel('Zgłoszenie Pacjenta'!A1933))","v":""}]
[{"$f":"IF('Zgłoszenie Pacjenta'!A1934=\"\",\"\",Sprawdz_pesel('Zgłoszenie Pacjenta'!A1934))","v":""}]
[{"$f":"IF('Zgłoszenie Pacjenta'!A1935=\"\",\"\",Sprawdz_pesel('Zgłoszenie Pacjenta'!A1935))","v":""}]
[{"$f":"IF('Zgłoszenie Pacjenta'!A1936=\"\",\"\",Sprawdz_pesel('Zgłoszenie Pacjenta'!A1936))","v":""}]
[{"$f":"IF('Zgłoszenie Pacjenta'!A1937=\"\",\"\",Sprawdz_pesel('Zgłoszenie Pacjenta'!A1937))","v":""}]
[{"$f":"IF('Zgłoszenie Pacjenta'!A1938=\"\",\"\",Sprawdz_pesel('Zgłoszenie Pacjenta'!A1938))","v":""}]
[{"$f":"IF('Zgłoszenie Pacjenta'!A1939=\"\",\"\",Sprawdz_pesel('Zgłoszenie Pacjenta'!A1939))","v":""}]
[{"$f":"IF('Zgłoszenie Pacjenta'!A1940=\"\",\"\",Sprawdz_pesel('Zgłoszenie Pacjenta'!A1940))","v":""}]
[{"$f":"IF('Zgłoszenie Pacjenta'!A1941=\"\",\"\",Sprawdz_pesel('Zgłoszenie Pacjenta'!A1941))","v":""}]
[{"$f":"IF('Zgłoszenie Pacjenta'!A1942=\"\",\"\",Sprawdz_pesel('Zgłoszenie Pacjenta'!A1942))","v":""}]
[{"$f":"IF('Zgłoszenie Pacjenta'!A1943=\"\",\"\",Sprawdz_pesel('Zgłoszenie Pacjenta'!A1943))","v":""}]
[{"$f":"IF('Zgłoszenie Pacjenta'!A1944=\"\",\"\",Sprawdz_pesel('Zgłoszenie Pacjenta'!A1944))","v":""}]
[{"$f":"IF('Zgłoszenie Pacjenta'!A1945=\"\",\"\",Sprawdz_pesel('Zgłoszenie Pacjenta'!A1945))","v":""}]
[{"$f":"IF('Zgłoszenie Pacjenta'!A1946=\"\",\"\",Sprawdz_pesel('Zgłoszenie Pacjenta'!A1946))","v":""}]
[{"$f":"IF('Zgłoszenie Pacjenta'!A1947=\"\",\"\",Sprawdz_pesel('Zgłoszenie Pacjenta'!A1947))","v":""}]
[{"$f":"IF('Zgłoszenie Pacjenta'!A1948=\"\",\"\",Sprawdz_pesel('Zgłoszenie Pacjenta'!A1948))","v":""}]
[{"$f":"IF('Zgłoszenie Pacjenta'!A1949=\"\",\"\",Sprawdz_pesel('Zgłoszenie Pacjenta'!A1949))","v":""}]
[{"$f":"IF('Zgłoszenie Pacjenta'!A1950=\"\",\"\",Sprawdz_pesel('Zgłoszenie Pacjenta'!A1950))","v":""}]
[{"$f":"IF('Zgłoszenie Pacjenta'!A1951=\"\",\"\",Sprawdz_pesel('Zgłoszenie Pacjenta'!A1951))","v":""}]
[{"$f":"IF('Zgłoszenie Pacjenta'!A1952=\"\",\"\",Sprawdz_pesel('Zgłoszenie Pacjenta'!A1952))","v":""}]
[{"$f":"IF('Zgłoszenie Pacjenta'!A1953=\"\",\"\",Sprawdz_pesel('Zgłoszenie Pacjenta'!A1953))","v":""}]
[{"$f":"IF('Zgłoszenie Pacjenta'!A1954=\"\",\"\",Sprawdz_pesel('Zgłoszenie Pacjenta'!A1954))","v":""}]
[{"$f":"IF('Zgłoszenie Pacjenta'!A1955=\"\",\"\",Sprawdz_pesel('Zgłoszenie Pacjenta'!A1955))","v":""}]
[{"$f":"IF('Zgłoszenie Pacjenta'!A1956=\"\",\"\",Sprawdz_pesel('Zgłoszenie Pacjenta'!A1956))","v":""}]
[{"$f":"IF('Zgłoszenie Pacjenta'!A1957=\"\",\"\",Sprawdz_pesel('Zgłoszenie Pacjenta'!A1957))","v":""}]
[{"$f":"IF('Zgłoszenie Pacjenta'!A1958=\"\",\"\",Sprawdz_pesel('Zgłoszenie Pacjenta'!A1958))","v":""}]
[{"$f":"IF('Zgłoszenie Pacjenta'!A1959=\"\",\"\",Sprawdz_pesel('Zgłoszenie Pacjenta'!A1959))","v":""}]
[{"$f":"IF('Zgłoszenie Pacjenta'!A1960=\"\",\"\",Sprawdz_pesel('Zgłoszenie Pacjenta'!A1960))","v":""}]
[{"$f":"IF('Zgłoszenie Pacjenta'!A1961=\"\",\"\",Sprawdz_pesel('Zgłoszenie Pacjenta'!A1961))","v":""}]
[{"$f":"IF('Zgłoszenie Pacjenta'!A1962=\"\",\"\",Sprawdz_pesel('Zgłoszenie Pacjenta'!A1962))","v":""}]
[{"$f":"IF('Zgłoszenie Pacjenta'!A1963=\"\",\"\",Sprawdz_pesel('Zgłoszenie Pacjenta'!A1963))","v":""}]
[{"$f":"IF('Zgłoszenie Pacjenta'!A1964=\"\",\"\",Sprawdz_pesel('Zgłoszenie Pacjenta'!A1964))","v":""}]
[{"$f":"IF('Zgłoszenie Pacjenta'!A1965=\"\",\"\",Sprawdz_pesel('Zgłoszenie Pacjenta'!A1965))","v":""}]
[{"$f":"IF('Zgłoszenie Pacjenta'!A1966=\"\",\"\",Sprawdz_pesel('Zgłoszenie Pacjenta'!A1966))","v":""}]
[{"$f":"IF('Zgłoszenie Pacjenta'!A1967=\"\",\"\",Sprawdz_pesel('Zgłoszenie Pacjenta'!A1967))","v":""}]
[{"$f":"IF('Zgłoszenie Pacjenta'!A1968=\"\",\"\",Sprawdz_pesel('Zgłoszenie Pacjenta'!A1968))","v":""}]
[{"$f":"IF('Zgłoszenie Pacjenta'!A1969=\"\",\"\",Sprawdz_pesel('Zgłoszenie Pacjenta'!A1969))","v":""}]
[{"$f":"IF('Zgłoszenie Pacjenta'!A1970=\"\",\"\",Sprawdz_pesel('Zgłoszenie Pacjenta'!A1970))","v":""}]
[{"$f":"IF('Zgłoszenie Pacjenta'!A1971=\"\",\"\",Sprawdz_pesel('Zgłoszenie Pacjenta'!A1971))","v":""}]
[{"$f":"IF('Zgłoszenie Pacjenta'!A1972=\"\",\"\",Sprawdz_pesel('Zgłoszenie Pacjenta'!A1972))","v":""}]
[{"$f":"IF('Zgłoszenie Pacjenta'!A1973=\"\",\"\",Sprawdz_pesel('Zgłoszenie Pacjenta'!A1973))","v":""}]
[{"$f":"IF('Zgłoszenie Pacjenta'!A1974=\"\",\"\",Sprawdz_pesel('Zgłoszenie Pacjenta'!A1974))","v":""}]
[{"$f":"IF('Zgłoszenie Pacjenta'!A1975=\"\",\"\",Sprawdz_pesel('Zgłoszenie Pacjenta'!A1975))","v":""}]
[{"$f":"IF('Zgłoszenie Pacjenta'!A1976=\"\",\"\",Sprawdz_pesel('Zgłoszenie Pacjenta'!A1976))","v":""}]
[{"$f":"IF('Zgłoszenie Pacjenta'!A1977=\"\",\"\",Sprawdz_pesel('Zgłoszenie Pacjenta'!A1977))","v":""}]
[{"$f":"IF('Zgłoszenie Pacjenta'!A1978=\"\",\"\",Sprawdz_pesel('Zgłoszenie Pacjenta'!A1978))","v":""}]
[{"$f":"IF('Zgłoszenie Pacjenta'!A1979=\"\",\"\",Sprawdz_pesel('Zgłoszenie Pacjenta'!A1979))","v":""}]
[{"$f":"IF('Zgłoszenie Pacjenta'!A1980=\"\",\"\",Sprawdz_pesel('Zgłoszenie Pacjenta'!A1980))","v":""}]
[{"$f":"IF('Zgłoszenie Pacjenta'!A1981=\"\",\"\",Sprawdz_pesel('Zgłoszenie Pacjenta'!A1981))","v":""}]
[{"$f":"IF('Zgłoszenie Pacjenta'!A1982=\"\",\"\",Sprawdz_pesel('Zgłoszenie Pacjenta'!A1982))","v":""}]
[{"$f":"IF('Zgłoszenie Pacjenta'!A1983=\"\",\"\",Sprawdz_pesel('Zgłoszenie Pacjenta'!A1983))","v":""}]
[{"$f":"IF('Zgłoszenie Pacjenta'!A1984=\"\",\"\",Sprawdz_pesel('Zgłoszenie Pacjenta'!A1984))","v":""}]
[{"$f":"IF('Zgłoszenie Pacjenta'!A1985=\"\",\"\",Sprawdz_pesel('Zgłoszenie Pacjenta'!A1985))","v":""}]
[{"$f":"IF('Zgłoszenie Pacjenta'!A1986=\"\",\"\",Sprawdz_pesel('Zgłoszenie Pacjenta'!A1986))","v":""}]
[{"$f":"IF('Zgłoszenie Pacjenta'!A1987=\"\",\"\",Sprawdz_pesel('Zgłoszenie Pacjenta'!A1987))","v":""}]
[{"$f":"IF('Zgłoszenie Pacjenta'!A1988=\"\",\"\",Sprawdz_pesel('Zgłoszenie Pacjenta'!A1988))","v":""}]
[{"$f":"IF('Zgłoszenie Pacjenta'!A1989=\"\",\"\",Sprawdz_pesel('Zgłoszenie Pacjenta'!A1989))","v":""}]
[{"$f":"IF('Zgłoszenie Pacjenta'!A1990=\"\",\"\",Sprawdz_pesel('Zgłoszenie Pacjenta'!A1990))","v":""}]
[{"$f":"IF('Zgłoszenie Pacjenta'!A1991=\"\",\"\",Sprawdz_pesel('Zgłoszenie Pacjenta'!A1991))","v":""}]
[{"$f":"IF('Zgłoszenie Pacjenta'!A1992=\"\",\"\",Sprawdz_pesel('Zgłoszenie Pacjenta'!A1992))","v":""}]
[{"$f":"IF('Zgłoszenie Pacjenta'!A1993=\"\",\"\",Sprawdz_pesel('Zgłoszenie Pacjenta'!A1993))","v":""}]
[{"$f":"IF('Zgłoszenie Pacjenta'!A1994=\"\",\"\",Sprawdz_pesel('Zgłoszenie Pacjenta'!A1994))","v":""}]
[{"$f":"IF('Zgłoszenie Pacjenta'!A1995=\"\",\"\",Sprawdz_pesel('Zgłoszenie Pacjenta'!A1995))","v":""}]
[{"$f":"IF('Zgłoszenie Pacjenta'!A1996=\"\",\"\",Sprawdz_pesel('Zgłoszenie Pacjenta'!A1996))","v":""}]
[{"$f":"IF('Zgłoszenie Pacjenta'!A1997=\"\",\"\",Sprawdz_pesel('Zgłoszenie Pacjenta'!A1997))","v":""}]
[{"$f":"IF('Zgłoszenie Pacjenta'!A1998=\"\",\"\",Sprawdz_pesel('Zgłoszenie Pacjenta'!A1998))","v":""}]
[{"$f":"IF('Zgłoszenie Pacjenta'!A1999=\"\",\"\",Sprawdz_pesel('Zgłoszenie Pacjenta'!A1999))","v":""}]
[{"$f":"IF('Zgłoszenie Pacjenta'!A2000=\"\",\"\",Sprawdz_pesel('Zgłoszenie Pacjenta'!A2000))","v":""}]
[{"$f":"IF('Zgłoszenie Pacjenta'!A2001=\"\",\"\",Sprawdz_pesel('Zgłoszenie Pacjenta'!A2001))","v":""}]
[{"$f":"IF('Zgłoszenie Pacjenta'!A2002=\"\",\"\",Sprawdz_pesel('Zgłoszenie Pacjenta'!A2002))","v":""}]
[{"$f":"IF('Zgłoszenie Pacjenta'!A2003=\"\",\"\",Sprawdz_pesel('Zgłoszenie Pacjenta'!A2003))","v":""}]
[{"$f":"IF('Zgłoszenie Pacjenta'!A2004=\"\",\"\",Sprawdz_pesel('Zgłoszenie Pacjenta'!A2004))","v":""}]
[{"$f":"IF('Zgłoszenie Pacjenta'!A2005=\"\",\"\",Sprawdz_pesel('Zgłoszenie Pacjenta'!A2005))","v":""}]
[{"$f":"IF('Zgłoszenie Pacjenta'!A2006=\"\",\"\",Sprawdz_pesel('Zgłoszenie Pacjenta'!A2006))","v":""}]
[{"$f":"IF('Zgłoszenie Pacjenta'!A2007=\"\",\"\",Sprawdz_pesel('Zgłoszenie Pacjenta'!A2007))","v":""}]
[{"$f":"IF('Zgłoszenie Pacjenta'!A2008=\"\",\"\",Sprawdz_pesel('Zgłoszenie Pacjenta'!A2008))","v":""}]
[{"$f":"IF('Zgłoszenie Pacjenta'!A2009=\"\",\"\",Sprawdz_pesel('Zgłoszenie Pacjenta'!A2009))","v":""}]
[{"$f":"IF('Zgłoszenie Pacjenta'!A2010=\"\",\"\",Sprawdz_pesel('Zgłoszenie Pacjenta'!A2010))","v":""}]
[{"$f":"IF('Zgłoszenie Pacjenta'!A2011=\"\",\"\",Sprawdz_pesel('Zgłoszenie Pacjenta'!A2011))","v":""}]
[{"$f":"IF('Zgłoszenie Pacjenta'!A2012=\"\",\"\",Sprawdz_pesel('Zgłoszenie Pacjenta'!A2012))","v":""}]
[{"$f":"IF('Zgłoszenie Pacjenta'!A2013=\"\",\"\",Sprawdz_pesel('Zgłoszenie Pacjenta'!A2013))","v":""}]
[{"$f":"IF('Zgłoszenie Pacjenta'!A2014=\"\",\"\",Sprawdz_pesel('Zgłoszenie Pacjenta'!A2014))","v":""}]
[{"$f":"IF('Zgłoszenie Pacjenta'!A2015=\"\",\"\",Sprawdz_pesel('Zgłoszenie Pacjenta'!A2015))","v":""}]
[{"$f":"IF('Zgłoszenie Pacjenta'!A2016=\"\",\"\",Sprawdz_pesel('Zgłoszenie Pacjenta'!A2016))","v":""}]
[{"$f":"IF('Zgłoszenie Pacjenta'!A2017=\"\",\"\",Sprawdz_pesel('Zgłoszenie Pacjenta'!A2017))","v":""}]
[{"$f":"IF('Zgłoszenie Pacjenta'!A2018=\"\",\"\",Sprawdz_pesel('Zgłoszenie Pacjenta'!A2018))","v":""}]
[{"$f":"IF('Zgłoszenie Pacjenta'!A2019=\"\",\"\",Sprawdz_pesel('Zgłoszenie Pacjenta'!A2019))","v":""}]
[{"$f":"IF('Zgłoszenie Pacjenta'!A2020=\"\",\"\",Sprawdz_pesel('Zgłoszenie Pacjenta'!A2020))","v":""}]
[{"$f":"IF('Zgłoszenie Pacjenta'!A2021=\"\",\"\",Sprawdz_pesel('Zgłoszenie Pacjenta'!A2021))","v":""}]
[{"$f":"IF('Zgłoszenie Pacjenta'!A2022=\"\",\"\",Sprawdz_pesel('Zgłoszenie Pacjenta'!A2022))","v":""}]
[{"$f":"IF('Zgłoszenie Pacjenta'!A2023=\"\",\"\",Sprawdz_pesel('Zgłoszenie Pacjenta'!A2023))","v":""}]
[{"$f":"IF('Zgłoszenie Pacjenta'!A2024=\"\",\"\",Sprawdz_pesel('Zgłoszenie Pacjenta'!A2024))","v":""}]
[{"$f":"IF('Zgłoszenie Pacjenta'!A2025=\"\",\"\",Sprawdz_pesel('Zgłoszenie Pacjenta'!A2025))","v":""}]
[{"$f":"IF('Zgłoszenie Pacjenta'!A2026=\"\",\"\",Sprawdz_pesel('Zgłoszenie Pacjenta'!A2026))","v":""}]
[{"$f":"IF('Zgłoszenie Pacjenta'!A2027=\"\",\"\",Sprawdz_pesel('Zgłoszenie Pacjenta'!A2027))","v":""}]
[{"$f":"IF('Zgłoszenie Pacjenta'!A2028=\"\",\"\",Sprawdz_pesel('Zgłoszenie Pacjenta'!A2028))","v":""}]
[{"$f":"IF('Zgłoszenie Pacjenta'!A2029=\"\",\"\",Sprawdz_pesel('Zgłoszenie Pacjenta'!A2029))","v":""}]
[{"$f":"IF('Zgłoszenie Pacjenta'!A2030=\"\",\"\",Sprawdz_pesel('Zgłoszenie Pacjenta'!A2030))","v":""}]
[{"$f":"IF('Zgłoszenie Pacjenta'!A2031=\"\",\"\",Sprawdz_pesel('Zgłoszenie Pacjenta'!A2031))","v":""}]
[{"$f":"IF('Zgłoszenie Pacjenta'!A2032=\"\",\"\",Sprawdz_pesel('Zgłoszenie Pacjenta'!A2032))","v":""}]
[{"$f":"IF('Zgłoszenie Pacjenta'!A2033=\"\",\"\",Sprawdz_pesel('Zgłoszenie Pacjenta'!A2033))","v":""}]
[{"$f":"IF('Zgłoszenie Pacjenta'!A2034=\"\",\"\",Sprawdz_pesel('Zgłoszenie Pacjenta'!A2034))","v":""}]
[{"$f":"IF('Zgłoszenie Pacjenta'!A2035=\"\",\"\",Sprawdz_pesel('Zgłoszenie Pacjenta'!A2035))","v":""}]
[{"$f":"IF('Zgłoszenie Pacjenta'!A2036=\"\",\"\",Sprawdz_pesel('Zgłoszenie Pacjenta'!A2036))","v":""}]
[{"$f":"IF('Zgłoszenie Pacjenta'!A2037=\"\",\"\",Sprawdz_pesel('Zgłoszenie Pacjenta'!A2037))","v":""}]
[{"$f":"IF('Zgłoszenie Pacjenta'!A2038=\"\",\"\",Sprawdz_pesel('Zgłoszenie Pacjenta'!A2038))","v":""}]
[{"$f":"IF('Zgłoszenie Pacjenta'!A2039=\"\",\"\",Sprawdz_pesel('Zgłoszenie Pacjenta'!A2039))","v":""}]
[{"$f":"IF('Zgłoszenie Pacjenta'!A2040=\"\",\"\",Sprawdz_pesel('Zgłoszenie Pacjenta'!A2040))","v":""}]
[{"$f":"IF('Zgłoszenie Pacjenta'!A2041=\"\",\"\",Sprawdz_pesel('Zgłoszenie Pacjenta'!A2041))","v":""}]
[{"$f":"IF('Zgłoszenie Pacjenta'!A2042=\"\",\"\",Sprawdz_pesel('Zgłoszenie Pacjenta'!A2042))","v":""}]
[{"$f":"IF('Zgłoszenie Pacjenta'!A2043=\"\",\"\",Sprawdz_pesel('Zgłoszenie Pacjenta'!A2043))","v":""}]
[{"$f":"IF('Zgłoszenie Pacjenta'!A2044=\"\",\"\",Sprawdz_pesel('Zgłoszenie Pacjenta'!A2044))","v":""}]
[{"$f":"IF('Zgłoszenie Pacjenta'!A2045=\"\",\"\",Sprawdz_pesel('Zgłoszenie Pacjenta'!A2045))","v":""}]
[{"$f":"IF('Zgłoszenie Pacjenta'!A2046=\"\",\"\",Sprawdz_pesel('Zgłoszenie Pacjenta'!A2046))","v":""}]
[{"$f":"IF('Zgłoszenie Pacjenta'!A2047=\"\",\"\",Sprawdz_pesel('Zgłoszenie Pacjenta'!A2047))","v":""}]
[{"$f":"IF('Zgłoszenie Pacjenta'!A2048=\"\",\"\",Sprawdz_pesel('Zgłoszenie Pacjenta'!A2048))","v":""}]
[{"$f":"IF('Zgłoszenie Pacjenta'!A2049=\"\",\"\",Sprawdz_pesel('Zgłoszenie Pacjenta'!A2049))","v":""}]
[{"$f":"IF('Zgłoszenie Pacjenta'!A2050=\"\",\"\",Sprawdz_pesel('Zgłoszenie Pacjenta'!A2050))","v":""}]
[{"$f":"IF('Zgłoszenie Pacjenta'!A2051=\"\",\"\",Sprawdz_pesel('Zgłoszenie Pacjenta'!A2051))","v":""}]
[{"$f":"IF('Zgłoszenie Pacjenta'!A2052=\"\",\"\",Sprawdz_pesel('Zgłoszenie Pacjenta'!A2052))","v":""}]
[{"$f":"IF('Zgłoszenie Pacjenta'!A2053=\"\",\"\",Sprawdz_pesel('Zgłoszenie Pacjenta'!A2053))","v":""}]
[{"$f":"IF('Zgłoszenie Pacjenta'!A2054=\"\",\"\",Sprawdz_pesel('Zgłoszenie Pacjenta'!A2054))","v":""}]
[{"$f":"IF('Zgłoszenie Pacjenta'!A2055=\"\",\"\",Sprawdz_pesel('Zgłoszenie Pacjenta'!A2055))","v":""}]
[{"$f":"IF('Zgłoszenie Pacjenta'!A2056=\"\",\"\",Sprawdz_pesel('Zgłoszenie Pacjenta'!A2056))","v":""}]
[{"$f":"IF('Zgłoszenie Pacjenta'!A2057=\"\",\"\",Sprawdz_pesel('Zgłoszenie Pacjenta'!A2057))","v":""}]
[{"$f":"IF('Zgłoszenie Pacjenta'!A2058=\"\",\"\",Sprawdz_pesel('Zgłoszenie Pacjenta'!A2058))","v":""}]
[{"$f":"IF('Zgłoszenie Pacjenta'!A2059=\"\",\"\",Sprawdz_pesel('Zgłoszenie Pacjenta'!A2059))","v":""}]
[{"$f":"IF('Zgłoszenie Pacjenta'!A2060=\"\",\"\",Sprawdz_pesel('Zgłoszenie Pacjenta'!A2060))","v":""}]
[{"$f":"IF('Zgłoszenie Pacjenta'!A2061=\"\",\"\",Sprawdz_pesel('Zgłoszenie Pacjenta'!A2061))","v":""}]
[{"$f":"IF('Zgłoszenie Pacjenta'!A2062=\"\",\"\",Sprawdz_pesel('Zgłoszenie Pacjenta'!A2062))","v":""}]
[{"$f":"IF('Zgłoszenie Pacjenta'!A2063=\"\",\"\",Sprawdz_pesel('Zgłoszenie Pacjenta'!A2063))","v":""}]
[{"$f":"IF('Zgłoszenie Pacjenta'!A2064=\"\",\"\",Sprawdz_pesel('Zgłoszenie Pacjenta'!A2064))","v":""}]
[{"$f":"IF('Zgłoszenie Pacjenta'!A2065=\"\",\"\",Sprawdz_pesel('Zgłoszenie Pacjenta'!A2065))","v":""}]
[{"$f":"IF('Zgłoszenie Pacjenta'!A2066=\"\",\"\",Sprawdz_pesel('Zgłoszenie Pacjenta'!A2066))","v":""}]
[{"$f":"IF('Zgłoszenie Pacjenta'!A2067=\"\",\"\",Sprawdz_pesel('Zgłoszenie Pacjenta'!A2067))","v":""}]
[{"$f":"IF('Zgłoszenie Pacjenta'!A2068=\"\",\"\",Sprawdz_pesel('Zgłoszenie Pacjenta'!A2068))","v":""}]
[{"$f":"IF('Zgłoszenie Pacjenta'!A2069=\"\",\"\",Sprawdz_pesel('Zgłoszenie Pacjenta'!A2069))","v":""}]
[{"$f":"IF('Zgłoszenie Pacjenta'!A2070=\"\",\"\",Sprawdz_pesel('Zgłoszenie Pacjenta'!A2070))","v":""}]
[{"$f":"IF('Zgłoszenie Pacjenta'!A2071=\"\",\"\",Sprawdz_pesel('Zgłoszenie Pacjenta'!A2071))","v":""}]
[{"$f":"IF('Zgłoszenie Pacjenta'!A2072=\"\",\"\",Sprawdz_pesel('Zgłoszenie Pacjenta'!A2072))","v":""}]
[{"$f":"IF('Zgłoszenie Pacjenta'!A2073=\"\",\"\",Sprawdz_pesel('Zgłoszenie Pacjenta'!A2073))","v":""}]
[{"$f":"IF('Zgłoszenie Pacjenta'!A2074=\"\",\"\",Sprawdz_pesel('Zgłoszenie Pacjenta'!A2074))","v":""}]
[{"$f":"IF('Zgłoszenie Pacjenta'!A2075=\"\",\"\",Sprawdz_pesel('Zgłoszenie Pacjenta'!A2075))","v":""}]
[{"$f":"IF('Zgłoszenie Pacjenta'!A2076=\"\",\"\",Sprawdz_pesel('Zgłoszenie Pacjenta'!A2076))","v":""}]
[{"$f":"IF('Zgłoszenie Pacjenta'!A2077=\"\",\"\",Sprawdz_pesel('Zgłoszenie Pacjenta'!A2077))","v":""}]
[{"$f":"IF('Zgłoszenie Pacjenta'!A2078=\"\",\"\",Sprawdz_pesel('Zgłoszenie Pacjenta'!A2078))","v":""}]
[{"$f":"IF('Zgłoszenie Pacjenta'!A2079=\"\",\"\",Sprawdz_pesel('Zgłoszenie Pacjenta'!A2079))","v":""}]
[{"$f":"IF('Zgłoszenie Pacjenta'!A2080=\"\",\"\",Sprawdz_pesel('Zgłoszenie Pacjenta'!A2080))","v":""}]
[{"$f":"IF('Zgłoszenie Pacjenta'!A2081=\"\",\"\",Sprawdz_pesel('Zgłoszenie Pacjenta'!A2081))","v":""}]
[{"$f":"IF('Zgłoszenie Pacjenta'!A2082=\"\",\"\",Sprawdz_pesel('Zgłoszenie Pacjenta'!A2082))","v":""}]
[{"$f":"IF('Zgłoszenie Pacjenta'!A2083=\"\",\"\",Sprawdz_pesel('Zgłoszenie Pacjenta'!A2083))","v":""}]
[{"$f":"IF('Zgłoszenie Pacjenta'!A2084=\"\",\"\",Sprawdz_pesel('Zgłoszenie Pacjenta'!A2084))","v":""}]
[{"$f":"IF('Zgłoszenie Pacjenta'!A2085=\"\",\"\",Sprawdz_pesel('Zgłoszenie Pacjenta'!A2085))","v":""}]
[{"$f":"IF('Zgłoszenie Pacjenta'!A2086=\"\",\"\",Sprawdz_pesel('Zgłoszenie Pacjenta'!A2086))","v":""}]
[{"$f":"IF('Zgłoszenie Pacjenta'!A2087=\"\",\"\",Sprawdz_pesel('Zgłoszenie Pacjenta'!A2087))","v":""}]
[{"$f":"IF('Zgłoszenie Pacjenta'!A2088=\"\",\"\",Sprawdz_pesel('Zgłoszenie Pacjenta'!A2088))","v":""}]
[{"$f":"IF('Zgłoszenie Pacjenta'!A2089=\"\",\"\",Sprawdz_pesel('Zgłoszenie Pacjenta'!A2089))","v":""}]
[{"$f":"IF('Zgłoszenie Pacjenta'!A2090=\"\",\"\",Sprawdz_pesel('Zgłoszenie Pacjenta'!A2090))","v":""}]
[{"$f":"IF('Zgłoszenie Pacjenta'!A2091=\"\",\"\",Sprawdz_pesel('Zgłoszenie Pacjenta'!A2091))","v":""}]
[{"$f":"IF('Zgłoszenie Pacjenta'!A2092=\"\",\"\",Sprawdz_pesel('Zgłoszenie Pacjenta'!A2092))","v":""}]
[{"$f":"IF('Zgłoszenie Pacjenta'!A2093=\"\",\"\",Sprawdz_pesel('Zgłoszenie Pacjenta'!A2093))","v":""}]
[{"$f":"IF('Zgłoszenie Pacjenta'!A2094=\"\",\"\",Sprawdz_pesel('Zgłoszenie Pacjenta'!A2094))","v":""}]
[{"$f":"IF('Zgłoszenie Pacjenta'!A2095=\"\",\"\",Sprawdz_pesel('Zgłoszenie Pacjenta'!A2095))","v":""}]
[{"$f":"IF('Zgłoszenie Pacjenta'!A2096=\"\",\"\",Sprawdz_pesel('Zgłoszenie Pacjenta'!A2096))","v":""}]
[{"$f":"IF('Zgłoszenie Pacjenta'!A2097=\"\",\"\",Sprawdz_pesel('Zgłoszenie Pacjenta'!A2097))","v":""}]
[{"$f":"IF('Zgłoszenie Pacjenta'!A2098=\"\",\"\",Sprawdz_pesel('Zgłoszenie Pacjenta'!A2098))","v":""}]
[{"$f":"IF('Zgłoszenie Pacjenta'!A2099=\"\",\"\",Sprawdz_pesel('Zgłoszenie Pacjenta'!A2099))","v":""}]
[{"$f":"IF('Zgłoszenie Pacjenta'!A2100=\"\",\"\",Sprawdz_pesel('Zgłoszenie Pacjenta'!A2100))","v":""}]
[{"$f":"IF('Zgłoszenie Pacjenta'!A2101=\"\",\"\",Sprawdz_pesel('Zgłoszenie Pacjenta'!A2101))","v":""}]
[{"$f":"IF('Zgłoszenie Pacjenta'!A2102=\"\",\"\",Sprawdz_pesel('Zgłoszenie Pacjenta'!A2102))","v":""}]
[{"$f":"IF('Zgłoszenie Pacjenta'!A2103=\"\",\"\",Sprawdz_pesel('Zgłoszenie Pacjenta'!A2103))","v":""}]
[{"$f":"IF('Zgłoszenie Pacjenta'!A2104=\"\",\"\",Sprawdz_pesel('Zgłoszenie Pacjenta'!A2104))","v":""}]
[{"$f":"IF('Zgłoszenie Pacjenta'!A2105=\"\",\"\",Sprawdz_pesel('Zgłoszenie Pacjenta'!A2105))","v":""}]
[{"$f":"IF('Zgłoszenie Pacjenta'!A2106=\"\",\"\",Sprawdz_pesel('Zgłoszenie Pacjenta'!A2106))","v":""}]
[{"$f":"IF('Zgłoszenie Pacjenta'!A2107=\"\",\"\",Sprawdz_pesel('Zgłoszenie Pacjenta'!A2107))","v":""}]
[{"$f":"IF('Zgłoszenie Pacjenta'!A2108=\"\",\"\",Sprawdz_pesel('Zgłoszenie Pacjenta'!A2108))","v":""}]
[{"$f":"IF('Zgłoszenie Pacjenta'!A2109=\"\",\"\",Sprawdz_pesel('Zgłoszenie Pacjenta'!A2109))","v":""}]
[{"$f":"IF('Zgłoszenie Pacjenta'!A2110=\"\",\"\",Sprawdz_pesel('Zgłoszenie Pacjenta'!A2110))","v":""}]
[{"$f":"IF('Zgłoszenie Pacjenta'!A2111=\"\",\"\",Sprawdz_pesel('Zgłoszenie Pacjenta'!A2111))","v":""}]
[{"$f":"IF('Zgłoszenie Pacjenta'!A2112=\"\",\"\",Sprawdz_pesel('Zgłoszenie Pacjenta'!A2112))","v":""}]
[{"$f":"IF('Zgłoszenie Pacjenta'!A2113=\"\",\"\",Sprawdz_pesel('Zgłoszenie Pacjenta'!A2113))","v":""}]
[{"$f":"IF('Zgłoszenie Pacjenta'!A2114=\"\",\"\",Sprawdz_pesel('Zgłoszenie Pacjenta'!A2114))","v":""}]
[{"$f":"IF('Zgłoszenie Pacjenta'!A2115=\"\",\"\",Sprawdz_pesel('Zgłoszenie Pacjenta'!A2115))","v":""}]
[{"$f":"IF('Zgłoszenie Pacjenta'!A2116=\"\",\"\",Sprawdz_pesel('Zgłoszenie Pacjenta'!A2116))","v":""}]
[{"$f":"IF('Zgłoszenie Pacjenta'!A2117=\"\",\"\",Sprawdz_pesel('Zgłoszenie Pacjenta'!A2117))","v":""}]
[{"$f":"IF('Zgłoszenie Pacjenta'!A2118=\"\",\"\",Sprawdz_pesel('Zgłoszenie Pacjenta'!A2118))","v":""}]
[{"$f":"IF('Zgłoszenie Pacjenta'!A2119=\"\",\"\",Sprawdz_pesel('Zgłoszenie Pacjenta'!A2119))","v":""}]
[{"$f":"IF('Zgłoszenie Pacjenta'!A2120=\"\",\"\",Sprawdz_pesel('Zgłoszenie Pacjenta'!A2120))","v":""}]
[{"$f":"IF('Zgłoszenie Pacjenta'!A2121=\"\",\"\",Sprawdz_pesel('Zgłoszenie Pacjenta'!A2121))","v":""}]
[{"$f":"IF('Zgłoszenie Pacjenta'!A2122=\"\",\"\",Sprawdz_pesel('Zgłoszenie Pacjenta'!A2122))","v":""}]
[{"$f":"IF('Zgłoszenie Pacjenta'!A2123=\"\",\"\",Sprawdz_pesel('Zgłoszenie Pacjenta'!A2123))","v":""}]
[{"$f":"IF('Zgłoszenie Pacjenta'!A2124=\"\",\"\",Sprawdz_pesel('Zgłoszenie Pacjenta'!A2124))","v":""}]
[{"$f":"IF('Zgłoszenie Pacjenta'!A2125=\"\",\"\",Sprawdz_pesel('Zgłoszenie Pacjenta'!A2125))","v":""}]
[{"$f":"IF('Zgłoszenie Pacjenta'!A2126=\"\",\"\",Sprawdz_pesel('Zgłoszenie Pacjenta'!A2126))","v":""}]
[{"$f":"IF('Zgłoszenie Pacjenta'!A2127=\"\",\"\",Sprawdz_pesel('Zgłoszenie Pacjenta'!A2127))","v":""}]
[{"$f":"IF('Zgłoszenie Pacjenta'!A2128=\"\",\"\",Sprawdz_pesel('Zgłoszenie Pacjenta'!A2128))","v":""}]
[{"$f":"IF('Zgłoszenie Pacjenta'!A2129=\"\",\"\",Sprawdz_pesel('Zgłoszenie Pacjenta'!A2129))","v":""}]
[{"$f":"IF('Zgłoszenie Pacjenta'!A2130=\"\",\"\",Sprawdz_pesel('Zgłoszenie Pacjenta'!A2130))","v":""}]
[{"$f":"IF('Zgłoszenie Pacjenta'!A2131=\"\",\"\",Sprawdz_pesel('Zgłoszenie Pacjenta'!A2131))","v":""}]
[{"$f":"IF('Zgłoszenie Pacjenta'!A2132=\"\",\"\",Sprawdz_pesel('Zgłoszenie Pacjenta'!A2132))","v":""}]
[{"$f":"IF('Zgłoszenie Pacjenta'!A2133=\"\",\"\",Sprawdz_pesel('Zgłoszenie Pacjenta'!A2133))","v":""}]
[{"$f":"IF('Zgłoszenie Pacjenta'!A2134=\"\",\"\",Sprawdz_pesel('Zgłoszenie Pacjenta'!A2134))","v":""}]
[{"$f":"IF('Zgłoszenie Pacjenta'!A2135=\"\",\"\",Sprawdz_pesel('Zgłoszenie Pacjenta'!A2135))","v":""}]
[{"$f":"IF('Zgłoszenie Pacjenta'!A2136=\"\",\"\",Sprawdz_pesel('Zgłoszenie Pacjenta'!A2136))","v":""}]
[{"$f":"IF('Zgłoszenie Pacjenta'!A2137=\"\",\"\",Sprawdz_pesel('Zgłoszenie Pacjenta'!A2137))","v":""}]
[{"$f":"IF('Zgłoszenie Pacjenta'!A2138=\"\",\"\",Sprawdz_pesel('Zgłoszenie Pacjenta'!A2138))","v":""}]
[{"$f":"IF('Zgłoszenie Pacjenta'!A2139=\"\",\"\",Sprawdz_pesel('Zgłoszenie Pacjenta'!A2139))","v":""}]
[{"$f":"IF('Zgłoszenie Pacjenta'!A2140=\"\",\"\",Sprawdz_pesel('Zgłoszenie Pacjenta'!A2140))","v":""}]
[{"$f":"IF('Zgłoszenie Pacjenta'!A2141=\"\",\"\",Sprawdz_pesel('Zgłoszenie Pacjenta'!A2141))","v":""}]
[{"$f":"IF('Zgłoszenie Pacjenta'!A2142=\"\",\"\",Sprawdz_pesel('Zgłoszenie Pacjenta'!A2142))","v":""}]
[{"$f":"IF('Zgłoszenie Pacjenta'!A2143=\"\",\"\",Sprawdz_pesel('Zgłoszenie Pacjenta'!A2143))","v":""}]
[{"$f":"IF('Zgłoszenie Pacjenta'!A2144=\"\",\"\",Sprawdz_pesel('Zgłoszenie Pacjenta'!A2144))","v":""}]
[{"$f":"IF('Zgłoszenie Pacjenta'!A2145=\"\",\"\",Sprawdz_pesel('Zgłoszenie Pacjenta'!A2145))","v":""}]
[{"$f":"IF('Zgłoszenie Pacjenta'!A2146=\"\",\"\",Sprawdz_pesel('Zgłoszenie Pacjenta'!A2146))","v":""}]
[{"$f":"IF('Zgłoszenie Pacjenta'!A2147=\"\",\"\",Sprawdz_pesel('Zgłoszenie Pacjenta'!A2147))","v":""}]
[{"$f":"IF('Zgłoszenie Pacjenta'!A2148=\"\",\"\",Sprawdz_pesel('Zgłoszenie Pacjenta'!A2148))","v":""}]
[{"$f":"IF('Zgłoszenie Pacjenta'!A2149=\"\",\"\",Sprawdz_pesel('Zgłoszenie Pacjenta'!A2149))","v":""}]
[{"$f":"IF('Zgłoszenie Pacjenta'!A2150=\"\",\"\",Sprawdz_pesel('Zgłoszenie Pacjenta'!A2150))","v":""}]
[{"$f":"IF('Zgłoszenie Pacjenta'!A2151=\"\",\"\",Sprawdz_pesel('Zgłoszenie Pacjenta'!A2151))","v":""}]
[{"$f":"IF('Zgłoszenie Pacjenta'!A2152=\"\",\"\",Sprawdz_pesel('Zgłoszenie Pacjenta'!A2152))","v":""}]
[{"$f":"IF('Zgłoszenie Pacjenta'!A2153=\"\",\"\",Sprawdz_pesel('Zgłoszenie Pacjenta'!A2153))","v":""}]
[{"$f":"IF('Zgłoszenie Pacjenta'!A2154=\"\",\"\",Sprawdz_pesel('Zgłoszenie Pacjenta'!A2154))","v":""}]
[{"$f":"IF('Zgłoszenie Pacjenta'!A2155=\"\",\"\",Sprawdz_pesel('Zgłoszenie Pacjenta'!A2155))","v":""}]
[{"$f":"IF('Zgłoszenie Pacjenta'!A2156=\"\",\"\",Sprawdz_pesel('Zgłoszenie Pacjenta'!A2156))","v":""}]
[{"$f":"IF('Zgłoszenie Pacjenta'!A2157=\"\",\"\",Sprawdz_pesel('Zgłoszenie Pacjenta'!A2157))","v":""}]
[{"$f":"IF('Zgłoszenie Pacjenta'!A2158=\"\",\"\",Sprawdz_pesel('Zgłoszenie Pacjenta'!A2158))","v":""}]
[{"$f":"IF('Zgłoszenie Pacjenta'!A2159=\"\",\"\",Sprawdz_pesel('Zgłoszenie Pacjenta'!A2159))","v":""}]
[{"$f":"IF('Zgłoszenie Pacjenta'!A2160=\"\",\"\",Sprawdz_pesel('Zgłoszenie Pacjenta'!A2160))","v":""}]
[{"$f":"IF('Zgłoszenie Pacjenta'!A2161=\"\",\"\",Sprawdz_pesel('Zgłoszenie Pacjenta'!A2161))","v":""}]
[{"$f":"IF('Zgłoszenie Pacjenta'!A2162=\"\",\"\",Sprawdz_pesel('Zgłoszenie Pacjenta'!A2162))","v":""}]
[{"$f":"IF('Zgłoszenie Pacjenta'!A2163=\"\",\"\",Sprawdz_pesel('Zgłoszenie Pacjenta'!A2163))","v":""}]
[{"$f":"IF('Zgłoszenie Pacjenta'!A2164=\"\",\"\",Sprawdz_pesel('Zgłoszenie Pacjenta'!A2164))","v":""}]
[{"$f":"IF('Zgłoszenie Pacjenta'!A2165=\"\",\"\",Sprawdz_pesel('Zgłoszenie Pacjenta'!A2165))","v":""}]
[{"$f":"IF('Zgłoszenie Pacjenta'!A2166=\"\",\"\",Sprawdz_pesel('Zgłoszenie Pacjenta'!A2166))","v":""}]
[{"$f":"IF('Zgłoszenie Pacjenta'!A2167=\"\",\"\",Sprawdz_pesel('Zgłoszenie Pacjenta'!A2167))","v":""}]
[{"$f":"IF('Zgłoszenie Pacjenta'!A2168=\"\",\"\",Sprawdz_pesel('Zgłoszenie Pacjenta'!A2168))","v":""}]
[{"$f":"IF('Zgłoszenie Pacjenta'!A2169=\"\",\"\",Sprawdz_pesel('Zgłoszenie Pacjenta'!A2169))","v":""}]
[{"$f":"IF('Zgłoszenie Pacjenta'!A2170=\"\",\"\",Sprawdz_pesel('Zgłoszenie Pacjenta'!A2170))","v":""}]
[{"$f":"IF('Zgłoszenie Pacjenta'!A2171=\"\",\"\",Sprawdz_pesel('Zgłoszenie Pacjenta'!A2171))","v":""}]
[{"$f":"IF('Zgłoszenie Pacjenta'!A2172=\"\",\"\",Sprawdz_pesel('Zgłoszenie Pacjenta'!A2172))","v":""}]
[{"$f":"IF('Zgłoszenie Pacjenta'!A2173=\"\",\"\",Sprawdz_pesel('Zgłoszenie Pacjenta'!A2173))","v":""}]
[{"$f":"IF('Zgłoszenie Pacjenta'!A2174=\"\",\"\",Sprawdz_pesel('Zgłoszenie Pacjenta'!A2174))","v":""}]
[{"$f":"IF('Zgłoszenie Pacjenta'!A2175=\"\",\"\",Sprawdz_pesel('Zgłoszenie Pacjenta'!A2175))","v":""}]
[{"$f":"IF('Zgłoszenie Pacjenta'!A2176=\"\",\"\",Sprawdz_pesel('Zgłoszenie Pacjenta'!A2176))","v":""}]
[{"$f":"IF('Zgłoszenie Pacjenta'!A2177=\"\",\"\",Sprawdz_pesel('Zgłoszenie Pacjenta'!A2177))","v":""}]
[{"$f":"IF('Zgłoszenie Pacjenta'!A2178=\"\",\"\",Sprawdz_pesel('Zgłoszenie Pacjenta'!A2178))","v":""}]
[{"$f":"IF('Zgłoszenie Pacjenta'!A2179=\"\",\"\",Sprawdz_pesel('Zgłoszenie Pacjenta'!A2179))","v":""}]
[{"$f":"IF('Zgłoszenie Pacjenta'!A2180=\"\",\"\",Sprawdz_pesel('Zgłoszenie Pacjenta'!A2180))","v":""}]
[{"$f":"IF('Zgłoszenie Pacjenta'!A2181=\"\",\"\",Sprawdz_pesel('Zgłoszenie Pacjenta'!A2181))","v":""}]
[{"$f":"IF('Zgłoszenie Pacjenta'!A2182=\"\",\"\",Sprawdz_pesel('Zgłoszenie Pacjenta'!A2182))","v":""}]
[{"$f":"IF('Zgłoszenie Pacjenta'!A2183=\"\",\"\",Sprawdz_pesel('Zgłoszenie Pacjenta'!A2183))","v":""}]
[{"$f":"IF('Zgłoszenie Pacjenta'!A2184=\"\",\"\",Sprawdz_pesel('Zgłoszenie Pacjenta'!A2184))","v":""}]
[{"$f":"IF('Zgłoszenie Pacjenta'!A2185=\"\",\"\",Sprawdz_pesel('Zgłoszenie Pacjenta'!A2185))","v":""}]
[{"$f":"IF('Zgłoszenie Pacjenta'!A2186=\"\",\"\",Sprawdz_pesel('Zgłoszenie Pacjenta'!A2186))","v":""}]
[{"$f":"IF('Zgłoszenie Pacjenta'!A2187=\"\",\"\",Sprawdz_pesel('Zgłoszenie Pacjenta'!A2187))","v":""}]
[{"$f":"IF('Zgłoszenie Pacjenta'!A2188=\"\",\"\",Sprawdz_pesel('Zgłoszenie Pacjenta'!A2188))","v":""}]
[{"$f":"IF('Zgłoszenie Pacjenta'!A2189=\"\",\"\",Sprawdz_pesel('Zgłoszenie Pacjenta'!A2189))","v":""}]
[{"$f":"IF('Zgłoszenie Pacjenta'!A2190=\"\",\"\",Sprawdz_pesel('Zgłoszenie Pacjenta'!A2190))","v":""}]
[{"$f":"IF('Zgłoszenie Pacjenta'!A2191=\"\",\"\",Sprawdz_pesel('Zgłoszenie Pacjenta'!A2191))","v":""}]
[{"$f":"IF('Zgłoszenie Pacjenta'!A2192=\"\",\"\",Sprawdz_pesel('Zgłoszenie Pacjenta'!A2192))","v":""}]
[{"$f":"IF('Zgłoszenie Pacjenta'!A2193=\"\",\"\",Sprawdz_pesel('Zgłoszenie Pacjenta'!A2193))","v":""}]
[{"$f":"IF('Zgłoszenie Pacjenta'!A2194=\"\",\"\",Sprawdz_pesel('Zgłoszenie Pacjenta'!A2194))","v":""}]
[{"$f":"IF('Zgłoszenie Pacjenta'!A2195=\"\",\"\",Sprawdz_pesel('Zgłoszenie Pacjenta'!A2195))","v":""}]
[{"$f":"IF('Zgłoszenie Pacjenta'!A2196=\"\",\"\",Sprawdz_pesel('Zgłoszenie Pacjenta'!A2196))","v":""}]
[{"$f":"IF('Zgłoszenie Pacjenta'!A2197=\"\",\"\",Sprawdz_pesel('Zgłoszenie Pacjenta'!A2197))","v":""}]
[{"$f":"IF('Zgłoszenie Pacjenta'!A2198=\"\",\"\",Sprawdz_pesel('Zgłoszenie Pacjenta'!A2198))","v":""}]
[{"$f":"IF('Zgłoszenie Pacjenta'!A2199=\"\",\"\",Sprawdz_pesel('Zgłoszenie Pacjenta'!A2199))","v":""}]
[{"$f":"IF('Zgłoszenie Pacjenta'!A2200=\"\",\"\",Sprawdz_pesel('Zgłoszenie Pacjenta'!A2200))","v":""}]
[{"$f":"IF('Zgłoszenie Pacjenta'!A2201=\"\",\"\",Sprawdz_pesel('Zgłoszenie Pacjenta'!A2201))","v":""}]
[{"$f":"IF('Zgłoszenie Pacjenta'!A2202=\"\",\"\",Sprawdz_pesel('Zgłoszenie Pacjenta'!A2202))","v":""}]
[{"$f":"IF('Zgłoszenie Pacjenta'!A2203=\"\",\"\",Sprawdz_pesel('Zgłoszenie Pacjenta'!A2203))","v":""}]
[{"$f":"IF('Zgłoszenie Pacjenta'!A2204=\"\",\"\",Sprawdz_pesel('Zgłoszenie Pacjenta'!A2204))","v":""}]
[{"$f":"IF('Zgłoszenie Pacjenta'!A2205=\"\",\"\",Sprawdz_pesel('Zgłoszenie Pacjenta'!A2205))","v":""}]
[{"$f":"IF('Zgłoszenie Pacjenta'!A2206=\"\",\"\",Sprawdz_pesel('Zgłoszenie Pacjenta'!A2206))","v":""}]
[{"$f":"IF('Zgłoszenie Pacjenta'!A2207=\"\",\"\",Sprawdz_pesel('Zgłoszenie Pacjenta'!A2207))","v":""}]
[{"$f":"IF('Zgłoszenie Pacjenta'!A2208=\"\",\"\",Sprawdz_pesel('Zgłoszenie Pacjenta'!A2208))","v":""}]
[{"$f":"IF('Zgłoszenie Pacjenta'!A2209=\"\",\"\",Sprawdz_pesel('Zgłoszenie Pacjenta'!A2209))","v":""}]
[{"$f":"IF('Zgłoszenie Pacjenta'!A2210=\"\",\"\",Sprawdz_pesel('Zgłoszenie Pacjenta'!A2210))","v":""}]
[{"$f":"IF('Zgłoszenie Pacjenta'!A2211=\"\",\"\",Sprawdz_pesel('Zgłoszenie Pacjenta'!A2211))","v":""}]
[{"$f":"IF('Zgłoszenie Pacjenta'!A2212=\"\",\"\",Sprawdz_pesel('Zgłoszenie Pacjenta'!A2212))","v":""}]
[{"$f":"IF('Zgłoszenie Pacjenta'!A2213=\"\",\"\",Sprawdz_pesel('Zgłoszenie Pacjenta'!A2213))","v":""}]
[{"$f":"IF('Zgłoszenie Pacjenta'!A2214=\"\",\"\",Sprawdz_pesel('Zgłoszenie Pacjenta'!A2214))","v":""}]
[{"$f":"IF('Zgłoszenie Pacjenta'!A2215=\"\",\"\",Sprawdz_pesel('Zgłoszenie Pacjenta'!A2215))","v":""}]
[{"$f":"IF('Zgłoszenie Pacjenta'!A2216=\"\",\"\",Sprawdz_pesel('Zgłoszenie Pacjenta'!A2216))","v":""}]
[{"$f":"IF('Zgłoszenie Pacjenta'!A2217=\"\",\"\",Sprawdz_pesel('Zgłoszenie Pacjenta'!A2217))","v":""}]
[{"$f":"IF('Zgłoszenie Pacjenta'!A2218=\"\",\"\",Sprawdz_pesel('Zgłoszenie Pacjenta'!A2218))","v":""}]
[{"$f":"IF('Zgłoszenie Pacjenta'!A2219=\"\",\"\",Sprawdz_pesel('Zgłoszenie Pacjenta'!A2219))","v":""}]
[{"$f":"IF('Zgłoszenie Pacjenta'!A2220=\"\",\"\",Sprawdz_pesel('Zgłoszenie Pacjenta'!A2220))","v":""}]
[{"$f":"IF('Zgłoszenie Pacjenta'!A2221=\"\",\"\",Sprawdz_pesel('Zgłoszenie Pacjenta'!A2221))","v":""}]
[{"$f":"IF('Zgłoszenie Pacjenta'!A2222=\"\",\"\",Sprawdz_pesel('Zgłoszenie Pacjenta'!A2222))","v":""}]
[{"$f":"IF('Zgłoszenie Pacjenta'!A2223=\"\",\"\",Sprawdz_pesel('Zgłoszenie Pacjenta'!A2223))","v":""}]
[{"$f":"IF('Zgłoszenie Pacjenta'!A2224=\"\",\"\",Sprawdz_pesel('Zgłoszenie Pacjenta'!A2224))","v":""}]
[{"$f":"IF('Zgłoszenie Pacjenta'!A2225=\"\",\"\",Sprawdz_pesel('Zgłoszenie Pacjenta'!A2225))","v":""}]
[{"$f":"IF('Zgłoszenie Pacjenta'!A2226=\"\",\"\",Sprawdz_pesel('Zgłoszenie Pacjenta'!A2226))","v":""}]
[{"$f":"IF('Zgłoszenie Pacjenta'!A2227=\"\",\"\",Sprawdz_pesel('Zgłoszenie Pacjenta'!A2227))","v":""}]
[{"$f":"IF('Zgłoszenie Pacjenta'!A2228=\"\",\"\",Sprawdz_pesel('Zgłoszenie Pacjenta'!A2228))","v":""}]
[{"$f":"IF('Zgłoszenie Pacjenta'!A2229=\"\",\"\",Sprawdz_pesel('Zgłoszenie Pacjenta'!A2229))","v":""}]
[{"$f":"IF('Zgłoszenie Pacjenta'!A2230=\"\",\"\",Sprawdz_pesel('Zgłoszenie Pacjenta'!A2230))","v":""}]
[{"$f":"IF('Zgłoszenie Pacjenta'!A2231=\"\",\"\",Sprawdz_pesel('Zgłoszenie Pacjenta'!A2231))","v":""}]
[{"$f":"IF('Zgłoszenie Pacjenta'!A2232=\"\",\"\",Sprawdz_pesel('Zgłoszenie Pacjenta'!A2232))","v":""}]
[{"$f":"IF('Zgłoszenie Pacjenta'!A2233=\"\",\"\",Sprawdz_pesel('Zgłoszenie Pacjenta'!A2233))","v":""}]
[{"$f":"IF('Zgłoszenie Pacjenta'!A2234=\"\",\"\",Sprawdz_pesel('Zgłoszenie Pacjenta'!A2234))","v":""}]
[{"$f":"IF('Zgłoszenie Pacjenta'!A2235=\"\",\"\",Sprawdz_pesel('Zgłoszenie Pacjenta'!A2235))","v":""}]
[{"$f":"IF('Zgłoszenie Pacjenta'!A2236=\"\",\"\",Sprawdz_pesel('Zgłoszenie Pacjenta'!A2236))","v":""}]
[{"$f":"IF('Zgłoszenie Pacjenta'!A2237=\"\",\"\",Sprawdz_pesel('Zgłoszenie Pacjenta'!A2237))","v":""}]
[{"$f":"IF('Zgłoszenie Pacjenta'!A2238=\"\",\"\",Sprawdz_pesel('Zgłoszenie Pacjenta'!A2238))","v":""}]
[{"$f":"IF('Zgłoszenie Pacjenta'!A2239=\"\",\"\",Sprawdz_pesel('Zgłoszenie Pacjenta'!A2239))","v":""}]
[{"$f":"IF('Zgłoszenie Pacjenta'!A2240=\"\",\"\",Sprawdz_pesel('Zgłoszenie Pacjenta'!A2240))","v":""}]
[{"$f":"IF('Zgłoszenie Pacjenta'!A2241=\"\",\"\",Sprawdz_pesel('Zgłoszenie Pacjenta'!A2241))","v":""}]
[{"$f":"IF('Zgłoszenie Pacjenta'!A2242=\"\",\"\",Sprawdz_pesel('Zgłoszenie Pacjenta'!A2242))","v":""}]
[{"$f":"IF('Zgłoszenie Pacjenta'!A2243=\"\",\"\",Sprawdz_pesel('Zgłoszenie Pacjenta'!A2243))","v":""}]
[{"$f":"IF('Zgłoszenie Pacjenta'!A2244=\"\",\"\",Sprawdz_pesel('Zgłoszenie Pacjenta'!A2244))","v":""}]
[{"$f":"IF('Zgłoszenie Pacjenta'!A2245=\"\",\"\",Sprawdz_pesel('Zgłoszenie Pacjenta'!A2245))","v":""}]
[{"$f":"IF('Zgłoszenie Pacjenta'!A2246=\"\",\"\",Sprawdz_pesel('Zgłoszenie Pacjenta'!A2246))","v":""}]
[{"$f":"IF('Zgłoszenie Pacjenta'!A2247=\"\",\"\",Sprawdz_pesel('Zgłoszenie Pacjenta'!A2247))","v":""}]
[{"$f":"IF('Zgłoszenie Pacjenta'!A2248=\"\",\"\",Sprawdz_pesel('Zgłoszenie Pacjenta'!A2248))","v":""}]
[{"$f":"IF('Zgłoszenie Pacjenta'!A2249=\"\",\"\",Sprawdz_pesel('Zgłoszenie Pacjenta'!A2249))","v":""}]
[{"$f":"IF('Zgłoszenie Pacjenta'!A2250=\"\",\"\",Sprawdz_pesel('Zgłoszenie Pacjenta'!A2250))","v":""}]
[{"$f":"IF('Zgłoszenie Pacjenta'!A2251=\"\",\"\",Sprawdz_pesel('Zgłoszenie Pacjenta'!A2251))","v":""}]
[{"$f":"IF('Zgłoszenie Pacjenta'!A2252=\"\",\"\",Sprawdz_pesel('Zgłoszenie Pacjenta'!A2252))","v":""}]
[{"$f":"IF('Zgłoszenie Pacjenta'!A2253=\"\",\"\",Sprawdz_pesel('Zgłoszenie Pacjenta'!A2253))","v":""}]
[{"$f":"IF('Zgłoszenie Pacjenta'!A2254=\"\",\"\",Sprawdz_pesel('Zgłoszenie Pacjenta'!A2254))","v":""}]
[{"$f":"IF('Zgłoszenie Pacjenta'!A2255=\"\",\"\",Sprawdz_pesel('Zgłoszenie Pacjenta'!A2255))","v":""}]
[{"$f":"IF('Zgłoszenie Pacjenta'!A2256=\"\",\"\",Sprawdz_pesel('Zgłoszenie Pacjenta'!A2256))","v":""}]
[{"$f":"IF('Zgłoszenie Pacjenta'!A2257=\"\",\"\",Sprawdz_pesel('Zgłoszenie Pacjenta'!A2257))","v":""}]
[{"$f":"IF('Zgłoszenie Pacjenta'!A2258=\"\",\"\",Sprawdz_pesel('Zgłoszenie Pacjenta'!A2258))","v":""}]
[{"$f":"IF('Zgłoszenie Pacjenta'!A2259=\"\",\"\",Sprawdz_pesel('Zgłoszenie Pacjenta'!A2259))","v":""}]
[{"$f":"IF('Zgłoszenie Pacjenta'!A2260=\"\",\"\",Sprawdz_pesel('Zgłoszenie Pacjenta'!A2260))","v":""}]
[{"$f":"IF('Zgłoszenie Pacjenta'!A2261=\"\",\"\",Sprawdz_pesel('Zgłoszenie Pacjenta'!A2261))","v":""}]
[{"$f":"IF('Zgłoszenie Pacjenta'!A2262=\"\",\"\",Sprawdz_pesel('Zgłoszenie Pacjenta'!A2262))","v":""}]
[{"$f":"IF('Zgłoszenie Pacjenta'!A2263=\"\",\"\",Sprawdz_pesel('Zgłoszenie Pacjenta'!A2263))","v":""}]
[{"$f":"IF('Zgłoszenie Pacjenta'!A2264=\"\",\"\",Sprawdz_pesel('Zgłoszenie Pacjenta'!A2264))","v":""}]
[{"$f":"IF('Zgłoszenie Pacjenta'!A2265=\"\",\"\",Sprawdz_pesel('Zgłoszenie Pacjenta'!A2265))","v":""}]
[{"$f":"IF('Zgłoszenie Pacjenta'!A2266=\"\",\"\",Sprawdz_pesel('Zgłoszenie Pacjenta'!A2266))","v":""}]
[{"$f":"IF('Zgłoszenie Pacjenta'!A2267=\"\",\"\",Sprawdz_pesel('Zgłoszenie Pacjenta'!A2267))","v":""}]
[{"$f":"IF('Zgłoszenie Pacjenta'!A2268=\"\",\"\",Sprawdz_pesel('Zgłoszenie Pacjenta'!A2268))","v":""}]
[{"$f":"IF('Zgłoszenie Pacjenta'!A2269=\"\",\"\",Sprawdz_pesel('Zgłoszenie Pacjenta'!A2269))","v":""}]
[{"$f":"IF('Zgłoszenie Pacjenta'!A2270=\"\",\"\",Sprawdz_pesel('Zgłoszenie Pacjenta'!A2270))","v":""}]
[{"$f":"IF('Zgłoszenie Pacjenta'!A2271=\"\",\"\",Sprawdz_pesel('Zgłoszenie Pacjenta'!A2271))","v":""}]
[{"$f":"IF('Zgłoszenie Pacjenta'!A2272=\"\",\"\",Sprawdz_pesel('Zgłoszenie Pacjenta'!A2272))","v":""}]
[{"$f":"IF('Zgłoszenie Pacjenta'!A2273=\"\",\"\",Sprawdz_pesel('Zgłoszenie Pacjenta'!A2273))","v":""}]
[{"$f":"IF('Zgłoszenie Pacjenta'!A2274=\"\",\"\",Sprawdz_pesel('Zgłoszenie Pacjenta'!A2274))","v":""}]
[{"$f":"IF('Zgłoszenie Pacjenta'!A2275=\"\",\"\",Sprawdz_pesel('Zgłoszenie Pacjenta'!A2275))","v":""}]
[{"$f":"IF('Zgłoszenie Pacjenta'!A2276=\"\",\"\",Sprawdz_pesel('Zgłoszenie Pacjenta'!A2276))","v":""}]
[{"$f":"IF('Zgłoszenie Pacjenta'!A2277=\"\",\"\",Sprawdz_pesel('Zgłoszenie Pacjenta'!A2277))","v":""}]
[{"$f":"IF('Zgłoszenie Pacjenta'!A2278=\"\",\"\",Sprawdz_pesel('Zgłoszenie Pacjenta'!A2278))","v":""}]
[{"$f":"IF('Zgłoszenie Pacjenta'!A2279=\"\",\"\",Sprawdz_pesel('Zgłoszenie Pacjenta'!A2279))","v":""}]
[{"$f":"IF('Zgłoszenie Pacjenta'!A2280=\"\",\"\",Sprawdz_pesel('Zgłoszenie Pacjenta'!A2280))","v":""}]
[{"$f":"IF('Zgłoszenie Pacjenta'!A2281=\"\",\"\",Sprawdz_pesel('Zgłoszenie Pacjenta'!A2281))","v":""}]
[{"$f":"IF('Zgłoszenie Pacjenta'!A2282=\"\",\"\",Sprawdz_pesel('Zgłoszenie Pacjenta'!A2282))","v":""}]
[{"$f":"IF('Zgłoszenie Pacjenta'!A2283=\"\",\"\",Sprawdz_pesel('Zgłoszenie Pacjenta'!A2283))","v":""}]
[{"$f":"IF('Zgłoszenie Pacjenta'!A2284=\"\",\"\",Sprawdz_pesel('Zgłoszenie Pacjenta'!A2284))","v":""}]
[{"$f":"IF('Zgłoszenie Pacjenta'!A2285=\"\",\"\",Sprawdz_pesel('Zgłoszenie Pacjenta'!A2285))","v":""}]
[{"$f":"IF('Zgłoszenie Pacjenta'!A2286=\"\",\"\",Sprawdz_pesel('Zgłoszenie Pacjenta'!A2286))","v":""}]
[{"$f":"IF('Zgłoszenie Pacjenta'!A2287=\"\",\"\",Sprawdz_pesel('Zgłoszenie Pacjenta'!A2287))","v":""}]
[{"$f":"IF('Zgłoszenie Pacjenta'!A2288=\"\",\"\",Sprawdz_pesel('Zgłoszenie Pacjenta'!A2288))","v":""}]
[{"$f":"IF('Zgłoszenie Pacjenta'!A2289=\"\",\"\",Sprawdz_pesel('Zgłoszenie Pacjenta'!A2289))","v":""}]
[{"$f":"IF('Zgłoszenie Pacjenta'!A2290=\"\",\"\",Sprawdz_pesel('Zgłoszenie Pacjenta'!A2290))","v":""}]
[{"$f":"IF('Zgłoszenie Pacjenta'!A2291=\"\",\"\",Sprawdz_pesel('Zgłoszenie Pacjenta'!A2291))","v":""}]
[{"$f":"IF('Zgłoszenie Pacjenta'!A2292=\"\",\"\",Sprawdz_pesel('Zgłoszenie Pacjenta'!A2292))","v":""}]
[{"$f":"IF('Zgłoszenie Pacjenta'!A2293=\"\",\"\",Sprawdz_pesel('Zgłoszenie Pacjenta'!A2293))","v":""}]
[{"$f":"IF('Zgłoszenie Pacjenta'!A2294=\"\",\"\",Sprawdz_pesel('Zgłoszenie Pacjenta'!A2294))","v":""}]
[{"$f":"IF('Zgłoszenie Pacjenta'!A2295=\"\",\"\",Sprawdz_pesel('Zgłoszenie Pacjenta'!A2295))","v":""}]
[{"$f":"IF('Zgłoszenie Pacjenta'!A2296=\"\",\"\",Sprawdz_pesel('Zgłoszenie Pacjenta'!A2296))","v":""}]
[{"$f":"IF('Zgłoszenie Pacjenta'!A2297=\"\",\"\",Sprawdz_pesel('Zgłoszenie Pacjenta'!A2297))","v":""}]
[{"$f":"IF('Zgłoszenie Pacjenta'!A2298=\"\",\"\",Sprawdz_pesel('Zgłoszenie Pacjenta'!A2298))","v":""}]
[{"$f":"IF('Zgłoszenie Pacjenta'!A2299=\"\",\"\",Sprawdz_pesel('Zgłoszenie Pacjenta'!A2299))","v":""}]
[{"$f":"IF('Zgłoszenie Pacjenta'!A2300=\"\",\"\",Sprawdz_pesel('Zgłoszenie Pacjenta'!A2300))","v":""}]
[{"$f":"IF('Zgłoszenie Pacjenta'!A2301=\"\",\"\",Sprawdz_pesel('Zgłoszenie Pacjenta'!A2301))","v":""}]
[{"$f":"IF('Zgłoszenie Pacjenta'!A2302=\"\",\"\",Sprawdz_pesel('Zgłoszenie Pacjenta'!A2302))","v":""}]
[{"$f":"IF('Zgłoszenie Pacjenta'!A2303=\"\",\"\",Sprawdz_pesel('Zgłoszenie Pacjenta'!A2303))","v":""}]
[{"$f":"IF('Zgłoszenie Pacjenta'!A2304=\"\",\"\",Sprawdz_pesel('Zgłoszenie Pacjenta'!A2304))","v":""}]
[{"$f":"IF('Zgłoszenie Pacjenta'!A2305=\"\",\"\",Sprawdz_pesel('Zgłoszenie Pacjenta'!A2305))","v":""}]
[{"$f":"IF('Zgłoszenie Pacjenta'!A2306=\"\",\"\",Sprawdz_pesel('Zgłoszenie Pacjenta'!A2306))","v":""}]
[{"$f":"IF('Zgłoszenie Pacjenta'!A2307=\"\",\"\",Sprawdz_pesel('Zgłoszenie Pacjenta'!A2307))","v":""}]
[{"$f":"IF('Zgłoszenie Pacjenta'!A2308=\"\",\"\",Sprawdz_pesel('Zgłoszenie Pacjenta'!A2308))","v":""}]
[{"$f":"IF('Zgłoszenie Pacjenta'!A2309=\"\",\"\",Sprawdz_pesel('Zgłoszenie Pacjenta'!A2309))","v":""}]
[{"$f":"IF('Zgłoszenie Pacjenta'!A2310=\"\",\"\",Sprawdz_pesel('Zgłoszenie Pacjenta'!A2310))","v":""}]
[{"$f":"IF('Zgłoszenie Pacjenta'!A2311=\"\",\"\",Sprawdz_pesel('Zgłoszenie Pacjenta'!A2311))","v":""}]
[{"$f":"IF('Zgłoszenie Pacjenta'!A2312=\"\",\"\",Sprawdz_pesel('Zgłoszenie Pacjenta'!A2312))","v":""}]
[{"$f":"IF('Zgłoszenie Pacjenta'!A2313=\"\",\"\",Sprawdz_pesel('Zgłoszenie Pacjenta'!A2313))","v":""}]
[{"$f":"IF('Zgłoszenie Pacjenta'!A2314=\"\",\"\",Sprawdz_pesel('Zgłoszenie Pacjenta'!A2314))","v":""}]
[{"$f":"IF('Zgłoszenie Pacjenta'!A2315=\"\",\"\",Sprawdz_pesel('Zgłoszenie Pacjenta'!A2315))","v":""}]
[{"$f":"IF('Zgłoszenie Pacjenta'!A2316=\"\",\"\",Sprawdz_pesel('Zgłoszenie Pacjenta'!A2316))","v":""}]
[{"$f":"IF('Zgłoszenie Pacjenta'!A2317=\"\",\"\",Sprawdz_pesel('Zgłoszenie Pacjenta'!A2317))","v":""}]
[{"$f":"IF('Zgłoszenie Pacjenta'!A2318=\"\",\"\",Sprawdz_pesel('Zgłoszenie Pacjenta'!A2318))","v":""}]
[{"$f":"IF('Zgłoszenie Pacjenta'!A2319=\"\",\"\",Sprawdz_pesel('Zgłoszenie Pacjenta'!A2319))","v":""}]
[{"$f":"IF('Zgłoszenie Pacjenta'!A2320=\"\",\"\",Sprawdz_pesel('Zgłoszenie Pacjenta'!A2320))","v":""}]
[{"$f":"IF('Zgłoszenie Pacjenta'!A2321=\"\",\"\",Sprawdz_pesel('Zgłoszenie Pacjenta'!A2321))","v":""}]
[{"$f":"IF('Zgłoszenie Pacjenta'!A2322=\"\",\"\",Sprawdz_pesel('Zgłoszenie Pacjenta'!A2322))","v":""}]
[{"$f":"IF('Zgłoszenie Pacjenta'!A2323=\"\",\"\",Sprawdz_pesel('Zgłoszenie Pacjenta'!A2323))","v":""}]
[{"$f":"IF('Zgłoszenie Pacjenta'!A2324=\"\",\"\",Sprawdz_pesel('Zgłoszenie Pacjenta'!A2324))","v":""}]
[{"$f":"IF('Zgłoszenie Pacjenta'!A2325=\"\",\"\",Sprawdz_pesel('Zgłoszenie Pacjenta'!A2325))","v":""}]
[{"$f":"IF('Zgłoszenie Pacjenta'!A2326=\"\",\"\",Sprawdz_pesel('Zgłoszenie Pacjenta'!A2326))","v":""}]
[{"$f":"IF('Zgłoszenie Pacjenta'!A2327=\"\",\"\",Sprawdz_pesel('Zgłoszenie Pacjenta'!A2327))","v":""}]
[{"$f":"IF('Zgłoszenie Pacjenta'!A2328=\"\",\"\",Sprawdz_pesel('Zgłoszenie Pacjenta'!A2328))","v":""}]
[{"$f":"IF('Zgłoszenie Pacjenta'!A2329=\"\",\"\",Sprawdz_pesel('Zgłoszenie Pacjenta'!A2329))","v":""}]
[{"$f":"IF('Zgłoszenie Pacjenta'!A2330=\"\",\"\",Sprawdz_pesel('Zgłoszenie Pacjenta'!A2330))","v":""}]
[{"$f":"IF('Zgłoszenie Pacjenta'!A2331=\"\",\"\",Sprawdz_pesel('Zgłoszenie Pacjenta'!A2331))","v":""}]
[{"$f":"IF('Zgłoszenie Pacjenta'!A2332=\"\",\"\",Sprawdz_pesel('Zgłoszenie Pacjenta'!A2332))","v":""}]
[{"$f":"IF('Zgłoszenie Pacjenta'!A2333=\"\",\"\",Sprawdz_pesel('Zgłoszenie Pacjenta'!A2333))","v":""}]
[{"$f":"IF('Zgłoszenie Pacjenta'!A2334=\"\",\"\",Sprawdz_pesel('Zgłoszenie Pacjenta'!A2334))","v":""}]
[{"$f":"IF('Zgłoszenie Pacjenta'!A2335=\"\",\"\",Sprawdz_pesel('Zgłoszenie Pacjenta'!A2335))","v":""}]
[{"$f":"IF('Zgłoszenie Pacjenta'!A2336=\"\",\"\",Sprawdz_pesel('Zgłoszenie Pacjenta'!A2336))","v":""}]
[{"$f":"IF('Zgłoszenie Pacjenta'!A2337=\"\",\"\",Sprawdz_pesel('Zgłoszenie Pacjenta'!A2337))","v":""}]
[{"$f":"IF('Zgłoszenie Pacjenta'!A2338=\"\",\"\",Sprawdz_pesel('Zgłoszenie Pacjenta'!A2338))","v":""}]
[{"$f":"IF('Zgłoszenie Pacjenta'!A2339=\"\",\"\",Sprawdz_pesel('Zgłoszenie Pacjenta'!A2339))","v":""}]
[{"$f":"IF('Zgłoszenie Pacjenta'!A2340=\"\",\"\",Sprawdz_pesel('Zgłoszenie Pacjenta'!A2340))","v":""}]
[{"$f":"IF('Zgłoszenie Pacjenta'!A2341=\"\",\"\",Sprawdz_pesel('Zgłoszenie Pacjenta'!A2341))","v":""}]
[{"$f":"IF('Zgłoszenie Pacjenta'!A2342=\"\",\"\",Sprawdz_pesel('Zgłoszenie Pacjenta'!A2342))","v":""}]
[{"$f":"IF('Zgłoszenie Pacjenta'!A2343=\"\",\"\",Sprawdz_pesel('Zgłoszenie Pacjenta'!A2343))","v":""}]
[{"$f":"IF('Zgłoszenie Pacjenta'!A2344=\"\",\"\",Sprawdz_pesel('Zgłoszenie Pacjenta'!A2344))","v":""}]
[{"$f":"IF('Zgłoszenie Pacjenta'!A2345=\"\",\"\",Sprawdz_pesel('Zgłoszenie Pacjenta'!A2345))","v":""}]
[{"$f":"IF('Zgłoszenie Pacjenta'!A2346=\"\",\"\",Sprawdz_pesel('Zgłoszenie Pacjenta'!A2346))","v":""}]
[{"$f":"IF('Zgłoszenie Pacjenta'!A2347=\"\",\"\",Sprawdz_pesel('Zgłoszenie Pacjenta'!A2347))","v":""}]
[{"$f":"IF('Zgłoszenie Pacjenta'!A2348=\"\",\"\",Sprawdz_pesel('Zgłoszenie Pacjenta'!A2348))","v":""}]
[{"$f":"IF('Zgłoszenie Pacjenta'!A2349=\"\",\"\",Sprawdz_pesel('Zgłoszenie Pacjenta'!A2349))","v":""}]
[{"$f":"IF('Zgłoszenie Pacjenta'!A2350=\"\",\"\",Sprawdz_pesel('Zgłoszenie Pacjenta'!A2350))","v":""}]
[{"$f":"IF('Zgłoszenie Pacjenta'!A2351=\"\",\"\",Sprawdz_pesel('Zgłoszenie Pacjenta'!A2351))","v":""}]
[{"$f":"IF('Zgłoszenie Pacjenta'!A2352=\"\",\"\",Sprawdz_pesel('Zgłoszenie Pacjenta'!A2352))","v":""}]
[{"$f":"IF('Zgłoszenie Pacjenta'!A2353=\"\",\"\",Sprawdz_pesel('Zgłoszenie Pacjenta'!A2353))","v":""}]
[{"$f":"IF('Zgłoszenie Pacjenta'!A2354=\"\",\"\",Sprawdz_pesel('Zgłoszenie Pacjenta'!A2354))","v":""}]
[{"$f":"IF('Zgłoszenie Pacjenta'!A2355=\"\",\"\",Sprawdz_pesel('Zgłoszenie Pacjenta'!A2355))","v":""}]
[{"$f":"IF('Zgłoszenie Pacjenta'!A2356=\"\",\"\",Sprawdz_pesel('Zgłoszenie Pacjenta'!A2356))","v":""}]
[{"$f":"IF('Zgłoszenie Pacjenta'!A2357=\"\",\"\",Sprawdz_pesel('Zgłoszenie Pacjenta'!A2357))","v":""}]
[{"$f":"IF('Zgłoszenie Pacjenta'!A2358=\"\",\"\",Sprawdz_pesel('Zgłoszenie Pacjenta'!A2358))","v":""}]
[{"$f":"IF('Zgłoszenie Pacjenta'!A2359=\"\",\"\",Sprawdz_pesel('Zgłoszenie Pacjenta'!A2359))","v":""}]
[{"$f":"IF('Zgłoszenie Pacjenta'!A2360=\"\",\"\",Sprawdz_pesel('Zgłoszenie Pacjenta'!A2360))","v":""}]
[{"$f":"IF('Zgłoszenie Pacjenta'!A2361=\"\",\"\",Sprawdz_pesel('Zgłoszenie Pacjenta'!A2361))","v":""}]
[{"$f":"IF('Zgłoszenie Pacjenta'!A2362=\"\",\"\",Sprawdz_pesel('Zgłoszenie Pacjenta'!A2362))","v":""}]
[{"$f":"IF('Zgłoszenie Pacjenta'!A2363=\"\",\"\",Sprawdz_pesel('Zgłoszenie Pacjenta'!A2363))","v":""}]
[{"$f":"IF('Zgłoszenie Pacjenta'!A2364=\"\",\"\",Sprawdz_pesel('Zgłoszenie Pacjenta'!A2364))","v":""}]
[{"$f":"IF('Zgłoszenie Pacjenta'!A2365=\"\",\"\",Sprawdz_pesel('Zgłoszenie Pacjenta'!A2365))","v":""}]
[{"$f":"IF('Zgłoszenie Pacjenta'!A2366=\"\",\"\",Sprawdz_pesel('Zgłoszenie Pacjenta'!A2366))","v":""}]
[{"$f":"IF('Zgłoszenie Pacjenta'!A2367=\"\",\"\",Sprawdz_pesel('Zgłoszenie Pacjenta'!A2367))","v":""}]
[{"$f":"IF('Zgłoszenie Pacjenta'!A2368=\"\",\"\",Sprawdz_pesel('Zgłoszenie Pacjenta'!A2368))","v":""}]
[{"$f":"IF('Zgłoszenie Pacjenta'!A2369=\"\",\"\",Sprawdz_pesel('Zgłoszenie Pacjenta'!A2369))","v":""}]
[{"$f":"IF('Zgłoszenie Pacjenta'!A2370=\"\",\"\",Sprawdz_pesel('Zgłoszenie Pacjenta'!A2370))","v":""}]
[{"$f":"IF('Zgłoszenie Pacjenta'!A2371=\"\",\"\",Sprawdz_pesel('Zgłoszenie Pacjenta'!A2371))","v":""}]
[{"$f":"IF('Zgłoszenie Pacjenta'!A2372=\"\",\"\",Sprawdz_pesel('Zgłoszenie Pacjenta'!A2372))","v":""}]
[{"$f":"IF('Zgłoszenie Pacjenta'!A2373=\"\",\"\",Sprawdz_pesel('Zgłoszenie Pacjenta'!A2373))","v":""}]
[{"$f":"IF('Zgłoszenie Pacjenta'!A2374=\"\",\"\",Sprawdz_pesel('Zgłoszenie Pacjenta'!A2374))","v":""}]
[{"$f":"IF('Zgłoszenie Pacjenta'!A2375=\"\",\"\",Sprawdz_pesel('Zgłoszenie Pacjenta'!A2375))","v":""}]
[{"$f":"IF('Zgłoszenie Pacjenta'!A2376=\"\",\"\",Sprawdz_pesel('Zgłoszenie Pacjenta'!A2376))","v":""}]
[{"$f":"IF('Zgłoszenie Pacjenta'!A2377=\"\",\"\",Sprawdz_pesel('Zgłoszenie Pacjenta'!A2377))","v":""}]
[{"$f":"IF('Zgłoszenie Pacjenta'!A2378=\"\",\"\",Sprawdz_pesel('Zgłoszenie Pacjenta'!A2378))","v":""}]
[{"$f":"IF('Zgłoszenie Pacjenta'!A2379=\"\",\"\",Sprawdz_pesel('Zgłoszenie Pacjenta'!A2379))","v":""}]
[{"$f":"IF('Zgłoszenie Pacjenta'!A2380=\"\",\"\",Sprawdz_pesel('Zgłoszenie Pacjenta'!A2380))","v":""}]
[{"$f":"IF('Zgłoszenie Pacjenta'!A2381=\"\",\"\",Sprawdz_pesel('Zgłoszenie Pacjenta'!A2381))","v":""}]
[{"$f":"IF('Zgłoszenie Pacjenta'!A2382=\"\",\"\",Sprawdz_pesel('Zgłoszenie Pacjenta'!A2382))","v":""}]
[{"$f":"IF('Zgłoszenie Pacjenta'!A2383=\"\",\"\",Sprawdz_pesel('Zgłoszenie Pacjenta'!A2383))","v":""}]
[{"$f":"IF('Zgłoszenie Pacjenta'!A2384=\"\",\"\",Sprawdz_pesel('Zgłoszenie Pacjenta'!A2384))","v":""}]
[{"$f":"IF('Zgłoszenie Pacjenta'!A2385=\"\",\"\",Sprawdz_pesel('Zgłoszenie Pacjenta'!A2385))","v":""}]
[{"$f":"IF('Zgłoszenie Pacjenta'!A2386=\"\",\"\",Sprawdz_pesel('Zgłoszenie Pacjenta'!A2386))","v":""}]
[{"$f":"IF('Zgłoszenie Pacjenta'!A2387=\"\",\"\",Sprawdz_pesel('Zgłoszenie Pacjenta'!A2387))","v":""}]
[{"$f":"IF('Zgłoszenie Pacjenta'!A2388=\"\",\"\",Sprawdz_pesel('Zgłoszenie Pacjenta'!A2388))","v":""}]
[{"$f":"IF('Zgłoszenie Pacjenta'!A2389=\"\",\"\",Sprawdz_pesel('Zgłoszenie Pacjenta'!A2389))","v":""}]
[{"$f":"IF('Zgłoszenie Pacjenta'!A2390=\"\",\"\",Sprawdz_pesel('Zgłoszenie Pacjenta'!A2390))","v":""}]
[{"$f":"IF('Zgłoszenie Pacjenta'!A2391=\"\",\"\",Sprawdz_pesel('Zgłoszenie Pacjenta'!A2391))","v":""}]
[{"$f":"IF('Zgłoszenie Pacjenta'!A2392=\"\",\"\",Sprawdz_pesel('Zgłoszenie Pacjenta'!A2392))","v":""}]
[{"$f":"IF('Zgłoszenie Pacjenta'!A2393=\"\",\"\",Sprawdz_pesel('Zgłoszenie Pacjenta'!A2393))","v":""}]
[{"$f":"IF('Zgłoszenie Pacjenta'!A2394=\"\",\"\",Sprawdz_pesel('Zgłoszenie Pacjenta'!A2394))","v":""}]
[{"$f":"IF('Zgłoszenie Pacjenta'!A2395=\"\",\"\",Sprawdz_pesel('Zgłoszenie Pacjenta'!A2395))","v":""}]
[{"$f":"IF('Zgłoszenie Pacjenta'!A2396=\"\",\"\",Sprawdz_pesel('Zgłoszenie Pacjenta'!A2396))","v":""}]
[{"$f":"IF('Zgłoszenie Pacjenta'!A2397=\"\",\"\",Sprawdz_pesel('Zgłoszenie Pacjenta'!A2397))","v":""}]
[{"$f":"IF('Zgłoszenie Pacjenta'!A2398=\"\",\"\",Sprawdz_pesel('Zgłoszenie Pacjenta'!A2398))","v":""}]
[{"$f":"IF('Zgłoszenie Pacjenta'!A2399=\"\",\"\",Sprawdz_pesel('Zgłoszenie Pacjenta'!A2399))","v":""}]
[{"$f":"IF('Zgłoszenie Pacjenta'!A2400=\"\",\"\",Sprawdz_pesel('Zgłoszenie Pacjenta'!A2400))","v":""}]
[{"$f":"IF('Zgłoszenie Pacjenta'!A2401=\"\",\"\",Sprawdz_pesel('Zgłoszenie Pacjenta'!A2401))","v":""}]
[{"$f":"IF('Zgłoszenie Pacjenta'!A2402=\"\",\"\",Sprawdz_pesel('Zgłoszenie Pacjenta'!A2402))","v":""}]
[{"$f":"IF('Zgłoszenie Pacjenta'!A2403=\"\",\"\",Sprawdz_pesel('Zgłoszenie Pacjenta'!A2403))","v":""}]
[{"$f":"IF('Zgłoszenie Pacjenta'!A2404=\"\",\"\",Sprawdz_pesel('Zgłoszenie Pacjenta'!A2404))","v":""}]
[{"$f":"IF('Zgłoszenie Pacjenta'!A2405=\"\",\"\",Sprawdz_pesel('Zgłoszenie Pacjenta'!A2405))","v":""}]
[{"$f":"IF('Zgłoszenie Pacjenta'!A2406=\"\",\"\",Sprawdz_pesel('Zgłoszenie Pacjenta'!A2406))","v":""}]
[{"$f":"IF('Zgłoszenie Pacjenta'!A2407=\"\",\"\",Sprawdz_pesel('Zgłoszenie Pacjenta'!A2407))","v":""}]
[{"$f":"IF('Zgłoszenie Pacjenta'!A2408=\"\",\"\",Sprawdz_pesel('Zgłoszenie Pacjenta'!A2408))","v":""}]
[{"$f":"IF('Zgłoszenie Pacjenta'!A2409=\"\",\"\",Sprawdz_pesel('Zgłoszenie Pacjenta'!A2409))","v":""}]
[{"$f":"IF('Zgłoszenie Pacjenta'!A2410=\"\",\"\",Sprawdz_pesel('Zgłoszenie Pacjenta'!A2410))","v":""}]
[{"$f":"IF('Zgłoszenie Pacjenta'!A2411=\"\",\"\",Sprawdz_pesel('Zgłoszenie Pacjenta'!A2411))","v":""}]
[{"$f":"IF('Zgłoszenie Pacjenta'!A2412=\"\",\"\",Sprawdz_pesel('Zgłoszenie Pacjenta'!A2412))","v":""}]
[{"$f":"IF('Zgłoszenie Pacjenta'!A2413=\"\",\"\",Sprawdz_pesel('Zgłoszenie Pacjenta'!A2413))","v":""}]
[{"$f":"IF('Zgłoszenie Pacjenta'!A2414=\"\",\"\",Sprawdz_pesel('Zgłoszenie Pacjenta'!A2414))","v":""}]
[{"$f":"IF('Zgłoszenie Pacjenta'!A2415=\"\",\"\",Sprawdz_pesel('Zgłoszenie Pacjenta'!A2415))","v":""}]
[{"$f":"IF('Zgłoszenie Pacjenta'!A2416=\"\",\"\",Sprawdz_pesel('Zgłoszenie Pacjenta'!A2416))","v":""}]
[{"$f":"IF('Zgłoszenie Pacjenta'!A2417=\"\",\"\",Sprawdz_pesel('Zgłoszenie Pacjenta'!A2417))","v":""}]
[{"$f":"IF('Zgłoszenie Pacjenta'!A2418=\"\",\"\",Sprawdz_pesel('Zgłoszenie Pacjenta'!A2418))","v":""}]
[{"$f":"IF('Zgłoszenie Pacjenta'!A2419=\"\",\"\",Sprawdz_pesel('Zgłoszenie Pacjenta'!A2419))","v":""}]
[{"$f":"IF('Zgłoszenie Pacjenta'!A2420=\"\",\"\",Sprawdz_pesel('Zgłoszenie Pacjenta'!A2420))","v":""}]
[{"$f":"IF('Zgłoszenie Pacjenta'!A2421=\"\",\"\",Sprawdz_pesel('Zgłoszenie Pacjenta'!A2421))","v":""}]
[{"$f":"IF('Zgłoszenie Pacjenta'!A2422=\"\",\"\",Sprawdz_pesel('Zgłoszenie Pacjenta'!A2422))","v":""}]
[{"$f":"IF('Zgłoszenie Pacjenta'!A2423=\"\",\"\",Sprawdz_pesel('Zgłoszenie Pacjenta'!A2423))","v":""}]
[{"$f":"IF('Zgłoszenie Pacjenta'!A2424=\"\",\"\",Sprawdz_pesel('Zgłoszenie Pacjenta'!A2424))","v":""}]
[{"$f":"IF('Zgłoszenie Pacjenta'!A2425=\"\",\"\",Sprawdz_pesel('Zgłoszenie Pacjenta'!A2425))","v":""}]
[{"$f":"IF('Zgłoszenie Pacjenta'!A2426=\"\",\"\",Sprawdz_pesel('Zgłoszenie Pacjenta'!A2426))","v":""}]
[{"$f":"IF('Zgłoszenie Pacjenta'!A2427=\"\",\"\",Sprawdz_pesel('Zgłoszenie Pacjenta'!A2427))","v":""}]
[{"$f":"IF('Zgłoszenie Pacjenta'!A2428=\"\",\"\",Sprawdz_pesel('Zgłoszenie Pacjenta'!A2428))","v":""}]
[{"$f":"IF('Zgłoszenie Pacjenta'!A2429=\"\",\"\",Sprawdz_pesel('Zgłoszenie Pacjenta'!A2429))","v":""}]
[{"$f":"IF('Zgłoszenie Pacjenta'!A2430=\"\",\"\",Sprawdz_pesel('Zgłoszenie Pacjenta'!A2430))","v":""}]
[{"$f":"IF('Zgłoszenie Pacjenta'!A2431=\"\",\"\",Sprawdz_pesel('Zgłoszenie Pacjenta'!A2431))","v":""}]
[{"$f":"IF('Zgłoszenie Pacjenta'!A2432=\"\",\"\",Sprawdz_pesel('Zgłoszenie Pacjenta'!A2432))","v":""}]
[{"$f":"IF('Zgłoszenie Pacjenta'!A2433=\"\",\"\",Sprawdz_pesel('Zgłoszenie Pacjenta'!A2433))","v":""}]
[{"$f":"IF('Zgłoszenie Pacjenta'!A2434=\"\",\"\",Sprawdz_pesel('Zgłoszenie Pacjenta'!A2434))","v":""}]
[{"$f":"IF('Zgłoszenie Pacjenta'!A2435=\"\",\"\",Sprawdz_pesel('Zgłoszenie Pacjenta'!A2435))","v":""}]
[{"$f":"IF('Zgłoszenie Pacjenta'!A2436=\"\",\"\",Sprawdz_pesel('Zgłoszenie Pacjenta'!A2436))","v":""}]
[{"$f":"IF('Zgłoszenie Pacjenta'!A2437=\"\",\"\",Sprawdz_pesel('Zgłoszenie Pacjenta'!A2437))","v":""}]
[{"$f":"IF('Zgłoszenie Pacjenta'!A2438=\"\",\"\",Sprawdz_pesel('Zgłoszenie Pacjenta'!A2438))","v":""}]
[{"$f":"IF('Zgłoszenie Pacjenta'!A2439=\"\",\"\",Sprawdz_pesel('Zgłoszenie Pacjenta'!A2439))","v":""}]
[{"$f":"IF('Zgłoszenie Pacjenta'!A2440=\"\",\"\",Sprawdz_pesel('Zgłoszenie Pacjenta'!A2440))","v":""}]
[{"$f":"IF('Zgłoszenie Pacjenta'!A2441=\"\",\"\",Sprawdz_pesel('Zgłoszenie Pacjenta'!A2441))","v":""}]
[{"$f":"IF('Zgłoszenie Pacjenta'!A2442=\"\",\"\",Sprawdz_pesel('Zgłoszenie Pacjenta'!A2442))","v":""}]
[{"$f":"IF('Zgłoszenie Pacjenta'!A2443=\"\",\"\",Sprawdz_pesel('Zgłoszenie Pacjenta'!A2443))","v":""}]
[{"$f":"IF('Zgłoszenie Pacjenta'!A2444=\"\",\"\",Sprawdz_pesel('Zgłoszenie Pacjenta'!A2444))","v":""}]
[{"$f":"IF('Zgłoszenie Pacjenta'!A2445=\"\",\"\",Sprawdz_pesel('Zgłoszenie Pacjenta'!A2445))","v":""}]
[{"$f":"IF('Zgłoszenie Pacjenta'!A2446=\"\",\"\",Sprawdz_pesel('Zgłoszenie Pacjenta'!A2446))","v":""}]
[{"$f":"IF('Zgłoszenie Pacjenta'!A2447=\"\",\"\",Sprawdz_pesel('Zgłoszenie Pacjenta'!A2447))","v":""}]
[{"$f":"IF('Zgłoszenie Pacjenta'!A2448=\"\",\"\",Sprawdz_pesel('Zgłoszenie Pacjenta'!A2448))","v":""}]
[{"$f":"IF('Zgłoszenie Pacjenta'!A2449=\"\",\"\",Sprawdz_pesel('Zgłoszenie Pacjenta'!A2449))","v":""}]
[{"$f":"IF('Zgłoszenie Pacjenta'!A2450=\"\",\"\",Sprawdz_pesel('Zgłoszenie Pacjenta'!A2450))","v":""}]
[{"$f":"IF('Zgłoszenie Pacjenta'!A2451=\"\",\"\",Sprawdz_pesel('Zgłoszenie Pacjenta'!A2451))","v":""}]
[{"$f":"IF('Zgłoszenie Pacjenta'!A2452=\"\",\"\",Sprawdz_pesel('Zgłoszenie Pacjenta'!A2452))","v":""}]
[{"$f":"IF('Zgłoszenie Pacjenta'!A2453=\"\",\"\",Sprawdz_pesel('Zgłoszenie Pacjenta'!A2453))","v":""}]
[{"$f":"IF('Zgłoszenie Pacjenta'!A2454=\"\",\"\",Sprawdz_pesel('Zgłoszenie Pacjenta'!A2454))","v":""}]
[{"$f":"IF('Zgłoszenie Pacjenta'!A2455=\"\",\"\",Sprawdz_pesel('Zgłoszenie Pacjenta'!A2455))","v":""}]
[{"$f":"IF('Zgłoszenie Pacjenta'!A2456=\"\",\"\",Sprawdz_pesel('Zgłoszenie Pacjenta'!A2456))","v":""}]
[{"$f":"IF('Zgłoszenie Pacjenta'!A2457=\"\",\"\",Sprawdz_pesel('Zgłoszenie Pacjenta'!A2457))","v":""}]
[{"$f":"IF('Zgłoszenie Pacjenta'!A2458=\"\",\"\",Sprawdz_pesel('Zgłoszenie Pacjenta'!A2458))","v":""}]
[{"$f":"IF('Zgłoszenie Pacjenta'!A2459=\"\",\"\",Sprawdz_pesel('Zgłoszenie Pacjenta'!A2459))","v":""}]
[{"$f":"IF('Zgłoszenie Pacjenta'!A2460=\"\",\"\",Sprawdz_pesel('Zgłoszenie Pacjenta'!A2460))","v":""}]
[{"$f":"IF('Zgłoszenie Pacjenta'!A2461=\"\",\"\",Sprawdz_pesel('Zgłoszenie Pacjenta'!A2461))","v":""}]
[{"$f":"IF('Zgłoszenie Pacjenta'!A2462=\"\",\"\",Sprawdz_pesel('Zgłoszenie Pacjenta'!A2462))","v":""}]
[{"$f":"IF('Zgłoszenie Pacjenta'!A2463=\"\",\"\",Sprawdz_pesel('Zgłoszenie Pacjenta'!A2463))","v":""}]
[{"$f":"IF('Zgłoszenie Pacjenta'!A2464=\"\",\"\",Sprawdz_pesel('Zgłoszenie Pacjenta'!A2464))","v":""}]
[{"$f":"IF('Zgłoszenie Pacjenta'!A2465=\"\",\"\",Sprawdz_pesel('Zgłoszenie Pacjenta'!A2465))","v":""}]
[{"$f":"IF('Zgłoszenie Pacjenta'!A2466=\"\",\"\",Sprawdz_pesel('Zgłoszenie Pacjenta'!A2466))","v":""}]
[{"$f":"IF('Zgłoszenie Pacjenta'!A2467=\"\",\"\",Sprawdz_pesel('Zgłoszenie Pacjenta'!A2467))","v":""}]
[{"$f":"IF('Zgłoszenie Pacjenta'!A2468=\"\",\"\",Sprawdz_pesel('Zgłoszenie Pacjenta'!A2468))","v":""}]
[{"$f":"IF('Zgłoszenie Pacjenta'!A2469=\"\",\"\",Sprawdz_pesel('Zgłoszenie Pacjenta'!A2469))","v":""}]
[{"$f":"IF('Zgłoszenie Pacjenta'!A2470=\"\",\"\",Sprawdz_pesel('Zgłoszenie Pacjenta'!A2470))","v":""}]
[{"$f":"IF('Zgłoszenie Pacjenta'!A2471=\"\",\"\",Sprawdz_pesel('Zgłoszenie Pacjenta'!A2471))","v":""}]
[{"$f":"IF('Zgłoszenie Pacjenta'!A2472=\"\",\"\",Sprawdz_pesel('Zgłoszenie Pacjenta'!A2472))","v":""}]
[{"$f":"IF('Zgłoszenie Pacjenta'!A2473=\"\",\"\",Sprawdz_pesel('Zgłoszenie Pacjenta'!A2473))","v":""}]
[{"$f":"IF('Zgłoszenie Pacjenta'!A2474=\"\",\"\",Sprawdz_pesel('Zgłoszenie Pacjenta'!A2474))","v":""}]
[{"$f":"IF('Zgłoszenie Pacjenta'!A2475=\"\",\"\",Sprawdz_pesel('Zgłoszenie Pacjenta'!A2475))","v":""}]
[{"$f":"IF('Zgłoszenie Pacjenta'!A2476=\"\",\"\",Sprawdz_pesel('Zgłoszenie Pacjenta'!A2476))","v":""}]
[{"$f":"IF('Zgłoszenie Pacjenta'!A2477=\"\",\"\",Sprawdz_pesel('Zgłoszenie Pacjenta'!A2477))","v":""}]
[{"$f":"IF('Zgłoszenie Pacjenta'!A2478=\"\",\"\",Sprawdz_pesel('Zgłoszenie Pacjenta'!A2478))","v":""}]
[{"$f":"IF('Zgłoszenie Pacjenta'!A2479=\"\",\"\",Sprawdz_pesel('Zgłoszenie Pacjenta'!A2479))","v":""}]
[{"$f":"IF('Zgłoszenie Pacjenta'!A2480=\"\",\"\",Sprawdz_pesel('Zgłoszenie Pacjenta'!A2480))","v":""}]
[{"$f":"IF('Zgłoszenie Pacjenta'!A2481=\"\",\"\",Sprawdz_pesel('Zgłoszenie Pacjenta'!A2481))","v":""}]
[{"$f":"IF('Zgłoszenie Pacjenta'!A2482=\"\",\"\",Sprawdz_pesel('Zgłoszenie Pacjenta'!A2482))","v":""}]
[{"$f":"IF('Zgłoszenie Pacjenta'!A2483=\"\",\"\",Sprawdz_pesel('Zgłoszenie Pacjenta'!A2483))","v":""}]
[{"$f":"IF('Zgłoszenie Pacjenta'!A2484=\"\",\"\",Sprawdz_pesel('Zgłoszenie Pacjenta'!A2484))","v":""}]
[{"$f":"IF('Zgłoszenie Pacjenta'!A2485=\"\",\"\",Sprawdz_pesel('Zgłoszenie Pacjenta'!A2485))","v":""}]
[{"$f":"IF('Zgłoszenie Pacjenta'!A2486=\"\",\"\",Sprawdz_pesel('Zgłoszenie Pacjenta'!A2486))","v":""}]
[{"$f":"IF('Zgłoszenie Pacjenta'!A2487=\"\",\"\",Sprawdz_pesel('Zgłoszenie Pacjenta'!A2487))","v":""}]
[{"$f":"IF('Zgłoszenie Pacjenta'!A2488=\"\",\"\",Sprawdz_pesel('Zgłoszenie Pacjenta'!A2488))","v":""}]
[{"$f":"IF('Zgłoszenie Pacjenta'!A2489=\"\",\"\",Sprawdz_pesel('Zgłoszenie Pacjenta'!A2489))","v":""}]
[{"$f":"IF('Zgłoszenie Pacjenta'!A2490=\"\",\"\",Sprawdz_pesel('Zgłoszenie Pacjenta'!A2490))","v":""}]
[{"$f":"IF('Zgłoszenie Pacjenta'!A2491=\"\",\"\",Sprawdz_pesel('Zgłoszenie Pacjenta'!A2491))","v":""}]
[{"$f":"IF('Zgłoszenie Pacjenta'!A2492=\"\",\"\",Sprawdz_pesel('Zgłoszenie Pacjenta'!A2492))","v":""}]
[{"$f":"IF('Zgłoszenie Pacjenta'!A2493=\"\",\"\",Sprawdz_pesel('Zgłoszenie Pacjenta'!A2493))","v":""}]
[{"$f":"IF('Zgłoszenie Pacjenta'!A2494=\"\",\"\",Sprawdz_pesel('Zgłoszenie Pacjenta'!A2494))","v":""}]
[{"$f":"IF('Zgłoszenie Pacjenta'!A2495=\"\",\"\",Sprawdz_pesel('Zgłoszenie Pacjenta'!A2495))","v":""}]
[{"$f":"IF('Zgłoszenie Pacjenta'!A2496=\"\",\"\",Sprawdz_pesel('Zgłoszenie Pacjenta'!A2496))","v":""}]
[{"$f":"IF('Zgłoszenie Pacjenta'!A2497=\"\",\"\",Sprawdz_pesel('Zgłoszenie Pacjenta'!A2497))","v":""}]
[{"$f":"IF('Zgłoszenie Pacjenta'!A2498=\"\",\"\",Sprawdz_pesel('Zgłoszenie Pacjenta'!A2498))","v":""}]
[{"$f":"IF('Zgłoszenie Pacjenta'!A2499=\"\",\"\",Sprawdz_pesel('Zgłoszenie Pacjenta'!A2499))","v":""}]
[{"$f":"IF('Zgłoszenie Pacjenta'!A2500=\"\",\"\",Sprawdz_pesel('Zgłoszenie Pacjenta'!A2500))","v":""}]
[{"$f":"IF('Zgłoszenie Pacjenta'!A2501=\"\",\"\",Sprawdz_pesel('Zgłoszenie Pacjenta'!A2501))","v":""}]
[{"$f":"IF('Zgłoszenie Pacjenta'!A2502=\"\",\"\",Sprawdz_pesel('Zgłoszenie Pacjenta'!A2502))","v":""}]
[{"$f":"IF('Zgłoszenie Pacjenta'!A2503=\"\",\"\",Sprawdz_pesel('Zgłoszenie Pacjenta'!A2503))","v":""}]
[{"$f":"IF('Zgłoszenie Pacjenta'!A2504=\"\",\"\",Sprawdz_pesel('Zgłoszenie Pacjenta'!A2504))","v":""}]
[{"$f":"IF('Zgłoszenie Pacjenta'!A2505=\"\",\"\",Sprawdz_pesel('Zgłoszenie Pacjenta'!A2505))","v":""}]
[{"$f":"IF('Zgłoszenie Pacjenta'!A2506=\"\",\"\",Sprawdz_pesel('Zgłoszenie Pacjenta'!A2506))","v":""}]
[{"$f":"IF('Zgłoszenie Pacjenta'!A2507=\"\",\"\",Sprawdz_pesel('Zgłoszenie Pacjenta'!A2507))","v":""}]
[{"$f":"IF('Zgłoszenie Pacjenta'!A2508=\"\",\"\",Sprawdz_pesel('Zgłoszenie Pacjenta'!A2508))","v":""}]
[{"$f":"IF('Zgłoszenie Pacjenta'!A2509=\"\",\"\",Sprawdz_pesel('Zgłoszenie Pacjenta'!A2509))","v":""}]
[{"$f":"IF('Zgłoszenie Pacjenta'!A2510=\"\",\"\",Sprawdz_pesel('Zgłoszenie Pacjenta'!A2510))","v":""}]
[{"$f":"IF('Zgłoszenie Pacjenta'!A2511=\"\",\"\",Sprawdz_pesel('Zgłoszenie Pacjenta'!A2511))","v":""}]
[{"$f":"IF('Zgłoszenie Pacjenta'!A2512=\"\",\"\",Sprawdz_pesel('Zgłoszenie Pacjenta'!A2512))","v":""}]
[{"$f":"IF('Zgłoszenie Pacjenta'!A2513=\"\",\"\",Sprawdz_pesel('Zgłoszenie Pacjenta'!A2513))","v":""}]
[{"$f":"IF('Zgłoszenie Pacjenta'!A2514=\"\",\"\",Sprawdz_pesel('Zgłoszenie Pacjenta'!A2514))","v":""}]
[{"$f":"IF('Zgłoszenie Pacjenta'!A2515=\"\",\"\",Sprawdz_pesel('Zgłoszenie Pacjenta'!A2515))","v":""}]
[{"$f":"IF('Zgłoszenie Pacjenta'!A2516=\"\",\"\",Sprawdz_pesel('Zgłoszenie Pacjenta'!A2516))","v":""}]
[{"$f":"IF('Zgłoszenie Pacjenta'!A2517=\"\",\"\",Sprawdz_pesel('Zgłoszenie Pacjenta'!A2517))","v":""}]
[{"$f":"IF('Zgłoszenie Pacjenta'!A2518=\"\",\"\",Sprawdz_pesel('Zgłoszenie Pacjenta'!A2518))","v":""}]
[{"$f":"IF('Zgłoszenie Pacjenta'!A2519=\"\",\"\",Sprawdz_pesel('Zgłoszenie Pacjenta'!A2519))","v":""}]
[{"$f":"IF('Zgłoszenie Pacjenta'!A2520=\"\",\"\",Sprawdz_pesel('Zgłoszenie Pacjenta'!A2520))","v":""}]
[{"$f":"IF('Zgłoszenie Pacjenta'!A2521=\"\",\"\",Sprawdz_pesel('Zgłoszenie Pacjenta'!A2521))","v":""}]
[{"$f":"IF('Zgłoszenie Pacjenta'!A2522=\"\",\"\",Sprawdz_pesel('Zgłoszenie Pacjenta'!A2522))","v":""}]
[{"$f":"IF('Zgłoszenie Pacjenta'!A2523=\"\",\"\",Sprawdz_pesel('Zgłoszenie Pacjenta'!A2523))","v":""}]
[{"$f":"IF('Zgłoszenie Pacjenta'!A2524=\"\",\"\",Sprawdz_pesel('Zgłoszenie Pacjenta'!A2524))","v":""}]
[{"$f":"IF('Zgłoszenie Pacjenta'!A2525=\"\",\"\",Sprawdz_pesel('Zgłoszenie Pacjenta'!A2525))","v":""}]
[{"$f":"IF('Zgłoszenie Pacjenta'!A2526=\"\",\"\",Sprawdz_pesel('Zgłoszenie Pacjenta'!A2526))","v":""}]
[{"$f":"IF('Zgłoszenie Pacjenta'!A2527=\"\",\"\",Sprawdz_pesel('Zgłoszenie Pacjenta'!A2527))","v":""}]
[{"$f":"IF('Zgłoszenie Pacjenta'!A2528=\"\",\"\",Sprawdz_pesel('Zgłoszenie Pacjenta'!A2528))","v":""}]
[{"$f":"IF('Zgłoszenie Pacjenta'!A2529=\"\",\"\",Sprawdz_pesel('Zgłoszenie Pacjenta'!A2529))","v":""}]
[{"$f":"IF('Zgłoszenie Pacjenta'!A2530=\"\",\"\",Sprawdz_pesel('Zgłoszenie Pacjenta'!A2530))","v":""}]
[{"$f":"IF('Zgłoszenie Pacjenta'!A2531=\"\",\"\",Sprawdz_pesel('Zgłoszenie Pacjenta'!A2531))","v":""}]
[{"$f":"IF('Zgłoszenie Pacjenta'!A2532=\"\",\"\",Sprawdz_pesel('Zgłoszenie Pacjenta'!A2532))","v":""}]
[{"$f":"IF('Zgłoszenie Pacjenta'!A2533=\"\",\"\",Sprawdz_pesel('Zgłoszenie Pacjenta'!A2533))","v":""}]
[{"$f":"IF('Zgłoszenie Pacjenta'!A2534=\"\",\"\",Sprawdz_pesel('Zgłoszenie Pacjenta'!A2534))","v":""}]
[{"$f":"IF('Zgłoszenie Pacjenta'!A2535=\"\",\"\",Sprawdz_pesel('Zgłoszenie Pacjenta'!A2535))","v":""}]
[{"$f":"IF('Zgłoszenie Pacjenta'!A2536=\"\",\"\",Sprawdz_pesel('Zgłoszenie Pacjenta'!A2536))","v":""}]
[{"$f":"IF('Zgłoszenie Pacjenta'!A2537=\"\",\"\",Sprawdz_pesel('Zgłoszenie Pacjenta'!A2537))","v":""}]
[{"$f":"IF('Zgłoszenie Pacjenta'!A2538=\"\",\"\",Sprawdz_pesel('Zgłoszenie Pacjenta'!A2538))","v":""}]
[{"$f":"IF('Zgłoszenie Pacjenta'!A2539=\"\",\"\",Sprawdz_pesel('Zgłoszenie Pacjenta'!A2539))","v":""}]
[{"$f":"IF('Zgłoszenie Pacjenta'!A2540=\"\",\"\",Sprawdz_pesel('Zgłoszenie Pacjenta'!A2540))","v":""}]
[{"$f":"IF('Zgłoszenie Pacjenta'!A2541=\"\",\"\",Sprawdz_pesel('Zgłoszenie Pacjenta'!A2541))","v":""}]
[{"$f":"IF('Zgłoszenie Pacjenta'!A2542=\"\",\"\",Sprawdz_pesel('Zgłoszenie Pacjenta'!A2542))","v":""}]
[{"$f":"IF('Zgłoszenie Pacjenta'!A2543=\"\",\"\",Sprawdz_pesel('Zgłoszenie Pacjenta'!A2543))","v":""}]
[{"$f":"IF('Zgłoszenie Pacjenta'!A2544=\"\",\"\",Sprawdz_pesel('Zgłoszenie Pacjenta'!A2544))","v":""}]
[{"$f":"IF('Zgłoszenie Pacjenta'!A2545=\"\",\"\",Sprawdz_pesel('Zgłoszenie Pacjenta'!A2545))","v":""}]
[{"$f":"IF('Zgłoszenie Pacjenta'!A2546=\"\",\"\",Sprawdz_pesel('Zgłoszenie Pacjenta'!A2546))","v":""}]
[{"$f":"IF('Zgłoszenie Pacjenta'!A2547=\"\",\"\",Sprawdz_pesel('Zgłoszenie Pacjenta'!A2547))","v":""}]
[{"$f":"IF('Zgłoszenie Pacjenta'!A2548=\"\",\"\",Sprawdz_pesel('Zgłoszenie Pacjenta'!A2548))","v":""}]
[{"$f":"IF('Zgłoszenie Pacjenta'!A2549=\"\",\"\",Sprawdz_pesel('Zgłoszenie Pacjenta'!A2549))","v":""}]
[{"$f":"IF('Zgłoszenie Pacjenta'!A2550=\"\",\"\",Sprawdz_pesel('Zgłoszenie Pacjenta'!A2550))","v":""}]
[{"$f":"IF('Zgłoszenie Pacjenta'!A2551=\"\",\"\",Sprawdz_pesel('Zgłoszenie Pacjenta'!A2551))","v":""}]
[{"$f":"IF('Zgłoszenie Pacjenta'!A2552=\"\",\"\",Sprawdz_pesel('Zgłoszenie Pacjenta'!A2552))","v":""}]
[{"$f":"IF('Zgłoszenie Pacjenta'!A2553=\"\",\"\",Sprawdz_pesel('Zgłoszenie Pacjenta'!A2553))","v":""}]
[{"$f":"IF('Zgłoszenie Pacjenta'!A2554=\"\",\"\",Sprawdz_pesel('Zgłoszenie Pacjenta'!A2554))","v":""}]
[{"$f":"IF('Zgłoszenie Pacjenta'!A2555=\"\",\"\",Sprawdz_pesel('Zgłoszenie Pacjenta'!A2555))","v":""}]
[{"$f":"IF('Zgłoszenie Pacjenta'!A2556=\"\",\"\",Sprawdz_pesel('Zgłoszenie Pacjenta'!A2556))","v":""}]
[{"$f":"IF('Zgłoszenie Pacjenta'!A2557=\"\",\"\",Sprawdz_pesel('Zgłoszenie Pacjenta'!A2557))","v":""}]
[{"$f":"IF('Zgłoszenie Pacjenta'!A2558=\"\",\"\",Sprawdz_pesel('Zgłoszenie Pacjenta'!A2558))","v":""}]
[{"$f":"IF('Zgłoszenie Pacjenta'!A2559=\"\",\"\",Sprawdz_pesel('Zgłoszenie Pacjenta'!A2559))","v":""}]
[{"$f":"IF('Zgłoszenie Pacjenta'!A2560=\"\",\"\",Sprawdz_pesel('Zgłoszenie Pacjenta'!A2560))","v":""}]
[{"$f":"IF('Zgłoszenie Pacjenta'!A2561=\"\",\"\",Sprawdz_pesel('Zgłoszenie Pacjenta'!A2561))","v":""}]
[{"$f":"IF('Zgłoszenie Pacjenta'!A2562=\"\",\"\",Sprawdz_pesel('Zgłoszenie Pacjenta'!A2562))","v":""}]
[{"$f":"IF('Zgłoszenie Pacjenta'!A2563=\"\",\"\",Sprawdz_pesel('Zgłoszenie Pacjenta'!A2563))","v":""}]
[{"$f":"IF('Zgłoszenie Pacjenta'!A2564=\"\",\"\",Sprawdz_pesel('Zgłoszenie Pacjenta'!A2564))","v":""}]
[{"$f":"IF('Zgłoszenie Pacjenta'!A2565=\"\",\"\",Sprawdz_pesel('Zgłoszenie Pacjenta'!A2565))","v":""}]
[{"$f":"IF('Zgłoszenie Pacjenta'!A2566=\"\",\"\",Sprawdz_pesel('Zgłoszenie Pacjenta'!A2566))","v":""}]
[{"$f":"IF('Zgłoszenie Pacjenta'!A2567=\"\",\"\",Sprawdz_pesel('Zgłoszenie Pacjenta'!A2567))","v":""}]
[{"$f":"IF('Zgłoszenie Pacjenta'!A2568=\"\",\"\",Sprawdz_pesel('Zgłoszenie Pacjenta'!A2568))","v":""}]
[{"$f":"IF('Zgłoszenie Pacjenta'!A2569=\"\",\"\",Sprawdz_pesel('Zgłoszenie Pacjenta'!A2569))","v":""}]
[{"$f":"IF('Zgłoszenie Pacjenta'!A2570=\"\",\"\",Sprawdz_pesel('Zgłoszenie Pacjenta'!A2570))","v":""}]
[{"$f":"IF('Zgłoszenie Pacjenta'!A2571=\"\",\"\",Sprawdz_pesel('Zgłoszenie Pacjenta'!A2571))","v":""}]
[{"$f":"IF('Zgłoszenie Pacjenta'!A2572=\"\",\"\",Sprawdz_pesel('Zgłoszenie Pacjenta'!A2572))","v":""}]
[{"$f":"IF('Zgłoszenie Pacjenta'!A2573=\"\",\"\",Sprawdz_pesel('Zgłoszenie Pacjenta'!A2573))","v":""}]
[{"$f":"IF('Zgłoszenie Pacjenta'!A2574=\"\",\"\",Sprawdz_pesel('Zgłoszenie Pacjenta'!A2574))","v":""}]
[{"$f":"IF('Zgłoszenie Pacjenta'!A2575=\"\",\"\",Sprawdz_pesel('Zgłoszenie Pacjenta'!A2575))","v":""}]
[{"$f":"IF('Zgłoszenie Pacjenta'!A2576=\"\",\"\",Sprawdz_pesel('Zgłoszenie Pacjenta'!A2576))","v":""}]
[{"$f":"IF('Zgłoszenie Pacjenta'!A2577=\"\",\"\",Sprawdz_pesel('Zgłoszenie Pacjenta'!A2577))","v":""}]
[{"$f":"IF('Zgłoszenie Pacjenta'!A2578=\"\",\"\",Sprawdz_pesel('Zgłoszenie Pacjenta'!A2578))","v":""}]
[{"$f":"IF('Zgłoszenie Pacjenta'!A2579=\"\",\"\",Sprawdz_pesel('Zgłoszenie Pacjenta'!A2579))","v":""}]
[{"$f":"IF('Zgłoszenie Pacjenta'!A2580=\"\",\"\",Sprawdz_pesel('Zgłoszenie Pacjenta'!A2580))","v":""}]
[{"$f":"IF('Zgłoszenie Pacjenta'!A2581=\"\",\"\",Sprawdz_pesel('Zgłoszenie Pacjenta'!A2581))","v":""}]
[{"$f":"IF('Zgłoszenie Pacjenta'!A2582=\"\",\"\",Sprawdz_pesel('Zgłoszenie Pacjenta'!A2582))","v":""}]
[{"$f":"IF('Zgłoszenie Pacjenta'!A2583=\"\",\"\",Sprawdz_pesel('Zgłoszenie Pacjenta'!A2583))","v":""}]
[{"$f":"IF('Zgłoszenie Pacjenta'!A2584=\"\",\"\",Sprawdz_pesel('Zgłoszenie Pacjenta'!A2584))","v":""}]
[{"$f":"IF('Zgłoszenie Pacjenta'!A2585=\"\",\"\",Sprawdz_pesel('Zgłoszenie Pacjenta'!A2585))","v":""}]
[{"$f":"IF('Zgłoszenie Pacjenta'!A2586=\"\",\"\",Sprawdz_pesel('Zgłoszenie Pacjenta'!A2586))","v":""}]
[{"$f":"IF('Zgłoszenie Pacjenta'!A2587=\"\",\"\",Sprawdz_pesel('Zgłoszenie Pacjenta'!A2587))","v":""}]
[{"$f":"IF('Zgłoszenie Pacjenta'!A2588=\"\",\"\",Sprawdz_pesel('Zgłoszenie Pacjenta'!A2588))","v":""}]
[{"$f":"IF('Zgłoszenie Pacjenta'!A2589=\"\",\"\",Sprawdz_pesel('Zgłoszenie Pacjenta'!A2589))","v":""}]
[{"$f":"IF('Zgłoszenie Pacjenta'!A2590=\"\",\"\",Sprawdz_pesel('Zgłoszenie Pacjenta'!A2590))","v":""}]
[{"$f":"IF('Zgłoszenie Pacjenta'!A2591=\"\",\"\",Sprawdz_pesel('Zgłoszenie Pacjenta'!A2591))","v":""}]
[{"$f":"IF('Zgłoszenie Pacjenta'!A2592=\"\",\"\",Sprawdz_pesel('Zgłoszenie Pacjenta'!A2592))","v":""}]
[{"$f":"IF('Zgłoszenie Pacjenta'!A2593=\"\",\"\",Sprawdz_pesel('Zgłoszenie Pacjenta'!A2593))","v":""}]
[{"$f":"IF('Zgłoszenie Pacjenta'!A2594=\"\",\"\",Sprawdz_pesel('Zgłoszenie Pacjenta'!A2594))","v":""}]
[{"$f":"IF('Zgłoszenie Pacjenta'!A2595=\"\",\"\",Sprawdz_pesel('Zgłoszenie Pacjenta'!A2595))","v":""}]
[{"$f":"IF('Zgłoszenie Pacjenta'!A2596=\"\",\"\",Sprawdz_pesel('Zgłoszenie Pacjenta'!A2596))","v":""}]
[{"$f":"IF('Zgłoszenie Pacjenta'!A2597=\"\",\"\",Sprawdz_pesel('Zgłoszenie Pacjenta'!A2597))","v":""}]
[{"$f":"IF('Zgłoszenie Pacjenta'!A2598=\"\",\"\",Sprawdz_pesel('Zgłoszenie Pacjenta'!A2598))","v":""}]
[{"$f":"IF('Zgłoszenie Pacjenta'!A2599=\"\",\"\",Sprawdz_pesel('Zgłoszenie Pacjenta'!A2599))","v":""}]
[{"$f":"IF('Zgłoszenie Pacjenta'!A2600=\"\",\"\",Sprawdz_pesel('Zgłoszenie Pacjenta'!A2600))","v":""}]
[{"$f":"IF('Zgłoszenie Pacjenta'!A2601=\"\",\"\",Sprawdz_pesel('Zgłoszenie Pacjenta'!A2601))","v":""}]
[{"$f":"IF('Zgłoszenie Pacjenta'!A2602=\"\",\"\",Sprawdz_pesel('Zgłoszenie Pacjenta'!A2602))","v":""}]
[{"$f":"IF('Zgłoszenie Pacjenta'!A2603=\"\",\"\",Sprawdz_pesel('Zgłoszenie Pacjenta'!A2603))","v":""}]
[{"$f":"IF('Zgłoszenie Pacjenta'!A2604=\"\",\"\",Sprawdz_pesel('Zgłoszenie Pacjenta'!A2604))","v":""}]
[{"$f":"IF('Zgłoszenie Pacjenta'!A2605=\"\",\"\",Sprawdz_pesel('Zgłoszenie Pacjenta'!A2605))","v":""}]
[{"$f":"IF('Zgłoszenie Pacjenta'!A2606=\"\",\"\",Sprawdz_pesel('Zgłoszenie Pacjenta'!A2606))","v":""}]
[{"$f":"IF('Zgłoszenie Pacjenta'!A2607=\"\",\"\",Sprawdz_pesel('Zgłoszenie Pacjenta'!A2607))","v":""}]
[{"$f":"IF('Zgłoszenie Pacjenta'!A2608=\"\",\"\",Sprawdz_pesel('Zgłoszenie Pacjenta'!A2608))","v":""}]
[{"$f":"IF('Zgłoszenie Pacjenta'!A2609=\"\",\"\",Sprawdz_pesel('Zgłoszenie Pacjenta'!A2609))","v":""}]
[{"$f":"IF('Zgłoszenie Pacjenta'!A2610=\"\",\"\",Sprawdz_pesel('Zgłoszenie Pacjenta'!A2610))","v":""}]
[{"$f":"IF('Zgłoszenie Pacjenta'!A2611=\"\",\"\",Sprawdz_pesel('Zgłoszenie Pacjenta'!A2611))","v":""}]
[{"$f":"IF('Zgłoszenie Pacjenta'!A2612=\"\",\"\",Sprawdz_pesel('Zgłoszenie Pacjenta'!A2612))","v":""}]
[{"$f":"IF('Zgłoszenie Pacjenta'!A2613=\"\",\"\",Sprawdz_pesel('Zgłoszenie Pacjenta'!A2613))","v":""}]
[{"$f":"IF('Zgłoszenie Pacjenta'!A2614=\"\",\"\",Sprawdz_pesel('Zgłoszenie Pacjenta'!A2614))","v":""}]
[{"$f":"IF('Zgłoszenie Pacjenta'!A2615=\"\",\"\",Sprawdz_pesel('Zgłoszenie Pacjenta'!A2615))","v":""}]
[{"$f":"IF('Zgłoszenie Pacjenta'!A2616=\"\",\"\",Sprawdz_pesel('Zgłoszenie Pacjenta'!A2616))","v":""}]
[{"$f":"IF('Zgłoszenie Pacjenta'!A2617=\"\",\"\",Sprawdz_pesel('Zgłoszenie Pacjenta'!A2617))","v":""}]
[{"$f":"IF('Zgłoszenie Pacjenta'!A2618=\"\",\"\",Sprawdz_pesel('Zgłoszenie Pacjenta'!A2618))","v":""}]
[{"$f":"IF('Zgłoszenie Pacjenta'!A2619=\"\",\"\",Sprawdz_pesel('Zgłoszenie Pacjenta'!A2619))","v":""}]
[{"$f":"IF('Zgłoszenie Pacjenta'!A2620=\"\",\"\",Sprawdz_pesel('Zgłoszenie Pacjenta'!A2620))","v":""}]
[{"$f":"IF('Zgłoszenie Pacjenta'!A2621=\"\",\"\",Sprawdz_pesel('Zgłoszenie Pacjenta'!A2621))","v":""}]
[{"$f":"IF('Zgłoszenie Pacjenta'!A2622=\"\",\"\",Sprawdz_pesel('Zgłoszenie Pacjenta'!A2622))","v":""}]
[{"$f":"IF('Zgłoszenie Pacjenta'!A2623=\"\",\"\",Sprawdz_pesel('Zgłoszenie Pacjenta'!A2623))","v":""}]
[{"$f":"IF('Zgłoszenie Pacjenta'!A2624=\"\",\"\",Sprawdz_pesel('Zgłoszenie Pacjenta'!A2624))","v":""}]
[{"$f":"IF('Zgłoszenie Pacjenta'!A2625=\"\",\"\",Sprawdz_pesel('Zgłoszenie Pacjenta'!A2625))","v":""}]
[{"$f":"IF('Zgłoszenie Pacjenta'!A2626=\"\",\"\",Sprawdz_pesel('Zgłoszenie Pacjenta'!A2626))","v":""}]
[{"$f":"IF('Zgłoszenie Pacjenta'!A2627=\"\",\"\",Sprawdz_pesel('Zgłoszenie Pacjenta'!A2627))","v":""}]
[{"$f":"IF('Zgłoszenie Pacjenta'!A2628=\"\",\"\",Sprawdz_pesel('Zgłoszenie Pacjenta'!A2628))","v":""}]
[{"$f":"IF('Zgłoszenie Pacjenta'!A2629=\"\",\"\",Sprawdz_pesel('Zgłoszenie Pacjenta'!A2629))","v":""}]
[{"$f":"IF('Zgłoszenie Pacjenta'!A2630=\"\",\"\",Sprawdz_pesel('Zgłoszenie Pacjenta'!A2630))","v":""}]
[{"$f":"IF('Zgłoszenie Pacjenta'!A2631=\"\",\"\",Sprawdz_pesel('Zgłoszenie Pacjenta'!A2631))","v":""}]
[{"$f":"IF('Zgłoszenie Pacjenta'!A2632=\"\",\"\",Sprawdz_pesel('Zgłoszenie Pacjenta'!A2632))","v":""}]
[{"$f":"IF('Zgłoszenie Pacjenta'!A2633=\"\",\"\",Sprawdz_pesel('Zgłoszenie Pacjenta'!A2633))","v":""}]
[{"$f":"IF('Zgłoszenie Pacjenta'!A2634=\"\",\"\",Sprawdz_pesel('Zgłoszenie Pacjenta'!A2634))","v":""}]
[{"$f":"IF('Zgłoszenie Pacjenta'!A2635=\"\",\"\",Sprawdz_pesel('Zgłoszenie Pacjenta'!A2635))","v":""}]
[{"$f":"IF('Zgłoszenie Pacjenta'!A2636=\"\",\"\",Sprawdz_pesel('Zgłoszenie Pacjenta'!A2636))","v":""}]
[{"$f":"IF('Zgłoszenie Pacjenta'!A2637=\"\",\"\",Sprawdz_pesel('Zgłoszenie Pacjenta'!A2637))","v":""}]
[{"$f":"IF('Zgłoszenie Pacjenta'!A2638=\"\",\"\",Sprawdz_pesel('Zgłoszenie Pacjenta'!A2638))","v":""}]
[{"$f":"IF('Zgłoszenie Pacjenta'!A2639=\"\",\"\",Sprawdz_pesel('Zgłoszenie Pacjenta'!A2639))","v":""}]
[{"$f":"IF('Zgłoszenie Pacjenta'!A2640=\"\",\"\",Sprawdz_pesel('Zgłoszenie Pacjenta'!A2640))","v":""}]
[{"$f":"IF('Zgłoszenie Pacjenta'!A2641=\"\",\"\",Sprawdz_pesel('Zgłoszenie Pacjenta'!A2641))","v":""}]
[{"$f":"IF('Zgłoszenie Pacjenta'!A2642=\"\",\"\",Sprawdz_pesel('Zgłoszenie Pacjenta'!A2642))","v":""}]
[{"$f":"IF('Zgłoszenie Pacjenta'!A2643=\"\",\"\",Sprawdz_pesel('Zgłoszenie Pacjenta'!A2643))","v":""}]
[{"$f":"IF('Zgłoszenie Pacjenta'!A2644=\"\",\"\",Sprawdz_pesel('Zgłoszenie Pacjenta'!A2644))","v":""}]
[{"$f":"IF('Zgłoszenie Pacjenta'!A2645=\"\",\"\",Sprawdz_pesel('Zgłoszenie Pacjenta'!A2645))","v":""}]
[{"$f":"IF('Zgłoszenie Pacjenta'!A2646=\"\",\"\",Sprawdz_pesel('Zgłoszenie Pacjenta'!A2646))","v":""}]
[{"$f":"IF('Zgłoszenie Pacjenta'!A2647=\"\",\"\",Sprawdz_pesel('Zgłoszenie Pacjenta'!A2647))","v":""}]
[{"$f":"IF('Zgłoszenie Pacjenta'!A2648=\"\",\"\",Sprawdz_pesel('Zgłoszenie Pacjenta'!A2648))","v":""}]
[{"$f":"IF('Zgłoszenie Pacjenta'!A2649=\"\",\"\",Sprawdz_pesel('Zgłoszenie Pacjenta'!A2649))","v":""}]
[{"$f":"IF('Zgłoszenie Pacjenta'!A2650=\"\",\"\",Sprawdz_pesel('Zgłoszenie Pacjenta'!A2650))","v":""}]
[{"$f":"IF('Zgłoszenie Pacjenta'!A2651=\"\",\"\",Sprawdz_pesel('Zgłoszenie Pacjenta'!A2651))","v":""}]
[{"$f":"IF('Zgłoszenie Pacjenta'!A2652=\"\",\"\",Sprawdz_pesel('Zgłoszenie Pacjenta'!A2652))","v":""}]
[{"$f":"IF('Zgłoszenie Pacjenta'!A2653=\"\",\"\",Sprawdz_pesel('Zgłoszenie Pacjenta'!A2653))","v":""}]
[{"$f":"IF('Zgłoszenie Pacjenta'!A2654=\"\",\"\",Sprawdz_pesel('Zgłoszenie Pacjenta'!A2654))","v":""}]
[{"$f":"IF('Zgłoszenie Pacjenta'!A2655=\"\",\"\",Sprawdz_pesel('Zgłoszenie Pacjenta'!A2655))","v":""}]
[{"$f":"IF('Zgłoszenie Pacjenta'!A2656=\"\",\"\",Sprawdz_pesel('Zgłoszenie Pacjenta'!A2656))","v":""}]
[{"$f":"IF('Zgłoszenie Pacjenta'!A2657=\"\",\"\",Sprawdz_pesel('Zgłoszenie Pacjenta'!A2657))","v":""}]
[{"$f":"IF('Zgłoszenie Pacjenta'!A2658=\"\",\"\",Sprawdz_pesel('Zgłoszenie Pacjenta'!A2658))","v":""}]
[{"$f":"IF('Zgłoszenie Pacjenta'!A2659=\"\",\"\",Sprawdz_pesel('Zgłoszenie Pacjenta'!A2659))","v":""}]
[{"$f":"IF('Zgłoszenie Pacjenta'!A2660=\"\",\"\",Sprawdz_pesel('Zgłoszenie Pacjenta'!A2660))","v":""}]
[{"$f":"IF('Zgłoszenie Pacjenta'!A2661=\"\",\"\",Sprawdz_pesel('Zgłoszenie Pacjenta'!A2661))","v":""}]
[{"$f":"IF('Zgłoszenie Pacjenta'!A2662=\"\",\"\",Sprawdz_pesel('Zgłoszenie Pacjenta'!A2662))","v":""}]
[{"$f":"IF('Zgłoszenie Pacjenta'!A2663=\"\",\"\",Sprawdz_pesel('Zgłoszenie Pacjenta'!A2663))","v":""}]
[{"$f":"IF('Zgłoszenie Pacjenta'!A2664=\"\",\"\",Sprawdz_pesel('Zgłoszenie Pacjenta'!A2664))","v":""}]
[{"$f":"IF('Zgłoszenie Pacjenta'!A2665=\"\",\"\",Sprawdz_pesel('Zgłoszenie Pacjenta'!A2665))","v":""}]
[{"$f":"IF('Zgłoszenie Pacjenta'!A2666=\"\",\"\",Sprawdz_pesel('Zgłoszenie Pacjenta'!A2666))","v":""}]
[{"$f":"IF('Zgłoszenie Pacjenta'!A2667=\"\",\"\",Sprawdz_pesel('Zgłoszenie Pacjenta'!A2667))","v":""}]
[{"$f":"IF('Zgłoszenie Pacjenta'!A2668=\"\",\"\",Sprawdz_pesel('Zgłoszenie Pacjenta'!A2668))","v":""}]
[{"$f":"IF('Zgłoszenie Pacjenta'!A2669=\"\",\"\",Sprawdz_pesel('Zgłoszenie Pacjenta'!A2669))","v":""}]
[{"$f":"IF('Zgłoszenie Pacjenta'!A2670=\"\",\"\",Sprawdz_pesel('Zgłoszenie Pacjenta'!A2670))","v":""}]
[{"$f":"IF('Zgłoszenie Pacjenta'!A2671=\"\",\"\",Sprawdz_pesel('Zgłoszenie Pacjenta'!A2671))","v":""}]
[{"$f":"IF('Zgłoszenie Pacjenta'!A2672=\"\",\"\",Sprawdz_pesel('Zgłoszenie Pacjenta'!A2672))","v":""}]
[{"$f":"IF('Zgłoszenie Pacjenta'!A2673=\"\",\"\",Sprawdz_pesel('Zgłoszenie Pacjenta'!A2673))","v":""}]
[{"$f":"IF('Zgłoszenie Pacjenta'!A2674=\"\",\"\",Sprawdz_pesel('Zgłoszenie Pacjenta'!A2674))","v":""}]
[{"$f":"IF('Zgłoszenie Pacjenta'!A2675=\"\",\"\",Sprawdz_pesel('Zgłoszenie Pacjenta'!A2675))","v":""}]
[{"$f":"IF('Zgłoszenie Pacjenta'!A2676=\"\",\"\",Sprawdz_pesel('Zgłoszenie Pacjenta'!A2676))","v":""}]
[{"$f":"IF('Zgłoszenie Pacjenta'!A2677=\"\",\"\",Sprawdz_pesel('Zgłoszenie Pacjenta'!A2677))","v":""}]
[{"$f":"IF('Zgłoszenie Pacjenta'!A2678=\"\",\"\",Sprawdz_pesel('Zgłoszenie Pacjenta'!A2678))","v":""}]
[{"$f":"IF('Zgłoszenie Pacjenta'!A2679=\"\",\"\",Sprawdz_pesel('Zgłoszenie Pacjenta'!A2679))","v":""}]
[{"$f":"IF('Zgłoszenie Pacjenta'!A2680=\"\",\"\",Sprawdz_pesel('Zgłoszenie Pacjenta'!A2680))","v":""}]
[{"$f":"IF('Zgłoszenie Pacjenta'!A2681=\"\",\"\",Sprawdz_pesel('Zgłoszenie Pacjenta'!A2681))","v":""}]
[{"$f":"IF('Zgłoszenie Pacjenta'!A2682=\"\",\"\",Sprawdz_pesel('Zgłoszenie Pacjenta'!A2682))","v":""}]
[{"$f":"IF('Zgłoszenie Pacjenta'!A2683=\"\",\"\",Sprawdz_pesel('Zgłoszenie Pacjenta'!A2683))","v":""}]
[{"$f":"IF('Zgłoszenie Pacjenta'!A2684=\"\",\"\",Sprawdz_pesel('Zgłoszenie Pacjenta'!A2684))","v":""}]
[{"$f":"IF('Zgłoszenie Pacjenta'!A2685=\"\",\"\",Sprawdz_pesel('Zgłoszenie Pacjenta'!A2685))","v":""}]
[{"$f":"IF('Zgłoszenie Pacjenta'!A2686=\"\",\"\",Sprawdz_pesel('Zgłoszenie Pacjenta'!A2686))","v":""}]
[{"$f":"IF('Zgłoszenie Pacjenta'!A2687=\"\",\"\",Sprawdz_pesel('Zgłoszenie Pacjenta'!A2687))","v":""}]
[{"$f":"IF('Zgłoszenie Pacjenta'!A2688=\"\",\"\",Sprawdz_pesel('Zgłoszenie Pacjenta'!A2688))","v":""}]
[{"$f":"IF('Zgłoszenie Pacjenta'!A2689=\"\",\"\",Sprawdz_pesel('Zgłoszenie Pacjenta'!A2689))","v":""}]
[{"$f":"IF('Zgłoszenie Pacjenta'!A2690=\"\",\"\",Sprawdz_pesel('Zgłoszenie Pacjenta'!A2690))","v":""}]
[{"$f":"IF('Zgłoszenie Pacjenta'!A2691=\"\",\"\",Sprawdz_pesel('Zgłoszenie Pacjenta'!A2691))","v":""}]
[{"$f":"IF('Zgłoszenie Pacjenta'!A2692=\"\",\"\",Sprawdz_pesel('Zgłoszenie Pacjenta'!A2692))","v":""}]
[{"$f":"IF('Zgłoszenie Pacjenta'!A2693=\"\",\"\",Sprawdz_pesel('Zgłoszenie Pacjenta'!A2693))","v":""}]
[{"$f":"IF('Zgłoszenie Pacjenta'!A2694=\"\",\"\",Sprawdz_pesel('Zgłoszenie Pacjenta'!A2694))","v":""}]
[{"$f":"IF('Zgłoszenie Pacjenta'!A2695=\"\",\"\",Sprawdz_pesel('Zgłoszenie Pacjenta'!A2695))","v":""}]
[{"$f":"IF('Zgłoszenie Pacjenta'!A2696=\"\",\"\",Sprawdz_pesel('Zgłoszenie Pacjenta'!A2696))","v":""}]
[{"$f":"IF('Zgłoszenie Pacjenta'!A2697=\"\",\"\",Sprawdz_pesel('Zgłoszenie Pacjenta'!A2697))","v":""}]
[{"$f":"IF('Zgłoszenie Pacjenta'!A2698=\"\",\"\",Sprawdz_pesel('Zgłoszenie Pacjenta'!A2698))","v":""}]
[{"$f":"IF('Zgłoszenie Pacjenta'!A2699=\"\",\"\",Sprawdz_pesel('Zgłoszenie Pacjenta'!A2699))","v":""}]
[{"$f":"IF('Zgłoszenie Pacjenta'!A2700=\"\",\"\",Sprawdz_pesel('Zgłoszenie Pacjenta'!A2700))","v":""}]
[{"$f":"IF('Zgłoszenie Pacjenta'!A2701=\"\",\"\",Sprawdz_pesel('Zgłoszenie Pacjenta'!A2701))","v":""}]
[{"$f":"IF('Zgłoszenie Pacjenta'!A2702=\"\",\"\",Sprawdz_pesel('Zgłoszenie Pacjenta'!A2702))","v":""}]
[{"$f":"IF('Zgłoszenie Pacjenta'!A2703=\"\",\"\",Sprawdz_pesel('Zgłoszenie Pacjenta'!A2703))","v":""}]
[{"$f":"IF('Zgłoszenie Pacjenta'!A2704=\"\",\"\",Sprawdz_pesel('Zgłoszenie Pacjenta'!A2704))","v":""}]
[{"$f":"IF('Zgłoszenie Pacjenta'!A2705=\"\",\"\",Sprawdz_pesel('Zgłoszenie Pacjenta'!A2705))","v":""}]
[{"$f":"IF('Zgłoszenie Pacjenta'!A2706=\"\",\"\",Sprawdz_pesel('Zgłoszenie Pacjenta'!A2706))","v":""}]
[{"$f":"IF('Zgłoszenie Pacjenta'!A2707=\"\",\"\",Sprawdz_pesel('Zgłoszenie Pacjenta'!A2707))","v":""}]
[{"$f":"IF('Zgłoszenie Pacjenta'!A2708=\"\",\"\",Sprawdz_pesel('Zgłoszenie Pacjenta'!A2708))","v":""}]
[{"$f":"IF('Zgłoszenie Pacjenta'!A2709=\"\",\"\",Sprawdz_pesel('Zgłoszenie Pacjenta'!A2709))","v":""}]
[{"$f":"IF('Zgłoszenie Pacjenta'!A2710=\"\",\"\",Sprawdz_pesel('Zgłoszenie Pacjenta'!A2710))","v":""}]
[{"$f":"IF('Zgłoszenie Pacjenta'!A2711=\"\",\"\",Sprawdz_pesel('Zgłoszenie Pacjenta'!A2711))","v":""}]
[{"$f":"IF('Zgłoszenie Pacjenta'!A2712=\"\",\"\",Sprawdz_pesel('Zgłoszenie Pacjenta'!A2712))","v":""}]
[{"$f":"IF('Zgłoszenie Pacjenta'!A2713=\"\",\"\",Sprawdz_pesel('Zgłoszenie Pacjenta'!A2713))","v":""}]
[{"$f":"IF('Zgłoszenie Pacjenta'!A2714=\"\",\"\",Sprawdz_pesel('Zgłoszenie Pacjenta'!A2714))","v":""}]
[{"$f":"IF('Zgłoszenie Pacjenta'!A2715=\"\",\"\",Sprawdz_pesel('Zgłoszenie Pacjenta'!A2715))","v":""}]
[{"$f":"IF('Zgłoszenie Pacjenta'!A2716=\"\",\"\",Sprawdz_pesel('Zgłoszenie Pacjenta'!A2716))","v":""}]
[{"$f":"IF('Zgłoszenie Pacjenta'!A2717=\"\",\"\",Sprawdz_pesel('Zgłoszenie Pacjenta'!A2717))","v":""}]
[{"$f":"IF('Zgłoszenie Pacjenta'!A2718=\"\",\"\",Sprawdz_pesel('Zgłoszenie Pacjenta'!A2718))","v":""}]
[{"$f":"IF('Zgłoszenie Pacjenta'!A2719=\"\",\"\",Sprawdz_pesel('Zgłoszenie Pacjenta'!A2719))","v":""}]
[{"$f":"IF('Zgłoszenie Pacjenta'!A2720=\"\",\"\",Sprawdz_pesel('Zgłoszenie Pacjenta'!A2720))","v":""}]
[{"$f":"IF('Zgłoszenie Pacjenta'!A2721=\"\",\"\",Sprawdz_pesel('Zgłoszenie Pacjenta'!A2721))","v":""}]
[{"$f":"IF('Zgłoszenie Pacjenta'!A2722=\"\",\"\",Sprawdz_pesel('Zgłoszenie Pacjenta'!A2722))","v":""}]
[{"$f":"IF('Zgłoszenie Pacjenta'!A2723=\"\",\"\",Sprawdz_pesel('Zgłoszenie Pacjenta'!A2723))","v":""}]
[{"$f":"IF('Zgłoszenie Pacjenta'!A2724=\"\",\"\",Sprawdz_pesel('Zgłoszenie Pacjenta'!A2724))","v":""}]
[{"$f":"IF('Zgłoszenie Pacjenta'!A2725=\"\",\"\",Sprawdz_pesel('Zgłoszenie Pacjenta'!A2725))","v":""}]
[{"$f":"IF('Zgłoszenie Pacjenta'!A2726=\"\",\"\",Sprawdz_pesel('Zgłoszenie Pacjenta'!A2726))","v":""}]
[{"$f":"IF('Zgłoszenie Pacjenta'!A2727=\"\",\"\",Sprawdz_pesel('Zgłoszenie Pacjenta'!A2727))","v":""}]
[{"$f":"IF('Zgłoszenie Pacjenta'!A2728=\"\",\"\",Sprawdz_pesel('Zgłoszenie Pacjenta'!A2728))","v":""}]
[{"$f":"IF('Zgłoszenie Pacjenta'!A2729=\"\",\"\",Sprawdz_pesel('Zgłoszenie Pacjenta'!A2729))","v":""}]
[{"$f":"IF('Zgłoszenie Pacjenta'!A2730=\"\",\"\",Sprawdz_pesel('Zgłoszenie Pacjenta'!A2730))","v":""}]
[{"$f":"IF('Zgłoszenie Pacjenta'!A2731=\"\",\"\",Sprawdz_pesel('Zgłoszenie Pacjenta'!A2731))","v":""}]
[{"$f":"IF('Zgłoszenie Pacjenta'!A2732=\"\",\"\",Sprawdz_pesel('Zgłoszenie Pacjenta'!A2732))","v":""}]
[{"$f":"IF('Zgłoszenie Pacjenta'!A2733=\"\",\"\",Sprawdz_pesel('Zgłoszenie Pacjenta'!A2733))","v":""}]
[{"$f":"IF('Zgłoszenie Pacjenta'!A2734=\"\",\"\",Sprawdz_pesel('Zgłoszenie Pacjenta'!A2734))","v":""}]
[{"$f":"IF('Zgłoszenie Pacjenta'!A2735=\"\",\"\",Sprawdz_pesel('Zgłoszenie Pacjenta'!A2735))","v":""}]
[{"$f":"IF('Zgłoszenie Pacjenta'!A2736=\"\",\"\",Sprawdz_pesel('Zgłoszenie Pacjenta'!A2736))","v":""}]
[{"$f":"IF('Zgłoszenie Pacjenta'!A2737=\"\",\"\",Sprawdz_pesel('Zgłoszenie Pacjenta'!A2737))","v":""}]
[{"$f":"IF('Zgłoszenie Pacjenta'!A2738=\"\",\"\",Sprawdz_pesel('Zgłoszenie Pacjenta'!A2738))","v":""}]
[{"$f":"IF('Zgłoszenie Pacjenta'!A2739=\"\",\"\",Sprawdz_pesel('Zgłoszenie Pacjenta'!A2739))","v":""}]
[{"$f":"IF('Zgłoszenie Pacjenta'!A2740=\"\",\"\",Sprawdz_pesel('Zgłoszenie Pacjenta'!A2740))","v":""}]
[{"$f":"IF('Zgłoszenie Pacjenta'!A2741=\"\",\"\",Sprawdz_pesel('Zgłoszenie Pacjenta'!A2741))","v":""}]
[{"$f":"IF('Zgłoszenie Pacjenta'!A2742=\"\",\"\",Sprawdz_pesel('Zgłoszenie Pacjenta'!A2742))","v":""}]
[{"$f":"IF('Zgłoszenie Pacjenta'!A2743=\"\",\"\",Sprawdz_pesel('Zgłoszenie Pacjenta'!A2743))","v":""}]
[{"$f":"IF('Zgłoszenie Pacjenta'!A2744=\"\",\"\",Sprawdz_pesel('Zgłoszenie Pacjenta'!A2744))","v":""}]
[{"$f":"IF('Zgłoszenie Pacjenta'!A2745=\"\",\"\",Sprawdz_pesel('Zgłoszenie Pacjenta'!A2745))","v":""}]
[{"$f":"IF('Zgłoszenie Pacjenta'!A2746=\"\",\"\",Sprawdz_pesel('Zgłoszenie Pacjenta'!A2746))","v":""}]
[{"$f":"IF('Zgłoszenie Pacjenta'!A2747=\"\",\"\",Sprawdz_pesel('Zgłoszenie Pacjenta'!A2747))","v":""}]
[{"$f":"IF('Zgłoszenie Pacjenta'!A2748=\"\",\"\",Sprawdz_pesel('Zgłoszenie Pacjenta'!A2748))","v":""}]
[{"$f":"IF('Zgłoszenie Pacjenta'!A2749=\"\",\"\",Sprawdz_pesel('Zgłoszenie Pacjenta'!A2749))","v":""}]
[{"$f":"IF('Zgłoszenie Pacjenta'!A2750=\"\",\"\",Sprawdz_pesel('Zgłoszenie Pacjenta'!A2750))","v":""}]
[{"$f":"IF('Zgłoszenie Pacjenta'!A2751=\"\",\"\",Sprawdz_pesel('Zgłoszenie Pacjenta'!A2751))","v":""}]
[{"$f":"IF('Zgłoszenie Pacjenta'!A2752=\"\",\"\",Sprawdz_pesel('Zgłoszenie Pacjenta'!A2752))","v":""}]
[{"$f":"IF('Zgłoszenie Pacjenta'!A2753=\"\",\"\",Sprawdz_pesel('Zgłoszenie Pacjenta'!A2753))","v":""}]
[{"$f":"IF('Zgłoszenie Pacjenta'!A2754=\"\",\"\",Sprawdz_pesel('Zgłoszenie Pacjenta'!A2754))","v":""}]
[{"$f":"IF('Zgłoszenie Pacjenta'!A2755=\"\",\"\",Sprawdz_pesel('Zgłoszenie Pacjenta'!A2755))","v":""}]
[{"$f":"IF('Zgłoszenie Pacjenta'!A2756=\"\",\"\",Sprawdz_pesel('Zgłoszenie Pacjenta'!A2756))","v":""}]
[{"$f":"IF('Zgłoszenie Pacjenta'!A2757=\"\",\"\",Sprawdz_pesel('Zgłoszenie Pacjenta'!A2757))","v":""}]
[{"$f":"IF('Zgłoszenie Pacjenta'!A2758=\"\",\"\",Sprawdz_pesel('Zgłoszenie Pacjenta'!A2758))","v":""}]
[{"$f":"IF('Zgłoszenie Pacjenta'!A2759=\"\",\"\",Sprawdz_pesel('Zgłoszenie Pacjenta'!A2759))","v":""}]
[{"$f":"IF('Zgłoszenie Pacjenta'!A2760=\"\",\"\",Sprawdz_pesel('Zgłoszenie Pacjenta'!A2760))","v":""}]
[{"$f":"IF('Zgłoszenie Pacjenta'!A2761=\"\",\"\",Sprawdz_pesel('Zgłoszenie Pacjenta'!A2761))","v":""}]
[{"$f":"IF('Zgłoszenie Pacjenta'!A2762=\"\",\"\",Sprawdz_pesel('Zgłoszenie Pacjenta'!A2762))","v":""}]
[{"$f":"IF('Zgłoszenie Pacjenta'!A2763=\"\",\"\",Sprawdz_pesel('Zgłoszenie Pacjenta'!A2763))","v":""}]
[{"$f":"IF('Zgłoszenie Pacjenta'!A2764=\"\",\"\",Sprawdz_pesel('Zgłoszenie Pacjenta'!A2764))","v":""}]
[{"$f":"IF('Zgłoszenie Pacjenta'!A2765=\"\",\"\",Sprawdz_pesel('Zgłoszenie Pacjenta'!A2765))","v":""}]
[{"$f":"IF('Zgłoszenie Pacjenta'!A2766=\"\",\"\",Sprawdz_pesel('Zgłoszenie Pacjenta'!A2766))","v":""}]
[{"$f":"IF('Zgłoszenie Pacjenta'!A2767=\"\",\"\",Sprawdz_pesel('Zgłoszenie Pacjenta'!A2767))","v":""}]
[{"$f":"IF('Zgłoszenie Pacjenta'!A2768=\"\",\"\",Sprawdz_pesel('Zgłoszenie Pacjenta'!A2768))","v":""}]
[{"$f":"IF('Zgłoszenie Pacjenta'!A2769=\"\",\"\",Sprawdz_pesel('Zgłoszenie Pacjenta'!A2769))","v":""}]
[{"$f":"IF('Zgłoszenie Pacjenta'!A2770=\"\",\"\",Sprawdz_pesel('Zgłoszenie Pacjenta'!A2770))","v":""}]
[{"$f":"IF('Zgłoszenie Pacjenta'!A2771=\"\",\"\",Sprawdz_pesel('Zgłoszenie Pacjenta'!A2771))","v":""}]
[{"$f":"IF('Zgłoszenie Pacjenta'!A2772=\"\",\"\",Sprawdz_pesel('Zgłoszenie Pacjenta'!A2772))","v":""}]
[{"$f":"IF('Zgłoszenie Pacjenta'!A2773=\"\",\"\",Sprawdz_pesel('Zgłoszenie Pacjenta'!A2773))","v":""}]
[{"$f":"IF('Zgłoszenie Pacjenta'!A2774=\"\",\"\",Sprawdz_pesel('Zgłoszenie Pacjenta'!A2774))","v":""}]
[{"$f":"IF('Zgłoszenie Pacjenta'!A2775=\"\",\"\",Sprawdz_pesel('Zgłoszenie Pacjenta'!A2775))","v":""}]
[{"$f":"IF('Zgłoszenie Pacjenta'!A2776=\"\",\"\",Sprawdz_pesel('Zgłoszenie Pacjenta'!A2776))","v":""}]
[{"$f":"IF('Zgłoszenie Pacjenta'!A2777=\"\",\"\",Sprawdz_pesel('Zgłoszenie Pacjenta'!A2777))","v":""}]
[{"$f":"IF('Zgłoszenie Pacjenta'!A2778=\"\",\"\",Sprawdz_pesel('Zgłoszenie Pacjenta'!A2778))","v":""}]
[{"$f":"IF('Zgłoszenie Pacjenta'!A2779=\"\",\"\",Sprawdz_pesel('Zgłoszenie Pacjenta'!A2779))","v":""}]
[{"$f":"IF('Zgłoszenie Pacjenta'!A2780=\"\",\"\",Sprawdz_pesel('Zgłoszenie Pacjenta'!A2780))","v":""}]
[{"$f":"IF('Zgłoszenie Pacjenta'!A2781=\"\",\"\",Sprawdz_pesel('Zgłoszenie Pacjenta'!A2781))","v":""}]
[{"$f":"IF('Zgłoszenie Pacjenta'!A2782=\"\",\"\",Sprawdz_pesel('Zgłoszenie Pacjenta'!A2782))","v":""}]
[{"$f":"IF('Zgłoszenie Pacjenta'!A2783=\"\",\"\",Sprawdz_pesel('Zgłoszenie Pacjenta'!A2783))","v":""}]
[{"$f":"IF('Zgłoszenie Pacjenta'!A2784=\"\",\"\",Sprawdz_pesel('Zgłoszenie Pacjenta'!A2784))","v":""}]
[{"$f":"IF('Zgłoszenie Pacjenta'!A2785=\"\",\"\",Sprawdz_pesel('Zgłoszenie Pacjenta'!A2785))","v":""}]
[{"$f":"IF('Zgłoszenie Pacjenta'!A2786=\"\",\"\",Sprawdz_pesel('Zgłoszenie Pacjenta'!A2786))","v":""}]
[{"$f":"IF('Zgłoszenie Pacjenta'!A2787=\"\",\"\",Sprawdz_pesel('Zgłoszenie Pacjenta'!A2787))","v":""}]
[{"$f":"IF('Zgłoszenie Pacjenta'!A2788=\"\",\"\",Sprawdz_pesel('Zgłoszenie Pacjenta'!A2788))","v":""}]
[{"$f":"IF('Zgłoszenie Pacjenta'!A2789=\"\",\"\",Sprawdz_pesel('Zgłoszenie Pacjenta'!A2789))","v":""}]
[{"$f":"IF('Zgłoszenie Pacjenta'!A2790=\"\",\"\",Sprawdz_pesel('Zgłoszenie Pacjenta'!A2790))","v":""}]
[{"$f":"IF('Zgłoszenie Pacjenta'!A2791=\"\",\"\",Sprawdz_pesel('Zgłoszenie Pacjenta'!A2791))","v":""}]
[{"$f":"IF('Zgłoszenie Pacjenta'!A2792=\"\",\"\",Sprawdz_pesel('Zgłoszenie Pacjenta'!A2792))","v":""}]
[{"$f":"IF('Zgłoszenie Pacjenta'!A2793=\"\",\"\",Sprawdz_pesel('Zgłoszenie Pacjenta'!A2793))","v":""}]
[{"$f":"IF('Zgłoszenie Pacjenta'!A2794=\"\",\"\",Sprawdz_pesel('Zgłoszenie Pacjenta'!A2794))","v":""}]
[{"$f":"IF('Zgłoszenie Pacjenta'!A2795=\"\",\"\",Sprawdz_pesel('Zgłoszenie Pacjenta'!A2795))","v":""}]
[{"$f":"IF('Zgłoszenie Pacjenta'!A2796=\"\",\"\",Sprawdz_pesel('Zgłoszenie Pacjenta'!A2796))","v":""}]
[{"$f":"IF('Zgłoszenie Pacjenta'!A2797=\"\",\"\",Sprawdz_pesel('Zgłoszenie Pacjenta'!A2797))","v":""}]
[{"$f":"IF('Zgłoszenie Pacjenta'!A2798=\"\",\"\",Sprawdz_pesel('Zgłoszenie Pacjenta'!A2798))","v":""}]
[{"$f":"IF('Zgłoszenie Pacjenta'!A2799=\"\",\"\",Sprawdz_pesel('Zgłoszenie Pacjenta'!A2799))","v":""}]
[{"$f":"IF('Zgłoszenie Pacjenta'!A2800=\"\",\"\",Sprawdz_pesel('Zgłoszenie Pacjenta'!A2800))","v":""}]
[{"$f":"IF('Zgłoszenie Pacjenta'!A2801=\"\",\"\",Sprawdz_pesel('Zgłoszenie Pacjenta'!A2801))","v":""}]
[{"$f":"IF('Zgłoszenie Pacjenta'!A2802=\"\",\"\",Sprawdz_pesel('Zgłoszenie Pacjenta'!A2802))","v":""}]
[{"$f":"IF('Zgłoszenie Pacjenta'!A2803=\"\",\"\",Sprawdz_pesel('Zgłoszenie Pacjenta'!A2803))","v":""}]
[{"$f":"IF('Zgłoszenie Pacjenta'!A2804=\"\",\"\",Sprawdz_pesel('Zgłoszenie Pacjenta'!A2804))","v":""}]
[{"$f":"IF('Zgłoszenie Pacjenta'!A2805=\"\",\"\",Sprawdz_pesel('Zgłoszenie Pacjenta'!A2805))","v":""}]
[{"$f":"IF('Zgłoszenie Pacjenta'!A2806=\"\",\"\",Sprawdz_pesel('Zgłoszenie Pacjenta'!A2806))","v":""}]
[{"$f":"IF('Zgłoszenie Pacjenta'!A2807=\"\",\"\",Sprawdz_pesel('Zgłoszenie Pacjenta'!A2807))","v":""}]
[{"$f":"IF('Zgłoszenie Pacjenta'!A2808=\"\",\"\",Sprawdz_pesel('Zgłoszenie Pacjenta'!A2808))","v":""}]
[{"$f":"IF('Zgłoszenie Pacjenta'!A2809=\"\",\"\",Sprawdz_pesel('Zgłoszenie Pacjenta'!A2809))","v":""}]
[{"$f":"IF('Zgłoszenie Pacjenta'!A2810=\"\",\"\",Sprawdz_pesel('Zgłoszenie Pacjenta'!A2810))","v":""}]
[{"$f":"IF('Zgłoszenie Pacjenta'!A2811=\"\",\"\",Sprawdz_pesel('Zgłoszenie Pacjenta'!A2811))","v":""}]
[{"$f":"IF('Zgłoszenie Pacjenta'!A2812=\"\",\"\",Sprawdz_pesel('Zgłoszenie Pacjenta'!A2812))","v":""}]
[{"$f":"IF('Zgłoszenie Pacjenta'!A2813=\"\",\"\",Sprawdz_pesel('Zgłoszenie Pacjenta'!A2813))","v":""}]
[{"$f":"IF('Zgłoszenie Pacjenta'!A2814=\"\",\"\",Sprawdz_pesel('Zgłoszenie Pacjenta'!A2814))","v":""}]
[{"$f":"IF('Zgłoszenie Pacjenta'!A2815=\"\",\"\",Sprawdz_pesel('Zgłoszenie Pacjenta'!A2815))","v":""}]
[{"$f":"IF('Zgłoszenie Pacjenta'!A2816=\"\",\"\",Sprawdz_pesel('Zgłoszenie Pacjenta'!A2816))","v":""}]
[{"$f":"IF('Zgłoszenie Pacjenta'!A2817=\"\",\"\",Sprawdz_pesel('Zgłoszenie Pacjenta'!A2817))","v":""}]
[{"$f":"IF('Zgłoszenie Pacjenta'!A2818=\"\",\"\",Sprawdz_pesel('Zgłoszenie Pacjenta'!A2818))","v":""}]
[{"$f":"IF('Zgłoszenie Pacjenta'!A2819=\"\",\"\",Sprawdz_pesel('Zgłoszenie Pacjenta'!A2819))","v":""}]
[{"$f":"IF('Zgłoszenie Pacjenta'!A2820=\"\",\"\",Sprawdz_pesel('Zgłoszenie Pacjenta'!A2820))","v":""}]
[{"$f":"IF('Zgłoszenie Pacjenta'!A2821=\"\",\"\",Sprawdz_pesel('Zgłoszenie Pacjenta'!A2821))","v":""}]
[{"$f":"IF('Zgłoszenie Pacjenta'!A2822=\"\",\"\",Sprawdz_pesel('Zgłoszenie Pacjenta'!A2822))","v":""}]
[{"$f":"IF('Zgłoszenie Pacjenta'!A2823=\"\",\"\",Sprawdz_pesel('Zgłoszenie Pacjenta'!A2823))","v":""}]
[{"$f":"IF('Zgłoszenie Pacjenta'!A2824=\"\",\"\",Sprawdz_pesel('Zgłoszenie Pacjenta'!A2824))","v":""}]
[{"$f":"IF('Zgłoszenie Pacjenta'!A2825=\"\",\"\",Sprawdz_pesel('Zgłoszenie Pacjenta'!A2825))","v":""}]
[{"$f":"IF('Zgłoszenie Pacjenta'!A2826=\"\",\"\",Sprawdz_pesel('Zgłoszenie Pacjenta'!A2826))","v":""}]
[{"$f":"IF('Zgłoszenie Pacjenta'!A2827=\"\",\"\",Sprawdz_pesel('Zgłoszenie Pacjenta'!A2827))","v":""}]
[{"$f":"IF('Zgłoszenie Pacjenta'!A2828=\"\",\"\",Sprawdz_pesel('Zgłoszenie Pacjenta'!A2828))","v":""}]
[{"$f":"IF('Zgłoszenie Pacjenta'!A2829=\"\",\"\",Sprawdz_pesel('Zgłoszenie Pacjenta'!A2829))","v":""}]
[{"$f":"IF('Zgłoszenie Pacjenta'!A2830=\"\",\"\",Sprawdz_pesel('Zgłoszenie Pacjenta'!A2830))","v":""}]
[{"$f":"IF('Zgłoszenie Pacjenta'!A2831=\"\",\"\",Sprawdz_pesel('Zgłoszenie Pacjenta'!A2831))","v":""}]
[{"$f":"IF('Zgłoszenie Pacjenta'!A2832=\"\",\"\",Sprawdz_pesel('Zgłoszenie Pacjenta'!A2832))","v":""}]
[{"$f":"IF('Zgłoszenie Pacjenta'!A2833=\"\",\"\",Sprawdz_pesel('Zgłoszenie Pacjenta'!A2833))","v":""}]
[{"$f":"IF('Zgłoszenie Pacjenta'!A2834=\"\",\"\",Sprawdz_pesel('Zgłoszenie Pacjenta'!A2834))","v":""}]
[{"$f":"IF('Zgłoszenie Pacjenta'!A2835=\"\",\"\",Sprawdz_pesel('Zgłoszenie Pacjenta'!A2835))","v":""}]
[{"$f":"IF('Zgłoszenie Pacjenta'!A2836=\"\",\"\",Sprawdz_pesel('Zgłoszenie Pacjenta'!A2836))","v":""}]
[{"$f":"IF('Zgłoszenie Pacjenta'!A2837=\"\",\"\",Sprawdz_pesel('Zgłoszenie Pacjenta'!A2837))","v":""}]
[{"$f":"IF('Zgłoszenie Pacjenta'!A2838=\"\",\"\",Sprawdz_pesel('Zgłoszenie Pacjenta'!A2838))","v":""}]
[{"$f":"IF('Zgłoszenie Pacjenta'!A2839=\"\",\"\",Sprawdz_pesel('Zgłoszenie Pacjenta'!A2839))","v":""}]
[{"$f":"IF('Zgłoszenie Pacjenta'!A2840=\"\",\"\",Sprawdz_pesel('Zgłoszenie Pacjenta'!A2840))","v":""}]
[{"$f":"IF('Zgłoszenie Pacjenta'!A2841=\"\",\"\",Sprawdz_pesel('Zgłoszenie Pacjenta'!A2841))","v":""}]
[{"$f":"IF('Zgłoszenie Pacjenta'!A2842=\"\",\"\",Sprawdz_pesel('Zgłoszenie Pacjenta'!A2842))","v":""}]
[{"$f":"IF('Zgłoszenie Pacjenta'!A2843=\"\",\"\",Sprawdz_pesel('Zgłoszenie Pacjenta'!A2843))","v":""}]
[{"$f":"IF('Zgłoszenie Pacjenta'!A2844=\"\",\"\",Sprawdz_pesel('Zgłoszenie Pacjenta'!A2844))","v":""}]
[{"$f":"IF('Zgłoszenie Pacjenta'!A2845=\"\",\"\",Sprawdz_pesel('Zgłoszenie Pacjenta'!A2845))","v":""}]
[{"$f":"IF('Zgłoszenie Pacjenta'!A2846=\"\",\"\",Sprawdz_pesel('Zgłoszenie Pacjenta'!A2846))","v":""}]
[{"$f":"IF('Zgłoszenie Pacjenta'!A2847=\"\",\"\",Sprawdz_pesel('Zgłoszenie Pacjenta'!A2847))","v":""}]
[{"$f":"IF('Zgłoszenie Pacjenta'!A2848=\"\",\"\",Sprawdz_pesel('Zgłoszenie Pacjenta'!A2848))","v":""}]
[{"$f":"IF('Zgłoszenie Pacjenta'!A2849=\"\",\"\",Sprawdz_pesel('Zgłoszenie Pacjenta'!A2849))","v":""}]
[{"$f":"IF('Zgłoszenie Pacjenta'!A2850=\"\",\"\",Sprawdz_pesel('Zgłoszenie Pacjenta'!A2850))","v":""}]
[{"$f":"IF('Zgłoszenie Pacjenta'!A2851=\"\",\"\",Sprawdz_pesel('Zgłoszenie Pacjenta'!A2851))","v":""}]
[{"$f":"IF('Zgłoszenie Pacjenta'!A2852=\"\",\"\",Sprawdz_pesel('Zgłoszenie Pacjenta'!A2852))","v":""}]
[{"$f":"IF('Zgłoszenie Pacjenta'!A2853=\"\",\"\",Sprawdz_pesel('Zgłoszenie Pacjenta'!A2853))","v":""}]
[{"$f":"IF('Zgłoszenie Pacjenta'!A2854=\"\",\"\",Sprawdz_pesel('Zgłoszenie Pacjenta'!A2854))","v":""}]
[{"$f":"IF('Zgłoszenie Pacjenta'!A2855=\"\",\"\",Sprawdz_pesel('Zgłoszenie Pacjenta'!A2855))","v":""}]
[{"$f":"IF('Zgłoszenie Pacjenta'!A2856=\"\",\"\",Sprawdz_pesel('Zgłoszenie Pacjenta'!A2856))","v":""}]
[{"$f":"IF('Zgłoszenie Pacjenta'!A2857=\"\",\"\",Sprawdz_pesel('Zgłoszenie Pacjenta'!A2857))","v":""}]
[{"$f":"IF('Zgłoszenie Pacjenta'!A2858=\"\",\"\",Sprawdz_pesel('Zgłoszenie Pacjenta'!A2858))","v":""}]
[{"$f":"IF('Zgłoszenie Pacjenta'!A2859=\"\",\"\",Sprawdz_pesel('Zgłoszenie Pacjenta'!A2859))","v":""}]
[{"$f":"IF('Zgłoszenie Pacjenta'!A2860=\"\",\"\",Sprawdz_pesel('Zgłoszenie Pacjenta'!A2860))","v":""}]
[{"$f":"IF('Zgłoszenie Pacjenta'!A2861=\"\",\"\",Sprawdz_pesel('Zgłoszenie Pacjenta'!A2861))","v":""}]
[{"$f":"IF('Zgłoszenie Pacjenta'!A2862=\"\",\"\",Sprawdz_pesel('Zgłoszenie Pacjenta'!A2862))","v":""}]
[{"$f":"IF('Zgłoszenie Pacjenta'!A2863=\"\",\"\",Sprawdz_pesel('Zgłoszenie Pacjenta'!A2863))","v":""}]
[{"$f":"IF('Zgłoszenie Pacjenta'!A2864=\"\",\"\",Sprawdz_pesel('Zgłoszenie Pacjenta'!A2864))","v":""}]
[{"$f":"IF('Zgłoszenie Pacjenta'!A2865=\"\",\"\",Sprawdz_pesel('Zgłoszenie Pacjenta'!A2865))","v":""}]
[{"$f":"IF('Zgłoszenie Pacjenta'!A2866=\"\",\"\",Sprawdz_pesel('Zgłoszenie Pacjenta'!A2866))","v":""}]
[{"$f":"IF('Zgłoszenie Pacjenta'!A2867=\"\",\"\",Sprawdz_pesel('Zgłoszenie Pacjenta'!A2867))","v":""}]
[{"$f":"IF('Zgłoszenie Pacjenta'!A2868=\"\",\"\",Sprawdz_pesel('Zgłoszenie Pacjenta'!A2868))","v":""}]
[{"$f":"IF('Zgłoszenie Pacjenta'!A2869=\"\",\"\",Sprawdz_pesel('Zgłoszenie Pacjenta'!A2869))","v":""}]
[{"$f":"IF('Zgłoszenie Pacjenta'!A2870=\"\",\"\",Sprawdz_pesel('Zgłoszenie Pacjenta'!A2870))","v":""}]
[{"$f":"IF('Zgłoszenie Pacjenta'!A2871=\"\",\"\",Sprawdz_pesel('Zgłoszenie Pacjenta'!A2871))","v":""}]
[{"$f":"IF('Zgłoszenie Pacjenta'!A2872=\"\",\"\",Sprawdz_pesel('Zgłoszenie Pacjenta'!A2872))","v":""}]
[{"$f":"IF('Zgłoszenie Pacjenta'!A2873=\"\",\"\",Sprawdz_pesel('Zgłoszenie Pacjenta'!A2873))","v":""}]
[{"$f":"IF('Zgłoszenie Pacjenta'!A2874=\"\",\"\",Sprawdz_pesel('Zgłoszenie Pacjenta'!A2874))","v":""}]
[{"$f":"IF('Zgłoszenie Pacjenta'!A2875=\"\",\"\",Sprawdz_pesel('Zgłoszenie Pacjenta'!A2875))","v":""}]
[{"$f":"IF('Zgłoszenie Pacjenta'!A2876=\"\",\"\",Sprawdz_pesel('Zgłoszenie Pacjenta'!A2876))","v":""}]
[{"$f":"IF('Zgłoszenie Pacjenta'!A2877=\"\",\"\",Sprawdz_pesel('Zgłoszenie Pacjenta'!A2877))","v":""}]
[{"$f":"IF('Zgłoszenie Pacjenta'!A2878=\"\",\"\",Sprawdz_pesel('Zgłoszenie Pacjenta'!A2878))","v":""}]
[{"$f":"IF('Zgłoszenie Pacjenta'!A2879=\"\",\"\",Sprawdz_pesel('Zgłoszenie Pacjenta'!A2879))","v":""}]
[{"$f":"IF('Zgłoszenie Pacjenta'!A2880=\"\",\"\",Sprawdz_pesel('Zgłoszenie Pacjenta'!A2880))","v":""}]
[{"$f":"IF('Zgłoszenie Pacjenta'!A2881=\"\",\"\",Sprawdz_pesel('Zgłoszenie Pacjenta'!A2881))","v":""}]
[{"$f":"IF('Zgłoszenie Pacjenta'!A2882=\"\",\"\",Sprawdz_pesel('Zgłoszenie Pacjenta'!A2882))","v":""}]
[{"$f":"IF('Zgłoszenie Pacjenta'!A2883=\"\",\"\",Sprawdz_pesel('Zgłoszenie Pacjenta'!A2883))","v":""}]
[{"$f":"IF('Zgłoszenie Pacjenta'!A2884=\"\",\"\",Sprawdz_pesel('Zgłoszenie Pacjenta'!A2884))","v":""}]
[{"$f":"IF('Zgłoszenie Pacjenta'!A2885=\"\",\"\",Sprawdz_pesel('Zgłoszenie Pacjenta'!A2885))","v":""}]
[{"$f":"IF('Zgłoszenie Pacjenta'!A2886=\"\",\"\",Sprawdz_pesel('Zgłoszenie Pacjenta'!A2886))","v":""}]
[{"$f":"IF('Zgłoszenie Pacjenta'!A2887=\"\",\"\",Sprawdz_pesel('Zgłoszenie Pacjenta'!A2887))","v":""}]
[{"$f":"IF('Zgłoszenie Pacjenta'!A2888=\"\",\"\",Sprawdz_pesel('Zgłoszenie Pacjenta'!A2888))","v":""}]
[{"$f":"IF('Zgłoszenie Pacjenta'!A2889=\"\",\"\",Sprawdz_pesel('Zgłoszenie Pacjenta'!A2889))","v":""}]
[{"$f":"IF('Zgłoszenie Pacjenta'!A2890=\"\",\"\",Sprawdz_pesel('Zgłoszenie Pacjenta'!A2890))","v":""}]
[{"$f":"IF('Zgłoszenie Pacjenta'!A2891=\"\",\"\",Sprawdz_pesel('Zgłoszenie Pacjenta'!A2891))","v":""}]
[{"$f":"IF('Zgłoszenie Pacjenta'!A2892=\"\",\"\",Sprawdz_pesel('Zgłoszenie Pacjenta'!A2892))","v":""}]
[{"$f":"IF('Zgłoszenie Pacjenta'!A2893=\"\",\"\",Sprawdz_pesel('Zgłoszenie Pacjenta'!A2893))","v":""}]
[{"$f":"IF('Zgłoszenie Pacjenta'!A2894=\"\",\"\",Sprawdz_pesel('Zgłoszenie Pacjenta'!A2894))","v":""}]
[{"$f":"IF('Zgłoszenie Pacjenta'!A2895=\"\",\"\",Sprawdz_pesel('Zgłoszenie Pacjenta'!A2895))","v":""}]
[{"$f":"IF('Zgłoszenie Pacjenta'!A2896=\"\",\"\",Sprawdz_pesel('Zgłoszenie Pacjenta'!A2896))","v":""}]
[{"$f":"IF('Zgłoszenie Pacjenta'!A2897=\"\",\"\",Sprawdz_pesel('Zgłoszenie Pacjenta'!A2897))","v":""}]
[{"$f":"IF('Zgłoszenie Pacjenta'!A2898=\"\",\"\",Sprawdz_pesel('Zgłoszenie Pacjenta'!A2898))","v":""}]
[{"$f":"IF('Zgłoszenie Pacjenta'!A2899=\"\",\"\",Sprawdz_pesel('Zgłoszenie Pacjenta'!A2899))","v":""}]
[{"$f":"IF('Zgłoszenie Pacjenta'!A2900=\"\",\"\",Sprawdz_pesel('Zgłoszenie Pacjenta'!A2900))","v":""}]
[{"$f":"IF('Zgłoszenie Pacjenta'!A2901=\"\",\"\",Sprawdz_pesel('Zgłoszenie Pacjenta'!A2901))","v":""}]
[{"$f":"IF('Zgłoszenie Pacjenta'!A2902=\"\",\"\",Sprawdz_pesel('Zgłoszenie Pacjenta'!A2902))","v":""}]
[{"$f":"IF('Zgłoszenie Pacjenta'!A2903=\"\",\"\",Sprawdz_pesel('Zgłoszenie Pacjenta'!A2903))","v":""}]
[{"$f":"IF('Zgłoszenie Pacjenta'!A2904=\"\",\"\",Sprawdz_pesel('Zgłoszenie Pacjenta'!A2904))","v":""}]
[{"$f":"IF('Zgłoszenie Pacjenta'!A2905=\"\",\"\",Sprawdz_pesel('Zgłoszenie Pacjenta'!A2905))","v":""}]
[{"$f":"IF('Zgłoszenie Pacjenta'!A2906=\"\",\"\",Sprawdz_pesel('Zgłoszenie Pacjenta'!A2906))","v":""}]
[{"$f":"IF('Zgłoszenie Pacjenta'!A2907=\"\",\"\",Sprawdz_pesel('Zgłoszenie Pacjenta'!A2907))","v":""}]
[{"$f":"IF('Zgłoszenie Pacjenta'!A2908=\"\",\"\",Sprawdz_pesel('Zgłoszenie Pacjenta'!A2908))","v":""}]
[{"$f":"IF('Zgłoszenie Pacjenta'!A2909=\"\",\"\",Sprawdz_pesel('Zgłoszenie Pacjenta'!A2909))","v":""}]
[{"$f":"IF('Zgłoszenie Pacjenta'!A2910=\"\",\"\",Sprawdz_pesel('Zgłoszenie Pacjenta'!A2910))","v":""}]
[{"$f":"IF('Zgłoszenie Pacjenta'!A2911=\"\",\"\",Sprawdz_pesel('Zgłoszenie Pacjenta'!A2911))","v":""}]
[{"$f":"IF('Zgłoszenie Pacjenta'!A2912=\"\",\"\",Sprawdz_pesel('Zgłoszenie Pacjenta'!A2912))","v":""}]
[{"$f":"IF('Zgłoszenie Pacjenta'!A2913=\"\",\"\",Sprawdz_pesel('Zgłoszenie Pacjenta'!A2913))","v":""}]
[{"$f":"IF('Zgłoszenie Pacjenta'!A2914=\"\",\"\",Sprawdz_pesel('Zgłoszenie Pacjenta'!A2914))","v":""}]
[{"$f":"IF('Zgłoszenie Pacjenta'!A2915=\"\",\"\",Sprawdz_pesel('Zgłoszenie Pacjenta'!A2915))","v":""}]
[{"$f":"IF('Zgłoszenie Pacjenta'!A2916=\"\",\"\",Sprawdz_pesel('Zgłoszenie Pacjenta'!A2916))","v":""}]
[{"$f":"IF('Zgłoszenie Pacjenta'!A2917=\"\",\"\",Sprawdz_pesel('Zgłoszenie Pacjenta'!A2917))","v":""}]
[{"$f":"IF('Zgłoszenie Pacjenta'!A2918=\"\",\"\",Sprawdz_pesel('Zgłoszenie Pacjenta'!A2918))","v":""}]
[{"$f":"IF('Zgłoszenie Pacjenta'!A2919=\"\",\"\",Sprawdz_pesel('Zgłoszenie Pacjenta'!A2919))","v":""}]
[{"$f":"IF('Zgłoszenie Pacjenta'!A2920=\"\",\"\",Sprawdz_pesel('Zgłoszenie Pacjenta'!A2920))","v":""}]
[{"$f":"IF('Zgłoszenie Pacjenta'!A2921=\"\",\"\",Sprawdz_pesel('Zgłoszenie Pacjenta'!A2921))","v":""}]
[{"$f":"IF('Zgłoszenie Pacjenta'!A2922=\"\",\"\",Sprawdz_pesel('Zgłoszenie Pacjenta'!A2922))","v":""}]
[{"$f":"IF('Zgłoszenie Pacjenta'!A2923=\"\",\"\",Sprawdz_pesel('Zgłoszenie Pacjenta'!A2923))","v":""}]
[{"$f":"IF('Zgłoszenie Pacjenta'!A2924=\"\",\"\",Sprawdz_pesel('Zgłoszenie Pacjenta'!A2924))","v":""}]
[{"$f":"IF('Zgłoszenie Pacjenta'!A2925=\"\",\"\",Sprawdz_pesel('Zgłoszenie Pacjenta'!A2925))","v":""}]
[{"$f":"IF('Zgłoszenie Pacjenta'!A2926=\"\",\"\",Sprawdz_pesel('Zgłoszenie Pacjenta'!A2926))","v":""}]
[{"$f":"IF('Zgłoszenie Pacjenta'!A2927=\"\",\"\",Sprawdz_pesel('Zgłoszenie Pacjenta'!A2927))","v":""}]
[{"$f":"IF('Zgłoszenie Pacjenta'!A2928=\"\",\"\",Sprawdz_pesel('Zgłoszenie Pacjenta'!A2928))","v":""}]
[{"$f":"IF('Zgłoszenie Pacjenta'!A2929=\"\",\"\",Sprawdz_pesel('Zgłoszenie Pacjenta'!A2929))","v":""}]
[{"$f":"IF('Zgłoszenie Pacjenta'!A2930=\"\",\"\",Sprawdz_pesel('Zgłoszenie Pacjenta'!A2930))","v":""}]
[{"$f":"IF('Zgłoszenie Pacjenta'!A2931=\"\",\"\",Sprawdz_pesel('Zgłoszenie Pacjenta'!A2931))","v":""}]
[{"$f":"IF('Zgłoszenie Pacjenta'!A2932=\"\",\"\",Sprawdz_pesel('Zgłoszenie Pacjenta'!A2932))","v":""}]
[{"$f":"IF('Zgłoszenie Pacjenta'!A2933=\"\",\"\",Sprawdz_pesel('Zgłoszenie Pacjenta'!A2933))","v":""}]
[{"$f":"IF('Zgłoszenie Pacjenta'!A2934=\"\",\"\",Sprawdz_pesel('Zgłoszenie Pacjenta'!A2934))","v":""}]
[{"$f":"IF('Zgłoszenie Pacjenta'!A2935=\"\",\"\",Sprawdz_pesel('Zgłoszenie Pacjenta'!A2935))","v":""}]
[{"$f":"IF('Zgłoszenie Pacjenta'!A2936=\"\",\"\",Sprawdz_pesel('Zgłoszenie Pacjenta'!A2936))","v":""}]
[{"$f":"IF('Zgłoszenie Pacjenta'!A2937=\"\",\"\",Sprawdz_pesel('Zgłoszenie Pacjenta'!A2937))","v":""}]
[{"$f":"IF('Zgłoszenie Pacjenta'!A2938=\"\",\"\",Sprawdz_pesel('Zgłoszenie Pacjenta'!A2938))","v":""}]
[{"$f":"IF('Zgłoszenie Pacjenta'!A2939=\"\",\"\",Sprawdz_pesel('Zgłoszenie Pacjenta'!A2939))","v":""}]
[{"$f":"IF('Zgłoszenie Pacjenta'!A2940=\"\",\"\",Sprawdz_pesel('Zgłoszenie Pacjenta'!A2940))","v":""}]
[{"$f":"IF('Zgłoszenie Pacjenta'!A2941=\"\",\"\",Sprawdz_pesel('Zgłoszenie Pacjenta'!A2941))","v":""}]
[{"$f":"IF('Zgłoszenie Pacjenta'!A2942=\"\",\"\",Sprawdz_pesel('Zgłoszenie Pacjenta'!A2942))","v":""}]
[{"$f":"IF('Zgłoszenie Pacjenta'!A2943=\"\",\"\",Sprawdz_pesel('Zgłoszenie Pacjenta'!A2943))","v":""}]
[{"$f":"IF('Zgłoszenie Pacjenta'!A2944=\"\",\"\",Sprawdz_pesel('Zgłoszenie Pacjenta'!A2944))","v":""}]
[{"$f":"IF('Zgłoszenie Pacjenta'!A2945=\"\",\"\",Sprawdz_pesel('Zgłoszenie Pacjenta'!A2945))","v":""}]
[{"$f":"IF('Zgłoszenie Pacjenta'!A2946=\"\",\"\",Sprawdz_pesel('Zgłoszenie Pacjenta'!A2946))","v":""}]
[{"$f":"IF('Zgłoszenie Pacjenta'!A2947=\"\",\"\",Sprawdz_pesel('Zgłoszenie Pacjenta'!A2947))","v":""}]
[{"$f":"IF('Zgłoszenie Pacjenta'!A2948=\"\",\"\",Sprawdz_pesel('Zgłoszenie Pacjenta'!A2948))","v":""}]
[{"$f":"IF('Zgłoszenie Pacjenta'!A2949=\"\",\"\",Sprawdz_pesel('Zgłoszenie Pacjenta'!A2949))","v":""}]
[{"$f":"IF('Zgłoszenie Pacjenta'!A2950=\"\",\"\",Sprawdz_pesel('Zgłoszenie Pacjenta'!A2950))","v":""}]
[{"$f":"IF('Zgłoszenie Pacjenta'!A2951=\"\",\"\",Sprawdz_pesel('Zgłoszenie Pacjenta'!A2951))","v":""}]
[{"$f":"IF('Zgłoszenie Pacjenta'!A2952=\"\",\"\",Sprawdz_pesel('Zgłoszenie Pacjenta'!A2952))","v":""}]
[{"$f":"IF('Zgłoszenie Pacjenta'!A2953=\"\",\"\",Sprawdz_pesel('Zgłoszenie Pacjenta'!A2953))","v":""}]
[{"$f":"IF('Zgłoszenie Pacjenta'!A2954=\"\",\"\",Sprawdz_pesel('Zgłoszenie Pacjenta'!A2954))","v":""}]
[{"$f":"IF('Zgłoszenie Pacjenta'!A2955=\"\",\"\",Sprawdz_pesel('Zgłoszenie Pacjenta'!A2955))","v":""}]
[{"$f":"IF('Zgłoszenie Pacjenta'!A2956=\"\",\"\",Sprawdz_pesel('Zgłoszenie Pacjenta'!A2956))","v":""}]
[{"$f":"IF('Zgłoszenie Pacjenta'!A2957=\"\",\"\",Sprawdz_pesel('Zgłoszenie Pacjenta'!A2957))","v":""}]
[{"$f":"IF('Zgłoszenie Pacjenta'!A2958=\"\",\"\",Sprawdz_pesel('Zgłoszenie Pacjenta'!A2958))","v":""}]
[{"$f":"IF('Zgłoszenie Pacjenta'!A2959=\"\",\"\",Sprawdz_pesel('Zgłoszenie Pacjenta'!A2959))","v":""}]
[{"$f":"IF('Zgłoszenie Pacjenta'!A2960=\"\",\"\",Sprawdz_pesel('Zgłoszenie Pacjenta'!A2960))","v":""}]
[{"$f":"IF('Zgłoszenie Pacjenta'!A2961=\"\",\"\",Sprawdz_pesel('Zgłoszenie Pacjenta'!A2961))","v":""}]
[{"$f":"IF('Zgłoszenie Pacjenta'!A2962=\"\",\"\",Sprawdz_pesel('Zgłoszenie Pacjenta'!A2962))","v":""}]
[{"$f":"IF('Zgłoszenie Pacjenta'!A2963=\"\",\"\",Sprawdz_pesel('Zgłoszenie Pacjenta'!A2963))","v":""}]
[{"$f":"IF('Zgłoszenie Pacjenta'!A2964=\"\",\"\",Sprawdz_pesel('Zgłoszenie Pacjenta'!A2964))","v":""}]
[{"$f":"IF('Zgłoszenie Pacjenta'!A2965=\"\",\"\",Sprawdz_pesel('Zgłoszenie Pacjenta'!A2965))","v":""}]
[{"$f":"IF('Zgłoszenie Pacjenta'!A2966=\"\",\"\",Sprawdz_pesel('Zgłoszenie Pacjenta'!A2966))","v":""}]
[{"$f":"IF('Zgłoszenie Pacjenta'!A2967=\"\",\"\",Sprawdz_pesel('Zgłoszenie Pacjenta'!A2967))","v":""}]
[{"$f":"IF('Zgłoszenie Pacjenta'!A2968=\"\",\"\",Sprawdz_pesel('Zgłoszenie Pacjenta'!A2968))","v":""}]
[{"$f":"IF('Zgłoszenie Pacjenta'!A2969=\"\",\"\",Sprawdz_pesel('Zgłoszenie Pacjenta'!A2969))","v":""}]
[{"$f":"IF('Zgłoszenie Pacjenta'!A2970=\"\",\"\",Sprawdz_pesel('Zgłoszenie Pacjenta'!A2970))","v":""}]
[{"$f":"IF('Zgłoszenie Pacjenta'!A2971=\"\",\"\",Sprawdz_pesel('Zgłoszenie Pacjenta'!A2971))","v":""}]
[{"$f":"IF('Zgłoszenie Pacjenta'!A2972=\"\",\"\",Sprawdz_pesel('Zgłoszenie Pacjenta'!A2972))","v":""}]
[{"$f":"IF('Zgłoszenie Pacjenta'!A2973=\"\",\"\",Sprawdz_pesel('Zgłoszenie Pacjenta'!A2973))","v":""}]
[{"$f":"IF('Zgłoszenie Pacjenta'!A2974=\"\",\"\",Sprawdz_pesel('Zgłoszenie Pacjenta'!A2974))","v":""}]
[{"$f":"IF('Zgłoszenie Pacjenta'!A2975=\"\",\"\",Sprawdz_pesel('Zgłoszenie Pacjenta'!A2975))","v":""}]
[{"$f":"IF('Zgłoszenie Pacjenta'!A2976=\"\",\"\",Sprawdz_pesel('Zgłoszenie Pacjenta'!A2976))","v":""}]
[{"$f":"IF('Zgłoszenie Pacjenta'!A2977=\"\",\"\",Sprawdz_pesel('Zgłoszenie Pacjenta'!A2977))","v":""}]
[{"$f":"IF('Zgłoszenie Pacjenta'!A2978=\"\",\"\",Sprawdz_pesel('Zgłoszenie Pacjenta'!A2978))","v":""}]
[{"$f":"IF('Zgłoszenie Pacjenta'!A2979=\"\",\"\",Sprawdz_pesel('Zgłoszenie Pacjenta'!A2979))","v":""}]
[{"$f":"IF('Zgłoszenie Pacjenta'!A2980=\"\",\"\",Sprawdz_pesel('Zgłoszenie Pacjenta'!A2980))","v":""}]
[{"$f":"IF('Zgłoszenie Pacjenta'!A2981=\"\",\"\",Sprawdz_pesel('Zgłoszenie Pacjenta'!A2981))","v":""}]
[{"$f":"IF('Zgłoszenie Pacjenta'!A2982=\"\",\"\",Sprawdz_pesel('Zgłoszenie Pacjenta'!A2982))","v":""}]
[{"$f":"IF('Zgłoszenie Pacjenta'!A2983=\"\",\"\",Sprawdz_pesel('Zgłoszenie Pacjenta'!A2983))","v":""}]
[{"$f":"IF('Zgłoszenie Pacjenta'!A2984=\"\",\"\",Sprawdz_pesel('Zgłoszenie Pacjenta'!A2984))","v":""}]
[{"$f":"IF('Zgłoszenie Pacjenta'!A2985=\"\",\"\",Sprawdz_pesel('Zgłoszenie Pacjenta'!A2985))","v":""}]
[{"$f":"IF('Zgłoszenie Pacjenta'!A2986=\"\",\"\",Sprawdz_pesel('Zgłoszenie Pacjenta'!A2986))","v":""}]
[{"$f":"IF('Zgłoszenie Pacjenta'!A2987=\"\",\"\",Sprawdz_pesel('Zgłoszenie Pacjenta'!A2987))","v":""}]
[{"$f":"IF('Zgłoszenie Pacjenta'!A2988=\"\",\"\",Sprawdz_pesel('Zgłoszenie Pacjenta'!A2988))","v":""}]
[{"$f":"IF('Zgłoszenie Pacjenta'!A2989=\"\",\"\",Sprawdz_pesel('Zgłoszenie Pacjenta'!A2989))","v":""}]
[{"$f":"IF('Zgłoszenie Pacjenta'!A2990=\"\",\"\",Sprawdz_pesel('Zgłoszenie Pacjenta'!A2990))","v":""}]
[{"$f":"IF('Zgłoszenie Pacjenta'!A2991=\"\",\"\",Sprawdz_pesel('Zgłoszenie Pacjenta'!A2991))","v":""}]
[{"$f":"IF('Zgłoszenie Pacjenta'!A2992=\"\",\"\",Sprawdz_pesel('Zgłoszenie Pacjenta'!A2992))","v":""}]
[{"$f":"IF('Zgłoszenie Pacjenta'!A2993=\"\",\"\",Sprawdz_pesel('Zgłoszenie Pacjenta'!A2993))","v":""}]
[{"$f":"IF('Zgłoszenie Pacjenta'!A2994=\"\",\"\",Sprawdz_pesel('Zgłoszenie Pacjenta'!A2994))","v":""}]
[{"$f":"IF('Zgłoszenie Pacjenta'!A2995=\"\",\"\",Sprawdz_pesel('Zgłoszenie Pacjenta'!A2995))","v":""}]
[{"$f":"IF('Zgłoszenie Pacjenta'!A2996=\"\",\"\",Sprawdz_pesel('Zgłoszenie Pacjenta'!A2996))","v":""}]
[{"$f":"IF('Zgłoszenie Pacjenta'!A2997=\"\",\"\",Sprawdz_pesel('Zgłoszenie Pacjenta'!A2997))","v":""}]
[{"$f":"IF('Zgłoszenie Pacjenta'!A2998=\"\",\"\",Sprawdz_pesel('Zgłoszenie Pacjenta'!A2998))","v":""}]
[{"$f":"IF('Zgłoszenie Pacjenta'!A2999=\"\",\"\",Sprawdz_pesel('Zgłoszenie Pacjenta'!A2999))","v":""}]
[{"$f":"IF('Zgłoszenie Pacjenta'!A3000=\"\",\"\",Sprawdz_pesel('Zgłoszenie Pacjenta'!A3000))","v":""}]
[{"$f":"IF('Zgłoszenie Pacjenta'!A3001=\"\",\"\",Sprawdz_pesel('Zgłoszenie Pacjenta'!A3001))","v":""}]
[{"$f":"IF('Zgłoszenie Pacjenta'!A3002=\"\",\"\",Sprawdz_pesel('Zgłoszenie Pacjenta'!A3002))","v":""}]
[{"$f":"IF('Zgłoszenie Pacjenta'!A3003=\"\",\"\",Sprawdz_pesel('Zgłoszenie Pacjenta'!A3003))","v":""}]
[{"$f":"IF('Zgłoszenie Pacjenta'!A3004=\"\",\"\",Sprawdz_pesel('Zgłoszenie Pacjenta'!A3004))","v":""}]
[{"$f":"IF('Zgłoszenie Pacjenta'!A3005=\"\",\"\",Sprawdz_pesel('Zgłoszenie Pacjenta'!A3005))","v":""}]
[{"$f":"IF('Zgłoszenie Pacjenta'!A3006=\"\",\"\",Sprawdz_pesel('Zgłoszenie Pacjenta'!A3006))","v":""}]
[{"$f":"IF('Zgłoszenie Pacjenta'!A3007=\"\",\"\",Sprawdz_pesel('Zgłoszenie Pacjenta'!A3007))","v":""}]
[{"$f":"IF('Zgłoszenie Pacjenta'!A3008=\"\",\"\",Sprawdz_pesel('Zgłoszenie Pacjenta'!A3008))","v":""}]
[{"$f":"IF('Zgłoszenie Pacjenta'!A3009=\"\",\"\",Sprawdz_pesel('Zgłoszenie Pacjenta'!A3009))","v":""}]
[{"$f":"IF('Zgłoszenie Pacjenta'!A3010=\"\",\"\",Sprawdz_pesel('Zgłoszenie Pacjenta'!A3010))","v":""}]
[{"$f":"IF('Zgłoszenie Pacjenta'!A3011=\"\",\"\",Sprawdz_pesel('Zgłoszenie Pacjenta'!A3011))","v":""}]
[{"$f":"IF('Zgłoszenie Pacjenta'!A3012=\"\",\"\",Sprawdz_pesel('Zgłoszenie Pacjenta'!A3012))","v":""}]
[{"$f":"IF('Zgłoszenie Pacjenta'!A3013=\"\",\"\",Sprawdz_pesel('Zgłoszenie Pacjenta'!A3013))","v":""}]
[{"$f":"IF('Zgłoszenie Pacjenta'!A3014=\"\",\"\",Sprawdz_pesel('Zgłoszenie Pacjenta'!A3014))","v":""}]
[{"$f":"IF('Zgłoszenie Pacjenta'!A3015=\"\",\"\",Sprawdz_pesel('Zgłoszenie Pacjenta'!A3015))","v":""}]
[{"$f":"IF('Zgłoszenie Pacjenta'!A3016=\"\",\"\",Sprawdz_pesel('Zgłoszenie Pacjenta'!A3016))","v":""}]
[{"$f":"IF('Zgłoszenie Pacjenta'!A3017=\"\",\"\",Sprawdz_pesel('Zgłoszenie Pacjenta'!A3017))","v":""}]
[{"$f":"IF('Zgłoszenie Pacjenta'!A3018=\"\",\"\",Sprawdz_pesel('Zgłoszenie Pacjenta'!A3018))","v":""}]
[{"$f":"IF('Zgłoszenie Pacjenta'!A3019=\"\",\"\",Sprawdz_pesel('Zgłoszenie Pacjenta'!A3019))","v":""}]
[{"$f":"IF('Zgłoszenie Pacjenta'!A3020=\"\",\"\",Sprawdz_pesel('Zgłoszenie Pacjenta'!A3020))","v":""}]
[{"$f":"IF('Zgłoszenie Pacjenta'!A3021=\"\",\"\",Sprawdz_pesel('Zgłoszenie Pacjenta'!A3021))","v":""}]
[{"$f":"IF('Zgłoszenie Pacjenta'!A3022=\"\",\"\",Sprawdz_pesel('Zgłoszenie Pacjenta'!A3022))","v":""}]
[{"$f":"IF('Zgłoszenie Pacjenta'!A3023=\"\",\"\",Sprawdz_pesel('Zgłoszenie Pacjenta'!A3023))","v":""}]
[{"$f":"IF('Zgłoszenie Pacjenta'!A3024=\"\",\"\",Sprawdz_pesel('Zgłoszenie Pacjenta'!A3024))","v":""}]
[{"$f":"IF('Zgłoszenie Pacjenta'!A3025=\"\",\"\",Sprawdz_pesel('Zgłoszenie Pacjenta'!A3025))","v":""}]
[{"$f":"IF('Zgłoszenie Pacjenta'!A3026=\"\",\"\",Sprawdz_pesel('Zgłoszenie Pacjenta'!A3026))","v":""}]
[{"$f":"IF('Zgłoszenie Pacjenta'!A3027=\"\",\"\",Sprawdz_pesel('Zgłoszenie Pacjenta'!A3027))","v":""}]
[{"$f":"IF('Zgłoszenie Pacjenta'!A3028=\"\",\"\",Sprawdz_pesel('Zgłoszenie Pacjenta'!A3028))","v":""}]
[{"$f":"IF('Zgłoszenie Pacjenta'!A3029=\"\",\"\",Sprawdz_pesel('Zgłoszenie Pacjenta'!A3029))","v":""}]
[{"$f":"IF('Zgłoszenie Pacjenta'!A3030=\"\",\"\",Sprawdz_pesel('Zgłoszenie Pacjenta'!A3030))","v":""}]
[{"$f":"IF('Zgłoszenie Pacjenta'!A3031=\"\",\"\",Sprawdz_pesel('Zgłoszenie Pacjenta'!A3031))","v":""}]
[{"$f":"IF('Zgłoszenie Pacjenta'!A3032=\"\",\"\",Sprawdz_pesel('Zgłoszenie Pacjenta'!A3032))","v":""}]
[{"$f":"IF('Zgłoszenie Pacjenta'!A3033=\"\",\"\",Sprawdz_pesel('Zgłoszenie Pacjenta'!A3033))","v":""}]
[{"$f":"IF('Zgłoszenie Pacjenta'!A3034=\"\",\"\",Sprawdz_pesel('Zgłoszenie Pacjenta'!A3034))","v":""}]
[{"$f":"IF('Zgłoszenie Pacjenta'!A3035=\"\",\"\",Sprawdz_pesel('Zgłoszenie Pacjenta'!A3035))","v":""}]
[{"$f":"IF('Zgłoszenie Pacjenta'!A3036=\"\",\"\",Sprawdz_pesel('Zgłoszenie Pacjenta'!A3036))","v":""}]
[{"$f":"IF('Zgłoszenie Pacjenta'!A3037=\"\",\"\",Sprawdz_pesel('Zgłoszenie Pacjenta'!A3037))","v":""}]
[{"$f":"IF('Zgłoszenie Pacjenta'!A3038=\"\",\"\",Sprawdz_pesel('Zgłoszenie Pacjenta'!A3038))","v":""}]
[{"$f":"IF('Zgłoszenie Pacjenta'!A3039=\"\",\"\",Sprawdz_pesel('Zgłoszenie Pacjenta'!A3039))","v":""}]
[{"$f":"IF('Zgłoszenie Pacjenta'!A3040=\"\",\"\",Sprawdz_pesel('Zgłoszenie Pacjenta'!A3040))","v":""}]
[{"$f":"IF('Zgłoszenie Pacjenta'!A3041=\"\",\"\",Sprawdz_pesel('Zgłoszenie Pacjenta'!A3041))","v":""}]
[{"$f":"IF('Zgłoszenie Pacjenta'!A3042=\"\",\"\",Sprawdz_pesel('Zgłoszenie Pacjenta'!A3042))","v":""}]
[{"$f":"IF('Zgłoszenie Pacjenta'!A3043=\"\",\"\",Sprawdz_pesel('Zgłoszenie Pacjenta'!A3043))","v":""}]
[{"$f":"IF('Zgłoszenie Pacjenta'!A3044=\"\",\"\",Sprawdz_pesel('Zgłoszenie Pacjenta'!A3044))","v":""}]
[{"$f":"IF('Zgłoszenie Pacjenta'!A3045=\"\",\"\",Sprawdz_pesel('Zgłoszenie Pacjenta'!A3045))","v":""}]
[{"$f":"IF('Zgłoszenie Pacjenta'!A3046=\"\",\"\",Sprawdz_pesel('Zgłoszenie Pacjenta'!A3046))","v":""}]
[{"$f":"IF('Zgłoszenie Pacjenta'!A3047=\"\",\"\",Sprawdz_pesel('Zgłoszenie Pacjenta'!A3047))","v":""}]
[{"$f":"IF('Zgłoszenie Pacjenta'!A3048=\"\",\"\",Sprawdz_pesel('Zgłoszenie Pacjenta'!A3048))","v":""}]
[{"$f":"IF('Zgłoszenie Pacjenta'!A3049=\"\",\"\",Sprawdz_pesel('Zgłoszenie Pacjenta'!A3049))","v":""}]
[{"$f":"IF('Zgłoszenie Pacjenta'!A3050=\"\",\"\",Sprawdz_pesel('Zgłoszenie Pacjenta'!A3050))","v":""}]
[{"$f":"IF('Zgłoszenie Pacjenta'!A3051=\"\",\"\",Sprawdz_pesel('Zgłoszenie Pacjenta'!A3051))","v":""}]
[{"$f":"IF('Zgłoszenie Pacjenta'!A3052=\"\",\"\",Sprawdz_pesel('Zgłoszenie Pacjenta'!A3052))","v":""}]
[{"$f":"IF('Zgłoszenie Pacjenta'!A3053=\"\",\"\",Sprawdz_pesel('Zgłoszenie Pacjenta'!A3053))","v":""}]
[{"$f":"IF('Zgłoszenie Pacjenta'!A3054=\"\",\"\",Sprawdz_pesel('Zgłoszenie Pacjenta'!A3054))","v":""}]
[{"$f":"IF('Zgłoszenie Pacjenta'!A3055=\"\",\"\",Sprawdz_pesel('Zgłoszenie Pacjenta'!A3055))","v":""}]
[{"$f":"IF('Zgłoszenie Pacjenta'!A3056=\"\",\"\",Sprawdz_pesel('Zgłoszenie Pacjenta'!A3056))","v":""}]
[{"$f":"IF('Zgłoszenie Pacjenta'!A3057=\"\",\"\",Sprawdz_pesel('Zgłoszenie Pacjenta'!A3057))","v":""}]
[{"$f":"IF('Zgłoszenie Pacjenta'!A3058=\"\",\"\",Sprawdz_pesel('Zgłoszenie Pacjenta'!A3058))","v":""}]
[{"$f":"IF('Zgłoszenie Pacjenta'!A3059=\"\",\"\",Sprawdz_pesel('Zgłoszenie Pacjenta'!A3059))","v":""}]
[{"$f":"IF('Zgłoszenie Pacjenta'!A3060=\"\",\"\",Sprawdz_pesel('Zgłoszenie Pacjenta'!A3060))","v":""}]
[{"$f":"IF('Zgłoszenie Pacjenta'!A3061=\"\",\"\",Sprawdz_pesel('Zgłoszenie Pacjenta'!A3061))","v":""}]
[{"$f":"IF('Zgłoszenie Pacjenta'!A3062=\"\",\"\",Sprawdz_pesel('Zgłoszenie Pacjenta'!A3062))","v":""}]
[{"$f":"IF('Zgłoszenie Pacjenta'!A3063=\"\",\"\",Sprawdz_pesel('Zgłoszenie Pacjenta'!A3063))","v":""}]
[{"$f":"IF('Zgłoszenie Pacjenta'!A3064=\"\",\"\",Sprawdz_pesel('Zgłoszenie Pacjenta'!A3064))","v":""}]
[{"$f":"IF('Zgłoszenie Pacjenta'!A3065=\"\",\"\",Sprawdz_pesel('Zgłoszenie Pacjenta'!A3065))","v":""}]
[{"$f":"IF('Zgłoszenie Pacjenta'!A3066=\"\",\"\",Sprawdz_pesel('Zgłoszenie Pacjenta'!A3066))","v":""}]
[{"$f":"IF('Zgłoszenie Pacjenta'!A3067=\"\",\"\",Sprawdz_pesel('Zgłoszenie Pacjenta'!A3067))","v":""}]
[{"$f":"IF('Zgłoszenie Pacjenta'!A3068=\"\",\"\",Sprawdz_pesel('Zgłoszenie Pacjenta'!A3068))","v":""}]
[{"$f":"IF('Zgłoszenie Pacjenta'!A3069=\"\",\"\",Sprawdz_pesel('Zgłoszenie Pacjenta'!A3069))","v":""}]
[{"$f":"IF('Zgłoszenie Pacjenta'!A3070=\"\",\"\",Sprawdz_pesel('Zgłoszenie Pacjenta'!A3070))","v":""}]
[{"$f":"IF('Zgłoszenie Pacjenta'!A3071=\"\",\"\",Sprawdz_pesel('Zgłoszenie Pacjenta'!A3071))","v":""}]
[{"$f":"IF('Zgłoszenie Pacjenta'!A3072=\"\",\"\",Sprawdz_pesel('Zgłoszenie Pacjenta'!A3072))","v":""}]
[{"$f":"IF('Zgłoszenie Pacjenta'!A3073=\"\",\"\",Sprawdz_pesel('Zgłoszenie Pacjenta'!A3073))","v":""}]
[{"$f":"IF('Zgłoszenie Pacjenta'!A3074=\"\",\"\",Sprawdz_pesel('Zgłoszenie Pacjenta'!A3074))","v":""}]
[{"$f":"IF('Zgłoszenie Pacjenta'!A3075=\"\",\"\",Sprawdz_pesel('Zgłoszenie Pacjenta'!A3075))","v":""}]
[{"$f":"IF('Zgłoszenie Pacjenta'!A3076=\"\",\"\",Sprawdz_pesel('Zgłoszenie Pacjenta'!A3076))","v":""}]
[{"$f":"IF('Zgłoszenie Pacjenta'!A3077=\"\",\"\",Sprawdz_pesel('Zgłoszenie Pacjenta'!A3077))","v":""}]
[{"$f":"IF('Zgłoszenie Pacjenta'!A3078=\"\",\"\",Sprawdz_pesel('Zgłoszenie Pacjenta'!A3078))","v":""}]
[{"$f":"IF('Zgłoszenie Pacjenta'!A3079=\"\",\"\",Sprawdz_pesel('Zgłoszenie Pacjenta'!A3079))","v":""}]
[{"$f":"IF('Zgłoszenie Pacjenta'!A3080=\"\",\"\",Sprawdz_pesel('Zgłoszenie Pacjenta'!A3080))","v":""}]
[{"$f":"IF('Zgłoszenie Pacjenta'!A3081=\"\",\"\",Sprawdz_pesel('Zgłoszenie Pacjenta'!A3081))","v":""}]
[{"$f":"IF('Zgłoszenie Pacjenta'!A3082=\"\",\"\",Sprawdz_pesel('Zgłoszenie Pacjenta'!A3082))","v":""}]
[{"$f":"IF('Zgłoszenie Pacjenta'!A3083=\"\",\"\",Sprawdz_pesel('Zgłoszenie Pacjenta'!A3083))","v":""}]
[{"$f":"IF('Zgłoszenie Pacjenta'!A3084=\"\",\"\",Sprawdz_pesel('Zgłoszenie Pacjenta'!A3084))","v":""}]
[{"$f":"IF('Zgłoszenie Pacjenta'!A3085=\"\",\"\",Sprawdz_pesel('Zgłoszenie Pacjenta'!A3085))","v":""}]
[{"$f":"IF('Zgłoszenie Pacjenta'!A3086=\"\",\"\",Sprawdz_pesel('Zgłoszenie Pacjenta'!A3086))","v":""}]
[{"$f":"IF('Zgłoszenie Pacjenta'!A3087=\"\",\"\",Sprawdz_pesel('Zgłoszenie Pacjenta'!A3087))","v":""}]
[{"$f":"IF('Zgłoszenie Pacjenta'!A3088=\"\",\"\",Sprawdz_pesel('Zgłoszenie Pacjenta'!A3088))","v":""}]
[{"$f":"IF('Zgłoszenie Pacjenta'!A3089=\"\",\"\",Sprawdz_pesel('Zgłoszenie Pacjenta'!A3089))","v":""}]
[{"$f":"IF('Zgłoszenie Pacjenta'!A3090=\"\",\"\",Sprawdz_pesel('Zgłoszenie Pacjenta'!A3090))","v":""}]
[{"$f":"IF('Zgłoszenie Pacjenta'!A3091=\"\",\"\",Sprawdz_pesel('Zgłoszenie Pacjenta'!A3091))","v":""}]
[{"$f":"IF('Zgłoszenie Pacjenta'!A3092=\"\",\"\",Sprawdz_pesel('Zgłoszenie Pacjenta'!A3092))","v":""}]
[{"$f":"IF('Zgłoszenie Pacjenta'!A3093=\"\",\"\",Sprawdz_pesel('Zgłoszenie Pacjenta'!A3093))","v":""}]
[{"$f":"IF('Zgłoszenie Pacjenta'!A3094=\"\",\"\",Sprawdz_pesel('Zgłoszenie Pacjenta'!A3094))","v":""}]
[{"$f":"IF('Zgłoszenie Pacjenta'!A3095=\"\",\"\",Sprawdz_pesel('Zgłoszenie Pacjenta'!A3095))","v":""}]
[{"$f":"IF('Zgłoszenie Pacjenta'!A3096=\"\",\"\",Sprawdz_pesel('Zgłoszenie Pacjenta'!A3096))","v":""}]
[{"$f":"IF('Zgłoszenie Pacjenta'!A3097=\"\",\"\",Sprawdz_pesel('Zgłoszenie Pacjenta'!A3097))","v":""}]
[{"$f":"IF('Zgłoszenie Pacjenta'!A3098=\"\",\"\",Sprawdz_pesel('Zgłoszenie Pacjenta'!A3098))","v":""}]
[{"$f":"IF('Zgłoszenie Pacjenta'!A3099=\"\",\"\",Sprawdz_pesel('Zgłoszenie Pacjenta'!A3099))","v":""}]
[{"$f":"IF('Zgłoszenie Pacjenta'!A3100=\"\",\"\",Sprawdz_pesel('Zgłoszenie Pacjenta'!A3100))","v":""}]
[{"$f":"IF('Zgłoszenie Pacjenta'!A3101=\"\",\"\",Sprawdz_pesel('Zgłoszenie Pacjenta'!A3101))","v":""}]
[{"$f":"IF('Zgłoszenie Pacjenta'!A3102=\"\",\"\",Sprawdz_pesel('Zgłoszenie Pacjenta'!A3102))","v":""}]
[{"$f":"IF('Zgłoszenie Pacjenta'!A3103=\"\",\"\",Sprawdz_pesel('Zgłoszenie Pacjenta'!A3103))","v":""}]
[{"$f":"IF('Zgłoszenie Pacjenta'!A3104=\"\",\"\",Sprawdz_pesel('Zgłoszenie Pacjenta'!A3104))","v":""}]
[{"$f":"IF('Zgłoszenie Pacjenta'!A3105=\"\",\"\",Sprawdz_pesel('Zgłoszenie Pacjenta'!A3105))","v":""}]
[{"$f":"IF('Zgłoszenie Pacjenta'!A3106=\"\",\"\",Sprawdz_pesel('Zgłoszenie Pacjenta'!A3106))","v":""}]
[{"$f":"IF('Zgłoszenie Pacjenta'!A3107=\"\",\"\",Sprawdz_pesel('Zgłoszenie Pacjenta'!A3107))","v":""}]
[{"$f":"IF('Zgłoszenie Pacjenta'!A3108=\"\",\"\",Sprawdz_pesel('Zgłoszenie Pacjenta'!A3108))","v":""}]
[{"$f":"IF('Zgłoszenie Pacjenta'!A3109=\"\",\"\",Sprawdz_pesel('Zgłoszenie Pacjenta'!A3109))","v":""}]
[{"$f":"IF('Zgłoszenie Pacjenta'!A3110=\"\",\"\",Sprawdz_pesel('Zgłoszenie Pacjenta'!A3110))","v":""}]
[{"$f":"IF('Zgłoszenie Pacjenta'!A3111=\"\",\"\",Sprawdz_pesel('Zgłoszenie Pacjenta'!A3111))","v":""}]
[{"$f":"IF('Zgłoszenie Pacjenta'!A3112=\"\",\"\",Sprawdz_pesel('Zgłoszenie Pacjenta'!A3112))","v":""}]
[{"$f":"IF('Zgłoszenie Pacjenta'!A3113=\"\",\"\",Sprawdz_pesel('Zgłoszenie Pacjenta'!A3113))","v":""}]
[{"$f":"IF('Zgłoszenie Pacjenta'!A3114=\"\",\"\",Sprawdz_pesel('Zgłoszenie Pacjenta'!A3114))","v":""}]
[{"$f":"IF('Zgłoszenie Pacjenta'!A3115=\"\",\"\",Sprawdz_pesel('Zgłoszenie Pacjenta'!A3115))","v":""}]
[{"$f":"IF('Zgłoszenie Pacjenta'!A3116=\"\",\"\",Sprawdz_pesel('Zgłoszenie Pacjenta'!A3116))","v":""}]
[{"$f":"IF('Zgłoszenie Pacjenta'!A3117=\"\",\"\",Sprawdz_pesel('Zgłoszenie Pacjenta'!A3117))","v":""}]
[{"$f":"IF('Zgłoszenie Pacjenta'!A3118=\"\",\"\",Sprawdz_pesel('Zgłoszenie Pacjenta'!A3118))","v":""}]
[{"$f":"IF('Zgłoszenie Pacjenta'!A3119=\"\",\"\",Sprawdz_pesel('Zgłoszenie Pacjenta'!A3119))","v":""}]
[{"$f":"IF('Zgłoszenie Pacjenta'!A3120=\"\",\"\",Sprawdz_pesel('Zgłoszenie Pacjenta'!A3120))","v":""}]
[{"$f":"IF('Zgłoszenie Pacjenta'!A3121=\"\",\"\",Sprawdz_pesel('Zgłoszenie Pacjenta'!A3121))","v":""}]
[{"$f":"IF('Zgłoszenie Pacjenta'!A3122=\"\",\"\",Sprawdz_pesel('Zgłoszenie Pacjenta'!A3122))","v":""}]
[{"$f":"IF('Zgłoszenie Pacjenta'!A3123=\"\",\"\",Sprawdz_pesel('Zgłoszenie Pacjenta'!A3123))","v":""}]
[{"$f":"IF('Zgłoszenie Pacjenta'!A3124=\"\",\"\",Sprawdz_pesel('Zgłoszenie Pacjenta'!A3124))","v":""}]
[{"$f":"IF('Zgłoszenie Pacjenta'!A3125=\"\",\"\",Sprawdz_pesel('Zgłoszenie Pacjenta'!A3125))","v":""}]
[{"$f":"IF('Zgłoszenie Pacjenta'!A3126=\"\",\"\",Sprawdz_pesel('Zgłoszenie Pacjenta'!A3126))","v":""}]
[{"$f":"IF('Zgłoszenie Pacjenta'!A3127=\"\",\"\",Sprawdz_pesel('Zgłoszenie Pacjenta'!A3127))","v":""}]
[{"$f":"IF('Zgłoszenie Pacjenta'!A3128=\"\",\"\",Sprawdz_pesel('Zgłoszenie Pacjenta'!A3128))","v":""}]
[{"$f":"IF('Zgłoszenie Pacjenta'!A3129=\"\",\"\",Sprawdz_pesel('Zgłoszenie Pacjenta'!A3129))","v":""}]
[{"$f":"IF('Zgłoszenie Pacjenta'!A3130=\"\",\"\",Sprawdz_pesel('Zgłoszenie Pacjenta'!A3130))","v":""}]
[{"$f":"IF('Zgłoszenie Pacjenta'!A3131=\"\",\"\",Sprawdz_pesel('Zgłoszenie Pacjenta'!A3131))","v":""}]
[{"$f":"IF('Zgłoszenie Pacjenta'!A3132=\"\",\"\",Sprawdz_pesel('Zgłoszenie Pacjenta'!A3132))","v":""}]
[{"$f":"IF('Zgłoszenie Pacjenta'!A3133=\"\",\"\",Sprawdz_pesel('Zgłoszenie Pacjenta'!A3133))","v":""}]
[{"$f":"IF('Zgłoszenie Pacjenta'!A3134=\"\",\"\",Sprawdz_pesel('Zgłoszenie Pacjenta'!A3134))","v":""}]
[{"$f":"IF('Zgłoszenie Pacjenta'!A3135=\"\",\"\",Sprawdz_pesel('Zgłoszenie Pacjenta'!A3135))","v":""}]
[{"$f":"IF('Zgłoszenie Pacjenta'!A3136=\"\",\"\",Sprawdz_pesel('Zgłoszenie Pacjenta'!A3136))","v":""}]
[{"$f":"IF('Zgłoszenie Pacjenta'!A3137=\"\",\"\",Sprawdz_pesel('Zgłoszenie Pacjenta'!A3137))","v":""}]
[{"$f":"IF('Zgłoszenie Pacjenta'!A3138=\"\",\"\",Sprawdz_pesel('Zgłoszenie Pacjenta'!A3138))","v":""}]
[{"$f":"IF('Zgłoszenie Pacjenta'!A3139=\"\",\"\",Sprawdz_pesel('Zgłoszenie Pacjenta'!A3139))","v":""}]
[{"$f":"IF('Zgłoszenie Pacjenta'!A3140=\"\",\"\",Sprawdz_pesel('Zgłoszenie Pacjenta'!A3140))","v":""}]
[{"$f":"IF('Zgłoszenie Pacjenta'!A3141=\"\",\"\",Sprawdz_pesel('Zgłoszenie Pacjenta'!A3141))","v":""}]
[{"$f":"IF('Zgłoszenie Pacjenta'!A3142=\"\",\"\",Sprawdz_pesel('Zgłoszenie Pacjenta'!A3142))","v":""}]
[{"$f":"IF('Zgłoszenie Pacjenta'!A3143=\"\",\"\",Sprawdz_pesel('Zgłoszenie Pacjenta'!A3143))","v":""}]
[{"$f":"IF('Zgłoszenie Pacjenta'!A3144=\"\",\"\",Sprawdz_pesel('Zgłoszenie Pacjenta'!A3144))","v":""}]
[{"$f":"IF('Zgłoszenie Pacjenta'!A3145=\"\",\"\",Sprawdz_pesel('Zgłoszenie Pacjenta'!A3145))","v":""}]
[{"$f":"IF('Zgłoszenie Pacjenta'!A3146=\"\",\"\",Sprawdz_pesel('Zgłoszenie Pacjenta'!A3146))","v":""}]
[{"$f":"IF('Zgłoszenie Pacjenta'!A3147=\"\",\"\",Sprawdz_pesel('Zgłoszenie Pacjenta'!A3147))","v":""}]
[{"$f":"IF('Zgłoszenie Pacjenta'!A3148=\"\",\"\",Sprawdz_pesel('Zgłoszenie Pacjenta'!A3148))","v":""}]
[{"$f":"IF('Zgłoszenie Pacjenta'!A3149=\"\",\"\",Sprawdz_pesel('Zgłoszenie Pacjenta'!A3149))","v":""}]
[{"$f":"IF('Zgłoszenie Pacjenta'!A3150=\"\",\"\",Sprawdz_pesel('Zgłoszenie Pacjenta'!A3150))","v":""}]
[{"$f":"IF('Zgłoszenie Pacjenta'!A3151=\"\",\"\",Sprawdz_pesel('Zgłoszenie Pacjenta'!A3151))","v":""}]
[{"$f":"IF('Zgłoszenie Pacjenta'!A3152=\"\",\"\",Sprawdz_pesel('Zgłoszenie Pacjenta'!A3152))","v":""}]
[{"$f":"IF('Zgłoszenie Pacjenta'!A3153=\"\",\"\",Sprawdz_pesel('Zgłoszenie Pacjenta'!A3153))","v":""}]
[{"$f":"IF('Zgłoszenie Pacjenta'!A3154=\"\",\"\",Sprawdz_pesel('Zgłoszenie Pacjenta'!A3154))","v":""}]
[{"$f":"IF('Zgłoszenie Pacjenta'!A3155=\"\",\"\",Sprawdz_pesel('Zgłoszenie Pacjenta'!A3155))","v":""}]
[{"$f":"IF('Zgłoszenie Pacjenta'!A3156=\"\",\"\",Sprawdz_pesel('Zgłoszenie Pacjenta'!A3156))","v":""}]
[{"$f":"IF('Zgłoszenie Pacjenta'!A3157=\"\",\"\",Sprawdz_pesel('Zgłoszenie Pacjenta'!A3157))","v":""}]
[{"$f":"IF('Zgłoszenie Pacjenta'!A3158=\"\",\"\",Sprawdz_pesel('Zgłoszenie Pacjenta'!A3158))","v":""}]
[{"$f":"IF('Zgłoszenie Pacjenta'!A3159=\"\",\"\",Sprawdz_pesel('Zgłoszenie Pacjenta'!A3159))","v":""}]
[{"$f":"IF('Zgłoszenie Pacjenta'!A3160=\"\",\"\",Sprawdz_pesel('Zgłoszenie Pacjenta'!A3160))","v":""}]
[{"$f":"IF('Zgłoszenie Pacjenta'!A3161=\"\",\"\",Sprawdz_pesel('Zgłoszenie Pacjenta'!A3161))","v":""}]
[{"$f":"IF('Zgłoszenie Pacjenta'!A3162=\"\",\"\",Sprawdz_pesel('Zgłoszenie Pacjenta'!A3162))","v":""}]
[{"$f":"IF('Zgłoszenie Pacjenta'!A3163=\"\",\"\",Sprawdz_pesel('Zgłoszenie Pacjenta'!A3163))","v":""}]
[{"$f":"IF('Zgłoszenie Pacjenta'!A3164=\"\",\"\",Sprawdz_pesel('Zgłoszenie Pacjenta'!A3164))","v":""}]
[{"$f":"IF('Zgłoszenie Pacjenta'!A3165=\"\",\"\",Sprawdz_pesel('Zgłoszenie Pacjenta'!A3165))","v":""}]
[{"$f":"IF('Zgłoszenie Pacjenta'!A3166=\"\",\"\",Sprawdz_pesel('Zgłoszenie Pacjenta'!A3166))","v":""}]
[{"$f":"IF('Zgłoszenie Pacjenta'!A3167=\"\",\"\",Sprawdz_pesel('Zgłoszenie Pacjenta'!A3167))","v":""}]
[{"$f":"IF('Zgłoszenie Pacjenta'!A3168=\"\",\"\",Sprawdz_pesel('Zgłoszenie Pacjenta'!A3168))","v":""}]
[{"$f":"IF('Zgłoszenie Pacjenta'!A3169=\"\",\"\",Sprawdz_pesel('Zgłoszenie Pacjenta'!A3169))","v":""}]
[{"$f":"IF('Zgłoszenie Pacjenta'!A3170=\"\",\"\",Sprawdz_pesel('Zgłoszenie Pacjenta'!A3170))","v":""}]
[{"$f":"IF('Zgłoszenie Pacjenta'!A3171=\"\",\"\",Sprawdz_pesel('Zgłoszenie Pacjenta'!A3171))","v":""}]
[{"$f":"IF('Zgłoszenie Pacjenta'!A3172=\"\",\"\",Sprawdz_pesel('Zgłoszenie Pacjenta'!A3172))","v":""}]
[{"$f":"IF('Zgłoszenie Pacjenta'!A3173=\"\",\"\",Sprawdz_pesel('Zgłoszenie Pacjenta'!A3173))","v":""}]
[{"$f":"IF('Zgłoszenie Pacjenta'!A3174=\"\",\"\",Sprawdz_pesel('Zgłoszenie Pacjenta'!A3174))","v":""}]
[{"$f":"IF('Zgłoszenie Pacjenta'!A3175=\"\",\"\",Sprawdz_pesel('Zgłoszenie Pacjenta'!A3175))","v":""}]
[{"$f":"IF('Zgłoszenie Pacjenta'!A3176=\"\",\"\",Sprawdz_pesel('Zgłoszenie Pacjenta'!A3176))","v":""}]
[{"$f":"IF('Zgłoszenie Pacjenta'!A3177=\"\",\"\",Sprawdz_pesel('Zgłoszenie Pacjenta'!A3177))","v":""}]
[{"$f":"IF('Zgłoszenie Pacjenta'!A3178=\"\",\"\",Sprawdz_pesel('Zgłoszenie Pacjenta'!A3178))","v":""}]
[{"$f":"IF('Zgłoszenie Pacjenta'!A3179=\"\",\"\",Sprawdz_pesel('Zgłoszenie Pacjenta'!A3179))","v":""}]
[{"$f":"IF('Zgłoszenie Pacjenta'!A3180=\"\",\"\",Sprawdz_pesel('Zgłoszenie Pacjenta'!A3180))","v":""}]
[{"$f":"IF('Zgłoszenie Pacjenta'!A3181=\"\",\"\",Sprawdz_pesel('Zgłoszenie Pacjenta'!A3181))","v":""}]
[{"$f":"IF('Zgłoszenie Pacjenta'!A3182=\"\",\"\",Sprawdz_pesel('Zgłoszenie Pacjenta'!A3182))","v":""}]
[{"$f":"IF('Zgłoszenie Pacjenta'!A3183=\"\",\"\",Sprawdz_pesel('Zgłoszenie Pacjenta'!A3183))","v":""}]
[{"$f":"IF('Zgłoszenie Pacjenta'!A3184=\"\",\"\",Sprawdz_pesel('Zgłoszenie Pacjenta'!A3184))","v":""}]
[{"$f":"IF('Zgłoszenie Pacjenta'!A3185=\"\",\"\",Sprawdz_pesel('Zgłoszenie Pacjenta'!A3185))","v":""}]
[{"$f":"IF('Zgłoszenie Pacjenta'!A3186=\"\",\"\",Sprawdz_pesel('Zgłoszenie Pacjenta'!A3186))","v":""}]
[{"$f":"IF('Zgłoszenie Pacjenta'!A3187=\"\",\"\",Sprawdz_pesel('Zgłoszenie Pacjenta'!A3187))","v":""}]
[{"$f":"IF('Zgłoszenie Pacjenta'!A3188=\"\",\"\",Sprawdz_pesel('Zgłoszenie Pacjenta'!A3188))","v":""}]
[{"$f":"IF('Zgłoszenie Pacjenta'!A3189=\"\",\"\",Sprawdz_pesel('Zgłoszenie Pacjenta'!A3189))","v":""}]
[{"$f":"IF('Zgłoszenie Pacjenta'!A3190=\"\",\"\",Sprawdz_pesel('Zgłoszenie Pacjenta'!A3190))","v":""}]
[{"$f":"IF('Zgłoszenie Pacjenta'!A3191=\"\",\"\",Sprawdz_pesel('Zgłoszenie Pacjenta'!A3191))","v":""}]
[{"$f":"IF('Zgłoszenie Pacjenta'!A3192=\"\",\"\",Sprawdz_pesel('Zgłoszenie Pacjenta'!A3192))","v":""}]
[{"$f":"IF('Zgłoszenie Pacjenta'!A3193=\"\",\"\",Sprawdz_pesel('Zgłoszenie Pacjenta'!A3193))","v":""}]
[{"$f":"IF('Zgłoszenie Pacjenta'!A3194=\"\",\"\",Sprawdz_pesel('Zgłoszenie Pacjenta'!A3194))","v":""}]
[{"$f":"IF('Zgłoszenie Pacjenta'!A3195=\"\",\"\",Sprawdz_pesel('Zgłoszenie Pacjenta'!A3195))","v":""}]
[{"$f":"IF('Zgłoszenie Pacjenta'!A3196=\"\",\"\",Sprawdz_pesel('Zgłoszenie Pacjenta'!A3196))","v":""}]
[{"$f":"IF('Zgłoszenie Pacjenta'!A3197=\"\",\"\",Sprawdz_pesel('Zgłoszenie Pacjenta'!A3197))","v":""}]
[{"$f":"IF('Zgłoszenie Pacjenta'!A3198=\"\",\"\",Sprawdz_pesel('Zgłoszenie Pacjenta'!A3198))","v":""}]
[{"$f":"IF('Zgłoszenie Pacjenta'!A3199=\"\",\"\",Sprawdz_pesel('Zgłoszenie Pacjenta'!A3199))","v":""}]
[{"$f":"IF('Zgłoszenie Pacjenta'!A3200=\"\",\"\",Sprawdz_pesel('Zgłoszenie Pacjenta'!A3200))","v":""}]
[{"$f":"IF('Zgłoszenie Pacjenta'!A3201=\"\",\"\",Sprawdz_pesel('Zgłoszenie Pacjenta'!A3201))","v":""}]
[{"$f":"IF('Zgłoszenie Pacjenta'!A3202=\"\",\"\",Sprawdz_pesel('Zgłoszenie Pacjenta'!A3202))","v":""}]
[{"$f":"IF('Zgłoszenie Pacjenta'!A3203=\"\",\"\",Sprawdz_pesel('Zgłoszenie Pacjenta'!A3203))","v":""}]
[{"$f":"IF('Zgłoszenie Pacjenta'!A3204=\"\",\"\",Sprawdz_pesel('Zgłoszenie Pacjenta'!A3204))","v":""}]
[{"$f":"IF('Zgłoszenie Pacjenta'!A3205=\"\",\"\",Sprawdz_pesel('Zgłoszenie Pacjenta'!A3205))","v":""}]
[{"$f":"IF('Zgłoszenie Pacjenta'!A3206=\"\",\"\",Sprawdz_pesel('Zgłoszenie Pacjenta'!A3206))","v":""}]
[{"$f":"IF('Zgłoszenie Pacjenta'!A3207=\"\",\"\",Sprawdz_pesel('Zgłoszenie Pacjenta'!A3207))","v":""}]
[{"$f":"IF('Zgłoszenie Pacjenta'!A3208=\"\",\"\",Sprawdz_pesel('Zgłoszenie Pacjenta'!A3208))","v":""}]
[{"$f":"IF('Zgłoszenie Pacjenta'!A3209=\"\",\"\",Sprawdz_pesel('Zgłoszenie Pacjenta'!A3209))","v":""}]
[{"$f":"IF('Zgłoszenie Pacjenta'!A3210=\"\",\"\",Sprawdz_pesel('Zgłoszenie Pacjenta'!A3210))","v":""}]
[{"$f":"IF('Zgłoszenie Pacjenta'!A3211=\"\",\"\",Sprawdz_pesel('Zgłoszenie Pacjenta'!A3211))","v":""}]
[{"$f":"IF('Zgłoszenie Pacjenta'!A3212=\"\",\"\",Sprawdz_pesel('Zgłoszenie Pacjenta'!A3212))","v":""}]
[{"$f":"IF('Zgłoszenie Pacjenta'!A3213=\"\",\"\",Sprawdz_pesel('Zgłoszenie Pacjenta'!A3213))","v":""}]
[{"$f":"IF('Zgłoszenie Pacjenta'!A3214=\"\",\"\",Sprawdz_pesel('Zgłoszenie Pacjenta'!A3214))","v":""}]
[{"$f":"IF('Zgłoszenie Pacjenta'!A3215=\"\",\"\",Sprawdz_pesel('Zgłoszenie Pacjenta'!A3215))","v":""}]
[{"$f":"IF('Zgłoszenie Pacjenta'!A3216=\"\",\"\",Sprawdz_pesel('Zgłoszenie Pacjenta'!A3216))","v":""}]
[{"$f":"IF('Zgłoszenie Pacjenta'!A3217=\"\",\"\",Sprawdz_pesel('Zgłoszenie Pacjenta'!A3217))","v":""}]
[{"$f":"IF('Zgłoszenie Pacjenta'!A3218=\"\",\"\",Sprawdz_pesel('Zgłoszenie Pacjenta'!A3218))","v":""}]
[{"$f":"IF('Zgłoszenie Pacjenta'!A3219=\"\",\"\",Sprawdz_pesel('Zgłoszenie Pacjenta'!A3219))","v":""}]
[{"$f":"IF('Zgłoszenie Pacjenta'!A3220=\"\",\"\",Sprawdz_pesel('Zgłoszenie Pacjenta'!A3220))","v":""}]
[{"$f":"IF('Zgłoszenie Pacjenta'!A3221=\"\",\"\",Sprawdz_pesel('Zgłoszenie Pacjenta'!A3221))","v":""}]
[{"$f":"IF('Zgłoszenie Pacjenta'!A3222=\"\",\"\",Sprawdz_pesel('Zgłoszenie Pacjenta'!A3222))","v":""}]
[{"$f":"IF('Zgłoszenie Pacjenta'!A3223=\"\",\"\",Sprawdz_pesel('Zgłoszenie Pacjenta'!A3223))","v":""}]
[{"$f":"IF('Zgłoszenie Pacjenta'!A3224=\"\",\"\",Sprawdz_pesel('Zgłoszenie Pacjenta'!A3224))","v":""}]
[{"$f":"IF('Zgłoszenie Pacjenta'!A3225=\"\",\"\",Sprawdz_pesel('Zgłoszenie Pacjenta'!A3225))","v":""}]
[{"$f":"IF('Zgłoszenie Pacjenta'!A3226=\"\",\"\",Sprawdz_pesel('Zgłoszenie Pacjenta'!A3226))","v":""}]
[{"$f":"IF('Zgłoszenie Pacjenta'!A3227=\"\",\"\",Sprawdz_pesel('Zgłoszenie Pacjenta'!A3227))","v":""}]
[{"$f":"IF('Zgłoszenie Pacjenta'!A3228=\"\",\"\",Sprawdz_pesel('Zgłoszenie Pacjenta'!A3228))","v":""}]
[{"$f":"IF('Zgłoszenie Pacjenta'!A3229=\"\",\"\",Sprawdz_pesel('Zgłoszenie Pacjenta'!A3229))","v":""}]
[{"$f":"IF('Zgłoszenie Pacjenta'!A3230=\"\",\"\",Sprawdz_pesel('Zgłoszenie Pacjenta'!A3230))","v":""}]
[{"$f":"IF('Zgłoszenie Pacjenta'!A3231=\"\",\"\",Sprawdz_pesel('Zgłoszenie Pacjenta'!A3231))","v":""}]
[{"$f":"IF('Zgłoszenie Pacjenta'!A3232=\"\",\"\",Sprawdz_pesel('Zgłoszenie Pacjenta'!A3232))","v":""}]
[{"$f":"IF('Zgłoszenie Pacjenta'!A3233=\"\",\"\",Sprawdz_pesel('Zgłoszenie Pacjenta'!A3233))","v":""}]
[{"$f":"IF('Zgłoszenie Pacjenta'!A3234=\"\",\"\",Sprawdz_pesel('Zgłoszenie Pacjenta'!A3234))","v":""}]
[{"$f":"IF('Zgłoszenie Pacjenta'!A3235=\"\",\"\",Sprawdz_pesel('Zgłoszenie Pacjenta'!A3235))","v":""}]
[{"$f":"IF('Zgłoszenie Pacjenta'!A3236=\"\",\"\",Sprawdz_pesel('Zgłoszenie Pacjenta'!A3236))","v":""}]
[{"$f":"IF('Zgłoszenie Pacjenta'!A3237=\"\",\"\",Sprawdz_pesel('Zgłoszenie Pacjenta'!A3237))","v":""}]
[{"$f":"IF('Zgłoszenie Pacjenta'!A3238=\"\",\"\",Sprawdz_pesel('Zgłoszenie Pacjenta'!A3238))","v":""}]
[{"$f":"IF('Zgłoszenie Pacjenta'!A3239=\"\",\"\",Sprawdz_pesel('Zgłoszenie Pacjenta'!A3239))","v":""}]
[{"$f":"IF('Zgłoszenie Pacjenta'!A3240=\"\",\"\",Sprawdz_pesel('Zgłoszenie Pacjenta'!A3240))","v":""}]
[{"$f":"IF('Zgłoszenie Pacjenta'!A3241=\"\",\"\",Sprawdz_pesel('Zgłoszenie Pacjenta'!A3241))","v":""}]
[{"$f":"IF('Zgłoszenie Pacjenta'!A3242=\"\",\"\",Sprawdz_pesel('Zgłoszenie Pacjenta'!A3242))","v":""}]
[{"$f":"IF('Zgłoszenie Pacjenta'!A3243=\"\",\"\",Sprawdz_pesel('Zgłoszenie Pacjenta'!A3243))","v":""}]
[{"$f":"IF('Zgłoszenie Pacjenta'!A3244=\"\",\"\",Sprawdz_pesel('Zgłoszenie Pacjenta'!A3244))","v":""}]
[{"$f":"IF('Zgłoszenie Pacjenta'!A3245=\"\",\"\",Sprawdz_pesel('Zgłoszenie Pacjenta'!A3245))","v":""}]
[{"$f":"IF('Zgłoszenie Pacjenta'!A3246=\"\",\"\",Sprawdz_pesel('Zgłoszenie Pacjenta'!A3246))","v":""}]
[{"$f":"IF('Zgłoszenie Pacjenta'!A3247=\"\",\"\",Sprawdz_pesel('Zgłoszenie Pacjenta'!A3247))","v":""}]
[{"$f":"IF('Zgłoszenie Pacjenta'!A3248=\"\",\"\",Sprawdz_pesel('Zgłoszenie Pacjenta'!A3248))","v":""}]
[{"$f":"IF('Zgłoszenie Pacjenta'!A3249=\"\",\"\",Sprawdz_pesel('Zgłoszenie Pacjenta'!A3249))","v":""}]
[{"$f":"IF('Zgłoszenie Pacjenta'!A3250=\"\",\"\",Sprawdz_pesel('Zgłoszenie Pacjenta'!A3250))","v":""}]
[{"$f":"IF('Zgłoszenie Pacjenta'!A3251=\"\",\"\",Sprawdz_pesel('Zgłoszenie Pacjenta'!A3251))","v":""}]
[{"$f":"IF('Zgłoszenie Pacjenta'!A3252=\"\",\"\",Sprawdz_pesel('Zgłoszenie Pacjenta'!A3252))","v":""}]
[{"$f":"IF('Zgłoszenie Pacjenta'!A3253=\"\",\"\",Sprawdz_pesel('Zgłoszenie Pacjenta'!A3253))","v":""}]
[{"$f":"IF('Zgłoszenie Pacjenta'!A3254=\"\",\"\",Sprawdz_pesel('Zgłoszenie Pacjenta'!A3254))","v":""}]
[{"$f":"IF('Zgłoszenie Pacjenta'!A3255=\"\",\"\",Sprawdz_pesel('Zgłoszenie Pacjenta'!A3255))","v":""}]
[{"$f":"IF('Zgłoszenie Pacjenta'!A3256=\"\",\"\",Sprawdz_pesel('Zgłoszenie Pacjenta'!A3256))","v":""}]
[{"$f":"IF('Zgłoszenie Pacjenta'!A3257=\"\",\"\",Sprawdz_pesel('Zgłoszenie Pacjenta'!A3257))","v":""}]
[{"$f":"IF('Zgłoszenie Pacjenta'!A3258=\"\",\"\",Sprawdz_pesel('Zgłoszenie Pacjenta'!A3258))","v":""}]
[{"$f":"IF('Zgłoszenie Pacjenta'!A3259=\"\",\"\",Sprawdz_pesel('Zgłoszenie Pacjenta'!A3259))","v":""}]
[{"$f":"IF('Zgłoszenie Pacjenta'!A3260=\"\",\"\",Sprawdz_pesel('Zgłoszenie Pacjenta'!A3260))","v":""}]
[{"$f":"IF('Zgłoszenie Pacjenta'!A3261=\"\",\"\",Sprawdz_pesel('Zgłoszenie Pacjenta'!A3261))","v":""}]
[{"$f":"IF('Zgłoszenie Pacjenta'!A3262=\"\",\"\",Sprawdz_pesel('Zgłoszenie Pacjenta'!A3262))","v":""}]
[{"$f":"IF('Zgłoszenie Pacjenta'!A3263=\"\",\"\",Sprawdz_pesel('Zgłoszenie Pacjenta'!A3263))","v":""}]
[{"$f":"IF('Zgłoszenie Pacjenta'!A3264=\"\",\"\",Sprawdz_pesel('Zgłoszenie Pacjenta'!A3264))","v":""}]
[{"$f":"IF('Zgłoszenie Pacjenta'!A3265=\"\",\"\",Sprawdz_pesel('Zgłoszenie Pacjenta'!A3265))","v":""}]
[{"$f":"IF('Zgłoszenie Pacjenta'!A3266=\"\",\"\",Sprawdz_pesel('Zgłoszenie Pacjenta'!A3266))","v":""}]
[{"$f":"IF('Zgłoszenie Pacjenta'!A3267=\"\",\"\",Sprawdz_pesel('Zgłoszenie Pacjenta'!A3267))","v":""}]
[{"$f":"IF('Zgłoszenie Pacjenta'!A3268=\"\",\"\",Sprawdz_pesel('Zgłoszenie Pacjenta'!A3268))","v":""}]
[{"$f":"IF('Zgłoszenie Pacjenta'!A3269=\"\",\"\",Sprawdz_pesel('Zgłoszenie Pacjenta'!A3269))","v":""}]
[{"$f":"IF('Zgłoszenie Pacjenta'!A3270=\"\",\"\",Sprawdz_pesel('Zgłoszenie Pacjenta'!A3270))","v":""}]
[{"$f":"IF('Zgłoszenie Pacjenta'!A3271=\"\",\"\",Sprawdz_pesel('Zgłoszenie Pacjenta'!A3271))","v":""}]
[{"$f":"IF('Zgłoszenie Pacjenta'!A3272=\"\",\"\",Sprawdz_pesel('Zgłoszenie Pacjenta'!A3272))","v":""}]
[{"$f":"IF('Zgłoszenie Pacjenta'!A3273=\"\",\"\",Sprawdz_pesel('Zgłoszenie Pacjenta'!A3273))","v":""}]
[{"$f":"IF('Zgłoszenie Pacjenta'!A3274=\"\",\"\",Sprawdz_pesel('Zgłoszenie Pacjenta'!A3274))","v":""}]
[{"$f":"IF('Zgłoszenie Pacjenta'!A3275=\"\",\"\",Sprawdz_pesel('Zgłoszenie Pacjenta'!A3275))","v":""}]
[{"$f":"IF('Zgłoszenie Pacjenta'!A3276=\"\",\"\",Sprawdz_pesel('Zgłoszenie Pacjenta'!A3276))","v":""}]
[{"$f":"IF('Zgłoszenie Pacjenta'!A3277=\"\",\"\",Sprawdz_pesel('Zgłoszenie Pacjenta'!A3277))","v":""}]
[{"$f":"IF('Zgłoszenie Pacjenta'!A3278=\"\",\"\",Sprawdz_pesel('Zgłoszenie Pacjenta'!A3278))","v":""}]
[{"$f":"IF('Zgłoszenie Pacjenta'!A3279=\"\",\"\",Sprawdz_pesel('Zgłoszenie Pacjenta'!A3279))","v":""}]
[{"$f":"IF('Zgłoszenie Pacjenta'!A3280=\"\",\"\",Sprawdz_pesel('Zgłoszenie Pacjenta'!A3280))","v":""}]
[{"$f":"IF('Zgłoszenie Pacjenta'!A3281=\"\",\"\",Sprawdz_pesel('Zgłoszenie Pacjenta'!A3281))","v":""}]
[{"$f":"IF('Zgłoszenie Pacjenta'!A3282=\"\",\"\",Sprawdz_pesel('Zgłoszenie Pacjenta'!A3282))","v":""}]
[{"$f":"IF('Zgłoszenie Pacjenta'!A3283=\"\",\"\",Sprawdz_pesel('Zgłoszenie Pacjenta'!A3283))","v":""}]
[{"$f":"IF('Zgłoszenie Pacjenta'!A3284=\"\",\"\",Sprawdz_pesel('Zgłoszenie Pacjenta'!A3284))","v":""}]
[{"$f":"IF('Zgłoszenie Pacjenta'!A3285=\"\",\"\",Sprawdz_pesel('Zgłoszenie Pacjenta'!A3285))","v":""}]
[{"$f":"IF('Zgłoszenie Pacjenta'!A3286=\"\",\"\",Sprawdz_pesel('Zgłoszenie Pacjenta'!A3286))","v":""}]
[{"$f":"IF('Zgłoszenie Pacjenta'!A3287=\"\",\"\",Sprawdz_pesel('Zgłoszenie Pacjenta'!A3287))","v":""}]
[{"$f":"IF('Zgłoszenie Pacjenta'!A3288=\"\",\"\",Sprawdz_pesel('Zgłoszenie Pacjenta'!A3288))","v":""}]
[{"$f":"IF('Zgłoszenie Pacjenta'!A3289=\"\",\"\",Sprawdz_pesel('Zgłoszenie Pacjenta'!A3289))","v":""}]
[{"$f":"IF('Zgłoszenie Pacjenta'!A3290=\"\",\"\",Sprawdz_pesel('Zgłoszenie Pacjenta'!A3290))","v":""}]
[{"$f":"IF('Zgłoszenie Pacjenta'!A3291=\"\",\"\",Sprawdz_pesel('Zgłoszenie Pacjenta'!A3291))","v":""}]
[{"$f":"IF('Zgłoszenie Pacjenta'!A3292=\"\",\"\",Sprawdz_pesel('Zgłoszenie Pacjenta'!A3292))","v":""}]
[{"$f":"IF('Zgłoszenie Pacjenta'!A3293=\"\",\"\",Sprawdz_pesel('Zgłoszenie Pacjenta'!A3293))","v":""}]
[{"$f":"IF('Zgłoszenie Pacjenta'!A3294=\"\",\"\",Sprawdz_pesel('Zgłoszenie Pacjenta'!A3294))","v":""}]
[{"$f":"IF('Zgłoszenie Pacjenta'!A3295=\"\",\"\",Sprawdz_pesel('Zgłoszenie Pacjenta'!A3295))","v":""}]
[{"$f":"IF('Zgłoszenie Pacjenta'!A3296=\"\",\"\",Sprawdz_pesel('Zgłoszenie Pacjenta'!A3296))","v":""}]
[{"$f":"IF('Zgłoszenie Pacjenta'!A3297=\"\",\"\",Sprawdz_pesel('Zgłoszenie Pacjenta'!A3297))","v":""}]
[{"$f":"IF('Zgłoszenie Pacjenta'!A3298=\"\",\"\",Sprawdz_pesel('Zgłoszenie Pacjenta'!A3298))","v":""}]
[{"$f":"IF('Zgłoszenie Pacjenta'!A3299=\"\",\"\",Sprawdz_pesel('Zgłoszenie Pacjenta'!A3299))","v":""}]
[{"$f":"IF('Zgłoszenie Pacjenta'!A3300=\"\",\"\",Sprawdz_pesel('Zgłoszenie Pacjenta'!A3300))","v":""}]
[{"$f":"IF('Zgłoszenie Pacjenta'!A3301=\"\",\"\",Sprawdz_pesel('Zgłoszenie Pacjenta'!A3301))","v":""}]
[{"$f":"IF('Zgłoszenie Pacjenta'!A3302=\"\",\"\",Sprawdz_pesel('Zgłoszenie Pacjenta'!A3302))","v":""}]
[{"$f":"IF('Zgłoszenie Pacjenta'!A3303=\"\",\"\",Sprawdz_pesel('Zgłoszenie Pacjenta'!A3303))","v":""}]
[{"$f":"IF('Zgłoszenie Pacjenta'!A3304=\"\",\"\",Sprawdz_pesel('Zgłoszenie Pacjenta'!A3304))","v":""}]
[{"$f":"IF('Zgłoszenie Pacjenta'!A3305=\"\",\"\",Sprawdz_pesel('Zgłoszenie Pacjenta'!A3305))","v":""}]
[{"$f":"IF('Zgłoszenie Pacjenta'!A3306=\"\",\"\",Sprawdz_pesel('Zgłoszenie Pacjenta'!A3306))","v":""}]
[{"$f":"IF('Zgłoszenie Pacjenta'!A3307=\"\",\"\",Sprawdz_pesel('Zgłoszenie Pacjenta'!A3307))","v":""}]
[{"$f":"IF('Zgłoszenie Pacjenta'!A3308=\"\",\"\",Sprawdz_pesel('Zgłoszenie Pacjenta'!A3308))","v":""}]
[{"$f":"IF('Zgłoszenie Pacjenta'!A3309=\"\",\"\",Sprawdz_pesel('Zgłoszenie Pacjenta'!A3309))","v":""}]
[{"$f":"IF('Zgłoszenie Pacjenta'!A3310=\"\",\"\",Sprawdz_pesel('Zgłoszenie Pacjenta'!A3310))","v":""}]
[{"$f":"IF('Zgłoszenie Pacjenta'!A3311=\"\",\"\",Sprawdz_pesel('Zgłoszenie Pacjenta'!A3311))","v":""}]
[{"$f":"IF('Zgłoszenie Pacjenta'!A3312=\"\",\"\",Sprawdz_pesel('Zgłoszenie Pacjenta'!A3312))","v":""}]
[{"$f":"IF('Zgłoszenie Pacjenta'!A3313=\"\",\"\",Sprawdz_pesel('Zgłoszenie Pacjenta'!A3313))","v":""}]
[{"$f":"IF('Zgłoszenie Pacjenta'!A3314=\"\",\"\",Sprawdz_pesel('Zgłoszenie Pacjenta'!A3314))","v":""}]
[{"$f":"IF('Zgłoszenie Pacjenta'!A3315=\"\",\"\",Sprawdz_pesel('Zgłoszenie Pacjenta'!A3315))","v":""}]
[{"$f":"IF('Zgłoszenie Pacjenta'!A3316=\"\",\"\",Sprawdz_pesel('Zgłoszenie Pacjenta'!A3316))","v":""}]
[{"$f":"IF('Zgłoszenie Pacjenta'!A3317=\"\",\"\",Sprawdz_pesel('Zgłoszenie Pacjenta'!A3317))","v":""}]
[{"$f":"IF('Zgłoszenie Pacjenta'!A3318=\"\",\"\",Sprawdz_pesel('Zgłoszenie Pacjenta'!A3318))","v":""}]
[{"$f":"IF('Zgłoszenie Pacjenta'!A3319=\"\",\"\",Sprawdz_pesel('Zgłoszenie Pacjenta'!A3319))","v":""}]
[{"$f":"IF('Zgłoszenie Pacjenta'!A3320=\"\",\"\",Sprawdz_pesel('Zgłoszenie Pacjenta'!A3320))","v":""}]
[{"$f":"IF('Zgłoszenie Pacjenta'!A3321=\"\",\"\",Sprawdz_pesel('Zgłoszenie Pacjenta'!A3321))","v":""}]
[{"$f":"IF('Zgłoszenie Pacjenta'!A3322=\"\",\"\",Sprawdz_pesel('Zgłoszenie Pacjenta'!A3322))","v":""}]
[{"$f":"IF('Zgłoszenie Pacjenta'!A3323=\"\",\"\",Sprawdz_pesel('Zgłoszenie Pacjenta'!A3323))","v":""}]
[{"$f":"IF('Zgłoszenie Pacjenta'!A3324=\"\",\"\",Sprawdz_pesel('Zgłoszenie Pacjenta'!A3324))","v":""}]
[{"$f":"IF('Zgłoszenie Pacjenta'!A3325=\"\",\"\",Sprawdz_pesel('Zgłoszenie Pacjenta'!A3325))","v":""}]
[{"$f":"IF('Zgłoszenie Pacjenta'!A3326=\"\",\"\",Sprawdz_pesel('Zgłoszenie Pacjenta'!A3326))","v":""}]
[{"$f":"IF('Zgłoszenie Pacjenta'!A3327=\"\",\"\",Sprawdz_pesel('Zgłoszenie Pacjenta'!A3327))","v":""}]
[{"$f":"IF('Zgłoszenie Pacjenta'!A3328=\"\",\"\",Sprawdz_pesel('Zgłoszenie Pacjenta'!A3328))","v":""}]
[{"$f":"IF('Zgłoszenie Pacjenta'!A3329=\"\",\"\",Sprawdz_pesel('Zgłoszenie Pacjenta'!A3329))","v":""}]
[{"$f":"IF('Zgłoszenie Pacjenta'!A3330=\"\",\"\",Sprawdz_pesel('Zgłoszenie Pacjenta'!A3330))","v":""}]
[{"$f":"IF('Zgłoszenie Pacjenta'!A3331=\"\",\"\",Sprawdz_pesel('Zgłoszenie Pacjenta'!A3331))","v":""}]
[{"$f":"IF('Zgłoszenie Pacjenta'!A3332=\"\",\"\",Sprawdz_pesel('Zgłoszenie Pacjenta'!A3332))","v":""}]
[{"$f":"IF('Zgłoszenie Pacjenta'!A3333=\"\",\"\",Sprawdz_pesel('Zgłoszenie Pacjenta'!A3333))","v":""}]
[{"$f":"IF('Zgłoszenie Pacjenta'!A3334=\"\",\"\",Sprawdz_pesel('Zgłoszenie Pacjenta'!A3334))","v":""}]
[{"$f":"IF('Zgłoszenie Pacjenta'!A3335=\"\",\"\",Sprawdz_pesel('Zgłoszenie Pacjenta'!A3335))","v":""}]
[{"$f":"IF('Zgłoszenie Pacjenta'!A3336=\"\",\"\",Sprawdz_pesel('Zgłoszenie Pacjenta'!A3336))","v":""}]
[{"$f":"IF('Zgłoszenie Pacjenta'!A3337=\"\",\"\",Sprawdz_pesel('Zgłoszenie Pacjenta'!A3337))","v":""}]
[{"$f":"IF('Zgłoszenie Pacjenta'!A3338=\"\",\"\",Sprawdz_pesel('Zgłoszenie Pacjenta'!A3338))","v":""}]
[{"$f":"IF('Zgłoszenie Pacjenta'!A3339=\"\",\"\",Sprawdz_pesel('Zgłoszenie Pacjenta'!A3339))","v":""}]
[{"$f":"IF('Zgłoszenie Pacjenta'!A3340=\"\",\"\",Sprawdz_pesel('Zgłoszenie Pacjenta'!A3340))","v":""}]
[{"$f":"IF('Zgłoszenie Pacjenta'!A3341=\"\",\"\",Sprawdz_pesel('Zgłoszenie Pacjenta'!A3341))","v":""}]
[{"$f":"IF('Zgłoszenie Pacjenta'!A3342=\"\",\"\",Sprawdz_pesel('Zgłoszenie Pacjenta'!A3342))","v":""}]
[{"$f":"IF('Zgłoszenie Pacjenta'!A3343=\"\",\"\",Sprawdz_pesel('Zgłoszenie Pacjenta'!A3343))","v":""}]
[{"$f":"IF('Zgłoszenie Pacjenta'!A3344=\"\",\"\",Sprawdz_pesel('Zgłoszenie Pacjenta'!A3344))","v":""}]
[{"$f":"IF('Zgłoszenie Pacjenta'!A3345=\"\",\"\",Sprawdz_pesel('Zgłoszenie Pacjenta'!A3345))","v":""}]
[{"$f":"IF('Zgłoszenie Pacjenta'!A3346=\"\",\"\",Sprawdz_pesel('Zgłoszenie Pacjenta'!A3346))","v":""}]
[{"$f":"IF('Zgłoszenie Pacjenta'!A3347=\"\",\"\",Sprawdz_pesel('Zgłoszenie Pacjenta'!A3347))","v":""}]
[{"$f":"IF('Zgłoszenie Pacjenta'!A3348=\"\",\"\",Sprawdz_pesel('Zgłoszenie Pacjenta'!A3348))","v":""}]
[{"$f":"IF('Zgłoszenie Pacjenta'!A3349=\"\",\"\",Sprawdz_pesel('Zgłoszenie Pacjenta'!A3349))","v":""}]
[{"$f":"IF('Zgłoszenie Pacjenta'!A3350=\"\",\"\",Sprawdz_pesel('Zgłoszenie Pacjenta'!A3350))","v":""}]
[{"$f":"IF('Zgłoszenie Pacjenta'!A3351=\"\",\"\",Sprawdz_pesel('Zgłoszenie Pacjenta'!A3351))","v":""}]
[{"$f":"IF('Zgłoszenie Pacjenta'!A3352=\"\",\"\",Sprawdz_pesel('Zgłoszenie Pacjenta'!A3352))","v":""}]
[{"$f":"IF('Zgłoszenie Pacjenta'!A3353=\"\",\"\",Sprawdz_pesel('Zgłoszenie Pacjenta'!A3353))","v":""}]
[{"$f":"IF('Zgłoszenie Pacjenta'!A3354=\"\",\"\",Sprawdz_pesel('Zgłoszenie Pacjenta'!A3354))","v":""}]
[{"$f":"IF('Zgłoszenie Pacjenta'!A3355=\"\",\"\",Sprawdz_pesel('Zgłoszenie Pacjenta'!A3355))","v":""}]
[{"$f":"IF('Zgłoszenie Pacjenta'!A3356=\"\",\"\",Sprawdz_pesel('Zgłoszenie Pacjenta'!A3356))","v":""}]
[{"$f":"IF('Zgłoszenie Pacjenta'!A3357=\"\",\"\",Sprawdz_pesel('Zgłoszenie Pacjenta'!A3357))","v":""}]
[{"$f":"IF('Zgłoszenie Pacjenta'!A3358=\"\",\"\",Sprawdz_pesel('Zgłoszenie Pacjenta'!A3358))","v":""}]
[{"$f":"IF('Zgłoszenie Pacjenta'!A3359=\"\",\"\",Sprawdz_pesel('Zgłoszenie Pacjenta'!A3359))","v":""}]
[{"$f":"IF('Zgłoszenie Pacjenta'!A3360=\"\",\"\",Sprawdz_pesel('Zgłoszenie Pacjenta'!A3360))","v":""}]
[{"$f":"IF('Zgłoszenie Pacjenta'!A3361=\"\",\"\",Sprawdz_pesel('Zgłoszenie Pacjenta'!A3361))","v":""}]
[{"$f":"IF('Zgłoszenie Pacjenta'!A3362=\"\",\"\",Sprawdz_pesel('Zgłoszenie Pacjenta'!A3362))","v":""}]
[{"$f":"IF('Zgłoszenie Pacjenta'!A3363=\"\",\"\",Sprawdz_pesel('Zgłoszenie Pacjenta'!A3363))","v":""}]
[{"$f":"IF('Zgłoszenie Pacjenta'!A3364=\"\",\"\",Sprawdz_pesel('Zgłoszenie Pacjenta'!A3364))","v":""}]
[{"$f":"IF('Zgłoszenie Pacjenta'!A3365=\"\",\"\",Sprawdz_pesel('Zgłoszenie Pacjenta'!A3365))","v":""}]
[{"$f":"IF('Zgłoszenie Pacjenta'!A3366=\"\",\"\",Sprawdz_pesel('Zgłoszenie Pacjenta'!A3366))","v":""}]
[{"$f":"IF('Zgłoszenie Pacjenta'!A3367=\"\",\"\",Sprawdz_pesel('Zgłoszenie Pacjenta'!A3367))","v":""}]
[{"$f":"IF('Zgłoszenie Pacjenta'!A3368=\"\",\"\",Sprawdz_pesel('Zgłoszenie Pacjenta'!A3368))","v":""}]
[{"$f":"IF('Zgłoszenie Pacjenta'!A3369=\"\",\"\",Sprawdz_pesel('Zgłoszenie Pacjenta'!A3369))","v":""}]
[{"$f":"IF('Zgłoszenie Pacjenta'!A3370=\"\",\"\",Sprawdz_pesel('Zgłoszenie Pacjenta'!A3370))","v":""}]
[{"$f":"IF('Zgłoszenie Pacjenta'!A3371=\"\",\"\",Sprawdz_pesel('Zgłoszenie Pacjenta'!A3371))","v":""}]
[{"$f":"IF('Zgłoszenie Pacjenta'!A3372=\"\",\"\",Sprawdz_pesel('Zgłoszenie Pacjenta'!A3372))","v":""}]
[{"$f":"IF('Zgłoszenie Pacjenta'!A3373=\"\",\"\",Sprawdz_pesel('Zgłoszenie Pacjenta'!A3373))","v":""}]
[{"$f":"IF('Zgłoszenie Pacjenta'!A3374=\"\",\"\",Sprawdz_pesel('Zgłoszenie Pacjenta'!A3374))","v":""}]
[{"$f":"IF('Zgłoszenie Pacjenta'!A3375=\"\",\"\",Sprawdz_pesel('Zgłoszenie Pacjenta'!A3375))","v":""}]
[{"$f":"IF('Zgłoszenie Pacjenta'!A3376=\"\",\"\",Sprawdz_pesel('Zgłoszenie Pacjenta'!A3376))","v":""}]
[{"$f":"IF('Zgłoszenie Pacjenta'!A3377=\"\",\"\",Sprawdz_pesel('Zgłoszenie Pacjenta'!A3377))","v":""}]
[{"$f":"IF('Zgłoszenie Pacjenta'!A3378=\"\",\"\",Sprawdz_pesel('Zgłoszenie Pacjenta'!A3378))","v":""}]
[{"$f":"IF('Zgłoszenie Pacjenta'!A3379=\"\",\"\",Sprawdz_pesel('Zgłoszenie Pacjenta'!A3379))","v":""}]
[{"$f":"IF('Zgłoszenie Pacjenta'!A3380=\"\",\"\",Sprawdz_pesel('Zgłoszenie Pacjenta'!A3380))","v":""}]
[{"$f":"IF('Zgłoszenie Pacjenta'!A3381=\"\",\"\",Sprawdz_pesel('Zgłoszenie Pacjenta'!A3381))","v":""}]
[{"$f":"IF('Zgłoszenie Pacjenta'!A3382=\"\",\"\",Sprawdz_pesel('Zgłoszenie Pacjenta'!A3382))","v":""}]
[{"$f":"IF('Zgłoszenie Pacjenta'!A3383=\"\",\"\",Sprawdz_pesel('Zgłoszenie Pacjenta'!A3383))","v":""}]
[{"$f":"IF('Zgłoszenie Pacjenta'!A3384=\"\",\"\",Sprawdz_pesel('Zgłoszenie Pacjenta'!A3384))","v":""}]
[{"$f":"IF('Zgłoszenie Pacjenta'!A3385=\"\",\"\",Sprawdz_pesel('Zgłoszenie Pacjenta'!A3385))","v":""}]
[{"$f":"IF('Zgłoszenie Pacjenta'!A3386=\"\",\"\",Sprawdz_pesel('Zgłoszenie Pacjenta'!A3386))","v":""}]
[{"$f":"IF('Zgłoszenie Pacjenta'!A3387=\"\",\"\",Sprawdz_pesel('Zgłoszenie Pacjenta'!A3387))","v":""}]
[{"$f":"IF('Zgłoszenie Pacjenta'!A3388=\"\",\"\",Sprawdz_pesel('Zgłoszenie Pacjenta'!A3388))","v":""}]
[{"$f":"IF('Zgłoszenie Pacjenta'!A3389=\"\",\"\",Sprawdz_pesel('Zgłoszenie Pacjenta'!A3389))","v":""}]
[{"$f":"IF('Zgłoszenie Pacjenta'!A3390=\"\",\"\",Sprawdz_pesel('Zgłoszenie Pacjenta'!A3390))","v":""}]
[{"$f":"IF('Zgłoszenie Pacjenta'!A3391=\"\",\"\",Sprawdz_pesel('Zgłoszenie Pacjenta'!A3391))","v":""}]
[{"$f":"IF('Zgłoszenie Pacjenta'!A3392=\"\",\"\",Sprawdz_pesel('Zgłoszenie Pacjenta'!A3392))","v":""}]
[{"$f":"IF('Zgłoszenie Pacjenta'!A3393=\"\",\"\",Sprawdz_pesel('Zgłoszenie Pacjenta'!A3393))","v":""}]
[{"$f":"IF('Zgłoszenie Pacjenta'!A3394=\"\",\"\",Sprawdz_pesel('Zgłoszenie Pacjenta'!A3394))","v":""}]
[{"$f":"IF('Zgłoszenie Pacjenta'!A3395=\"\",\"\",Sprawdz_pesel('Zgłoszenie Pacjenta'!A3395))","v":""}]
[{"$f":"IF('Zgłoszenie Pacjenta'!A3396=\"\",\"\",Sprawdz_pesel('Zgłoszenie Pacjenta'!A3396))","v":""}]
[{"$f":"IF('Zgłoszenie Pacjenta'!A3397=\"\",\"\",Sprawdz_pesel('Zgłoszenie Pacjenta'!A3397))","v":""}]
[{"$f":"IF('Zgłoszenie Pacjenta'!A3398=\"\",\"\",Sprawdz_pesel('Zgłoszenie Pacjenta'!A3398))","v":""}]
[{"$f":"IF('Zgłoszenie Pacjenta'!A3399=\"\",\"\",Sprawdz_pesel('Zgłoszenie Pacjenta'!A3399))","v":""}]
[{"$f":"IF('Zgłoszenie Pacjenta'!A3400=\"\",\"\",Sprawdz_pesel('Zgłoszenie Pacjenta'!A3400))","v":""}]
[{"$f":"IF('Zgłoszenie Pacjenta'!A3401=\"\",\"\",Sprawdz_pesel('Zgłoszenie Pacjenta'!A3401))","v":""}]
[{"$f":"IF('Zgłoszenie Pacjenta'!A3402=\"\",\"\",Sprawdz_pesel('Zgłoszenie Pacjenta'!A3402))","v":""}]
[{"$f":"IF('Zgłoszenie Pacjenta'!A3403=\"\",\"\",Sprawdz_pesel('Zgłoszenie Pacjenta'!A3403))","v":""}]
[{"$f":"IF('Zgłoszenie Pacjenta'!A3404=\"\",\"\",Sprawdz_pesel('Zgłoszenie Pacjenta'!A3404))","v":""}]
[{"$f":"IF('Zgłoszenie Pacjenta'!A3405=\"\",\"\",Sprawdz_pesel('Zgłoszenie Pacjenta'!A3405))","v":""}]
[{"$f":"IF('Zgłoszenie Pacjenta'!A3406=\"\",\"\",Sprawdz_pesel('Zgłoszenie Pacjenta'!A3406))","v":""}]
[{"$f":"IF('Zgłoszenie Pacjenta'!A3407=\"\",\"\",Sprawdz_pesel('Zgłoszenie Pacjenta'!A3407))","v":""}]
[{"$f":"IF('Zgłoszenie Pacjenta'!A3408=\"\",\"\",Sprawdz_pesel('Zgłoszenie Pacjenta'!A3408))","v":""}]
[{"$f":"IF('Zgłoszenie Pacjenta'!A3409=\"\",\"\",Sprawdz_pesel('Zgłoszenie Pacjenta'!A3409))","v":""}]
[{"$f":"IF('Zgłoszenie Pacjenta'!A3410=\"\",\"\",Sprawdz_pesel('Zgłoszenie Pacjenta'!A3410))","v":""}]
[{"$f":"IF('Zgłoszenie Pacjenta'!A3411=\"\",\"\",Sprawdz_pesel('Zgłoszenie Pacjenta'!A3411))","v":""}]
[{"$f":"IF('Zgłoszenie Pacjenta'!A3412=\"\",\"\",Sprawdz_pesel('Zgłoszenie Pacjenta'!A3412))","v":""}]
[{"$f":"IF('Zgłoszenie Pacjenta'!A3413=\"\",\"\",Sprawdz_pesel('Zgłoszenie Pacjenta'!A3413))","v":""}]
[{"$f":"IF('Zgłoszenie Pacjenta'!A3414=\"\",\"\",Sprawdz_pesel('Zgłoszenie Pacjenta'!A3414))","v":""}]
[{"$f":"IF('Zgłoszenie Pacjenta'!A3415=\"\",\"\",Sprawdz_pesel('Zgłoszenie Pacjenta'!A3415))","v":""}]
[{"$f":"IF('Zgłoszenie Pacjenta'!A3416=\"\",\"\",Sprawdz_pesel('Zgłoszenie Pacjenta'!A3416))","v":""}]
[{"$f":"IF('Zgłoszenie Pacjenta'!A3417=\"\",\"\",Sprawdz_pesel('Zgłoszenie Pacjenta'!A3417))","v":""}]
[{"$f":"IF('Zgłoszenie Pacjenta'!A3418=\"\",\"\",Sprawdz_pesel('Zgłoszenie Pacjenta'!A3418))","v":""}]
[{"$f":"IF('Zgłoszenie Pacjenta'!A3419=\"\",\"\",Sprawdz_pesel('Zgłoszenie Pacjenta'!A3419))","v":""}]
[{"$f":"IF('Zgłoszenie Pacjenta'!A3420=\"\",\"\",Sprawdz_pesel('Zgłoszenie Pacjenta'!A3420))","v":""}]
[{"$f":"IF('Zgłoszenie Pacjenta'!A3421=\"\",\"\",Sprawdz_pesel('Zgłoszenie Pacjenta'!A3421))","v":""}]
[{"$f":"IF('Zgłoszenie Pacjenta'!A3422=\"\",\"\",Sprawdz_pesel('Zgłoszenie Pacjenta'!A3422))","v":""}]
[{"$f":"IF('Zgłoszenie Pacjenta'!A3423=\"\",\"\",Sprawdz_pesel('Zgłoszenie Pacjenta'!A3423))","v":""}]
[{"$f":"IF('Zgłoszenie Pacjenta'!A3424=\"\",\"\",Sprawdz_pesel('Zgłoszenie Pacjenta'!A3424))","v":""}]
[{"$f":"IF('Zgłoszenie Pacjenta'!A3425=\"\",\"\",Sprawdz_pesel('Zgłoszenie Pacjenta'!A3425))","v":""}]
[{"$f":"IF('Zgłoszenie Pacjenta'!A3426=\"\",\"\",Sprawdz_pesel('Zgłoszenie Pacjenta'!A3426))","v":""}]
[{"$f":"IF('Zgłoszenie Pacjenta'!A3427=\"\",\"\",Sprawdz_pesel('Zgłoszenie Pacjenta'!A3427))","v":""}]
[{"$f":"IF('Zgłoszenie Pacjenta'!A3428=\"\",\"\",Sprawdz_pesel('Zgłoszenie Pacjenta'!A3428))","v":""}]
[{"$f":"IF('Zgłoszenie Pacjenta'!A3429=\"\",\"\",Sprawdz_pesel('Zgłoszenie Pacjenta'!A3429))","v":""}]
[{"$f":"IF('Zgłoszenie Pacjenta'!A3430=\"\",\"\",Sprawdz_pesel('Zgłoszenie Pacjenta'!A3430))","v":""}]
[{"$f":"IF('Zgłoszenie Pacjenta'!A3431=\"\",\"\",Sprawdz_pesel('Zgłoszenie Pacjenta'!A3431))","v":""}]
[{"$f":"IF('Zgłoszenie Pacjenta'!A3432=\"\",\"\",Sprawdz_pesel('Zgłoszenie Pacjenta'!A3432))","v":""}]
[{"$f":"IF('Zgłoszenie Pacjenta'!A3433=\"\",\"\",Sprawdz_pesel('Zgłoszenie Pacjenta'!A3433))","v":""}]
[{"$f":"IF('Zgłoszenie Pacjenta'!A3434=\"\",\"\",Sprawdz_pesel('Zgłoszenie Pacjenta'!A3434))","v":""}]
[{"$f":"IF('Zgłoszenie Pacjenta'!A3435=\"\",\"\",Sprawdz_pesel('Zgłoszenie Pacjenta'!A3435))","v":""}]
[{"$f":"IF('Zgłoszenie Pacjenta'!A3436=\"\",\"\",Sprawdz_pesel('Zgłoszenie Pacjenta'!A3436))","v":""}]
[{"$f":"IF('Zgłoszenie Pacjenta'!A3437=\"\",\"\",Sprawdz_pesel('Zgłoszenie Pacjenta'!A3437))","v":""}]
[{"$f":"IF('Zgłoszenie Pacjenta'!A3438=\"\",\"\",Sprawdz_pesel('Zgłoszenie Pacjenta'!A3438))","v":""}]
[{"$f":"IF('Zgłoszenie Pacjenta'!A3439=\"\",\"\",Sprawdz_pesel('Zgłoszenie Pacjenta'!A3439))","v":""}]
[{"$f":"IF('Zgłoszenie Pacjenta'!A3440=\"\",\"\",Sprawdz_pesel('Zgłoszenie Pacjenta'!A3440))","v":""}]
[{"$f":"IF('Zgłoszenie Pacjenta'!A3441=\"\",\"\",Sprawdz_pesel('Zgłoszenie Pacjenta'!A3441))","v":""}]
[{"$f":"IF('Zgłoszenie Pacjenta'!A3442=\"\",\"\",Sprawdz_pesel('Zgłoszenie Pacjenta'!A3442))","v":""}]
[{"$f":"IF('Zgłoszenie Pacjenta'!A3443=\"\",\"\",Sprawdz_pesel('Zgłoszenie Pacjenta'!A3443))","v":""}]
[{"$f":"IF('Zgłoszenie Pacjenta'!A3444=\"\",\"\",Sprawdz_pesel('Zgłoszenie Pacjenta'!A3444))","v":""}]
[{"$f":"IF('Zgłoszenie Pacjenta'!A3445=\"\",\"\",Sprawdz_pesel('Zgłoszenie Pacjenta'!A3445))","v":""}]
[{"$f":"IF('Zgłoszenie Pacjenta'!A3446=\"\",\"\",Sprawdz_pesel('Zgłoszenie Pacjenta'!A3446))","v":""}]
[{"$f":"IF('Zgłoszenie Pacjenta'!A3447=\"\",\"\",Sprawdz_pesel('Zgłoszenie Pacjenta'!A3447))","v":""}]
[{"$f":"IF('Zgłoszenie Pacjenta'!A3448=\"\",\"\",Sprawdz_pesel('Zgłoszenie Pacjenta'!A3448))","v":""}]
[{"$f":"IF('Zgłoszenie Pacjenta'!A3449=\"\",\"\",Sprawdz_pesel('Zgłoszenie Pacjenta'!A3449))","v":""}]
[{"$f":"IF('Zgłoszenie Pacjenta'!A3450=\"\",\"\",Sprawdz_pesel('Zgłoszenie Pacjenta'!A3450))","v":""}]
[{"$f":"IF('Zgłoszenie Pacjenta'!A3451=\"\",\"\",Sprawdz_pesel('Zgłoszenie Pacjenta'!A3451))","v":""}]
[{"$f":"IF('Zgłoszenie Pacjenta'!A3452=\"\",\"\",Sprawdz_pesel('Zgłoszenie Pacjenta'!A3452))","v":""}]
[{"$f":"IF('Zgłoszenie Pacjenta'!A3453=\"\",\"\",Sprawdz_pesel('Zgłoszenie Pacjenta'!A3453))","v":""}]
[{"$f":"IF('Zgłoszenie Pacjenta'!A3454=\"\",\"\",Sprawdz_pesel('Zgłoszenie Pacjenta'!A3454))","v":""}]
[{"$f":"IF('Zgłoszenie Pacjenta'!A3455=\"\",\"\",Sprawdz_pesel('Zgłoszenie Pacjenta'!A3455))","v":""}]
[{"$f":"IF('Zgłoszenie Pacjenta'!A3456=\"\",\"\",Sprawdz_pesel('Zgłoszenie Pacjenta'!A3456))","v":""}]
[{"$f":"IF('Zgłoszenie Pacjenta'!A3457=\"\",\"\",Sprawdz_pesel('Zgłoszenie Pacjenta'!A3457))","v":""}]
[{"$f":"IF('Zgłoszenie Pacjenta'!A3458=\"\",\"\",Sprawdz_pesel('Zgłoszenie Pacjenta'!A3458))","v":""}]
[{"$f":"IF('Zgłoszenie Pacjenta'!A3459=\"\",\"\",Sprawdz_pesel('Zgłoszenie Pacjenta'!A3459))","v":""}]
[{"$f":"IF('Zgłoszenie Pacjenta'!A3460=\"\",\"\",Sprawdz_pesel('Zgłoszenie Pacjenta'!A3460))","v":""}]
[{"$f":"IF('Zgłoszenie Pacjenta'!A3461=\"\",\"\",Sprawdz_pesel('Zgłoszenie Pacjenta'!A3461))","v":""}]
[{"$f":"IF('Zgłoszenie Pacjenta'!A3462=\"\",\"\",Sprawdz_pesel('Zgłoszenie Pacjenta'!A3462))","v":""}]
[{"$f":"IF('Zgłoszenie Pacjenta'!A3463=\"\",\"\",Sprawdz_pesel('Zgłoszenie Pacjenta'!A3463))","v":""}]
[{"$f":"IF('Zgłoszenie Pacjenta'!A3464=\"\",\"\",Sprawdz_pesel('Zgłoszenie Pacjenta'!A3464))","v":""}]
[{"$f":"IF('Zgłoszenie Pacjenta'!A3465=\"\",\"\",Sprawdz_pesel('Zgłoszenie Pacjenta'!A3465))","v":""}]
[{"$f":"IF('Zgłoszenie Pacjenta'!A3466=\"\",\"\",Sprawdz_pesel('Zgłoszenie Pacjenta'!A3466))","v":""}]
[{"$f":"IF('Zgłoszenie Pacjenta'!A3467=\"\",\"\",Sprawdz_pesel('Zgłoszenie Pacjenta'!A3467))","v":""}]
[{"$f":"IF('Zgłoszenie Pacjenta'!A3468=\"\",\"\",Sprawdz_pesel('Zgłoszenie Pacjenta'!A3468))","v":""}]
[{"$f":"IF('Zgłoszenie Pacjenta'!A3469=\"\",\"\",Sprawdz_pesel('Zgłoszenie Pacjenta'!A3469))","v":""}]
[{"$f":"IF('Zgłoszenie Pacjenta'!A3470=\"\",\"\",Sprawdz_pesel('Zgłoszenie Pacjenta'!A3470))","v":""}]
[{"$f":"IF('Zgłoszenie Pacjenta'!A3471=\"\",\"\",Sprawdz_pesel('Zgłoszenie Pacjenta'!A3471))","v":""}]
[{"$f":"IF('Zgłoszenie Pacjenta'!A3472=\"\",\"\",Sprawdz_pesel('Zgłoszenie Pacjenta'!A3472))","v":""}]
[{"$f":"IF('Zgłoszenie Pacjenta'!A3473=\"\",\"\",Sprawdz_pesel('Zgłoszenie Pacjenta'!A3473))","v":""}]
[{"$f":"IF('Zgłoszenie Pacjenta'!A3474=\"\",\"\",Sprawdz_pesel('Zgłoszenie Pacjenta'!A3474))","v":""}]
[{"$f":"IF('Zgłoszenie Pacjenta'!A3475=\"\",\"\",Sprawdz_pesel('Zgłoszenie Pacjenta'!A3475))","v":""}]
[{"$f":"IF('Zgłoszenie Pacjenta'!A3476=\"\",\"\",Sprawdz_pesel('Zgłoszenie Pacjenta'!A3476))","v":""}]
[{"$f":"IF('Zgłoszenie Pacjenta'!A3477=\"\",\"\",Sprawdz_pesel('Zgłoszenie Pacjenta'!A3477))","v":""}]
[{"$f":"IF('Zgłoszenie Pacjenta'!A3478=\"\",\"\",Sprawdz_pesel('Zgłoszenie Pacjenta'!A3478))","v":""}]
[{"$f":"IF('Zgłoszenie Pacjenta'!A3479=\"\",\"\",Sprawdz_pesel('Zgłoszenie Pacjenta'!A3479))","v":""}]
[{"$f":"IF('Zgłoszenie Pacjenta'!A3480=\"\",\"\",Sprawdz_pesel('Zgłoszenie Pacjenta'!A3480))","v":""}]
[{"$f":"IF('Zgłoszenie Pacjenta'!A3481=\"\",\"\",Sprawdz_pesel('Zgłoszenie Pacjenta'!A3481))","v":""}]
[{"$f":"IF('Zgłoszenie Pacjenta'!A3482=\"\",\"\",Sprawdz_pesel('Zgłoszenie Pacjenta'!A3482))","v":""}]
[{"$f":"IF('Zgłoszenie Pacjenta'!A3483=\"\",\"\",Sprawdz_pesel('Zgłoszenie Pacjenta'!A3483))","v":""}]
[{"$f":"IF('Zgłoszenie Pacjenta'!A3484=\"\",\"\",Sprawdz_pesel('Zgłoszenie Pacjenta'!A3484))","v":""}]
[{"$f":"IF('Zgłoszenie Pacjenta'!A3485=\"\",\"\",Sprawdz_pesel('Zgłoszenie Pacjenta'!A3485))","v":""}]
[{"$f":"IF('Zgłoszenie Pacjenta'!A3486=\"\",\"\",Sprawdz_pesel('Zgłoszenie Pacjenta'!A3486))","v":""}]
[{"$f":"IF('Zgłoszenie Pacjenta'!A3487=\"\",\"\",Sprawdz_pesel('Zgłoszenie Pacjenta'!A3487))","v":""}]
[{"$f":"IF('Zgłoszenie Pacjenta'!A3488=\"\",\"\",Sprawdz_pesel('Zgłoszenie Pacjenta'!A3488))","v":""}]
[{"$f":"IF('Zgłoszenie Pacjenta'!A3489=\"\",\"\",Sprawdz_pesel('Zgłoszenie Pacjenta'!A3489))","v":""}]
[{"$f":"IF('Zgłoszenie Pacjenta'!A3490=\"\",\"\",Sprawdz_pesel('Zgłoszenie Pacjenta'!A3490))","v":""}]
[{"$f":"IF('Zgłoszenie Pacjenta'!A3491=\"\",\"\",Sprawdz_pesel('Zgłoszenie Pacjenta'!A3491))","v":""}]
[{"$f":"IF('Zgłoszenie Pacjenta'!A3492=\"\",\"\",Sprawdz_pesel('Zgłoszenie Pacjenta'!A3492))","v":""}]
[{"$f":"IF('Zgłoszenie Pacjenta'!A3493=\"\",\"\",Sprawdz_pesel('Zgłoszenie Pacjenta'!A3493))","v":""}]
[{"$f":"IF('Zgłoszenie Pacjenta'!A3494=\"\",\"\",Sprawdz_pesel('Zgłoszenie Pacjenta'!A3494))","v":""}]
[{"$f":"IF('Zgłoszenie Pacjenta'!A3495=\"\",\"\",Sprawdz_pesel('Zgłoszenie Pacjenta'!A3495))","v":""}]
[{"$f":"IF('Zgłoszenie Pacjenta'!A3496=\"\",\"\",Sprawdz_pesel('Zgłoszenie Pacjenta'!A3496))","v":""}]
[{"$f":"IF('Zgłoszenie Pacjenta'!A3497=\"\",\"\",Sprawdz_pesel('Zgłoszenie Pacjenta'!A3497))","v":""}]
[{"$f":"IF('Zgłoszenie Pacjenta'!A3498=\"\",\"\",Sprawdz_pesel('Zgłoszenie Pacjenta'!A3498))","v":""}]
[{"$f":"IF('Zgłoszenie Pacjenta'!A3499=\"\",\"\",Sprawdz_pesel('Zgłoszenie Pacjenta'!A3499))","v":""}]
[{"$f":"IF('Zgłoszenie Pacjenta'!A3500=\"\",\"\",Sprawdz_pesel('Zgłoszenie Pacjenta'!A3500))","v":""}]
[{"$f":"IF('Zgłoszenie Pacjenta'!A3501=\"\",\"\",Sprawdz_pesel('Zgłoszenie Pacjenta'!A3501))","v":""}]
[{"$f":"IF('Zgłoszenie Pacjenta'!A3502=\"\",\"\",Sprawdz_pesel('Zgłoszenie Pacjenta'!A3502))","v":""}]
[{"$f":"IF('Zgłoszenie Pacjenta'!A3503=\"\",\"\",Sprawdz_pesel('Zgłoszenie Pacjenta'!A3503))","v":""}]
[{"$f":"IF('Zgłoszenie Pacjenta'!A3504=\"\",\"\",Sprawdz_pesel('Zgłoszenie Pacjenta'!A3504))","v":""}]
[{"$f":"IF('Zgłoszenie Pacjenta'!A3505=\"\",\"\",Sprawdz_pesel('Zgłoszenie Pacjenta'!A3505))","v":""}]
[{"$f":"IF('Zgłoszenie Pacjenta'!A3506=\"\",\"\",Sprawdz_pesel('Zgłoszenie Pacjenta'!A3506))","v":""}]
[{"$f":"IF('Zgłoszenie Pacjenta'!A3507=\"\",\"\",Sprawdz_pesel('Zgłoszenie Pacjenta'!A3507))","v":""}]
[{"$f":"IF('Zgłoszenie Pacjenta'!A3508=\"\",\"\",Sprawdz_pesel('Zgłoszenie Pacjenta'!A3508))","v":""}]
[{"$f":"IF('Zgłoszenie Pacjenta'!A3509=\"\",\"\",Sprawdz_pesel('Zgłoszenie Pacjenta'!A3509))","v":""}]
[{"$f":"IF('Zgłoszenie Pacjenta'!A3510=\"\",\"\",Sprawdz_pesel('Zgłoszenie Pacjenta'!A3510))","v":""}]
[{"$f":"IF('Zgłoszenie Pacjenta'!A3511=\"\",\"\",Sprawdz_pesel('Zgłoszenie Pacjenta'!A3511))","v":""}]
[{"$f":"IF('Zgłoszenie Pacjenta'!A3512=\"\",\"\",Sprawdz_pesel('Zgłoszenie Pacjenta'!A3512))","v":""}]
[{"$f":"IF('Zgłoszenie Pacjenta'!A3513=\"\",\"\",Sprawdz_pesel('Zgłoszenie Pacjenta'!A3513))","v":""}]
[{"$f":"IF('Zgłoszenie Pacjenta'!A3514=\"\",\"\",Sprawdz_pesel('Zgłoszenie Pacjenta'!A3514))","v":""}]
[{"$f":"IF('Zgłoszenie Pacjenta'!A3515=\"\",\"\",Sprawdz_pesel('Zgłoszenie Pacjenta'!A3515))","v":""}]
[{"$f":"IF('Zgłoszenie Pacjenta'!A3516=\"\",\"\",Sprawdz_pesel('Zgłoszenie Pacjenta'!A3516))","v":""}]
[{"$f":"IF('Zgłoszenie Pacjenta'!A3517=\"\",\"\",Sprawdz_pesel('Zgłoszenie Pacjenta'!A3517))","v":""}]
[{"$f":"IF('Zgłoszenie Pacjenta'!A3518=\"\",\"\",Sprawdz_pesel('Zgłoszenie Pacjenta'!A3518))","v":""}]
[{"$f":"IF('Zgłoszenie Pacjenta'!A3519=\"\",\"\",Sprawdz_pesel('Zgłoszenie Pacjenta'!A3519))","v":""}]
[{"$f":"IF('Zgłoszenie Pacjenta'!A3520=\"\",\"\",Sprawdz_pesel('Zgłoszenie Pacjenta'!A3520))","v":""}]
[{"$f":"IF('Zgłoszenie Pacjenta'!A3521=\"\",\"\",Sprawdz_pesel('Zgłoszenie Pacjenta'!A3521))","v":""}]
[{"$f":"IF('Zgłoszenie Pacjenta'!A3522=\"\",\"\",Sprawdz_pesel('Zgłoszenie Pacjenta'!A3522))","v":""}]
[{"$f":"IF('Zgłoszenie Pacjenta'!A3523=\"\",\"\",Sprawdz_pesel('Zgłoszenie Pacjenta'!A3523))","v":""}]
[{"$f":"IF('Zgłoszenie Pacjenta'!A3524=\"\",\"\",Sprawdz_pesel('Zgłoszenie Pacjenta'!A3524))","v":""}]
[{"$f":"IF('Zgłoszenie Pacjenta'!A3525=\"\",\"\",Sprawdz_pesel('Zgłoszenie Pacjenta'!A3525))","v":""}]
[{"$f":"IF('Zgłoszenie Pacjenta'!A3526=\"\",\"\",Sprawdz_pesel('Zgłoszenie Pacjenta'!A3526))","v":""}]
[{"$f":"IF('Zgłoszenie Pacjenta'!A3527=\"\",\"\",Sprawdz_pesel('Zgłoszenie Pacjenta'!A3527))","v":""}]
[{"$f":"IF('Zgłoszenie Pacjenta'!A3528=\"\",\"\",Sprawdz_pesel('Zgłoszenie Pacjenta'!A3528))","v":""}]
[{"$f":"IF('Zgłoszenie Pacjenta'!A3529=\"\",\"\",Sprawdz_pesel('Zgłoszenie Pacjenta'!A3529))","v":""}]
[{"$f":"IF('Zgłoszenie Pacjenta'!A3530=\"\",\"\",Sprawdz_pesel('Zgłoszenie Pacjenta'!A3530))","v":""}]
[{"$f":"IF('Zgłoszenie Pacjenta'!A3531=\"\",\"\",Sprawdz_pesel('Zgłoszenie Pacjenta'!A3531))","v":""}]
[{"$f":"IF('Zgłoszenie Pacjenta'!A3532=\"\",\"\",Sprawdz_pesel('Zgłoszenie Pacjenta'!A3532))","v":""}]
[{"$f":"IF('Zgłoszenie Pacjenta'!A3533=\"\",\"\",Sprawdz_pesel('Zgłoszenie Pacjenta'!A3533))","v":""}]
[{"$f":"IF('Zgłoszenie Pacjenta'!A3534=\"\",\"\",Sprawdz_pesel('Zgłoszenie Pacjenta'!A3534))","v":""}]
[{"$f":"IF('Zgłoszenie Pacjenta'!A3535=\"\",\"\",Sprawdz_pesel('Zgłoszenie Pacjenta'!A3535))","v":""}]
[{"$f":"IF('Zgłoszenie Pacjenta'!A3536=\"\",\"\",Sprawdz_pesel('Zgłoszenie Pacjenta'!A3536))","v":""}]
[{"$f":"IF('Zgłoszenie Pacjenta'!A3537=\"\",\"\",Sprawdz_pesel('Zgłoszenie Pacjenta'!A3537))","v":""}]
[{"$f":"IF('Zgłoszenie Pacjenta'!A3538=\"\",\"\",Sprawdz_pesel('Zgłoszenie Pacjenta'!A3538))","v":""}]
[{"$f":"IF('Zgłoszenie Pacjenta'!A3539=\"\",\"\",Sprawdz_pesel('Zgłoszenie Pacjenta'!A3539))","v":""}]
[{"$f":"IF('Zgłoszenie Pacjenta'!A3540=\"\",\"\",Sprawdz_pesel('Zgłoszenie Pacjenta'!A3540))","v":""}]
[{"$f":"IF('Zgłoszenie Pacjenta'!A3541=\"\",\"\",Sprawdz_pesel('Zgłoszenie Pacjenta'!A3541))","v":""}]
[{"$f":"IF('Zgłoszenie Pacjenta'!A3542=\"\",\"\",Sprawdz_pesel('Zgłoszenie Pacjenta'!A3542))","v":""}]
[{"$f":"IF('Zgłoszenie Pacjenta'!A3543=\"\",\"\",Sprawdz_pesel('Zgłoszenie Pacjenta'!A3543))","v":""}]
[{"$f":"IF('Zgłoszenie Pacjenta'!A3544=\"\",\"\",Sprawdz_pesel('Zgłoszenie Pacjenta'!A3544))","v":""}]
[{"$f":"IF('Zgłoszenie Pacjenta'!A3545=\"\",\"\",Sprawdz_pesel('Zgłoszenie Pacjenta'!A3545))","v":""}]
[{"$f":"IF('Zgłoszenie Pacjenta'!A3546=\"\",\"\",Sprawdz_pesel('Zgłoszenie Pacjenta'!A3546))","v":""}]
[{"$f":"IF('Zgłoszenie Pacjenta'!A3547=\"\",\"\",Sprawdz_pesel('Zgłoszenie Pacjenta'!A3547))","v":""}]
[{"$f":"IF('Zgłoszenie Pacjenta'!A3548=\"\",\"\",Sprawdz_pesel('Zgłoszenie Pacjenta'!A3548))","v":""}]
[{"$f":"IF('Zgłoszenie Pacjenta'!A3549=\"\",\"\",Sprawdz_pesel('Zgłoszenie Pacjenta'!A3549))","v":""}]
[{"$f":"IF('Zgłoszenie Pacjenta'!A3550=\"\",\"\",Sprawdz_pesel('Zgłoszenie Pacjenta'!A3550))","v":""}]
[{"$f":"IF('Zgłoszenie Pacjenta'!A3551=\"\",\"\",Sprawdz_pesel('Zgłoszenie Pacjenta'!A3551))","v":""}]
[{"$f":"IF('Zgłoszenie Pacjenta'!A3552=\"\",\"\",Sprawdz_pesel('Zgłoszenie Pacjenta'!A3552))","v":""}]
[{"$f":"IF('Zgłoszenie Pacjenta'!A3553=\"\",\"\",Sprawdz_pesel('Zgłoszenie Pacjenta'!A3553))","v":""}]
[{"$f":"IF('Zgłoszenie Pacjenta'!A3554=\"\",\"\",Sprawdz_pesel('Zgłoszenie Pacjenta'!A3554))","v":""}]
[{"$f":"IF('Zgłoszenie Pacjenta'!A3555=\"\",\"\",Sprawdz_pesel('Zgłoszenie Pacjenta'!A3555))","v":""}]
[{"$f":"IF('Zgłoszenie Pacjenta'!A3556=\"\",\"\",Sprawdz_pesel('Zgłoszenie Pacjenta'!A3556))","v":""}]
[{"$f":"IF('Zgłoszenie Pacjenta'!A3557=\"\",\"\",Sprawdz_pesel('Zgłoszenie Pacjenta'!A3557))","v":""}]
[{"$f":"IF('Zgłoszenie Pacjenta'!A3558=\"\",\"\",Sprawdz_pesel('Zgłoszenie Pacjenta'!A3558))","v":""}]
[{"$f":"IF('Zgłoszenie Pacjenta'!A3559=\"\",\"\",Sprawdz_pesel('Zgłoszenie Pacjenta'!A3559))","v":""}]
[{"$f":"IF('Zgłoszenie Pacjenta'!A3560=\"\",\"\",Sprawdz_pesel('Zgłoszenie Pacjenta'!A3560))","v":""}]
[{"$f":"IF('Zgłoszenie Pacjenta'!A3561=\"\",\"\",Sprawdz_pesel('Zgłoszenie Pacjenta'!A3561))","v":""}]
[{"$f":"IF('Zgłoszenie Pacjenta'!A3562=\"\",\"\",Sprawdz_pesel('Zgłoszenie Pacjenta'!A3562))","v":""}]
[{"$f":"IF('Zgłoszenie Pacjenta'!A3563=\"\",\"\",Sprawdz_pesel('Zgłoszenie Pacjenta'!A3563))","v":""}]
[{"$f":"IF('Zgłoszenie Pacjenta'!A3564=\"\",\"\",Sprawdz_pesel('Zgłoszenie Pacjenta'!A3564))","v":""}]
[{"$f":"IF('Zgłoszenie Pacjenta'!A3565=\"\",\"\",Sprawdz_pesel('Zgłoszenie Pacjenta'!A3565))","v":""}]
[{"$f":"IF('Zgłoszenie Pacjenta'!A3566=\"\",\"\",Sprawdz_pesel('Zgłoszenie Pacjenta'!A3566))","v":""}]
[{"$f":"IF('Zgłoszenie Pacjenta'!A3567=\"\",\"\",Sprawdz_pesel('Zgłoszenie Pacjenta'!A3567))","v":""}]
[{"$f":"IF('Zgłoszenie Pacjenta'!A3568=\"\",\"\",Sprawdz_pesel('Zgłoszenie Pacjenta'!A3568))","v":""}]
[{"$f":"IF('Zgłoszenie Pacjenta'!A3569=\"\",\"\",Sprawdz_pesel('Zgłoszenie Pacjenta'!A3569))","v":""}]
[{"$f":"IF('Zgłoszenie Pacjenta'!A3570=\"\",\"\",Sprawdz_pesel('Zgłoszenie Pacjenta'!A3570))","v":""}]
[{"$f":"IF('Zgłoszenie Pacjenta'!A3571=\"\",\"\",Sprawdz_pesel('Zgłoszenie Pacjenta'!A3571))","v":""}]
[{"$f":"IF('Zgłoszenie Pacjenta'!A3572=\"\",\"\",Sprawdz_pesel('Zgłoszenie Pacjenta'!A3572))","v":""}]
[{"$f":"IF('Zgłoszenie Pacjenta'!A3573=\"\",\"\",Sprawdz_pesel('Zgłoszenie Pacjenta'!A3573))","v":""}]
[{"$f":"IF('Zgłoszenie Pacjenta'!A3574=\"\",\"\",Sprawdz_pesel('Zgłoszenie Pacjenta'!A3574))","v":""}]
[{"$f":"IF('Zgłoszenie Pacjenta'!A3575=\"\",\"\",Sprawdz_pesel('Zgłoszenie Pacjenta'!A3575))","v":""}]
[{"$f":"IF('Zgłoszenie Pacjenta'!A3576=\"\",\"\",Sprawdz_pesel('Zgłoszenie Pacjenta'!A3576))","v":""}]
[{"$f":"IF('Zgłoszenie Pacjenta'!A3577=\"\",\"\",Sprawdz_pesel('Zgłoszenie Pacjenta'!A3577))","v":""}]